{"text_format":"1","workbook":"xlsx","n_sheets":7,"sheets":["StartUp","IN Lớp 9 ","IN Lớp 6,7,8","TongHop (goc)","HSXS-(InDoc)","HSG-(InDoc)","DS-(InGK)"],"not_rendered":{"charts":0,"images":2,"macros":1,"external_links":0,"defined_names":7,"comments":3,"pivot_tables":0},"unopened":[],"bounds":{"document_bytes":16777216,"sheet_cells":100000,"rows_first":2000,"rows_last":500,"rows_between":2000,"halvings":0,"cell_chars":16384,"cell_head_chars":4096},"cells_cut":0,"cells_raw":0,"read":"whole","date_system":"1900"}

{"sheet":"StartUp","index":0,"n_rows":0,"n_cols":0,"rows_kept":0,"cut":false,"hidden":true,"merged":[]}

{"sheet":"IN Lớp 9 ","index":1,"n_rows":61,"n_cols":18,"rows_kept":61,"cut":false,"hidden":true,"merged":[[55,0,55,14],[56,5,56,14],[57,5,57,14],[58,5,58,14],[63,5,63,14],[60,5,60,14],[59,5,59,14]]}
["Stt","HoTen","Ten","NgaySinh","Bo","Xom","HK","HL","Văn ","Toán ","Anh",null,"Tổng","HSTT","HSG","Lop","DHTD","TT"]
[17,"Trần Thùy Anh","Anh","09/05/2009","Trần Văn Đăng","Xóm 7","G","T",7.75,6.75,8," ",{"$f":"SUM(I2:L2)","v":22.5},null,"x","9C",{"$f":"IF(O2=\"\",\"HäC SINH TI£N TIÕN\",\"HäC SINH GIáI\")","v":"HäC SINH GIáI"},"01"]
[18,"Nguyễn Hồng Thiên Ân","Ân","13/01/2009","Nguyễn Hồng Phương","Xóm 8","G","T",7.75,7.5,9.25," ",24.5,null,"x","9C","HäC SINH GIáI","02"]
[19,"Phạm Mai Chi","Chi","13/12/2009","Phạm Văn Hoài","Xóm 7","G","T",7,7.5,9.5," ",24,null,"x","9C","HäC SINH GIáI","03"]
[20,"Trần Đức Cường","Cường","17/05/2009","Trần Văn Sơn","Xóm  6","G","T",7,7,8," ",22,null,"x","9C","HäC SINH GIáI","04"]
[21,"Mai Hồng Hạnh","Hạnh","26/09/2009","Mai Ngọc Tỉnh","Xóm  3 ","G","T",7.25,7.25,7.5," ",22,null,"x","9C","HäC SINH GIáI","05"]
[22,"Phạm Minh Hằng","Hằng","12/11/2009","Phạm Văn Dung","Xóm  7","G","T",9.5,7.5,7," ",24,null,"x","9C","HäC SINH GIáI","06"]
[23,"Bùi Diệp Linh","Linh","05/04/2009","Bùi Quang Thảo","Xóm  7","G","T",8.5,7,8.5," ",24,null,"x","9C","HäC SINH GIáI","07"]
[24,"Mai Hà Linh","Linh","24/03/2009","Mai Phúc Lợi","Xóm  3 ","G","T",8.5,7,8," ",23.5,null,"x","9C","HäC SINH GIáI","08"]
[25,"Trần Diệu Linh","Linh","19/10/2009","Trần Trọng Cảnh","Xóm  7","G","T",8.25,7,8," ",23.25,null,"x","9C","HäC SINH GIáI","09"]
[26,"Trần Khánh Linh","Linh","17/07/2009","Trần Mỹ Sang","Xóm  5","G","T",8.25,8,9.25," ",25.5,null,"x","9C","HäC SINH GIáI","10"]
[27,"Trần Đức Mạnh","Mạnh","17/05/2009","Trần Văn Sơn","Xóm  6","G","T",8.25,7.5,7.75," ",23.5,null,"x","9C","HäC SINH GIáI","11"]
[28,"Lê Nguyễn Huyền My","My","16/11/2009","Lê Hồng Tiến","Xóm  6","G","T",8.5,7.25,8.25," ",24,null,"x","9C","HäC SINH GIáI","12"]
[29,"Bùi Hoàng Nhi","Nhi","17/10/2009","Bùi Văn Chư","Xóm  7","G","T",7.25,7.25,8.25," ",22.75,null,"x","9C","HäC SINH GIáI","13"]
[30,"Đặng Yến Nhi","Nhi","23/11/2009","Đặng Văn Ngọc","Xóm  4 ","G","T",8.75,7.25,6.75," ",22.75,null,"x","9C","HäC SINH GIáI","14"]
[31,"Trần Anh Thư","Thư","12/12/2009","Trần Thanh Vệ","Xóm  3 ","G","T",7.75,7.5,7.75," ",23,null,"x","9C","HäC SINH GIáI","15"]
[32,"Mai Huyền Trang","Trang","29/10/2009","Mai Văn Hựu","Xóm  3 ","G","T",8,7.5,9," ",24.5,null,"x","9C","HäC SINH GIáI","16"]
[1,"Phạm Bảo Châu","Châu","2009-07-03","Phạm Trung Hiếu","xóm 7","T","G",6.75,5.75,7,null,{"$f":"SUM(I18:L18)","v":19.5},"x",null,"9A","HäC SINH TI£N TIÕN","17"]
[2,"Trần Trọng Danh","Danh","2009-05-22","Trần Trung Trực","xóm 7","T","K",5.5,5,7,null,17.5,"x",null,"9A","HäC SINH TI£N TIÕN","18"]
[3,"Nguyễn Thị Thanh Diễm","Diễm","2009-07-28","Nguyễn Văn Ái","xóm 1","T","G",7.75,6.75,6.5,null,21,"x",null,"9A","HäC SINH TI£N TIÕN","19"]
[4,"Lê Thành Long","Long","2009-11-11","Lê Văn Đoàn","xóm 7","T","K",7.25,5.5,7.25,null,20,"x",null,"9A","HäC SINH TI£N TIÕN","20"]
[5,"Mai Ngọc Đại","Đại","2009-07-12","Vũ Thị Hằng","xóm 2","T","K",6.25,6.75,6.75,null,19.75,"x",null,"9A","HäC SINH TI£N TIÕN","21"]
[6,"Trần Phạm Nhân Tài","Tài","2009-02-26","Trần Chí Thiện","xóm 1","T","K",7.75,5.5,5.25,null,18.5,"x",null,"9A","HäC SINH TI£N TIÕN","22"]
[7,"Lê Hoàng Nam","Nam","2009-06-22","Lê Ngọc Khoa","xóm 6","T","K",6.25,5.5,7.25,null,19,"x",null,"9A","HäC SINH TI£N TIÕN","23"]
[8,"Mai Tiến Đạt","Đạt","2009-08-28","Mai Đức Tuyến","xóm 2","T","K",5.25,5.75,6.5,null,17.5,"x",null,"9A","HäC SINH TI£N TIÕN","24"]
[9,"Trần Khánh Linh","Linh","2009-09-23","Trần Văn Sáng","xóm 8","T","G",5.5,5.5,6.5,null,17.5,"x",null,"9A","HäC SINH TI£N TIÕN","25"]
[10,"Mai Hữu Phúc","Phúc","2009-08-19","Mai Văn Ứng ","xóm 3","T","K",7,5.25,5,null,17.25,"x",null,"9A","HäC SINH TI£N TIÕN","26"]
[11,"Lê Thị Huyền Diệu","Diệu","2009-07-10","Lê Quốc Vụ","xóm 6","T","G",6.75,6.5,8,null,21.25,"x",null,"9B","HäC SINH TI£N TIÕN","27"]
[12,"Phạm Thùy Linh","Linh","23/01/2009","Phạm Văn Đan","xóm 1","T","G",7.25,6.25,8,null,21.5,"x",null,"9B","HäC SINH TI£N TIÕN","28"]
[13,"Mai Quốc Đạt","Đạt","13/11/2009","Mai Khắc Tiệp","xóm 2","T","K",5,6.75,5.75,null,17.5,"x",null,"9B","HäC SINH TI£N TIÕN","29"]
[14,"Trần Xuân Hóa","Hóa","2009-10-02","Trần Văn Huynh","xóm6","T","K",6,6.25,5.5,null,17.75,"x",null,"9B","HäC SINH TI£N TIÕN","30"]
[15,"Đỗ Quỳnh Nga","Nga","2009-06-07","Đỗ Văn Việt","xóm 7","T","K",5.5,5.5,7.5,null,18.5,"x",null,"9B","HäC SINH TI£N TIÕN","31"]
[16,"Nguyễn Minh Quân","Quân","19/09/2009","Nguyễn Đức Xoái","xóm5","T","K",8,6,6.5,null,20.5,"x",null,"9B","HäC SINH TI£N TIÕN","32"]
[33,"Bùi Nam Anh","Anh","11/09/2009","Bùi Văn Chuẩn","Xóm  7","G","T",7.25,6,8.5," ",{"$f":"SUM(I34:L34)","v":21.75},"x",null,"9C","HäC SINH TI£N TIÕN","33"]
[34,"Lê Phương Anh","Anh","31/10/2009","Lê Xuân Bắc","Xóm  6 ","G","T",7.75,5.75,7," ",20.5,"x",null,"9C","HäC SINH TI£N TIÕN","34"]
[35,"Mai Ngọc Ánh","Ánh","01/03/2009","Mai Hữu Tăng","Xóm  2","G","T",7,5,7.25," ",19.25,"x",null,"9C","HäC SINH TI£N TIÕN","35"]
[36,"Phạm Minh Danh","Danh","22/11/2009","Phạm Văn Tài","Xóm 1","G","T",6.5,7.5,6.5," ",20.5,"x",null,"9C","HäC SINH TI£N TIÕN","36"]
[37,"Mai Thị Thùy Dung","Dung","24/05/2009","Mai Ngọc Thùy","Xóm  3 ","G","T",6.5,7.5,6.5," ",20.5,"x",null,"9C","HäC SINH TI£N TIÕN","37"]
[38,"Lê Hoàng Dương","Dương","18/09/2009","Lê Hoàng Sáng","Xóm  6","G","T",6.75,7.5,6.75," ",21,"x",null,"9C","HäC SINH TI£N TIÕN","38"]
[39,"Trần Hữu Hào","Hào","10/06/2009","Trần Hữu Hồi","Xóm  3 ","K","T",6.5,7,5.75," ",19.25,"x",null,"9C","HäC SINH TI£N TIÕN","39"]
[40,"Trần Huy Hoàng","Hoàng","29/07/2009","Trần Văn Đông","Xóm  1 ","G","T",8,5.75,9," ",22.75,"x",null,"9C","HäC SINH TI£N TIÕN","40"]
[41,"Trần Đức Long","Long","24/08/2009","Trần Văn Thiềm","Xóm  7","K","T",6.5,7.25,8," ",21.75,"x",null,"9C","HäC SINH TI£N TIÕN","41"]
[42,"Trần Nguyên Nam","Nam","08/05/2009","Trần Xuân Lãng","Xóm  8","G","T",6.25,7,8.5," ",21.75,"x",null,"9C","HäC SINH TI£N TIÕN","42"]
[43,"Vũ Kim Oanh","Oanh","11/09/2009","Vũ Đình Sinh","Xóm  4","K","T",7,6.75,5.25," ",19,"x",null,"9C","HäC SINH TI£N TIÕN","43"]
[44,"Trần Tiến Thành","Thành","06/08/2009","Trần Đấu Thuật","Xóm  1 ","G","T",7,5.5,7," ",19.5,"x",null,"9C","HäC SINH TI£N TIÕN","44"]
[45,"Mai Anh Thư","Thư","10/11/2009","Mai Gia Triển","Xóm  5 ","G","T",6,7.5,8.5," ",22,"x",null,"9C","HäC SINH TI£N TIÕN","45"]
[46,"Nguyễn Mai Yến","Yến","01/09/2009","Mai Thị Hạt","Xóm 6","G","T",7.25,7.25,6.25," ",20.75,"x",null,"9C","HäC SINH TI£N TIÕN","46"]
[47,"Vũ Hải Yến","Yến","23/03/2009","Vũ Kế Toán","Xóm 4","G","T",5.75,7,6.75," ",19.5,"x",null,"9C","HäC SINH TI£N TIÕN","47"]
[35,null,null,null,null,null,null,null,null,null,null,null,{"$f":"SUM(I49:L49)","v":0}]
[36,null,null,null,null,null,null,null,null,null,null,null,0]
[37,null,null,null,null,null,null,null,null,null,null,null,0]
[38,null,null,null,null,null,null,null,null,null,null,null,0]
[39,null,null,null,null,null,null,null,null,null,null,null,0]
[40,null,null,null,null,null,null,null,null,null,null,null,0]
[41,null,null,null,null,null,null,null,null,null,null,null,0]
[{"$f":"\"Tổng số học sinh khen thưởng:  \"&COUNTA(B2:B55)&\" (Trong đó \" &COUNTIF(O2:O55,\"x\")&\"  HS Giỏi và \"&COUNTIF(N2:N55,\"x\")&\"  HS Tiên tiến)\"","v":"Tổng số học sinh khen thưởng:  47 (Trong đó 16  HS Giỏi và 31  HS Tiên tiến)"}]
[null,null,null,null,null,{"$f":"\"Hải Nam, ngày \"&(IF(DAY(TODAY())<10,\"0\"&DAY(TODAY()),DAY(TODAY()))&\" tháng \"&(IF(MONTH(TODAY())<3,\"0\"&MONTH(TODAY()),MONTH(TODAY()))&\" năm \"&YEAR(TODAY())))","v":"Hải Nam, ngày 19 tháng 5 năm 2026"}]
[null,null,null,null,null,"GVCN"]
[null,null,null,null,null,"(Ký, ghi rõ họ tên)"]
[]
[null,null,null,null,null,"Trần Thanh Danh"]

{"sheet":"IN Lớp 6,7,8","index":2,"n_rows":107,"n_cols":18,"rows_kept":107,"cut":false,"hidden":true,"merged":[[1,6,1,10],[104,5,104,14],[106,5,106,14],[102,5,102,14],[103,5,103,14],[101,0,101,14],[105,5,105,14]]}
["DANH SÁCH  KHEN THƯỞNG HỌC SINH XUẤT SẮC - HỌC SINH GIỎI\nNĂM HỌC 2022-2023\n(Có 45 học sinh Tiên tiến) "]
["Lớp","Số lượng","STT","Họ tên","Xếp loại \nHạnh kiểm\n (Rèn luyện)","Xếp loại \nHọc lực \n(học tập","Điểm khảo sát cuối năm ",null,null,null,null,"Danh Hiệu\n thi đua \nđề nghị","Đạt danh hiệu","Lớp","Ghi chú"]
["STT","HoTen",null,"NgaySinh","Bo","Xom","RL","HT","Văn","Toán","Anh","M4","Tổng","HSG","HSXS","Lơp","DanhHieu","So"]
["01","Hoàng Thiên Bảo","Bảo","13/10/2012","Hoàng Văn Phú","Xóm 3","T","T",9,10,9,10,{"$f":"SUM(I4:L4)","v":38}," ","x","6C",{"$f":"IF(O4=\"\",\"HäC SINH GIáI\",\"HäC SINH XUÊT S¾C\")","v":"HäC SINH XUÊT S¾C"},"01"]
["02","Phạm Gia Bảo","Bảo","14/12/2012","Phạm Văn Học","Xóm 3","T","T",8.75,9.5,8.75,9.25,36.25," ","x","6C","HäC SINH XUÊT S¾C","02"]
["03","Trần Thanh Bình","Bình","30/01/2012","Trần Thanh Danh","Xóm 7","T","T",8.75,9.75,8.5,9.75,36.75,null,"x","6C","HäC SINH XUÊT S¾C","03"]
["04","Vũ Ánh Thùy Dương","Dương","24/5/2012","Vũ Thanh Ngọc","Xóm  4","T","T",9.75,9.25,7.5,8.5,35,null,"x","6C","HäC SINH XUÊT S¾C","04"]
["05","Trần Khánh Huyền","Huyền","17/6/2012","Trần Văn Thiện","Xóm  1","T","T",9.5,9.5,7.5,9.75,36.25,null,"x","6C","HäC SINH XUÊT S¾C","05"]
["06","Lã Diệu Linh","Linh","29/10/2012","Lã Đức Hải","Xóm  4","T","T",9.25,9.75,7.25,9.25,35.5,null,"x","6C","HäC SINH XUÊT S¾C","06"]
["07","Vũ Thị Thanh Bình","Bình","13/7/2012","Vũ Văn Khuông","Xóm  4","T","T",9.75,8.25,5.5,8.75,32.25," ","x","6C","HäC SINH XUÊT S¾C","07"]
["08","Lê Việt Dũng","Dũng","2011-01-21","Lê Chí Thức",7,"T","XS",8.25,9.25,9.5,9.5,{"$f":"SUM(I11:L11)","v":36.5},null,"x","7C","HäC SINH XUÊT S¾C","08"]
["09","Phạm Thị Thảo Ly","Ly","2011-02-14","Phạm Văn Đan",1,"T","XS",7.75,9,8.5,7.75,33,null,"x","7C","HäC SINH XUÊT S¾C","09"]
["10","Trần Bảo Nam","Nam","2011-08-27","Trần văn Huấn",7,"T","XS",7.25,8,9.5,7.25,32,null,"x","7C","HäC SINH XUÊT S¾C","10"]
["11","Bùi Quang Phát","Phát","2011-08-13","Bùi Quang Thảo",7,"T","XS",5.75,9,8,7.5,30.25,null,"x","7C","HäC SINH XUÊT S¾C","11"]
["12","Đỗ Thu Trang","Trang","2011-02-12","Đỗ Huy Hoàng",7,"T","XS",5.75,9,7.5,7,29.25,null,"x","7C","HäC SINH XUÊT S¾C","12"]
["13","Nguyễn Thiện Chí","Chí","2011-10-26","Nguyễn Hùng Mạnh",6,"T","XS",7.25,9,8.5,6.5,31.25,null,"x","7C","HäC SINH XUÊT S¾C","13"]
["14","Lê Trần Hoàng Anh","Anh","2010-08-12","Lê Văn Tuyến","Xóm 6","T","T",7.75,8.25,6.5,9.75,32.25,null,"x","8C","HäC SINH XUÊT S¾C","14"]
["15","Mai Thị Linh Chi","Chi","2010-11-11","Mai Thế Kỷ","Xóm 2","T","T",8.5,8.25,8.5,9.25,34.5,null,"x","8C","HäC SINH XUÊT S¾C","15"]
["16","Trần Gia Huy","Huy","25/06/2010","Trần Trung Hiệu","X11-HV","T","T",8,6.75,7.5,9.5,31.75,null,"x","8C","HäC SINH XUÊT S¾C","16"]
["17","Trần Hương Trà","Trà","2010-02-03","Trần Ngọc Ký","Xóm 1","T","T",7.75,8.25,6.5,8.5,31,null,"x","8C","HäC SINH XUÊT S¾C","17"]
["18","Mai Thảo Yến","Yến","2010-03-10","Mai VĂn Chinh","Xóm 2","T","T",7.5,8.25,8.25,9.25,33.25,null,"x","8C","HäC SINH XUÊT S¾C","18"]
["19","Mai Thị Huyền Diệp","Diệp","20/11/2010","Mai Văn Luân","Xóm 9","T","T",7.75,7.5,8,10,33.25,null,"x","8C","HäC SINH XUÊT S¾C","19"]
["20","Nguyễn Thảo Anh","Anh","18/10/2012","Nguyễn Văn cẩn","Xóm 7","T","T",7.75,7.5,5,9.75,30,"x",null,"6A","HäC SINH GIáI","20"]
["21","Trần Văn Hiệu","Hiệu","20/02/2012","Trần Văn Hà","Xóm 9","T","T",9.25,8.5,5,9,31.75,"x",null,"6A","HäC SINH GIáI","21"]
["22","Lê Diệu Hòa","Hòa","2012-12-10","Lê Văn Lương","Xóm 6","T","T",9.25,8,5,8.25,30.5,"x",null,"6A","HäC SINH GIáI","22"]
["23","Vũ Quốc Ân","Ân","2012-05-13","Vũ Thanh Vương","Xóm 4","T","T",8,7,5.25,"9,0",20.25,"x",null,"6B","HäC SINH GIáI","23"]
["24","Bùi Huy Hoàng","Hoàng ","2012-04-10","Bùi Văn Vĩnh"," X1 - H Vân","T","T",9,8,"5,5","10,00",17,"x",null,"6B","HäC SINH GIáI","24"]
["25","Lê Anh Tú","Tú ","2012-11-05","Lê Quốc Đạt","Xóm 4","T","T",8,"8,5",5,"9,25",13,"x",null,"6B","HäC SINH GIáI","25"]
["26","Trần Thuỳ Dương","Dương","2012-07-12","Trần Ngọc Văn","Xóm 9","T","T","9,25","8,25","6,75","6,75",0,"x",null,"6B","HäC SINH GIáI","26"]
["27","Lê Kiều Anh","Anh","20/7/2012","Lê Văn Phương","Xóm  7","T","T",9.5,8.5,6,7.25,{"$f":"SUM(I30:L30)","v":31.25},"x",null,"6C","HäC SINH GIáI","27"]
["28","Lê Trần Phương Anh","Anh","23/3/2012","Lê Đức Thiện","Xóm  5","T","T",9.5,9,6.5,8.25,33.25,"x",null,"6C","HäC SINH GIáI","28"]
["29","Phạm Thị Lan Anh","Anh","24/10/2012","Phạm Văn Định","Xóm  2","T","T",9.25,8.75,7,9.25,34.25,"x",null,"6C","HäC SINH GIáI","29"]
["30","Lê Gia Bảo","Bảo","2012-10-10","Lê Văn Tới","Xóm  9","T","T",8.75,8,5,8,29.75,"x",null,"6C","HäC SINH GIáI","30"]
["31","Lê Thùy Dung","Dung","30/01/2012","Lê Tiến Tới","Xóm  6","T","T",9.25,8.75,5.25,8.25,31.5,"x",null,"6C","HäC SINH GIáI","31"]
["32","Trần Tiến Đạt","Đạt","2012-07-04","Trần Văn Tư","Xóm  9","T","T",8.75,9.5,6.75,8.75,33.75,"x",null,"6C","HäC SINH GIáI","32"]
["33","Mai Ngọc Hằng","Hằng","2012-08-06","Mai Song Toàn","Xóm  3 ","T","T",9.25,8.5,5.75,7,30.5,"x",null,"6C",{"$f":"IF(O36=\"\",\"HäC SINH GIáI\",\"HäC SINH XUÊT S¾C\")","v":"HäC SINH GIáI"},"33"]
["34","Trần Trung Hiếu","Hiếu","15/05/2012","Trần Thanh Vệ","Xóm  3 ","T","T",8.25,9.25,5,9,31.5,"x",null,"6C","HäC SINH GIáI","34"]
["35","Trần Thanh Hoàng","Hoàng","20/9/2012","Trần Thanh Hưởng","Xóm  9","T","T",9.25,8.5,5.75,8.25,31.75,"x",null,"6C","HäC SINH GIáI","35"]
["36","Lê Khánh Huyền","Huyền","2012-02-07","Lê Thành Nam","Xóm  5","T","T",9,9,7,7.25,32.25,"x",null,"6C","HäC SINH GIáI","36"]
["37","Trần Thu Huyền","Huyền","24/08/2012","Trần Đức Cảnh","Xóm  3 ","T","T",9.25,9,6.5,7.75,32.5,"x",null,"6C","HäC SINH GIáI","37"]
["38","Nịnh Thị Ngân Khánh","Khánh","19/07/2012","Nịnh Văn Thiệu ","Xóm  1","T","T",9.5,9,5.25,8.5,32.25,"x",null,"6C","HäC SINH GIáI","38"]
["39","Đặng Sỹ Lâm","Lâm","23/10/2012","Đặng Thanh Cao","H Vân","T","T",8.75,9.5,5.5,9.5,33.25,"x",null,"6C","HäC SINH GIáI","39"]
["40","Phạm Thảo Nguyên","Nguyên","2012-10-04","Phạm Văn Đình","Xóm  1","T ","T",8.5,9.25,7.25,9,34,"x",null,"6C","HäC SINH GIáI","40"]
["41","Trần Yến Nhi","Nhi","13/10/2012","Trần Thị Nhài","Xóm  7","T ","T",9,8.75,6,8,31.75,"x",null,"6C","HäC SINH GIáI","41"]
["42","Nguyễn Thị Thanh Thảo","Thảo","14/03/2012","Nguyễn Văn Ba","Xóm  8","T ","T",9.5,9.5,5.75,8.75,33.5,"x",null,"6C","HäC SINH GIáI","42"]
["43","Phạm Trần Khánh Thư","Thư","2012-09-10","Phạm Khánh Toàn","Xóm  3 ","T","T",9.5,9,5.5,8.25,32.25,"x",null,"6C","HäC SINH GIáI","43"]
["44","Vũ Anh Thư","Thư","17/05/2012","Vũ Cao Tuyên","Xóm  9","T","T",9.25,8.25,6.75,9.75,34,"x",null,"6C","HäC SINH GIáI","44"]
["45","Lê Bảo Trâm","Trâm","24/09/2012","Lê Văn Toàn","Xóm  5","T","T",9.75,9,8,9.25,36,"x",null,"6C","HäC SINH GIáI","45"]
["46","Lê Phương Tuyến","Tuyến","2012-08-02","Lê Văn Bốn","Xóm  4","T","T",9.5,9.5,5.5,9,33.5,"x",null,"6C","HäC SINH GIáI","46"]
["47","Phạm Thị Tố Uyên","Uyên","25/12/2012","Phạm Đình Tuyển","Xóm  3 ","T","T",8.5,8,8.25,6,30.75,"x",null,"6C","HäC SINH GIáI","47"]
["48","Tống Khánh Vy","Vy","2012-10-02","Tống Đức Xuân","Xóm  3 ","T","T",9.25,8.75,6,8.25,32.25,"x",null,"6C","HäC SINH GIáI","48"]
["49","Trần Diệu Quỳnh","Quỳnh","19/10/2012","Trần Văn Trường","Xóm 9","T","T",8.5,8.5,6,7.5,30.5,"x",null,"6C","HäC SINH GIáI","49"]
["50","Lê Nhật Khánh","Khánh","2011-06-10","Lê Hồng Duy","Xóm 5","T","T",7.5,7.75,6,5,{"$f":"SUM(I53:L53)","v":26.25},"x",null,"7A","HäC SINH GIáI","50"]
["51","Lương Trần Hương Trà","Trà","22/04/2011","Lương Văn Bằng","Xóm 8","T","T",7.25,"8,5","5,5",5.5,12.75,"x",null,"7A","HäC SINH GIáI","51"]
["52","Vũ Minh Đức","Đức","2011-12-09","Vũ Thanh Lương","Xóm 4","T","T",7.25,8,7.5,3.75,26.5,"x",null,"7A","HäC SINH GIáI","52"]
["53","Lê Mai Hà Vy","Vy","13/06/2011","Lê Văn Huy","Xóm 6","T","T",7.75,7.5,8.5,4.25,28,"x",null,"7A","HäC SINH GIáI","53"]
["54","Lê Phương Nga","Nga","06/07/2011","Trần Thị Phượng","Xóm 6","T","T",7.5,7.25,7,5.25,27,"x",null,"7B","HäC SINH GIáI","54"]
["55","Bùi Tấn Phát ","Phát","01/09/2011","Bùi Văn Chuẩn","Xóm 7","T","T",6.75,7.25,7.25,6.25,27.5,"x",null,"7B","HäC SINH GIáI","55"]
["56","Hoàng Thị Thu Trang","Trang","27/04/2011","Hoàng Xuân Vĩ","Xóm 3","T","T",7.25,7.5,6,7,27.75,"x",null,"7B","HäC SINH GIáI","56"]
["57","Phạm Hoài An","An","2011-05-06","Phạm Quốc Trung",2,"T","T",6.25,8.75,7.5,7.5,30,"x",null,"7C","HäC SINH GIáI","57"]
["58","Lê Phương Anh","Anh","2011-04-28","Lê Văn Cảnh",9,"T","T",8,8.75,7,6,29.75,"x",null,"7C","HäC SINH GIáI","58"]
["59","Phạm Thị Ngọc Anh","Anh","2011-08-30","Phạm Văn Định",2,"T","T",8.25,8.25,7,5.75,29.25,"x",null,"7C","HäC SINH GIáI","59"]
["60","Nguyễn Tiến Đạt","Đạt","2011-01-11","Nguyễn Trọng Đoài",3,"T","T",7.25,9,7.5,6.25,30,"x",null,"7C","HäC SINH GIáI","60"]
["61","Trần Minh Đức","Đức","2011-07-14","Trần Văn Độ",5,"T","T",6.75,8.75,7.5,6.25,29.25,"x",null,"7C","HäC SINH GIáI","61"]
["62","Phạm Thị Hoa","Hoa","2011-04-29","Phạm Văn Đồng",2,"T","T",8.25,7.75,7,5,28,"x",null,"7C","HäC SINH GIáI","62"]
["63","Phạm Huy Hoàng","Hoàng","2011-06-27","Phạm Thanh Hưởng",1,"T","T",7.5,7.5,9,6.75,30.75,"x",null,"7C","HäC SINH GIáI","63"]
["64","Lê Khánh Huyền","Huyền","2011-10-20","Lê Cao Oánh",5,"T","T",6,8.75,8.75,5.25,28.75,"x",null,"7C","HäC SINH GIáI","64"]
["65","Đinh Khắc Huynh","Huynh","2011-09-01","Đinh Khắc Hoạt",7,"T","T",7.75,8.75,8,7.5,32,"x",null,"7C",{"$f":"IF(O68=\"\",\"HäC SINH GIáI\",\"HäC SINH XUÊT S¾C\")","v":"HäC SINH GIáI"},"65"]
["66","Nguyễn Phương Linh","Linh","2011-02-02","Nguyễn Đức Tài",3,"T","T",7.25,9,6.25,6.5,29,"x",null,"7C","HäC SINH GIáI","66"]
["67","Phạm Kim Ngân","Ngân","2011-01-29","Phạm Văn Lượng",1,"T","T",7.75,8.5,7.5,6.25,30,"x",null,"7C","HäC SINH GIáI","67"]
["68","Trần Bảo Ngọc","Ngọc","2011-03-17","Trần trọng Cảnh",7,"T","T",7.5,8.5,7.25,5.75,29,"x",null,"7C","HäC SINH GIáI","68"]
["69","Lê Yến Nhi","Nhi","2011-11-16","Lê Quang Dinh",4,"T","T",8,9,8,6.25,31.25,"x",null,"7C","HäC SINH GIáI","69"]
["70","Trần Minh Oanh","Oanh","2011-01-18","Trần Văn Động",4,"T","T",5.5,9,6.75,7.5,28.75,"x",null,"7C","HäC SINH GIáI","70"]
["71","Trần Đình Phong","Phong","2011-01-01","Trần Xuân Kỳ",7,"T","T",5.5,9,7,7,28.5,"x",null,"7C","HäC SINH GIáI","71"]
["72","Mai Hồng Phúc","Phúc","2011-07-04","Mai Văn Hải",2,"T","T",5,8.75,8.5,5.75,28,"x",null,"7C","HäC SINH GIáI","72"]
["73","Nguyễn Phương Thảo","Thảo","2011-03-07","Nguyễn Văn Thắng",7,"T","T",6.75,8.75,7.5,6.5,29.5,"x",null,"7C","HäC SINH GIáI","73"]
["74","Trần Thanh Trúc","Trúc","2011-12-01","Trần Văn Vũ",7,"T","T",8,7.75,8,6,29.75,"x",null,"7C","HäC SINH GIáI","74"]
["75","Đỗ Xuân Trung Kiên","Kiên","2011-09-17","Đỗ Xuân Ninh",7,"T","T",6.5,8,8,4.25,26.75,"x",null,"7C","HäC SINH GIáI","75"]
["76","Phạm Thu Hà","Hà","2010-11-29","Phạm Văn Hậu",1,"T","T",7.25,6.25,6,8.75,28.25,"x",null,"8A","HäC SINH GIáI","76"]
["77","Phạm Đức Long","Long","2010-08-09","Phạm Văn Đình","Xóm 3","T","T",6.75,5.5,6,5,23.25,"x",null,"8B","HäC SINH GIáI","77"]
["78","Phạm Anh Thư","Thư","2010-10-13","Phạm Văn Hiệp"," X6 - X. Ninh","T","T",8,7.5,7.5,5,28,"x",null,"8B","HäC SINH GIáI","78"]
["79","Mai Trà My","My","2010-08-03","Mai Văn Điệp","Xóm 9","T","T",8,5.75,6,5,24.75,"x",null,"8B","HäC SINH GIáI","79"]
["80","Mai Thanh An","An","28/05/2010","Mai Thanh Phúc","Xóm 8","T","T",7.25,7.5,6,9.5,30.25,"x",null,"8C","HäC SINH GIáI","80"]
["81","Nguyễn Thành Công","Công","21/06/2010","Nguyễn Văn Ân","Xóm 1","T","T",8.25,5.25,7.5,8.5,29.5,"x",null,"8C","HäC SINH GIáI","81"]
["82","Lê Ánh Duyên","Duyên","25/10/2010","Lê Văn Huy","Xóm 9","T","T",7.75,8.25,7,9.25,32.25,"x",null,"8C","HäC SINH GIáI","82"]
["83","Trần Trung Đức","Đức","18/11/2010","Trần Văn Thưởng","Xóm 7","T","T",8,8,7.5,8.5,32,"x",null,"8C","HäC SINH GIáI","83"]
["84","Mai Thu Hiền","Hiền","2010-01-12","Mai Thế Đắc","Xóm 3","T","T",8.25,7.75,7,9.5,32.5,"x",null,"8C","HäC SINH GIáI","84"]
["85","Mai Việt Hoàng","Hoàng","28/04/2010","Mai VĂn Trinh","Xóm 3","T","T",7,7.5,8,9.25,31.75,"x",null,"8C","HäC SINH GIáI","85"]
["86","Bùi Đức Khánh","Khánh","23/07/2010","Bùi Xuân Khoát","Xóm 7","T","T",7.5,7.5,6.75,8.25,30,"x",null,"8C","HäC SINH GIáI","86"]
["87","Lê Hạnh Khôi","Khôi","17/01/2010","Lê Thị Tuất","Xóm 6","T","T",8,8,7,9.5,32.5,"x",null,"8C","HäC SINH GIáI","87"]
["88","Phạm Nhật Nam","Nam","18/11/2010","Phạm Thanh TrườngXóm 3",null,"T","T",7.5,8.25,7,8.25,31,"x",null,"8C","HäC SINH GIáI","88"]
["89","Đỗ Như Nguyệt","Nguyệt","2010-10-11","Đỗ Như Ngọc","Xóm 6","T","T",8,7.5,7,9.25,31.75,"x",null,"8C","HäC SINH GIáI","89"]
["90","Nguyễn Thị Phương Nga"," Nga","13/03/2010","Nguyễn VănTuân","Xóm 1","T","T",8.25,7.5,8,9.25,33,"x",null,"8C","HäC SINH GIáI","90"]
["91","Nguyễn Minh Nhật","Nhật","2010-07-05","Nguyễn Hồng Khanh","Xóm 2","T","T",7.5,8,7,9.25,31.75,"x",null,"8C","HäC SINH GIáI","91"]
["92","Trần Minh Phương","Phương","24/02/2010","Trần Văn Tú","Xóm 8","T","T",8.25,6,6,8.5,28.75,"x",null,"8C","HäC SINH GIáI","92"]
["93","Trần Phương Thảo","Thảo","23/06/2010","Mai Văn Thụy","Xóm 2","T","T",7.75,8,7.5,9.5,32.75,"x",null,"8C","HäC SINH GIáI","93"]
["94","Lê Thùy Trang","Trang","2010-10-10","Lê Văn Nhiệm","Xóm 6","T","T",7.25,7.5,6.5,8.5,29.75,"x",null,"8C","HäC SINH GIáI","94"]
["95","Nguyễn Minh Trang","Trang","16/02/2010","Nguyễn Văn Bài","Xóm 3","T","T",8,6,8.5,9,31.5,"x",null,"8C","HäC SINH GIáI","95"]
["96","Nguyễn Thị Thu Yến ","Yến","20/02/2010","Nguyễn Văn Long","Xóm 9","T","T",8.25,7.75,8,9.5,33.5,"x",null,"8C","HäC SINH GIáI","96"]
[31,"Lê Thị Kim Hoa","Hoa","30/5/2012","Lê Văn Tình","Xóm 5","T","T",9.25,8.75,6,9,{"$f":"SUM(I100:L100)","v":33},"x",null,"6C",{"$f":"IF(O100=\"\",\"HäC SINH GIáI\",\"HäC SINH XUÊT S¾C\")","v":"HäC SINH GIáI"},"97"]
[32,"Trần Đức Anh","Anh","22/7/2012","Trần Văn Bắc","Xóm 9","T","T",7.25,8.25,6,7.5,{"$f":"SUM(I101:L101)","v":29},"x",null,"6C",{"$f":"IF(O101=\"\",\"HäC SINH GIáI\",\"HäC SINH XUÊT S¾C\")","v":"HäC SINH GIáI"},"98"]
[{"$f":"\"Tổng số học sinh khen thưởng:  \"&COUNTA(B4:B99)&\" (Trong đó \" &COUNTIF(O4:O99,\"x\")&\"  HSXS và \"&COUNTIF(N4:N99,\"x\")&\"  HSG)\"","v":"Tổng số học sinh khen thưởng:  96 (Trong đó 19  HSXS và 77  HSG)"}]
[null,null,null,null,null,{"$f":"\"Hải Nam, ngày \"&(IF(DAY(TODAY())<10,\"0\"&DAY(TODAY()),DAY(TODAY()))&\" tháng \"&(IF(MONTH(TODAY())<3,\"0\"&MONTH(TODAY()),MONTH(TODAY()))&\" năm \"&YEAR(TODAY())))","v":"Hải Nam, ngày 19 tháng 5 năm 2026"}]
[null,null,null,null,null,"GVCN"]
[null,null,null,null,null,"(Ký, ghi rõ họ tên)"]
[]
[null,null,null,null,null,"Trần Thanh Danh"]

{"sheet":"TongHop (goc)","index":3,"n_rows":268,"n_cols":35,"rows_kept":268,"cut":false,"hidden":false,"merged":[]}
["STT","HoTen","Ten","NgaySinh","Bo","Xom","RL","HT","Văn","Toán","Anh","M4","Tổng","HSXS","HSG","Lơp","DanhHieu","So","Column1","Column2",null,null,null,null,null,null,null,null,null,null,null,null,null,"HỌC SINH XUẤT SẮC",{"$f":"COUNTIF(Table1[DanhHieu],AH1)","v":31}]
["01","Nguyễn Thiện","Chí","26/10/2011","Nguyễn Hùng Mạnh","Xóm 6","T","T",7,8.75,8.75,null,{"$f":"IF(AND(I2=\"\",J2=\"\",K2=\"\",L2=\"\"),\"\",SUM(I2:L2))","v":24.5},"x",null,"9C",{"$f":"IF(AND(N2=\"\",O2=\"\"),\"\",IF(N2=\"x\",\"HỌC SINH XUẤT SẮC\",\"HỌC SINH GIỎI\"))","v":"HỌC SINH XUẤT SẮC"},{"$f":"IF(Table1[[#This Row],[STT]]=\"\",\"\",ROW()-1)","v":1},{"$f":"IF(Table1[[#This Row],[Lơp]]=\"\",\"\",VLOOKUP(Table1[[#This Row],[Lơp]],$AC$3:$AD$14,2,0))","v":10},{"$f":"IF(AND(Q2=\"HỌC SINH XUẤT SẮC\",LEFT(P2,1)=\"9\"),Table1[[#This Row],[Column1]]+(ROUND(M2,3))+400+ROW()/10000,IF(AND(Q2=\"HỌC SINH XUẤT SẮC\",LEFT(P2,1)=\"8\"),Table1[[#This Row],[Column1]]+(ROUND(M2,3))+450+ROW()/10000,IF(AND(Q2=\"HỌC SINH XUẤT SẮC\",LEFT(P2,1)=\"7\"),Table1[[#This Row],[Column1]]+(ROUND(M2,3))+500+ROW()/10000,IF(AND(Q2=\"HỌC SINH XUẤT SẮC\",LEFT(P2,1)=\"6\"),Table1[[#This Row],[Column1]]+(ROUND(M2,3))+550+ROW()/10000,IF(AND(Q2=\"HỌC SINH GIỎI\",LEFT(P2,1)=\"9\"),Table1[[#This Row],[Column1]]+(ROUND(M2,3))+10+ROW()/10000,IF(AND(Q2=\"HỌC SINH GIỎI\",LEFT(P2,1)=\"8\"),Table1[[#This Row],[Column1]]+(ROUND(M2,3))+ 50+ROW()/10000,IF(AND(Q2=\"HỌC SINH GIỎI\",LEFT(P2,1)=\"7\"),Table1[[#This Row],[Column1]]+(ROUND(M2,3))+100+ROW()/10000,IF(AND(Q2=\"HỌC SINH GIỎI\",LEFT(P2,1)=\"6\"),Table1[[#This Row],[Column1]]+(ROUND(M2,3))+150+ROW()/10000,\"\"))))))))","v":434.50020000000001},{"$f":"IF(AND(Q2=\"HỌC SINH XUẤT SẮC\",LEFT(P2,1)=\"9\"),(ROUND(M2,3))+Table1[[#This Row],[Column1]]+10+ROW()/10000,IF(AND(Q2=\"HỌC SINH XUẤT SẮC\",LEFT(P2,1)=\"8\"),Table1[[#This Row],[Column1]]+(ROUND(M2,3))+50+ROW()/10000,IF(AND(Q2=\"HỌC SINH XUẤT SẮC\",LEFT(P2,1)=\"7\"),Table1[[#This Row],[Column1]]+(ROUND(M2,3))+100+ROW()/10000,IF(AND(Q2=\"HỌC SINH XUẤT SẮC\",LEFT(P2,1)=\"6\"),Table1[[#This Row],[Column1]]+(ROUND(M2,3))+150+ROW()/10000,\"\"))))","v":44.5002},{"$f":"IF(AND(Q2=\"HỌC SINH GIỎI\",LEFT(P2,1)=\"9\"),Table1[[#This Row],[Column1]]+(ROUND(M2,3))+200+ROW()/10000,IF(AND(Q2=\"HỌC SINH GIỎI\",LEFT(P2,1)=\"8\"),Table1[[#This Row],[Column1]]+(ROUND(M2,3))+250+ROW()/10000,IF(AND(Q2=\"HỌC SINH GIỎI\",LEFT(P2,1)=\"7\"),Table1[[#This Row],[Column1]]+(ROUND(M2,3))+300+ROW()/10000,IF(AND(Q2=\"HỌC SINH GIỎI\",LEFT(P2,1)=\"6\"),Table1[[#This Row],[Column1]]+(ROUND(M2,3))+350+ROW()/10000,\"\"))))","v":""},{"$f":"IF(AND(V2=\"\",U2=\"\"),\"\",B2)","v":"Nguyễn Thiện"},{"$f":"IF(W2=\"\",\"\",C2)","v":"Chí"},{"$f":"IF(X2=\"\",\"\",Q2)","v":"HỌC SINH XUẤT SẮC"},{"$f":"IF(Y2=\"\",\"\",P2)","v":"9C"},null,null,null,null,null,null,null,"HỌC SINH GIỎI",{"$f":"COUNTIF(Table1[DanhHieu],AH2)","v":142}]
["02","Lê Việt","Dũng","2011-01-21","Lê Chí Thức","Xóm 7","T","T",8.75,8.25,9.65,null,{"$f":"IF(AND(I3=\"\",J3=\"\",K3=\"\",L3=\"\"),\"\",SUM(I3:L3))","v":26.65},"x",null,"9C",{"$f":"IF(AND(N3=\"\",O3=\"\"),\"\",IF(N3=\"x\",\"HỌC SINH XUẤT SẮC\",\"HỌC SINH GIỎI\"))","v":"HỌC SINH XUẤT SẮC"},{"$f":"IF(Table1[[#This Row],[STT]]=\"\",\"\",ROW()-1)","v":2},{"$f":"IF(Table1[[#This Row],[Lơp]]=\"\",\"\",VLOOKUP(Table1[[#This Row],[Lơp]],$AC$3:$AD$14,2,0))","v":10},{"$f":"IF(AND(Q3=\"HỌC SINH XUẤT SẮC\",LEFT(P3,1)=\"9\"),Table1[[#This Row],[Column1]]+(ROUND(M3,3))+400+ROW()/10000,IF(AND(Q3=\"HỌC SINH XUẤT SẮC\",LEFT(P3,1)=\"8\"),Table1[[#This Row],[Column1]]+(ROUND(M3,3))+450+ROW()/10000,IF(AND(Q3=\"HỌC SINH XUẤT SẮC\",LEFT(P3,1)=\"7\"),Table1[[#This Row],[Column1]]+(ROUND(M3,3))+500+ROW()/10000,IF(AND(Q3=\"HỌC SINH XUẤT SẮC\",LEFT(P3,1)=\"6\"),Table1[[#This Row],[Column1]]+(ROUND(M3,3))+550+ROW()/10000,IF(AND(Q3=\"HỌC SINH GIỎI\",LEFT(P3,1)=\"9\"),Table1[[#This Row],[Column1]]+(ROUND(M3,3))+10+ROW()/10000,IF(AND(Q3=\"HỌC SINH GIỎI\",LEFT(P3,1)=\"8\"),Table1[[#This Row],[Column1]]+(ROUND(M3,3))+ 50+ROW()/10000,IF(AND(Q3=\"HỌC SINH GIỎI\",LEFT(P3,1)=\"7\"),Table1[[#This Row],[Column1]]+(ROUND(M3,3))+100+ROW()/10000,IF(AND(Q3=\"HỌC SINH GIỎI\",LEFT(P3,1)=\"6\"),Table1[[#This Row],[Column1]]+(ROUND(M3,3))+150+ROW()/10000,\"\"))))))))","v":436.65029999999996},{"$f":"IF(AND(Q3=\"HỌC SINH XUẤT SẮC\",LEFT(P3,1)=\"9\"),(ROUND(M3,3))+Table1[[#This Row],[Column1]]+10+ROW()/10000,IF(AND(Q3=\"HỌC SINH XUẤT SẮC\",LEFT(P3,1)=\"8\"),Table1[[#This Row],[Column1]]+(ROUND(M3,3))+50+ROW()/10000,IF(AND(Q3=\"HỌC SINH XUẤT SẮC\",LEFT(P3,1)=\"7\"),Table1[[#This Row],[Column1]]+(ROUND(M3,3))+100+ROW()/10000,IF(AND(Q3=\"HỌC SINH XUẤT SẮC\",LEFT(P3,1)=\"6\"),Table1[[#This Row],[Column1]]+(ROUND(M3,3))+150+ROW()/10000,\"\"))))","v":46.650300000000001},{"$f":"IF(AND(Q3=\"HỌC SINH GIỎI\",LEFT(P3,1)=\"9\"),Table1[[#This Row],[Column1]]+(ROUND(M3,3))+200+ROW()/10000,IF(AND(Q3=\"HỌC SINH GIỎI\",LEFT(P3,1)=\"8\"),Table1[[#This Row],[Column1]]+(ROUND(M3,3))+250+ROW()/10000,IF(AND(Q3=\"HỌC SINH GIỎI\",LEFT(P3,1)=\"7\"),Table1[[#This Row],[Column1]]+(ROUND(M3,3))+300+ROW()/10000,IF(AND(Q3=\"HỌC SINH GIỎI\",LEFT(P3,1)=\"6\"),Table1[[#This Row],[Column1]]+(ROUND(M3,3))+350+ROW()/10000,\"\"))))","v":""},{"$f":"IF(AND(V3=\"\",U3=\"\"),\"\",B3)","v":"Lê Việt"},"Dũng",{"$f":"IF(X3=\"\",\"\",Q3)","v":"HỌC SINH XUẤT SẮC"},{"$f":"IF(Y3=\"\",\"\",P3)","v":"9C"},null,null,"6a",120]
["03","Trần Bảo","Nam","27/08/2011","Trần Văn Huấn","Xóm 7","T","T",9,7.75,8.75,null,25.5,"x",null,"9C","HỌC SINH XUẤT SẮC",{"$f":"IF(Table1[[#This Row],[STT]]=\"\",\"\",ROW()-1)","v":3},{"$f":"IF(Table1[[#This Row],[Lơp]]=\"\",\"\",VLOOKUP(Table1[[#This Row],[Lơp]],$AC$3:$AD$14,2,0))","v":10},{"$f":"IF(AND(Q4=\"HỌC SINH XUẤT SẮC\",LEFT(P4,1)=\"9\"),Table1[[#This Row],[Column1]]+(ROUND(M4,3))+400+ROW()/10000,IF(AND(Q4=\"HỌC SINH XUẤT SẮC\",LEFT(P4,1)=\"8\"),Table1[[#This Row],[Column1]]+(ROUND(M4,3))+450+ROW()/10000,IF(AND(Q4=\"HỌC SINH XUẤT SẮC\",LEFT(P4,1)=\"7\"),Table1[[#This Row],[Column1]]+(ROUND(M4,3))+500+ROW()/10000,IF(AND(Q4=\"HỌC SINH XUẤT SẮC\",LEFT(P4,1)=\"6\"),Table1[[#This Row],[Column1]]+(ROUND(M4,3))+550+ROW()/10000,IF(AND(Q4=\"HỌC SINH GIỎI\",LEFT(P4,1)=\"9\"),Table1[[#This Row],[Column1]]+(ROUND(M4,3))+10+ROW()/10000,IF(AND(Q4=\"HỌC SINH GIỎI\",LEFT(P4,1)=\"8\"),Table1[[#This Row],[Column1]]+(ROUND(M4,3))+ 50+ROW()/10000,IF(AND(Q4=\"HỌC SINH GIỎI\",LEFT(P4,1)=\"7\"),Table1[[#This Row],[Column1]]+(ROUND(M4,3))+100+ROW()/10000,IF(AND(Q4=\"HỌC SINH GIỎI\",LEFT(P4,1)=\"6\"),Table1[[#This Row],[Column1]]+(ROUND(M4,3))+150+ROW()/10000,\"\"))))))))","v":435.50040000000001},{"$f":"IF(AND(Q4=\"HỌC SINH XUẤT SẮC\",LEFT(P4,1)=\"9\"),(ROUND(M4,3))+Table1[[#This Row],[Column1]]+10+ROW()/10000,IF(AND(Q4=\"HỌC SINH XUẤT SẮC\",LEFT(P4,1)=\"8\"),Table1[[#This Row],[Column1]]+(ROUND(M4,3))+50+ROW()/10000,IF(AND(Q4=\"HỌC SINH XUẤT SẮC\",LEFT(P4,1)=\"7\"),Table1[[#This Row],[Column1]]+(ROUND(M4,3))+100+ROW()/10000,IF(AND(Q4=\"HỌC SINH XUẤT SẮC\",LEFT(P4,1)=\"6\"),Table1[[#This Row],[Column1]]+(ROUND(M4,3))+150+ROW()/10000,\"\"))))","v":45.500399999999999},{"$f":"IF(AND(Q4=\"HỌC SINH GIỎI\",LEFT(P4,1)=\"9\"),Table1[[#This Row],[Column1]]+(ROUND(M4,3))+200+ROW()/10000,IF(AND(Q4=\"HỌC SINH GIỎI\",LEFT(P4,1)=\"8\"),Table1[[#This Row],[Column1]]+(ROUND(M4,3))+250+ROW()/10000,IF(AND(Q4=\"HỌC SINH GIỎI\",LEFT(P4,1)=\"7\"),Table1[[#This Row],[Column1]]+(ROUND(M4,3))+300+ROW()/10000,IF(AND(Q4=\"HỌC SINH GIỎI\",LEFT(P4,1)=\"6\"),Table1[[#This Row],[Column1]]+(ROUND(M4,3))+350+ROW()/10000,\"\"))))","v":""},"Trần Bảo","Nam","HỌC SINH XUẤT SẮC","9C",null,null,"6b",110]
["04","Hoàng Văn","An","15/09/2011","Hoàng Thanh Bình","Xóm 7","T","T",8,7.5,6.9,null,{"$f":"IF(AND(I5=\"\",J5=\"\",K5=\"\",L5=\"\"),\"\",SUM(I5:L5))","v":22.4},null,"x","9C","HỌC SINH GIỎI",{"$f":"IF(Table1[[#This Row],[STT]]=\"\",\"\",ROW()-1)","v":4},{"$f":"IF(Table1[[#This Row],[Lơp]]=\"\",\"\",VLOOKUP(Table1[[#This Row],[Lơp]],$AC$3:$AD$14,2,0))","v":10},{"$f":"IF(AND(Q5=\"HỌC SINH XUẤT SẮC\",LEFT(P5,1)=\"9\"),Table1[[#This Row],[Column1]]+(ROUND(M5,3))+400+ROW()/10000,IF(AND(Q5=\"HỌC SINH XUẤT SẮC\",LEFT(P5,1)=\"8\"),Table1[[#This Row],[Column1]]+(ROUND(M5,3))+450+ROW()/10000,IF(AND(Q5=\"HỌC SINH XUẤT SẮC\",LEFT(P5,1)=\"7\"),Table1[[#This Row],[Column1]]+(ROUND(M5,3))+500+ROW()/10000,IF(AND(Q5=\"HỌC SINH XUẤT SẮC\",LEFT(P5,1)=\"6\"),Table1[[#This Row],[Column1]]+(ROUND(M5,3))+550+ROW()/10000,IF(AND(Q5=\"HỌC SINH GIỎI\",LEFT(P5,1)=\"9\"),Table1[[#This Row],[Column1]]+(ROUND(M5,3))+10+ROW()/10000,IF(AND(Q5=\"HỌC SINH GIỎI\",LEFT(P5,1)=\"8\"),Table1[[#This Row],[Column1]]+(ROUND(M5,3))+ 50+ROW()/10000,IF(AND(Q5=\"HỌC SINH GIỎI\",LEFT(P5,1)=\"7\"),Table1[[#This Row],[Column1]]+(ROUND(M5,3))+100+ROW()/10000,IF(AND(Q5=\"HỌC SINH GIỎI\",LEFT(P5,1)=\"6\"),Table1[[#This Row],[Column1]]+(ROUND(M5,3))+150+ROW()/10000,\"\"))))))))","v":42.400500000000001},{"$f":"IF(AND(Q5=\"HỌC SINH XUẤT SẮC\",LEFT(P5,1)=\"9\"),(ROUND(M5,3))+Table1[[#This Row],[Column1]]+10+ROW()/10000,IF(AND(Q5=\"HỌC SINH XUẤT SẮC\",LEFT(P5,1)=\"8\"),Table1[[#This Row],[Column1]]+(ROUND(M5,3))+50+ROW()/10000,IF(AND(Q5=\"HỌC SINH XUẤT SẮC\",LEFT(P5,1)=\"7\"),Table1[[#This Row],[Column1]]+(ROUND(M5,3))+100+ROW()/10000,IF(AND(Q5=\"HỌC SINH XUẤT SẮC\",LEFT(P5,1)=\"6\"),Table1[[#This Row],[Column1]]+(ROUND(M5,3))+150+ROW()/10000,\"\"))))","v":""},{"$f":"IF(AND(Q5=\"HỌC SINH GIỎI\",LEFT(P5,1)=\"9\"),Table1[[#This Row],[Column1]]+(ROUND(M5,3))+200+ROW()/10000,IF(AND(Q5=\"HỌC SINH GIỎI\",LEFT(P5,1)=\"8\"),Table1[[#This Row],[Column1]]+(ROUND(M5,3))+250+ROW()/10000,IF(AND(Q5=\"HỌC SINH GIỎI\",LEFT(P5,1)=\"7\"),Table1[[#This Row],[Column1]]+(ROUND(M5,3))+300+ROW()/10000,IF(AND(Q5=\"HỌC SINH GIỎI\",LEFT(P5,1)=\"6\"),Table1[[#This Row],[Column1]]+(ROUND(M5,3))+350+ROW()/10000,\"\"))))","v":232.40049999999999},"Hoàng Văn","An","HỌC SINH GIỎI","9C",null,null,"6c",100]
["05","Phạm Hoài","An","06/05/2011","Phạm Quốc Trung","Xóm 2","T","T",8.75,8.5,8.4,null,25.65,null,"x","9C","HỌC SINH GIỎI",{"$f":"IF(Table1[[#This Row],[STT]]=\"\",\"\",ROW()-1)","v":5},{"$f":"IF(Table1[[#This Row],[Lơp]]=\"\",\"\",VLOOKUP(Table1[[#This Row],[Lơp]],$AC$3:$AD$14,2,0))","v":10},{"$f":"IF(AND(Q6=\"HỌC SINH XUẤT SẮC\",LEFT(P6,1)=\"9\"),Table1[[#This Row],[Column1]]+(ROUND(M6,3))+400+ROW()/10000,IF(AND(Q6=\"HỌC SINH XUẤT SẮC\",LEFT(P6,1)=\"8\"),Table1[[#This Row],[Column1]]+(ROUND(M6,3))+450+ROW()/10000,IF(AND(Q6=\"HỌC SINH XUẤT SẮC\",LEFT(P6,1)=\"7\"),Table1[[#This Row],[Column1]]+(ROUND(M6,3))+500+ROW()/10000,IF(AND(Q6=\"HỌC SINH XUẤT SẮC\",LEFT(P6,1)=\"6\"),Table1[[#This Row],[Column1]]+(ROUND(M6,3))+550+ROW()/10000,IF(AND(Q6=\"HỌC SINH GIỎI\",LEFT(P6,1)=\"9\"),Table1[[#This Row],[Column1]]+(ROUND(M6,3))+10+ROW()/10000,IF(AND(Q6=\"HỌC SINH GIỎI\",LEFT(P6,1)=\"8\"),Table1[[#This Row],[Column1]]+(ROUND(M6,3))+ 50+ROW()/10000,IF(AND(Q6=\"HỌC SINH GIỎI\",LEFT(P6,1)=\"7\"),Table1[[#This Row],[Column1]]+(ROUND(M6,3))+100+ROW()/10000,IF(AND(Q6=\"HỌC SINH GIỎI\",LEFT(P6,1)=\"6\"),Table1[[#This Row],[Column1]]+(ROUND(M6,3))+150+ROW()/10000,\"\"))))))))","v":45.650599999999997},{"$f":"IF(AND(Q6=\"HỌC SINH XUẤT SẮC\",LEFT(P6,1)=\"9\"),(ROUND(M6,3))+Table1[[#This Row],[Column1]]+10+ROW()/10000,IF(AND(Q6=\"HỌC SINH XUẤT SẮC\",LEFT(P6,1)=\"8\"),Table1[[#This Row],[Column1]]+(ROUND(M6,3))+50+ROW()/10000,IF(AND(Q6=\"HỌC SINH XUẤT SẮC\",LEFT(P6,1)=\"7\"),Table1[[#This Row],[Column1]]+(ROUND(M6,3))+100+ROW()/10000,IF(AND(Q6=\"HỌC SINH XUẤT SẮC\",LEFT(P6,1)=\"6\"),Table1[[#This Row],[Column1]]+(ROUND(M6,3))+150+ROW()/10000,\"\"))))","v":""},{"$f":"IF(AND(Q6=\"HỌC SINH GIỎI\",LEFT(P6,1)=\"9\"),Table1[[#This Row],[Column1]]+(ROUND(M6,3))+200+ROW()/10000,IF(AND(Q6=\"HỌC SINH GIỎI\",LEFT(P6,1)=\"8\"),Table1[[#This Row],[Column1]]+(ROUND(M6,3))+250+ROW()/10000,IF(AND(Q6=\"HỌC SINH GIỎI\",LEFT(P6,1)=\"7\"),Table1[[#This Row],[Column1]]+(ROUND(M6,3))+300+ROW()/10000,IF(AND(Q6=\"HỌC SINH GIỎI\",LEFT(P6,1)=\"6\"),Table1[[#This Row],[Column1]]+(ROUND(M6,3))+350+ROW()/10000,\"\"))))","v":235.6506},"Phạm Hoài","An",{"$f":"IF(X6=\"\",\"\",Q6)","v":"HỌC SINH GIỎI"},{"$f":"IF(Y6=\"\",\"\",P6)","v":"9C"},null,null,"7a",90]
["06","Trần Bảo","An","01/04/2011","Trần Văn Thuật","Xóm 9","T","T",8.25,7,6.15,null,{"$f":"IF(AND(I7=\"\",J7=\"\",K7=\"\",L7=\"\"),\"\",SUM(I7:L7))","v":21.4},null,"x","9C","HỌC SINH GIỎI",{"$f":"IF(Table1[[#This Row],[STT]]=\"\",\"\",ROW()-1)","v":6},{"$f":"IF(Table1[[#This Row],[Lơp]]=\"\",\"\",VLOOKUP(Table1[[#This Row],[Lơp]],$AC$3:$AD$14,2,0))","v":10},{"$f":"IF(AND(Q7=\"HỌC SINH XUẤT SẮC\",LEFT(P7,1)=\"9\"),Table1[[#This Row],[Column1]]+(ROUND(M7,3))+400+ROW()/10000,IF(AND(Q7=\"HỌC SINH XUẤT SẮC\",LEFT(P7,1)=\"8\"),Table1[[#This Row],[Column1]]+(ROUND(M7,3))+450+ROW()/10000,IF(AND(Q7=\"HỌC SINH XUẤT SẮC\",LEFT(P7,1)=\"7\"),Table1[[#This Row],[Column1]]+(ROUND(M7,3))+500+ROW()/10000,IF(AND(Q7=\"HỌC SINH XUẤT SẮC\",LEFT(P7,1)=\"6\"),Table1[[#This Row],[Column1]]+(ROUND(M7,3))+550+ROW()/10000,IF(AND(Q7=\"HỌC SINH GIỎI\",LEFT(P7,1)=\"9\"),Table1[[#This Row],[Column1]]+(ROUND(M7,3))+10+ROW()/10000,IF(AND(Q7=\"HỌC SINH GIỎI\",LEFT(P7,1)=\"8\"),Table1[[#This Row],[Column1]]+(ROUND(M7,3))+ 50+ROW()/10000,IF(AND(Q7=\"HỌC SINH GIỎI\",LEFT(P7,1)=\"7\"),Table1[[#This Row],[Column1]]+(ROUND(M7,3))+100+ROW()/10000,IF(AND(Q7=\"HỌC SINH GIỎI\",LEFT(P7,1)=\"6\"),Table1[[#This Row],[Column1]]+(ROUND(M7,3))+150+ROW()/10000,\"\"))))))))","v":41.400700000000001},{"$f":"IF(AND(Q7=\"HỌC SINH XUẤT SẮC\",LEFT(P7,1)=\"9\"),(ROUND(M7,3))+Table1[[#This Row],[Column1]]+10+ROW()/10000,IF(AND(Q7=\"HỌC SINH XUẤT SẮC\",LEFT(P7,1)=\"8\"),Table1[[#This Row],[Column1]]+(ROUND(M7,3))+50+ROW()/10000,IF(AND(Q7=\"HỌC SINH XUẤT SẮC\",LEFT(P7,1)=\"7\"),Table1[[#This Row],[Column1]]+(ROUND(M7,3))+100+ROW()/10000,IF(AND(Q7=\"HỌC SINH XUẤT SẮC\",LEFT(P7,1)=\"6\"),Table1[[#This Row],[Column1]]+(ROUND(M7,3))+150+ROW()/10000,\"\"))))","v":""},{"$f":"IF(AND(Q7=\"HỌC SINH GIỎI\",LEFT(P7,1)=\"9\"),Table1[[#This Row],[Column1]]+(ROUND(M7,3))+200+ROW()/10000,IF(AND(Q7=\"HỌC SINH GIỎI\",LEFT(P7,1)=\"8\"),Table1[[#This Row],[Column1]]+(ROUND(M7,3))+250+ROW()/10000,IF(AND(Q7=\"HỌC SINH GIỎI\",LEFT(P7,1)=\"7\"),Table1[[#This Row],[Column1]]+(ROUND(M7,3))+300+ROW()/10000,IF(AND(Q7=\"HỌC SINH GIỎI\",LEFT(P7,1)=\"6\"),Table1[[#This Row],[Column1]]+(ROUND(M7,3))+350+ROW()/10000,\"\"))))","v":231.4007},"Trần Bảo","An","HỌC SINH GIỎI","9C",null,null,"7b",80]
["07","Lê Phương","Anh","28/04/2011","Lê Văn Cảnh","Xóm 9","T","T",7.5,7,6.5,null,21,null,"x","9C","HỌC SINH GIỎI",{"$f":"IF(Table1[[#This Row],[STT]]=\"\",\"\",ROW()-1)","v":7},{"$f":"IF(Table1[[#This Row],[Lơp]]=\"\",\"\",VLOOKUP(Table1[[#This Row],[Lơp]],$AC$3:$AD$14,2,0))","v":10},{"$f":"IF(AND(Q8=\"HỌC SINH XUẤT SẮC\",LEFT(P8,1)=\"9\"),Table1[[#This Row],[Column1]]+(ROUND(M8,3))+400+ROW()/10000,IF(AND(Q8=\"HỌC SINH XUẤT SẮC\",LEFT(P8,1)=\"8\"),Table1[[#This Row],[Column1]]+(ROUND(M8,3))+450+ROW()/10000,IF(AND(Q8=\"HỌC SINH XUẤT SẮC\",LEFT(P8,1)=\"7\"),Table1[[#This Row],[Column1]]+(ROUND(M8,3))+500+ROW()/10000,IF(AND(Q8=\"HỌC SINH XUẤT SẮC\",LEFT(P8,1)=\"6\"),Table1[[#This Row],[Column1]]+(ROUND(M8,3))+550+ROW()/10000,IF(AND(Q8=\"HỌC SINH GIỎI\",LEFT(P8,1)=\"9\"),Table1[[#This Row],[Column1]]+(ROUND(M8,3))+10+ROW()/10000,IF(AND(Q8=\"HỌC SINH GIỎI\",LEFT(P8,1)=\"8\"),Table1[[#This Row],[Column1]]+(ROUND(M8,3))+ 50+ROW()/10000,IF(AND(Q8=\"HỌC SINH GIỎI\",LEFT(P8,1)=\"7\"),Table1[[#This Row],[Column1]]+(ROUND(M8,3))+100+ROW()/10000,IF(AND(Q8=\"HỌC SINH GIỎI\",LEFT(P8,1)=\"6\"),Table1[[#This Row],[Column1]]+(ROUND(M8,3))+150+ROW()/10000,\"\"))))))))","v":41.000799999999998},{"$f":"IF(AND(Q8=\"HỌC SINH XUẤT SẮC\",LEFT(P8,1)=\"9\"),(ROUND(M8,3))+Table1[[#This Row],[Column1]]+10+ROW()/10000,IF(AND(Q8=\"HỌC SINH XUẤT SẮC\",LEFT(P8,1)=\"8\"),Table1[[#This Row],[Column1]]+(ROUND(M8,3))+50+ROW()/10000,IF(AND(Q8=\"HỌC SINH XUẤT SẮC\",LEFT(P8,1)=\"7\"),Table1[[#This Row],[Column1]]+(ROUND(M8,3))+100+ROW()/10000,IF(AND(Q8=\"HỌC SINH XUẤT SẮC\",LEFT(P8,1)=\"6\"),Table1[[#This Row],[Column1]]+(ROUND(M8,3))+150+ROW()/10000,\"\"))))","v":""},{"$f":"IF(AND(Q8=\"HỌC SINH GIỎI\",LEFT(P8,1)=\"9\"),Table1[[#This Row],[Column1]]+(ROUND(M8,3))+200+ROW()/10000,IF(AND(Q8=\"HỌC SINH GIỎI\",LEFT(P8,1)=\"8\"),Table1[[#This Row],[Column1]]+(ROUND(M8,3))+250+ROW()/10000,IF(AND(Q8=\"HỌC SINH GIỎI\",LEFT(P8,1)=\"7\"),Table1[[#This Row],[Column1]]+(ROUND(M8,3))+300+ROW()/10000,IF(AND(Q8=\"HỌC SINH GIỎI\",LEFT(P8,1)=\"6\"),Table1[[#This Row],[Column1]]+(ROUND(M8,3))+350+ROW()/10000,\"\"))))","v":231.0008},"Lê Phương","Anh","HỌC SINH GIỎI","9C",null,null,"7c",70]
["08","Nguyễn Thùy","Dương","01/12/2011","Nguyễn Xuân Hòa","Xóm 13","T","T",8.5,7.25,8.6999999999999993,null,24.45,null,"x","9C","HỌC SINH GIỎI",{"$f":"IF(Table1[[#This Row],[STT]]=\"\",\"\",ROW()-1)","v":8},{"$f":"IF(Table1[[#This Row],[Lơp]]=\"\",\"\",VLOOKUP(Table1[[#This Row],[Lơp]],$AC$3:$AD$14,2,0))","v":10},{"$f":"IF(AND(Q9=\"HỌC SINH XUẤT SẮC\",LEFT(P9,1)=\"9\"),Table1[[#This Row],[Column1]]+(ROUND(M9,3))+400+ROW()/10000,IF(AND(Q9=\"HỌC SINH XUẤT SẮC\",LEFT(P9,1)=\"8\"),Table1[[#This Row],[Column1]]+(ROUND(M9,3))+450+ROW()/10000,IF(AND(Q9=\"HỌC SINH XUẤT SẮC\",LEFT(P9,1)=\"7\"),Table1[[#This Row],[Column1]]+(ROUND(M9,3))+500+ROW()/10000,IF(AND(Q9=\"HỌC SINH XUẤT SẮC\",LEFT(P9,1)=\"6\"),Table1[[#This Row],[Column1]]+(ROUND(M9,3))+550+ROW()/10000,IF(AND(Q9=\"HỌC SINH GIỎI\",LEFT(P9,1)=\"9\"),Table1[[#This Row],[Column1]]+(ROUND(M9,3))+10+ROW()/10000,IF(AND(Q9=\"HỌC SINH GIỎI\",LEFT(P9,1)=\"8\"),Table1[[#This Row],[Column1]]+(ROUND(M9,3))+ 50+ROW()/10000,IF(AND(Q9=\"HỌC SINH GIỎI\",LEFT(P9,1)=\"7\"),Table1[[#This Row],[Column1]]+(ROUND(M9,3))+100+ROW()/10000,IF(AND(Q9=\"HỌC SINH GIỎI\",LEFT(P9,1)=\"6\"),Table1[[#This Row],[Column1]]+(ROUND(M9,3))+150+ROW()/10000,\"\"))))))))","v":44.450900000000004},{"$f":"IF(AND(Q9=\"HỌC SINH XUẤT SẮC\",LEFT(P9,1)=\"9\"),(ROUND(M9,3))+Table1[[#This Row],[Column1]]+10+ROW()/10000,IF(AND(Q9=\"HỌC SINH XUẤT SẮC\",LEFT(P9,1)=\"8\"),Table1[[#This Row],[Column1]]+(ROUND(M9,3))+50+ROW()/10000,IF(AND(Q9=\"HỌC SINH XUẤT SẮC\",LEFT(P9,1)=\"7\"),Table1[[#This Row],[Column1]]+(ROUND(M9,3))+100+ROW()/10000,IF(AND(Q9=\"HỌC SINH XUẤT SẮC\",LEFT(P9,1)=\"6\"),Table1[[#This Row],[Column1]]+(ROUND(M9,3))+150+ROW()/10000,\"\"))))","v":""},{"$f":"IF(AND(Q9=\"HỌC SINH GIỎI\",LEFT(P9,1)=\"9\"),Table1[[#This Row],[Column1]]+(ROUND(M9,3))+200+ROW()/10000,IF(AND(Q9=\"HỌC SINH GIỎI\",LEFT(P9,1)=\"8\"),Table1[[#This Row],[Column1]]+(ROUND(M9,3))+250+ROW()/10000,IF(AND(Q9=\"HỌC SINH GIỎI\",LEFT(P9,1)=\"7\"),Table1[[#This Row],[Column1]]+(ROUND(M9,3))+300+ROW()/10000,IF(AND(Q9=\"HỌC SINH GIỎI\",LEFT(P9,1)=\"6\"),Table1[[#This Row],[Column1]]+(ROUND(M9,3))+350+ROW()/10000,\"\"))))","v":234.45089999999999},"Nguyễn Thùy","Dương","HỌC SINH GIỎI","9C",null,null,"8a",60]
["09","Nguyễn Tiến","Đạt","2011-01-11","Nguyễn Trọng Đoài","Xóm 3","T","T",7.75,7.5,5.4,null,20.65,null,"x","9C","HỌC SINH GIỎI",{"$f":"IF(Table1[[#This Row],[STT]]=\"\",\"\",ROW()-1)","v":9},{"$f":"IF(Table1[[#This Row],[Lơp]]=\"\",\"\",VLOOKUP(Table1[[#This Row],[Lơp]],$AC$3:$AD$14,2,0))","v":10},{"$f":"IF(AND(Q10=\"HỌC SINH XUẤT SẮC\",LEFT(P10,1)=\"9\"),Table1[[#This Row],[Column1]]+(ROUND(M10,3))+400+ROW()/10000,IF(AND(Q10=\"HỌC SINH XUẤT SẮC\",LEFT(P10,1)=\"8\"),Table1[[#This Row],[Column1]]+(ROUND(M10,3))+450+ROW()/10000,IF(AND(Q10=\"HỌC SINH XUẤT SẮC\",LEFT(P10,1)=\"7\"),Table1[[#This Row],[Column1]]+(ROUND(M10,3))+500+ROW()/10000,IF(AND(Q10=\"HỌC SINH XUẤT SẮC\",LEFT(P10,1)=\"6\"),Table1[[#This Row],[Column1]]+(ROUND(M10,3))+550+ROW()/10000,IF(AND(Q10=\"HỌC SINH GIỎI\",LEFT(P10,1)=\"9\"),Table1[[#This Row],[Column1]]+(ROUND(M10,3))+10+ROW()/10000,IF(AND(Q10=\"HỌC SINH GIỎI\",LEFT(P10,1)=\"8\"),Table1[[#This Row],[Column1]]+(ROUND(M10,3))+ 50+ROW()/10000,IF(AND(Q10=\"HỌC SINH GIỎI\",LEFT(P10,1)=\"7\"),Table1[[#This Row],[Column1]]+(ROUND(M10,3))+100+ROW()/10000,IF(AND(Q10=\"HỌC SINH GIỎI\",LEFT(P10,1)=\"6\"),Table1[[#This Row],[Column1]]+(ROUND(M10,3))+150+ROW()/10000,\"\"))))))))","v":40.650999999999996},{"$f":"IF(AND(Q10=\"HỌC SINH XUẤT SẮC\",LEFT(P10,1)=\"9\"),(ROUND(M10,3))+Table1[[#This Row],[Column1]]+10+ROW()/10000,IF(AND(Q10=\"HỌC SINH XUẤT SẮC\",LEFT(P10,1)=\"8\"),Table1[[#This Row],[Column1]]+(ROUND(M10,3))+50+ROW()/10000,IF(AND(Q10=\"HỌC SINH XUẤT SẮC\",LEFT(P10,1)=\"7\"),Table1[[#This Row],[Column1]]+(ROUND(M10,3))+100+ROW()/10000,IF(AND(Q10=\"HỌC SINH XUẤT SẮC\",LEFT(P10,1)=\"6\"),Table1[[#This Row],[Column1]]+(ROUND(M10,3))+150+ROW()/10000,\"\"))))","v":""},{"$f":"IF(AND(Q10=\"HỌC SINH GIỎI\",LEFT(P10,1)=\"9\"),Table1[[#This Row],[Column1]]+(ROUND(M10,3))+200+ROW()/10000,IF(AND(Q10=\"HỌC SINH GIỎI\",LEFT(P10,1)=\"8\"),Table1[[#This Row],[Column1]]+(ROUND(M10,3))+250+ROW()/10000,IF(AND(Q10=\"HỌC SINH GIỎI\",LEFT(P10,1)=\"7\"),Table1[[#This Row],[Column1]]+(ROUND(M10,3))+300+ROW()/10000,IF(AND(Q10=\"HỌC SINH GIỎI\",LEFT(P10,1)=\"6\"),Table1[[#This Row],[Column1]]+(ROUND(M10,3))+350+ROW()/10000,\"\"))))","v":230.65100000000001},"Nguyễn Tiến","Đạt","HỌC SINH GIỎI","9C",null,null,"8b",50]
["10","Trần Minh","Đức","14/07/2011","Trần Văn Độ","Xóm 5","T","T",7.5,8,7.9,null,23.4,null,"x","9C","HỌC SINH GIỎI",{"$f":"IF(Table1[[#This Row],[STT]]=\"\",\"\",ROW()-1)","v":10},{"$f":"IF(Table1[[#This Row],[Lơp]]=\"\",\"\",VLOOKUP(Table1[[#This Row],[Lơp]],$AC$3:$AD$14,2,0))","v":10},{"$f":"IF(AND(Q11=\"HỌC SINH XUẤT SẮC\",LEFT(P11,1)=\"9\"),Table1[[#This Row],[Column1]]+(ROUND(M11,3))+400+ROW()/10000,IF(AND(Q11=\"HỌC SINH XUẤT SẮC\",LEFT(P11,1)=\"8\"),Table1[[#This Row],[Column1]]+(ROUND(M11,3))+450+ROW()/10000,IF(AND(Q11=\"HỌC SINH XUẤT SẮC\",LEFT(P11,1)=\"7\"),Table1[[#This Row],[Column1]]+(ROUND(M11,3))+500+ROW()/10000,IF(AND(Q11=\"HỌC SINH XUẤT SẮC\",LEFT(P11,1)=\"6\"),Table1[[#This Row],[Column1]]+(ROUND(M11,3))+550+ROW()/10000,IF(AND(Q11=\"HỌC SINH GIỎI\",LEFT(P11,1)=\"9\"),Table1[[#This Row],[Column1]]+(ROUND(M11,3))+10+ROW()/10000,IF(AND(Q11=\"HỌC SINH GIỎI\",LEFT(P11,1)=\"8\"),Table1[[#This Row],[Column1]]+(ROUND(M11,3))+ 50+ROW()/10000,IF(AND(Q11=\"HỌC SINH GIỎI\",LEFT(P11,1)=\"7\"),Table1[[#This Row],[Column1]]+(ROUND(M11,3))+100+ROW()/10000,IF(AND(Q11=\"HỌC SINH GIỎI\",LEFT(P11,1)=\"6\"),Table1[[#This Row],[Column1]]+(ROUND(M11,3))+150+ROW()/10000,\"\"))))))))","v":43.4011},{"$f":"IF(AND(Q11=\"HỌC SINH XUẤT SẮC\",LEFT(P11,1)=\"9\"),(ROUND(M11,3))+Table1[[#This Row],[Column1]]+10+ROW()/10000,IF(AND(Q11=\"HỌC SINH XUẤT SẮC\",LEFT(P11,1)=\"8\"),Table1[[#This Row],[Column1]]+(ROUND(M11,3))+50+ROW()/10000,IF(AND(Q11=\"HỌC SINH XUẤT SẮC\",LEFT(P11,1)=\"7\"),Table1[[#This Row],[Column1]]+(ROUND(M11,3))+100+ROW()/10000,IF(AND(Q11=\"HỌC SINH XUẤT SẮC\",LEFT(P11,1)=\"6\"),Table1[[#This Row],[Column1]]+(ROUND(M11,3))+150+ROW()/10000,\"\"))))","v":""},{"$f":"IF(AND(Q11=\"HỌC SINH GIỎI\",LEFT(P11,1)=\"9\"),Table1[[#This Row],[Column1]]+(ROUND(M11,3))+200+ROW()/10000,IF(AND(Q11=\"HỌC SINH GIỎI\",LEFT(P11,1)=\"8\"),Table1[[#This Row],[Column1]]+(ROUND(M11,3))+250+ROW()/10000,IF(AND(Q11=\"HỌC SINH GIỎI\",LEFT(P11,1)=\"7\"),Table1[[#This Row],[Column1]]+(ROUND(M11,3))+300+ROW()/10000,IF(AND(Q11=\"HỌC SINH GIỎI\",LEFT(P11,1)=\"6\"),Table1[[#This Row],[Column1]]+(ROUND(M11,3))+350+ROW()/10000,\"\"))))","v":233.40110000000001},"Trần Minh","Đức","HỌC SINH GIỎI","9C",null,null,"8c",40]
["11","Phạm Thị","Hoa","29/04/2011","Phạm Văn Đồng","Xóm 2","T","T",8.5,7.75,6.4,null,22.65,null,"x","9C","HỌC SINH GIỎI",{"$f":"IF(Table1[[#This Row],[STT]]=\"\",\"\",ROW()-1)","v":11},{"$f":"IF(Table1[[#This Row],[Lơp]]=\"\",\"\",VLOOKUP(Table1[[#This Row],[Lơp]],$AC$3:$AD$14,2,0))","v":10},{"$f":"IF(AND(Q12=\"HỌC SINH XUẤT SẮC\",LEFT(P12,1)=\"9\"),Table1[[#This Row],[Column1]]+(ROUND(M12,3))+400+ROW()/10000,IF(AND(Q12=\"HỌC SINH XUẤT SẮC\",LEFT(P12,1)=\"8\"),Table1[[#This Row],[Column1]]+(ROUND(M12,3))+450+ROW()/10000,IF(AND(Q12=\"HỌC SINH XUẤT SẮC\",LEFT(P12,1)=\"7\"),Table1[[#This Row],[Column1]]+(ROUND(M12,3))+500+ROW()/10000,IF(AND(Q12=\"HỌC SINH XUẤT SẮC\",LEFT(P12,1)=\"6\"),Table1[[#This Row],[Column1]]+(ROUND(M12,3))+550+ROW()/10000,IF(AND(Q12=\"HỌC SINH GIỎI\",LEFT(P12,1)=\"9\"),Table1[[#This Row],[Column1]]+(ROUND(M12,3))+10+ROW()/10000,IF(AND(Q12=\"HỌC SINH GIỎI\",LEFT(P12,1)=\"8\"),Table1[[#This Row],[Column1]]+(ROUND(M12,3))+ 50+ROW()/10000,IF(AND(Q12=\"HỌC SINH GIỎI\",LEFT(P12,1)=\"7\"),Table1[[#This Row],[Column1]]+(ROUND(M12,3))+100+ROW()/10000,IF(AND(Q12=\"HỌC SINH GIỎI\",LEFT(P12,1)=\"6\"),Table1[[#This Row],[Column1]]+(ROUND(M12,3))+150+ROW()/10000,\"\"))))))))","v":42.651199999999996},{"$f":"IF(AND(Q12=\"HỌC SINH XUẤT SẮC\",LEFT(P12,1)=\"9\"),(ROUND(M12,3))+Table1[[#This Row],[Column1]]+10+ROW()/10000,IF(AND(Q12=\"HỌC SINH XUẤT SẮC\",LEFT(P12,1)=\"8\"),Table1[[#This Row],[Column1]]+(ROUND(M12,3))+50+ROW()/10000,IF(AND(Q12=\"HỌC SINH XUẤT SẮC\",LEFT(P12,1)=\"7\"),Table1[[#This Row],[Column1]]+(ROUND(M12,3))+100+ROW()/10000,IF(AND(Q12=\"HỌC SINH XUẤT SẮC\",LEFT(P12,1)=\"6\"),Table1[[#This Row],[Column1]]+(ROUND(M12,3))+150+ROW()/10000,\"\"))))","v":""},{"$f":"IF(AND(Q12=\"HỌC SINH GIỎI\",LEFT(P12,1)=\"9\"),Table1[[#This Row],[Column1]]+(ROUND(M12,3))+200+ROW()/10000,IF(AND(Q12=\"HỌC SINH GIỎI\",LEFT(P12,1)=\"8\"),Table1[[#This Row],[Column1]]+(ROUND(M12,3))+250+ROW()/10000,IF(AND(Q12=\"HỌC SINH GIỎI\",LEFT(P12,1)=\"7\"),Table1[[#This Row],[Column1]]+(ROUND(M12,3))+300+ROW()/10000,IF(AND(Q12=\"HỌC SINH GIỎI\",LEFT(P12,1)=\"6\"),Table1[[#This Row],[Column1]]+(ROUND(M12,3))+350+ROW()/10000,\"\"))))","v":232.65120000000002},"Phạm Thị","Hoa","HỌC SINH GIỎI","9C",null,null,"9a",30]
["12","Phạm Huy","Hoàng","27/06/2011","Phạm Thanh Hưởng","Xóm 1","T","T",9,8.25,8,null,25.25,null,"x","9C","HỌC SINH GIỎI",{"$f":"IF(Table1[[#This Row],[STT]]=\"\",\"\",ROW()-1)","v":12},{"$f":"IF(Table1[[#This Row],[Lơp]]=\"\",\"\",VLOOKUP(Table1[[#This Row],[Lơp]],$AC$3:$AD$14,2,0))","v":10},{"$f":"IF(AND(Q13=\"HỌC SINH XUẤT SẮC\",LEFT(P13,1)=\"9\"),Table1[[#This Row],[Column1]]+(ROUND(M13,3))+400+ROW()/10000,IF(AND(Q13=\"HỌC SINH XUẤT SẮC\",LEFT(P13,1)=\"8\"),Table1[[#This Row],[Column1]]+(ROUND(M13,3))+450+ROW()/10000,IF(AND(Q13=\"HỌC SINH XUẤT SẮC\",LEFT(P13,1)=\"7\"),Table1[[#This Row],[Column1]]+(ROUND(M13,3))+500+ROW()/10000,IF(AND(Q13=\"HỌC SINH XUẤT SẮC\",LEFT(P13,1)=\"6\"),Table1[[#This Row],[Column1]]+(ROUND(M13,3))+550+ROW()/10000,IF(AND(Q13=\"HỌC SINH GIỎI\",LEFT(P13,1)=\"9\"),Table1[[#This Row],[Column1]]+(ROUND(M13,3))+10+ROW()/10000,IF(AND(Q13=\"HỌC SINH GIỎI\",LEFT(P13,1)=\"8\"),Table1[[#This Row],[Column1]]+(ROUND(M13,3))+ 50+ROW()/10000,IF(AND(Q13=\"HỌC SINH GIỎI\",LEFT(P13,1)=\"7\"),Table1[[#This Row],[Column1]]+(ROUND(M13,3))+100+ROW()/10000,IF(AND(Q13=\"HỌC SINH GIỎI\",LEFT(P13,1)=\"6\"),Table1[[#This Row],[Column1]]+(ROUND(M13,3))+150+ROW()/10000,\"\"))))))))","v":45.251300000000001},{"$f":"IF(AND(Q13=\"HỌC SINH XUẤT SẮC\",LEFT(P13,1)=\"9\"),(ROUND(M13,3))+Table1[[#This Row],[Column1]]+10+ROW()/10000,IF(AND(Q13=\"HỌC SINH XUẤT SẮC\",LEFT(P13,1)=\"8\"),Table1[[#This Row],[Column1]]+(ROUND(M13,3))+50+ROW()/10000,IF(AND(Q13=\"HỌC SINH XUẤT SẮC\",LEFT(P13,1)=\"7\"),Table1[[#This Row],[Column1]]+(ROUND(M13,3))+100+ROW()/10000,IF(AND(Q13=\"HỌC SINH XUẤT SẮC\",LEFT(P13,1)=\"6\"),Table1[[#This Row],[Column1]]+(ROUND(M13,3))+150+ROW()/10000,\"\"))))","v":""},{"$f":"IF(AND(Q13=\"HỌC SINH GIỎI\",LEFT(P13,1)=\"9\"),Table1[[#This Row],[Column1]]+(ROUND(M13,3))+200+ROW()/10000,IF(AND(Q13=\"HỌC SINH GIỎI\",LEFT(P13,1)=\"8\"),Table1[[#This Row],[Column1]]+(ROUND(M13,3))+250+ROW()/10000,IF(AND(Q13=\"HỌC SINH GIỎI\",LEFT(P13,1)=\"7\"),Table1[[#This Row],[Column1]]+(ROUND(M13,3))+300+ROW()/10000,IF(AND(Q13=\"HỌC SINH GIỎI\",LEFT(P13,1)=\"6\"),Table1[[#This Row],[Column1]]+(ROUND(M13,3))+350+ROW()/10000,\"\"))))","v":235.25129999999999},"Phạm Huy","Hoàng","HỌC SINH GIỎI","9C",null,null,"9b",20]
["13","Phạm Huy","Hoàng","25/07/2011","Phạm Văn Sáng","Xóm 1","T","T",8.5,7.5,7.55,null,23.55,null,"x","9C","HỌC SINH GIỎI",{"$f":"IF(Table1[[#This Row],[STT]]=\"\",\"\",ROW()-1)","v":13},{"$f":"IF(Table1[[#This Row],[Lơp]]=\"\",\"\",VLOOKUP(Table1[[#This Row],[Lơp]],$AC$3:$AD$14,2,0))","v":10},{"$f":"IF(AND(Q14=\"HỌC SINH XUẤT SẮC\",LEFT(P14,1)=\"9\"),Table1[[#This Row],[Column1]]+(ROUND(M14,3))+400+ROW()/10000,IF(AND(Q14=\"HỌC SINH XUẤT SẮC\",LEFT(P14,1)=\"8\"),Table1[[#This Row],[Column1]]+(ROUND(M14,3))+450+ROW()/10000,IF(AND(Q14=\"HỌC SINH XUẤT SẮC\",LEFT(P14,1)=\"7\"),Table1[[#This Row],[Column1]]+(ROUND(M14,3))+500+ROW()/10000,IF(AND(Q14=\"HỌC SINH XUẤT SẮC\",LEFT(P14,1)=\"6\"),Table1[[#This Row],[Column1]]+(ROUND(M14,3))+550+ROW()/10000,IF(AND(Q14=\"HỌC SINH GIỎI\",LEFT(P14,1)=\"9\"),Table1[[#This Row],[Column1]]+(ROUND(M14,3))+10+ROW()/10000,IF(AND(Q14=\"HỌC SINH GIỎI\",LEFT(P14,1)=\"8\"),Table1[[#This Row],[Column1]]+(ROUND(M14,3))+ 50+ROW()/10000,IF(AND(Q14=\"HỌC SINH GIỎI\",LEFT(P14,1)=\"7\"),Table1[[#This Row],[Column1]]+(ROUND(M14,3))+100+ROW()/10000,IF(AND(Q14=\"HỌC SINH GIỎI\",LEFT(P14,1)=\"6\"),Table1[[#This Row],[Column1]]+(ROUND(M14,3))+150+ROW()/10000,\"\"))))))))","v":43.551399999999994},{"$f":"IF(AND(Q14=\"HỌC SINH XUẤT SẮC\",LEFT(P14,1)=\"9\"),(ROUND(M14,3))+Table1[[#This Row],[Column1]]+10+ROW()/10000,IF(AND(Q14=\"HỌC SINH XUẤT SẮC\",LEFT(P14,1)=\"8\"),Table1[[#This Row],[Column1]]+(ROUND(M14,3))+50+ROW()/10000,IF(AND(Q14=\"HỌC SINH XUẤT SẮC\",LEFT(P14,1)=\"7\"),Table1[[#This Row],[Column1]]+(ROUND(M14,3))+100+ROW()/10000,IF(AND(Q14=\"HỌC SINH XUẤT SẮC\",LEFT(P14,1)=\"6\"),Table1[[#This Row],[Column1]]+(ROUND(M14,3))+150+ROW()/10000,\"\"))))","v":""},{"$f":"IF(AND(Q14=\"HỌC SINH GIỎI\",LEFT(P14,1)=\"9\"),Table1[[#This Row],[Column1]]+(ROUND(M14,3))+200+ROW()/10000,IF(AND(Q14=\"HỌC SINH GIỎI\",LEFT(P14,1)=\"8\"),Table1[[#This Row],[Column1]]+(ROUND(M14,3))+250+ROW()/10000,IF(AND(Q14=\"HỌC SINH GIỎI\",LEFT(P14,1)=\"7\"),Table1[[#This Row],[Column1]]+(ROUND(M14,3))+300+ROW()/10000,IF(AND(Q14=\"HỌC SINH GIỎI\",LEFT(P14,1)=\"6\"),Table1[[#This Row],[Column1]]+(ROUND(M14,3))+350+ROW()/10000,\"\"))))","v":233.5514},"Phạm Huy","Hoàng","HỌC SINH GIỎI","9C",null,null,"9c",10]
["14","Lê Khánh","Huyền","20/10/2011","Lê Cao Oánh","Xóm 5","T","T",8.25,8.5,8,null,24.75,"x",null,"9C","HỌC SINH XUẤT SẮC",{"$f":"IF(Table1[[#This Row],[STT]]=\"\",\"\",ROW()-1)","v":14},{"$f":"IF(Table1[[#This Row],[Lơp]]=\"\",\"\",VLOOKUP(Table1[[#This Row],[Lơp]],$AC$3:$AD$14,2,0))","v":10},{"$f":"IF(AND(Q15=\"HỌC SINH XUẤT SẮC\",LEFT(P15,1)=\"9\"),Table1[[#This Row],[Column1]]+(ROUND(M15,3))+400+ROW()/10000,IF(AND(Q15=\"HỌC SINH XUẤT SẮC\",LEFT(P15,1)=\"8\"),Table1[[#This Row],[Column1]]+(ROUND(M15,3))+450+ROW()/10000,IF(AND(Q15=\"HỌC SINH XUẤT SẮC\",LEFT(P15,1)=\"7\"),Table1[[#This Row],[Column1]]+(ROUND(M15,3))+500+ROW()/10000,IF(AND(Q15=\"HỌC SINH XUẤT SẮC\",LEFT(P15,1)=\"6\"),Table1[[#This Row],[Column1]]+(ROUND(M15,3))+550+ROW()/10000,IF(AND(Q15=\"HỌC SINH GIỎI\",LEFT(P15,1)=\"9\"),Table1[[#This Row],[Column1]]+(ROUND(M15,3))+10+ROW()/10000,IF(AND(Q15=\"HỌC SINH GIỎI\",LEFT(P15,1)=\"8\"),Table1[[#This Row],[Column1]]+(ROUND(M15,3))+ 50+ROW()/10000,IF(AND(Q15=\"HỌC SINH GIỎI\",LEFT(P15,1)=\"7\"),Table1[[#This Row],[Column1]]+(ROUND(M15,3))+100+ROW()/10000,IF(AND(Q15=\"HỌC SINH GIỎI\",LEFT(P15,1)=\"6\"),Table1[[#This Row],[Column1]]+(ROUND(M15,3))+150+ROW()/10000,\"\"))))))))","v":434.75150000000002},{"$f":"IF(AND(Q15=\"HỌC SINH XUẤT SẮC\",LEFT(P15,1)=\"9\"),(ROUND(M15,3))+Table1[[#This Row],[Column1]]+10+ROW()/10000,IF(AND(Q15=\"HỌC SINH XUẤT SẮC\",LEFT(P15,1)=\"8\"),Table1[[#This Row],[Column1]]+(ROUND(M15,3))+50+ROW()/10000,IF(AND(Q15=\"HỌC SINH XUẤT SẮC\",LEFT(P15,1)=\"7\"),Table1[[#This Row],[Column1]]+(ROUND(M15,3))+100+ROW()/10000,IF(AND(Q15=\"HỌC SINH XUẤT SẮC\",LEFT(P15,1)=\"6\"),Table1[[#This Row],[Column1]]+(ROUND(M15,3))+150+ROW()/10000,\"\"))))","v":44.7515},{"$f":"IF(AND(Q15=\"HỌC SINH GIỎI\",LEFT(P15,1)=\"9\"),Table1[[#This Row],[Column1]]+(ROUND(M15,3))+200+ROW()/10000,IF(AND(Q15=\"HỌC SINH GIỎI\",LEFT(P15,1)=\"8\"),Table1[[#This Row],[Column1]]+(ROUND(M15,3))+250+ROW()/10000,IF(AND(Q15=\"HỌC SINH GIỎI\",LEFT(P15,1)=\"7\"),Table1[[#This Row],[Column1]]+(ROUND(M15,3))+300+ROW()/10000,IF(AND(Q15=\"HỌC SINH GIỎI\",LEFT(P15,1)=\"6\"),Table1[[#This Row],[Column1]]+(ROUND(M15,3))+350+ROW()/10000,\"\"))))","v":""},"Lê Khánh","Huyền","HỌC SINH XUẤT SẮC","9C"]
["15","Đinh Khắc","Huynh","01/09/2011","Đinh Khắc Hoạt","Xóm 7","T","T",8.5,8,8,null,24.5,null,"x","9C","HỌC SINH GIỎI",{"$f":"IF(Table1[[#This Row],[STT]]=\"\",\"\",ROW()-1)","v":15},{"$f":"IF(Table1[[#This Row],[Lơp]]=\"\",\"\",VLOOKUP(Table1[[#This Row],[Lơp]],$AC$3:$AD$14,2,0))","v":10},{"$f":"IF(AND(Q16=\"HỌC SINH XUẤT SẮC\",LEFT(P16,1)=\"9\"),Table1[[#This Row],[Column1]]+(ROUND(M16,3))+400+ROW()/10000,IF(AND(Q16=\"HỌC SINH XUẤT SẮC\",LEFT(P16,1)=\"8\"),Table1[[#This Row],[Column1]]+(ROUND(M16,3))+450+ROW()/10000,IF(AND(Q16=\"HỌC SINH XUẤT SẮC\",LEFT(P16,1)=\"7\"),Table1[[#This Row],[Column1]]+(ROUND(M16,3))+500+ROW()/10000,IF(AND(Q16=\"HỌC SINH XUẤT SẮC\",LEFT(P16,1)=\"6\"),Table1[[#This Row],[Column1]]+(ROUND(M16,3))+550+ROW()/10000,IF(AND(Q16=\"HỌC SINH GIỎI\",LEFT(P16,1)=\"9\"),Table1[[#This Row],[Column1]]+(ROUND(M16,3))+10+ROW()/10000,IF(AND(Q16=\"HỌC SINH GIỎI\",LEFT(P16,1)=\"8\"),Table1[[#This Row],[Column1]]+(ROUND(M16,3))+ 50+ROW()/10000,IF(AND(Q16=\"HỌC SINH GIỎI\",LEFT(P16,1)=\"7\"),Table1[[#This Row],[Column1]]+(ROUND(M16,3))+100+ROW()/10000,IF(AND(Q16=\"HỌC SINH GIỎI\",LEFT(P16,1)=\"6\"),Table1[[#This Row],[Column1]]+(ROUND(M16,3))+150+ROW()/10000,\"\"))))))))","v":44.501600000000003},{"$f":"IF(AND(Q16=\"HỌC SINH XUẤT SẮC\",LEFT(P16,1)=\"9\"),(ROUND(M16,3))+Table1[[#This Row],[Column1]]+10+ROW()/10000,IF(AND(Q16=\"HỌC SINH XUẤT SẮC\",LEFT(P16,1)=\"8\"),Table1[[#This Row],[Column1]]+(ROUND(M16,3))+50+ROW()/10000,IF(AND(Q16=\"HỌC SINH XUẤT SẮC\",LEFT(P16,1)=\"7\"),Table1[[#This Row],[Column1]]+(ROUND(M16,3))+100+ROW()/10000,IF(AND(Q16=\"HỌC SINH XUẤT SẮC\",LEFT(P16,1)=\"6\"),Table1[[#This Row],[Column1]]+(ROUND(M16,3))+150+ROW()/10000,\"\"))))","v":""},{"$f":"IF(AND(Q16=\"HỌC SINH GIỎI\",LEFT(P16,1)=\"9\"),Table1[[#This Row],[Column1]]+(ROUND(M16,3))+200+ROW()/10000,IF(AND(Q16=\"HỌC SINH GIỎI\",LEFT(P16,1)=\"8\"),Table1[[#This Row],[Column1]]+(ROUND(M16,3))+250+ROW()/10000,IF(AND(Q16=\"HỌC SINH GIỎI\",LEFT(P16,1)=\"7\"),Table1[[#This Row],[Column1]]+(ROUND(M16,3))+300+ROW()/10000,IF(AND(Q16=\"HỌC SINH GIỎI\",LEFT(P16,1)=\"6\"),Table1[[#This Row],[Column1]]+(ROUND(M16,3))+350+ROW()/10000,\"\"))))","v":234.5016},"Đinh Khắc","Huynh","HỌC SINH GIỎI","9C"]
["16","Lê Quang","Khải","17/06/2011","Lê Văn Kiệt","Xóm 6","T","T",7.25,6.75,7.15,null,21.15,null,"x","9C","HỌC SINH GIỎI",{"$f":"IF(Table1[[#This Row],[STT]]=\"\",\"\",ROW()-1)","v":16},{"$f":"IF(Table1[[#This Row],[Lơp]]=\"\",\"\",VLOOKUP(Table1[[#This Row],[Lơp]],$AC$3:$AD$14,2,0))","v":10},{"$f":"IF(AND(Q17=\"HỌC SINH XUẤT SẮC\",LEFT(P17,1)=\"9\"),Table1[[#This Row],[Column1]]+(ROUND(M17,3))+400+ROW()/10000,IF(AND(Q17=\"HỌC SINH XUẤT SẮC\",LEFT(P17,1)=\"8\"),Table1[[#This Row],[Column1]]+(ROUND(M17,3))+450+ROW()/10000,IF(AND(Q17=\"HỌC SINH XUẤT SẮC\",LEFT(P17,1)=\"7\"),Table1[[#This Row],[Column1]]+(ROUND(M17,3))+500+ROW()/10000,IF(AND(Q17=\"HỌC SINH XUẤT SẮC\",LEFT(P17,1)=\"6\"),Table1[[#This Row],[Column1]]+(ROUND(M17,3))+550+ROW()/10000,IF(AND(Q17=\"HỌC SINH GIỎI\",LEFT(P17,1)=\"9\"),Table1[[#This Row],[Column1]]+(ROUND(M17,3))+10+ROW()/10000,IF(AND(Q17=\"HỌC SINH GIỎI\",LEFT(P17,1)=\"8\"),Table1[[#This Row],[Column1]]+(ROUND(M17,3))+ 50+ROW()/10000,IF(AND(Q17=\"HỌC SINH GIỎI\",LEFT(P17,1)=\"7\"),Table1[[#This Row],[Column1]]+(ROUND(M17,3))+100+ROW()/10000,IF(AND(Q17=\"HỌC SINH GIỎI\",LEFT(P17,1)=\"6\"),Table1[[#This Row],[Column1]]+(ROUND(M17,3))+150+ROW()/10000,\"\"))))))))","v":41.151699999999998},{"$f":"IF(AND(Q17=\"HỌC SINH XUẤT SẮC\",LEFT(P17,1)=\"9\"),(ROUND(M17,3))+Table1[[#This Row],[Column1]]+10+ROW()/10000,IF(AND(Q17=\"HỌC SINH XUẤT SẮC\",LEFT(P17,1)=\"8\"),Table1[[#This Row],[Column1]]+(ROUND(M17,3))+50+ROW()/10000,IF(AND(Q17=\"HỌC SINH XUẤT SẮC\",LEFT(P17,1)=\"7\"),Table1[[#This Row],[Column1]]+(ROUND(M17,3))+100+ROW()/10000,IF(AND(Q17=\"HỌC SINH XUẤT SẮC\",LEFT(P17,1)=\"6\"),Table1[[#This Row],[Column1]]+(ROUND(M17,3))+150+ROW()/10000,\"\"))))","v":""},{"$f":"IF(AND(Q17=\"HỌC SINH GIỎI\",LEFT(P17,1)=\"9\"),Table1[[#This Row],[Column1]]+(ROUND(M17,3))+200+ROW()/10000,IF(AND(Q17=\"HỌC SINH GIỎI\",LEFT(P17,1)=\"8\"),Table1[[#This Row],[Column1]]+(ROUND(M17,3))+250+ROW()/10000,IF(AND(Q17=\"HỌC SINH GIỎI\",LEFT(P17,1)=\"7\"),Table1[[#This Row],[Column1]]+(ROUND(M17,3))+300+ROW()/10000,IF(AND(Q17=\"HỌC SINH GIỎI\",LEFT(P17,1)=\"6\"),Table1[[#This Row],[Column1]]+(ROUND(M17,3))+350+ROW()/10000,\"\"))))","v":231.15170000000001},"Lê Quang","Khải","HỌC SINH GIỎI","9C"]
["17","Phạm Thị Thảo","Ly","14/02/2011","Phạm Văn Đan","Xóm 1","T","T",9,7.75,8.5,null,25.25,"x",null,"9C","HỌC SINH XUẤT SẮC",{"$f":"IF(Table1[[#This Row],[STT]]=\"\",\"\",ROW()-1)","v":17},{"$f":"IF(Table1[[#This Row],[Lơp]]=\"\",\"\",VLOOKUP(Table1[[#This Row],[Lơp]],$AC$3:$AD$14,2,0))","v":10},{"$f":"IF(AND(Q18=\"HỌC SINH XUẤT SẮC\",LEFT(P18,1)=\"9\"),Table1[[#This Row],[Column1]]+(ROUND(M18,3))+400+ROW()/10000,IF(AND(Q18=\"HỌC SINH XUẤT SẮC\",LEFT(P18,1)=\"8\"),Table1[[#This Row],[Column1]]+(ROUND(M18,3))+450+ROW()/10000,IF(AND(Q18=\"HỌC SINH XUẤT SẮC\",LEFT(P18,1)=\"7\"),Table1[[#This Row],[Column1]]+(ROUND(M18,3))+500+ROW()/10000,IF(AND(Q18=\"HỌC SINH XUẤT SẮC\",LEFT(P18,1)=\"6\"),Table1[[#This Row],[Column1]]+(ROUND(M18,3))+550+ROW()/10000,IF(AND(Q18=\"HỌC SINH GIỎI\",LEFT(P18,1)=\"9\"),Table1[[#This Row],[Column1]]+(ROUND(M18,3))+10+ROW()/10000,IF(AND(Q18=\"HỌC SINH GIỎI\",LEFT(P18,1)=\"8\"),Table1[[#This Row],[Column1]]+(ROUND(M18,3))+ 50+ROW()/10000,IF(AND(Q18=\"HỌC SINH GIỎI\",LEFT(P18,1)=\"7\"),Table1[[#This Row],[Column1]]+(ROUND(M18,3))+100+ROW()/10000,IF(AND(Q18=\"HỌC SINH GIỎI\",LEFT(P18,1)=\"6\"),Table1[[#This Row],[Column1]]+(ROUND(M18,3))+150+ROW()/10000,\"\"))))))))","v":435.2518},{"$f":"IF(AND(Q18=\"HỌC SINH XUẤT SẮC\",LEFT(P18,1)=\"9\"),(ROUND(M18,3))+Table1[[#This Row],[Column1]]+10+ROW()/10000,IF(AND(Q18=\"HỌC SINH XUẤT SẮC\",LEFT(P18,1)=\"8\"),Table1[[#This Row],[Column1]]+(ROUND(M18,3))+50+ROW()/10000,IF(AND(Q18=\"HỌC SINH XUẤT SẮC\",LEFT(P18,1)=\"7\"),Table1[[#This Row],[Column1]]+(ROUND(M18,3))+100+ROW()/10000,IF(AND(Q18=\"HỌC SINH XUẤT SẮC\",LEFT(P18,1)=\"6\"),Table1[[#This Row],[Column1]]+(ROUND(M18,3))+150+ROW()/10000,\"\"))))","v":45.251800000000003},{"$f":"IF(AND(Q18=\"HỌC SINH GIỎI\",LEFT(P18,1)=\"9\"),Table1[[#This Row],[Column1]]+(ROUND(M18,3))+200+ROW()/10000,IF(AND(Q18=\"HỌC SINH GIỎI\",LEFT(P18,1)=\"8\"),Table1[[#This Row],[Column1]]+(ROUND(M18,3))+250+ROW()/10000,IF(AND(Q18=\"HỌC SINH GIỎI\",LEFT(P18,1)=\"7\"),Table1[[#This Row],[Column1]]+(ROUND(M18,3))+300+ROW()/10000,IF(AND(Q18=\"HỌC SINH GIỎI\",LEFT(P18,1)=\"6\"),Table1[[#This Row],[Column1]]+(ROUND(M18,3))+350+ROW()/10000,\"\"))))","v":""},"Phạm Thị Thảo","Ly","HỌC SINH XUẤT SẮC","9C"]
["18","Phạm Kim","Ngân","29/01/2011","Phạm Văn Lượng","Xóm 1","T","T",9,8.25,8.25,null,25.5,null,"x","9C","HỌC SINH GIỎI",{"$f":"IF(Table1[[#This Row],[STT]]=\"\",\"\",ROW()-1)","v":18},{"$f":"IF(Table1[[#This Row],[Lơp]]=\"\",\"\",VLOOKUP(Table1[[#This Row],[Lơp]],$AC$3:$AD$14,2,0))","v":10},{"$f":"IF(AND(Q19=\"HỌC SINH XUẤT SẮC\",LEFT(P19,1)=\"9\"),Table1[[#This Row],[Column1]]+(ROUND(M19,3))+400+ROW()/10000,IF(AND(Q19=\"HỌC SINH XUẤT SẮC\",LEFT(P19,1)=\"8\"),Table1[[#This Row],[Column1]]+(ROUND(M19,3))+450+ROW()/10000,IF(AND(Q19=\"HỌC SINH XUẤT SẮC\",LEFT(P19,1)=\"7\"),Table1[[#This Row],[Column1]]+(ROUND(M19,3))+500+ROW()/10000,IF(AND(Q19=\"HỌC SINH XUẤT SẮC\",LEFT(P19,1)=\"6\"),Table1[[#This Row],[Column1]]+(ROUND(M19,3))+550+ROW()/10000,IF(AND(Q19=\"HỌC SINH GIỎI\",LEFT(P19,1)=\"9\"),Table1[[#This Row],[Column1]]+(ROUND(M19,3))+10+ROW()/10000,IF(AND(Q19=\"HỌC SINH GIỎI\",LEFT(P19,1)=\"8\"),Table1[[#This Row],[Column1]]+(ROUND(M19,3))+ 50+ROW()/10000,IF(AND(Q19=\"HỌC SINH GIỎI\",LEFT(P19,1)=\"7\"),Table1[[#This Row],[Column1]]+(ROUND(M19,3))+100+ROW()/10000,IF(AND(Q19=\"HỌC SINH GIỎI\",LEFT(P19,1)=\"6\"),Table1[[#This Row],[Column1]]+(ROUND(M19,3))+150+ROW()/10000,\"\"))))))))","v":45.501899999999999},{"$f":"IF(AND(Q19=\"HỌC SINH XUẤT SẮC\",LEFT(P19,1)=\"9\"),(ROUND(M19,3))+Table1[[#This Row],[Column1]]+10+ROW()/10000,IF(AND(Q19=\"HỌC SINH XUẤT SẮC\",LEFT(P19,1)=\"8\"),Table1[[#This Row],[Column1]]+(ROUND(M19,3))+50+ROW()/10000,IF(AND(Q19=\"HỌC SINH XUẤT SẮC\",LEFT(P19,1)=\"7\"),Table1[[#This Row],[Column1]]+(ROUND(M19,3))+100+ROW()/10000,IF(AND(Q19=\"HỌC SINH XUẤT SẮC\",LEFT(P19,1)=\"6\"),Table1[[#This Row],[Column1]]+(ROUND(M19,3))+150+ROW()/10000,\"\"))))","v":""},{"$f":"IF(AND(Q19=\"HỌC SINH GIỎI\",LEFT(P19,1)=\"9\"),Table1[[#This Row],[Column1]]+(ROUND(M19,3))+200+ROW()/10000,IF(AND(Q19=\"HỌC SINH GIỎI\",LEFT(P19,1)=\"8\"),Table1[[#This Row],[Column1]]+(ROUND(M19,3))+250+ROW()/10000,IF(AND(Q19=\"HỌC SINH GIỎI\",LEFT(P19,1)=\"7\"),Table1[[#This Row],[Column1]]+(ROUND(M19,3))+300+ROW()/10000,IF(AND(Q19=\"HỌC SINH GIỎI\",LEFT(P19,1)=\"6\"),Table1[[#This Row],[Column1]]+(ROUND(M19,3))+350+ROW()/10000,\"\"))))","v":235.50190000000001},"Phạm Kim","Ngân","HỌC SINH GIỎI","9C"]
["19","Trần Bảo","Ngọc","17/03/2011","Trần Trọng Cảnh","Xóm 7","T","T",8.25,8,7.75,null,24,null,"x","9C","HỌC SINH GIỎI",{"$f":"IF(Table1[[#This Row],[STT]]=\"\",\"\",ROW()-1)","v":19},{"$f":"IF(Table1[[#This Row],[Lơp]]=\"\",\"\",VLOOKUP(Table1[[#This Row],[Lơp]],$AC$3:$AD$14,2,0))","v":10},{"$f":"IF(AND(Q20=\"HỌC SINH XUẤT SẮC\",LEFT(P20,1)=\"9\"),Table1[[#This Row],[Column1]]+(ROUND(M20,3))+400+ROW()/10000,IF(AND(Q20=\"HỌC SINH XUẤT SẮC\",LEFT(P20,1)=\"8\"),Table1[[#This Row],[Column1]]+(ROUND(M20,3))+450+ROW()/10000,IF(AND(Q20=\"HỌC SINH XUẤT SẮC\",LEFT(P20,1)=\"7\"),Table1[[#This Row],[Column1]]+(ROUND(M20,3))+500+ROW()/10000,IF(AND(Q20=\"HỌC SINH XUẤT SẮC\",LEFT(P20,1)=\"6\"),Table1[[#This Row],[Column1]]+(ROUND(M20,3))+550+ROW()/10000,IF(AND(Q20=\"HỌC SINH GIỎI\",LEFT(P20,1)=\"9\"),Table1[[#This Row],[Column1]]+(ROUND(M20,3))+10+ROW()/10000,IF(AND(Q20=\"HỌC SINH GIỎI\",LEFT(P20,1)=\"8\"),Table1[[#This Row],[Column1]]+(ROUND(M20,3))+ 50+ROW()/10000,IF(AND(Q20=\"HỌC SINH GIỎI\",LEFT(P20,1)=\"7\"),Table1[[#This Row],[Column1]]+(ROUND(M20,3))+100+ROW()/10000,IF(AND(Q20=\"HỌC SINH GIỎI\",LEFT(P20,1)=\"6\"),Table1[[#This Row],[Column1]]+(ROUND(M20,3))+150+ROW()/10000,\"\"))))))))","v":44.002000000000002},{"$f":"IF(AND(Q20=\"HỌC SINH XUẤT SẮC\",LEFT(P20,1)=\"9\"),(ROUND(M20,3))+Table1[[#This Row],[Column1]]+10+ROW()/10000,IF(AND(Q20=\"HỌC SINH XUẤT SẮC\",LEFT(P20,1)=\"8\"),Table1[[#This Row],[Column1]]+(ROUND(M20,3))+50+ROW()/10000,IF(AND(Q20=\"HỌC SINH XUẤT SẮC\",LEFT(P20,1)=\"7\"),Table1[[#This Row],[Column1]]+(ROUND(M20,3))+100+ROW()/10000,IF(AND(Q20=\"HỌC SINH XUẤT SẮC\",LEFT(P20,1)=\"6\"),Table1[[#This Row],[Column1]]+(ROUND(M20,3))+150+ROW()/10000,\"\"))))","v":""},{"$f":"IF(AND(Q20=\"HỌC SINH GIỎI\",LEFT(P20,1)=\"9\"),Table1[[#This Row],[Column1]]+(ROUND(M20,3))+200+ROW()/10000,IF(AND(Q20=\"HỌC SINH GIỎI\",LEFT(P20,1)=\"8\"),Table1[[#This Row],[Column1]]+(ROUND(M20,3))+250+ROW()/10000,IF(AND(Q20=\"HỌC SINH GIỎI\",LEFT(P20,1)=\"7\"),Table1[[#This Row],[Column1]]+(ROUND(M20,3))+300+ROW()/10000,IF(AND(Q20=\"HỌC SINH GIỎI\",LEFT(P20,1)=\"6\"),Table1[[#This Row],[Column1]]+(ROUND(M20,3))+350+ROW()/10000,\"\"))))","v":234.00200000000001},"Trần Bảo","Ngọc","HỌC SINH GIỎI","9C"]
["20","Lê Yến","Nhi","16/11/2011","Lê Quang Dinh","Xóm 4","T","T",8.75,6.75,8.1,null,23.6,null,"x","9C","HỌC SINH GIỎI",{"$f":"IF(Table1[[#This Row],[STT]]=\"\",\"\",ROW()-1)","v":20},{"$f":"IF(Table1[[#This Row],[Lơp]]=\"\",\"\",VLOOKUP(Table1[[#This Row],[Lơp]],$AC$3:$AD$14,2,0))","v":10},{"$f":"IF(AND(Q21=\"HỌC SINH XUẤT SẮC\",LEFT(P21,1)=\"9\"),Table1[[#This Row],[Column1]]+(ROUND(M21,3))+400+ROW()/10000,IF(AND(Q21=\"HỌC SINH XUẤT SẮC\",LEFT(P21,1)=\"8\"),Table1[[#This Row],[Column1]]+(ROUND(M21,3))+450+ROW()/10000,IF(AND(Q21=\"HỌC SINH XUẤT SẮC\",LEFT(P21,1)=\"7\"),Table1[[#This Row],[Column1]]+(ROUND(M21,3))+500+ROW()/10000,IF(AND(Q21=\"HỌC SINH XUẤT SẮC\",LEFT(P21,1)=\"6\"),Table1[[#This Row],[Column1]]+(ROUND(M21,3))+550+ROW()/10000,IF(AND(Q21=\"HỌC SINH GIỎI\",LEFT(P21,1)=\"9\"),Table1[[#This Row],[Column1]]+(ROUND(M21,3))+10+ROW()/10000,IF(AND(Q21=\"HỌC SINH GIỎI\",LEFT(P21,1)=\"8\"),Table1[[#This Row],[Column1]]+(ROUND(M21,3))+ 50+ROW()/10000,IF(AND(Q21=\"HỌC SINH GIỎI\",LEFT(P21,1)=\"7\"),Table1[[#This Row],[Column1]]+(ROUND(M21,3))+100+ROW()/10000,IF(AND(Q21=\"HỌC SINH GIỎI\",LEFT(P21,1)=\"6\"),Table1[[#This Row],[Column1]]+(ROUND(M21,3))+150+ROW()/10000,\"\"))))))))","v":43.6021},{"$f":"IF(AND(Q21=\"HỌC SINH XUẤT SẮC\",LEFT(P21,1)=\"9\"),(ROUND(M21,3))+Table1[[#This Row],[Column1]]+10+ROW()/10000,IF(AND(Q21=\"HỌC SINH XUẤT SẮC\",LEFT(P21,1)=\"8\"),Table1[[#This Row],[Column1]]+(ROUND(M21,3))+50+ROW()/10000,IF(AND(Q21=\"HỌC SINH XUẤT SẮC\",LEFT(P21,1)=\"7\"),Table1[[#This Row],[Column1]]+(ROUND(M21,3))+100+ROW()/10000,IF(AND(Q21=\"HỌC SINH XUẤT SẮC\",LEFT(P21,1)=\"6\"),Table1[[#This Row],[Column1]]+(ROUND(M21,3))+150+ROW()/10000,\"\"))))","v":""},{"$f":"IF(AND(Q21=\"HỌC SINH GIỎI\",LEFT(P21,1)=\"9\"),Table1[[#This Row],[Column1]]+(ROUND(M21,3))+200+ROW()/10000,IF(AND(Q21=\"HỌC SINH GIỎI\",LEFT(P21,1)=\"8\"),Table1[[#This Row],[Column1]]+(ROUND(M21,3))+250+ROW()/10000,IF(AND(Q21=\"HỌC SINH GIỎI\",LEFT(P21,1)=\"7\"),Table1[[#This Row],[Column1]]+(ROUND(M21,3))+300+ROW()/10000,IF(AND(Q21=\"HỌC SINH GIỎI\",LEFT(P21,1)=\"6\"),Table1[[#This Row],[Column1]]+(ROUND(M21,3))+350+ROW()/10000,\"\"))))","v":233.60210000000001},"Lê Yến","Nhi","HỌC SINH GIỎI","9C"]
["21","Trần Minh","Oanh","18/01/2011","Trần Văn Động","Xóm 4","T","T",8.75,7.25,7.9,null,23.9,null,"x","9C","HỌC SINH GIỎI",{"$f":"IF(Table1[[#This Row],[STT]]=\"\",\"\",ROW()-1)","v":21},{"$f":"IF(Table1[[#This Row],[Lơp]]=\"\",\"\",VLOOKUP(Table1[[#This Row],[Lơp]],$AC$3:$AD$14,2,0))","v":10},{"$f":"IF(AND(Q22=\"HỌC SINH XUẤT SẮC\",LEFT(P22,1)=\"9\"),Table1[[#This Row],[Column1]]+(ROUND(M22,3))+400+ROW()/10000,IF(AND(Q22=\"HỌC SINH XUẤT SẮC\",LEFT(P22,1)=\"8\"),Table1[[#This Row],[Column1]]+(ROUND(M22,3))+450+ROW()/10000,IF(AND(Q22=\"HỌC SINH XUẤT SẮC\",LEFT(P22,1)=\"7\"),Table1[[#This Row],[Column1]]+(ROUND(M22,3))+500+ROW()/10000,IF(AND(Q22=\"HỌC SINH XUẤT SẮC\",LEFT(P22,1)=\"6\"),Table1[[#This Row],[Column1]]+(ROUND(M22,3))+550+ROW()/10000,IF(AND(Q22=\"HỌC SINH GIỎI\",LEFT(P22,1)=\"9\"),Table1[[#This Row],[Column1]]+(ROUND(M22,3))+10+ROW()/10000,IF(AND(Q22=\"HỌC SINH GIỎI\",LEFT(P22,1)=\"8\"),Table1[[#This Row],[Column1]]+(ROUND(M22,3))+ 50+ROW()/10000,IF(AND(Q22=\"HỌC SINH GIỎI\",LEFT(P22,1)=\"7\"),Table1[[#This Row],[Column1]]+(ROUND(M22,3))+100+ROW()/10000,IF(AND(Q22=\"HỌC SINH GIỎI\",LEFT(P22,1)=\"6\"),Table1[[#This Row],[Column1]]+(ROUND(M22,3))+150+ROW()/10000,\"\"))))))))","v":43.902200000000001},{"$f":"IF(AND(Q22=\"HỌC SINH XUẤT SẮC\",LEFT(P22,1)=\"9\"),(ROUND(M22,3))+Table1[[#This Row],[Column1]]+10+ROW()/10000,IF(AND(Q22=\"HỌC SINH XUẤT SẮC\",LEFT(P22,1)=\"8\"),Table1[[#This Row],[Column1]]+(ROUND(M22,3))+50+ROW()/10000,IF(AND(Q22=\"HỌC SINH XUẤT SẮC\",LEFT(P22,1)=\"7\"),Table1[[#This Row],[Column1]]+(ROUND(M22,3))+100+ROW()/10000,IF(AND(Q22=\"HỌC SINH XUẤT SẮC\",LEFT(P22,1)=\"6\"),Table1[[#This Row],[Column1]]+(ROUND(M22,3))+150+ROW()/10000,\"\"))))","v":""},{"$f":"IF(AND(Q22=\"HỌC SINH GIỎI\",LEFT(P22,1)=\"9\"),Table1[[#This Row],[Column1]]+(ROUND(M22,3))+200+ROW()/10000,IF(AND(Q22=\"HỌC SINH GIỎI\",LEFT(P22,1)=\"8\"),Table1[[#This Row],[Column1]]+(ROUND(M22,3))+250+ROW()/10000,IF(AND(Q22=\"HỌC SINH GIỎI\",LEFT(P22,1)=\"7\"),Table1[[#This Row],[Column1]]+(ROUND(M22,3))+300+ROW()/10000,IF(AND(Q22=\"HỌC SINH GIỎI\",LEFT(P22,1)=\"6\"),Table1[[#This Row],[Column1]]+(ROUND(M22,3))+350+ROW()/10000,\"\"))))","v":233.90219999999999},"Trần Minh","Oanh","HỌC SINH GIỎI","9C"]
["22","Bùi Quang","Phát","13/08/2011","Bùi Quang Thảo","Xóm 7","T","T",8.5,8.25,9.75,null,26.5,"x",null,"9C","HỌC SINH XUẤT SẮC",{"$f":"IF(Table1[[#This Row],[STT]]=\"\",\"\",ROW()-1)","v":22},{"$f":"IF(Table1[[#This Row],[Lơp]]=\"\",\"\",VLOOKUP(Table1[[#This Row],[Lơp]],$AC$3:$AD$14,2,0))","v":10},{"$f":"IF(AND(Q23=\"HỌC SINH XUẤT SẮC\",LEFT(P23,1)=\"9\"),Table1[[#This Row],[Column1]]+(ROUND(M23,3))+400+ROW()/10000,IF(AND(Q23=\"HỌC SINH XUẤT SẮC\",LEFT(P23,1)=\"8\"),Table1[[#This Row],[Column1]]+(ROUND(M23,3))+450+ROW()/10000,IF(AND(Q23=\"HỌC SINH XUẤT SẮC\",LEFT(P23,1)=\"7\"),Table1[[#This Row],[Column1]]+(ROUND(M23,3))+500+ROW()/10000,IF(AND(Q23=\"HỌC SINH XUẤT SẮC\",LEFT(P23,1)=\"6\"),Table1[[#This Row],[Column1]]+(ROUND(M23,3))+550+ROW()/10000,IF(AND(Q23=\"HỌC SINH GIỎI\",LEFT(P23,1)=\"9\"),Table1[[#This Row],[Column1]]+(ROUND(M23,3))+10+ROW()/10000,IF(AND(Q23=\"HỌC SINH GIỎI\",LEFT(P23,1)=\"8\"),Table1[[#This Row],[Column1]]+(ROUND(M23,3))+ 50+ROW()/10000,IF(AND(Q23=\"HỌC SINH GIỎI\",LEFT(P23,1)=\"7\"),Table1[[#This Row],[Column1]]+(ROUND(M23,3))+100+ROW()/10000,IF(AND(Q23=\"HỌC SINH GIỎI\",LEFT(P23,1)=\"6\"),Table1[[#This Row],[Column1]]+(ROUND(M23,3))+150+ROW()/10000,\"\"))))))))","v":436.50229999999999},{"$f":"IF(AND(Q23=\"HỌC SINH XUẤT SẮC\",LEFT(P23,1)=\"9\"),(ROUND(M23,3))+Table1[[#This Row],[Column1]]+10+ROW()/10000,IF(AND(Q23=\"HỌC SINH XUẤT SẮC\",LEFT(P23,1)=\"8\"),Table1[[#This Row],[Column1]]+(ROUND(M23,3))+50+ROW()/10000,IF(AND(Q23=\"HỌC SINH XUẤT SẮC\",LEFT(P23,1)=\"7\"),Table1[[#This Row],[Column1]]+(ROUND(M23,3))+100+ROW()/10000,IF(AND(Q23=\"HỌC SINH XUẤT SẮC\",LEFT(P23,1)=\"6\"),Table1[[#This Row],[Column1]]+(ROUND(M23,3))+150+ROW()/10000,\"\"))))","v":46.502299999999998},{"$f":"IF(AND(Q23=\"HỌC SINH GIỎI\",LEFT(P23,1)=\"9\"),Table1[[#This Row],[Column1]]+(ROUND(M23,3))+200+ROW()/10000,IF(AND(Q23=\"HỌC SINH GIỎI\",LEFT(P23,1)=\"8\"),Table1[[#This Row],[Column1]]+(ROUND(M23,3))+250+ROW()/10000,IF(AND(Q23=\"HỌC SINH GIỎI\",LEFT(P23,1)=\"7\"),Table1[[#This Row],[Column1]]+(ROUND(M23,3))+300+ROW()/10000,IF(AND(Q23=\"HỌC SINH GIỎI\",LEFT(P23,1)=\"6\"),Table1[[#This Row],[Column1]]+(ROUND(M23,3))+350+ROW()/10000,\"\"))))","v":""},"Bùi Quang","Phát","HỌC SINH XUẤT SẮC","9C"]
["23","Trần Đình","Phong","01/01/2011","Trần Xuân Kỳ","Xóm 7","T","T",6.5,7.5,7,null,21,null,"x","9C","HỌC SINH GIỎI",{"$f":"IF(Table1[[#This Row],[STT]]=\"\",\"\",ROW()-1)","v":23},{"$f":"IF(Table1[[#This Row],[Lơp]]=\"\",\"\",VLOOKUP(Table1[[#This Row],[Lơp]],$AC$3:$AD$14,2,0))","v":10},{"$f":"IF(AND(Q24=\"HỌC SINH XUẤT SẮC\",LEFT(P24,1)=\"9\"),Table1[[#This Row],[Column1]]+(ROUND(M24,3))+400+ROW()/10000,IF(AND(Q24=\"HỌC SINH XUẤT SẮC\",LEFT(P24,1)=\"8\"),Table1[[#This Row],[Column1]]+(ROUND(M24,3))+450+ROW()/10000,IF(AND(Q24=\"HỌC SINH XUẤT SẮC\",LEFT(P24,1)=\"7\"),Table1[[#This Row],[Column1]]+(ROUND(M24,3))+500+ROW()/10000,IF(AND(Q24=\"HỌC SINH XUẤT SẮC\",LEFT(P24,1)=\"6\"),Table1[[#This Row],[Column1]]+(ROUND(M24,3))+550+ROW()/10000,IF(AND(Q24=\"HỌC SINH GIỎI\",LEFT(P24,1)=\"9\"),Table1[[#This Row],[Column1]]+(ROUND(M24,3))+10+ROW()/10000,IF(AND(Q24=\"HỌC SINH GIỎI\",LEFT(P24,1)=\"8\"),Table1[[#This Row],[Column1]]+(ROUND(M24,3))+ 50+ROW()/10000,IF(AND(Q24=\"HỌC SINH GIỎI\",LEFT(P24,1)=\"7\"),Table1[[#This Row],[Column1]]+(ROUND(M24,3))+100+ROW()/10000,IF(AND(Q24=\"HỌC SINH GIỎI\",LEFT(P24,1)=\"6\"),Table1[[#This Row],[Column1]]+(ROUND(M24,3))+150+ROW()/10000,\"\"))))))))","v":41.002400000000002},{"$f":"IF(AND(Q24=\"HỌC SINH XUẤT SẮC\",LEFT(P24,1)=\"9\"),(ROUND(M24,3))+Table1[[#This Row],[Column1]]+10+ROW()/10000,IF(AND(Q24=\"HỌC SINH XUẤT SẮC\",LEFT(P24,1)=\"8\"),Table1[[#This Row],[Column1]]+(ROUND(M24,3))+50+ROW()/10000,IF(AND(Q24=\"HỌC SINH XUẤT SẮC\",LEFT(P24,1)=\"7\"),Table1[[#This Row],[Column1]]+(ROUND(M24,3))+100+ROW()/10000,IF(AND(Q24=\"HỌC SINH XUẤT SẮC\",LEFT(P24,1)=\"6\"),Table1[[#This Row],[Column1]]+(ROUND(M24,3))+150+ROW()/10000,\"\"))))","v":""},{"$f":"IF(AND(Q24=\"HỌC SINH GIỎI\",LEFT(P24,1)=\"9\"),Table1[[#This Row],[Column1]]+(ROUND(M24,3))+200+ROW()/10000,IF(AND(Q24=\"HỌC SINH GIỎI\",LEFT(P24,1)=\"8\"),Table1[[#This Row],[Column1]]+(ROUND(M24,3))+250+ROW()/10000,IF(AND(Q24=\"HỌC SINH GIỎI\",LEFT(P24,1)=\"7\"),Table1[[#This Row],[Column1]]+(ROUND(M24,3))+300+ROW()/10000,IF(AND(Q24=\"HỌC SINH GIỎI\",LEFT(P24,1)=\"6\"),Table1[[#This Row],[Column1]]+(ROUND(M24,3))+350+ROW()/10000,\"\"))))","v":231.00239999999999},"Trần Đình","Phong","HỌC SINH GIỎI","9C"]
["24","Mai Hồng","Phúc","04/07/2011","Mai Văn Hải","Xóm 2","T","T",7.75,8,8.5,null,24.25,null,"x","9C","HỌC SINH GIỎI",{"$f":"IF(Table1[[#This Row],[STT]]=\"\",\"\",ROW()-1)","v":24},{"$f":"IF(Table1[[#This Row],[Lơp]]=\"\",\"\",VLOOKUP(Table1[[#This Row],[Lơp]],$AC$3:$AD$14,2,0))","v":10},{"$f":"IF(AND(Q25=\"HỌC SINH XUẤT SẮC\",LEFT(P25,1)=\"9\"),Table1[[#This Row],[Column1]]+(ROUND(M25,3))+400+ROW()/10000,IF(AND(Q25=\"HỌC SINH XUẤT SẮC\",LEFT(P25,1)=\"8\"),Table1[[#This Row],[Column1]]+(ROUND(M25,3))+450+ROW()/10000,IF(AND(Q25=\"HỌC SINH XUẤT SẮC\",LEFT(P25,1)=\"7\"),Table1[[#This Row],[Column1]]+(ROUND(M25,3))+500+ROW()/10000,IF(AND(Q25=\"HỌC SINH XUẤT SẮC\",LEFT(P25,1)=\"6\"),Table1[[#This Row],[Column1]]+(ROUND(M25,3))+550+ROW()/10000,IF(AND(Q25=\"HỌC SINH GIỎI\",LEFT(P25,1)=\"9\"),Table1[[#This Row],[Column1]]+(ROUND(M25,3))+10+ROW()/10000,IF(AND(Q25=\"HỌC SINH GIỎI\",LEFT(P25,1)=\"8\"),Table1[[#This Row],[Column1]]+(ROUND(M25,3))+ 50+ROW()/10000,IF(AND(Q25=\"HỌC SINH GIỎI\",LEFT(P25,1)=\"7\"),Table1[[#This Row],[Column1]]+(ROUND(M25,3))+100+ROW()/10000,IF(AND(Q25=\"HỌC SINH GIỎI\",LEFT(P25,1)=\"6\"),Table1[[#This Row],[Column1]]+(ROUND(M25,3))+150+ROW()/10000,\"\"))))))))","v":44.252499999999998},{"$f":"IF(AND(Q25=\"HỌC SINH XUẤT SẮC\",LEFT(P25,1)=\"9\"),(ROUND(M25,3))+Table1[[#This Row],[Column1]]+10+ROW()/10000,IF(AND(Q25=\"HỌC SINH XUẤT SẮC\",LEFT(P25,1)=\"8\"),Table1[[#This Row],[Column1]]+(ROUND(M25,3))+50+ROW()/10000,IF(AND(Q25=\"HỌC SINH XUẤT SẮC\",LEFT(P25,1)=\"7\"),Table1[[#This Row],[Column1]]+(ROUND(M25,3))+100+ROW()/10000,IF(AND(Q25=\"HỌC SINH XUẤT SẮC\",LEFT(P25,1)=\"6\"),Table1[[#This Row],[Column1]]+(ROUND(M25,3))+150+ROW()/10000,\"\"))))","v":""},{"$f":"IF(AND(Q25=\"HỌC SINH GIỎI\",LEFT(P25,1)=\"9\"),Table1[[#This Row],[Column1]]+(ROUND(M25,3))+200+ROW()/10000,IF(AND(Q25=\"HỌC SINH GIỎI\",LEFT(P25,1)=\"8\"),Table1[[#This Row],[Column1]]+(ROUND(M25,3))+250+ROW()/10000,IF(AND(Q25=\"HỌC SINH GIỎI\",LEFT(P25,1)=\"7\"),Table1[[#This Row],[Column1]]+(ROUND(M25,3))+300+ROW()/10000,IF(AND(Q25=\"HỌC SINH GIỎI\",LEFT(P25,1)=\"6\"),Table1[[#This Row],[Column1]]+(ROUND(M25,3))+350+ROW()/10000,\"\"))))","v":234.2525},"Mai Hồng","Phúc","HỌC SINH GIỎI","9C"]
["25","Nguyễn Phương","Thảo","07/03/2011","Nguyễn Văn Thắng","Xóm 7","T","T",8,7.75,9.1,null,24.85,null,"x","9C","HỌC SINH GIỎI",{"$f":"IF(Table1[[#This Row],[STT]]=\"\",\"\",ROW()-1)","v":25},{"$f":"IF(Table1[[#This Row],[Lơp]]=\"\",\"\",VLOOKUP(Table1[[#This Row],[Lơp]],$AC$3:$AD$14,2,0))","v":10},{"$f":"IF(AND(Q26=\"HỌC SINH XUẤT SẮC\",LEFT(P26,1)=\"9\"),Table1[[#This Row],[Column1]]+(ROUND(M26,3))+400+ROW()/10000,IF(AND(Q26=\"HỌC SINH XUẤT SẮC\",LEFT(P26,1)=\"8\"),Table1[[#This Row],[Column1]]+(ROUND(M26,3))+450+ROW()/10000,IF(AND(Q26=\"HỌC SINH XUẤT SẮC\",LEFT(P26,1)=\"7\"),Table1[[#This Row],[Column1]]+(ROUND(M26,3))+500+ROW()/10000,IF(AND(Q26=\"HỌC SINH XUẤT SẮC\",LEFT(P26,1)=\"6\"),Table1[[#This Row],[Column1]]+(ROUND(M26,3))+550+ROW()/10000,IF(AND(Q26=\"HỌC SINH GIỎI\",LEFT(P26,1)=\"9\"),Table1[[#This Row],[Column1]]+(ROUND(M26,3))+10+ROW()/10000,IF(AND(Q26=\"HỌC SINH GIỎI\",LEFT(P26,1)=\"8\"),Table1[[#This Row],[Column1]]+(ROUND(M26,3))+ 50+ROW()/10000,IF(AND(Q26=\"HỌC SINH GIỎI\",LEFT(P26,1)=\"7\"),Table1[[#This Row],[Column1]]+(ROUND(M26,3))+100+ROW()/10000,IF(AND(Q26=\"HỌC SINH GIỎI\",LEFT(P26,1)=\"6\"),Table1[[#This Row],[Column1]]+(ROUND(M26,3))+150+ROW()/10000,\"\"))))))))","v":44.852600000000002},{"$f":"IF(AND(Q26=\"HỌC SINH XUẤT SẮC\",LEFT(P26,1)=\"9\"),(ROUND(M26,3))+Table1[[#This Row],[Column1]]+10+ROW()/10000,IF(AND(Q26=\"HỌC SINH XUẤT SẮC\",LEFT(P26,1)=\"8\"),Table1[[#This Row],[Column1]]+(ROUND(M26,3))+50+ROW()/10000,IF(AND(Q26=\"HỌC SINH XUẤT SẮC\",LEFT(P26,1)=\"7\"),Table1[[#This Row],[Column1]]+(ROUND(M26,3))+100+ROW()/10000,IF(AND(Q26=\"HỌC SINH XUẤT SẮC\",LEFT(P26,1)=\"6\"),Table1[[#This Row],[Column1]]+(ROUND(M26,3))+150+ROW()/10000,\"\"))))","v":""},{"$f":"IF(AND(Q26=\"HỌC SINH GIỎI\",LEFT(P26,1)=\"9\"),Table1[[#This Row],[Column1]]+(ROUND(M26,3))+200+ROW()/10000,IF(AND(Q26=\"HỌC SINH GIỎI\",LEFT(P26,1)=\"8\"),Table1[[#This Row],[Column1]]+(ROUND(M26,3))+250+ROW()/10000,IF(AND(Q26=\"HỌC SINH GIỎI\",LEFT(P26,1)=\"7\"),Table1[[#This Row],[Column1]]+(ROUND(M26,3))+300+ROW()/10000,IF(AND(Q26=\"HỌC SINH GIỎI\",LEFT(P26,1)=\"6\"),Table1[[#This Row],[Column1]]+(ROUND(M26,3))+350+ROW()/10000,\"\"))))","v":234.8526},"Nguyễn Phương","Thảo","HỌC SINH GIỎI","9C"]
["26","Đỗ Thu","Trang","12/02/2011","Đỗ Huy Hoàng","Xóm 7","T","T",8,8.25,8.25,null,24.5,null,"x","9C","HỌC SINH GIỎI",{"$f":"IF(Table1[[#This Row],[STT]]=\"\",\"\",ROW()-1)","v":26},{"$f":"IF(Table1[[#This Row],[Lơp]]=\"\",\"\",VLOOKUP(Table1[[#This Row],[Lơp]],$AC$3:$AD$14,2,0))","v":10},{"$f":"IF(AND(Q27=\"HỌC SINH XUẤT SẮC\",LEFT(P27,1)=\"9\"),Table1[[#This Row],[Column1]]+(ROUND(M27,3))+400+ROW()/10000,IF(AND(Q27=\"HỌC SINH XUẤT SẮC\",LEFT(P27,1)=\"8\"),Table1[[#This Row],[Column1]]+(ROUND(M27,3))+450+ROW()/10000,IF(AND(Q27=\"HỌC SINH XUẤT SẮC\",LEFT(P27,1)=\"7\"),Table1[[#This Row],[Column1]]+(ROUND(M27,3))+500+ROW()/10000,IF(AND(Q27=\"HỌC SINH XUẤT SẮC\",LEFT(P27,1)=\"6\"),Table1[[#This Row],[Column1]]+(ROUND(M27,3))+550+ROW()/10000,IF(AND(Q27=\"HỌC SINH GIỎI\",LEFT(P27,1)=\"9\"),Table1[[#This Row],[Column1]]+(ROUND(M27,3))+10+ROW()/10000,IF(AND(Q27=\"HỌC SINH GIỎI\",LEFT(P27,1)=\"8\"),Table1[[#This Row],[Column1]]+(ROUND(M27,3))+ 50+ROW()/10000,IF(AND(Q27=\"HỌC SINH GIỎI\",LEFT(P27,1)=\"7\"),Table1[[#This Row],[Column1]]+(ROUND(M27,3))+100+ROW()/10000,IF(AND(Q27=\"HỌC SINH GIỎI\",LEFT(P27,1)=\"6\"),Table1[[#This Row],[Column1]]+(ROUND(M27,3))+150+ROW()/10000,\"\"))))))))","v":44.502699999999997},{"$f":"IF(AND(Q27=\"HỌC SINH XUẤT SẮC\",LEFT(P27,1)=\"9\"),(ROUND(M27,3))+Table1[[#This Row],[Column1]]+10+ROW()/10000,IF(AND(Q27=\"HỌC SINH XUẤT SẮC\",LEFT(P27,1)=\"8\"),Table1[[#This Row],[Column1]]+(ROUND(M27,3))+50+ROW()/10000,IF(AND(Q27=\"HỌC SINH XUẤT SẮC\",LEFT(P27,1)=\"7\"),Table1[[#This Row],[Column1]]+(ROUND(M27,3))+100+ROW()/10000,IF(AND(Q27=\"HỌC SINH XUẤT SẮC\",LEFT(P27,1)=\"6\"),Table1[[#This Row],[Column1]]+(ROUND(M27,3))+150+ROW()/10000,\"\"))))","v":""},{"$f":"IF(AND(Q27=\"HỌC SINH GIỎI\",LEFT(P27,1)=\"9\"),Table1[[#This Row],[Column1]]+(ROUND(M27,3))+200+ROW()/10000,IF(AND(Q27=\"HỌC SINH GIỎI\",LEFT(P27,1)=\"8\"),Table1[[#This Row],[Column1]]+(ROUND(M27,3))+250+ROW()/10000,IF(AND(Q27=\"HỌC SINH GIỎI\",LEFT(P27,1)=\"7\"),Table1[[#This Row],[Column1]]+(ROUND(M27,3))+300+ROW()/10000,IF(AND(Q27=\"HỌC SINH GIỎI\",LEFT(P27,1)=\"6\"),Table1[[#This Row],[Column1]]+(ROUND(M27,3))+350+ROW()/10000,\"\"))))","v":234.5027},"Đỗ Thu","Trang","HỌC SINH GIỎI","9C"]
["27","Phạm Thị Ngọc","Anh","30/8/2011","Phạm Văn Định","xóm 2","T","T",8.25,7.25,8.9,null,24.4,null,"x","9C","HỌC SINH GIỎI",{"$f":"IF(Table1[[#This Row],[STT]]=\"\",\"\",ROW()-1)","v":27},{"$f":"IF(Table1[[#This Row],[Lơp]]=\"\",\"\",VLOOKUP(Table1[[#This Row],[Lơp]],$AC$3:$AD$14,2,0))","v":10},{"$f":"IF(AND(Q28=\"HỌC SINH XUẤT SẮC\",LEFT(P28,1)=\"9\"),Table1[[#This Row],[Column1]]+(ROUND(M28,3))+400+ROW()/10000,IF(AND(Q28=\"HỌC SINH XUẤT SẮC\",LEFT(P28,1)=\"8\"),Table1[[#This Row],[Column1]]+(ROUND(M28,3))+450+ROW()/10000,IF(AND(Q28=\"HỌC SINH XUẤT SẮC\",LEFT(P28,1)=\"7\"),Table1[[#This Row],[Column1]]+(ROUND(M28,3))+500+ROW()/10000,IF(AND(Q28=\"HỌC SINH XUẤT SẮC\",LEFT(P28,1)=\"6\"),Table1[[#This Row],[Column1]]+(ROUND(M28,3))+550+ROW()/10000,IF(AND(Q28=\"HỌC SINH GIỎI\",LEFT(P28,1)=\"9\"),Table1[[#This Row],[Column1]]+(ROUND(M28,3))+10+ROW()/10000,IF(AND(Q28=\"HỌC SINH GIỎI\",LEFT(P28,1)=\"8\"),Table1[[#This Row],[Column1]]+(ROUND(M28,3))+ 50+ROW()/10000,IF(AND(Q28=\"HỌC SINH GIỎI\",LEFT(P28,1)=\"7\"),Table1[[#This Row],[Column1]]+(ROUND(M28,3))+100+ROW()/10000,IF(AND(Q28=\"HỌC SINH GIỎI\",LEFT(P28,1)=\"6\"),Table1[[#This Row],[Column1]]+(ROUND(M28,3))+150+ROW()/10000,\"\"))))))))","v":44.402799999999999},{"$f":"IF(AND(Q28=\"HỌC SINH XUẤT SẮC\",LEFT(P28,1)=\"9\"),(ROUND(M28,3))+Table1[[#This Row],[Column1]]+10+ROW()/10000,IF(AND(Q28=\"HỌC SINH XUẤT SẮC\",LEFT(P28,1)=\"8\"),Table1[[#This Row],[Column1]]+(ROUND(M28,3))+50+ROW()/10000,IF(AND(Q28=\"HỌC SINH XUẤT SẮC\",LEFT(P28,1)=\"7\"),Table1[[#This Row],[Column1]]+(ROUND(M28,3))+100+ROW()/10000,IF(AND(Q28=\"HỌC SINH XUẤT SẮC\",LEFT(P28,1)=\"6\"),Table1[[#This Row],[Column1]]+(ROUND(M28,3))+150+ROW()/10000,\"\"))))","v":""},{"$f":"IF(AND(Q28=\"HỌC SINH GIỎI\",LEFT(P28,1)=\"9\"),Table1[[#This Row],[Column1]]+(ROUND(M28,3))+200+ROW()/10000,IF(AND(Q28=\"HỌC SINH GIỎI\",LEFT(P28,1)=\"8\"),Table1[[#This Row],[Column1]]+(ROUND(M28,3))+250+ROW()/10000,IF(AND(Q28=\"HỌC SINH GIỎI\",LEFT(P28,1)=\"7\"),Table1[[#This Row],[Column1]]+(ROUND(M28,3))+300+ROW()/10000,IF(AND(Q28=\"HỌC SINH GIỎI\",LEFT(P28,1)=\"6\"),Table1[[#This Row],[Column1]]+(ROUND(M28,3))+350+ROW()/10000,\"\"))))","v":234.40280000000001},"Phạm Thị Ngọc","Anh","HỌC SINH GIỎI","9C"]
["28","Lê Thành","Đạt","19/06/2011","Lê Văn Anh","Xóm 6","T","T",6.5,6.75,5.65,null,18.899999999999999,null,"x","9C","HỌC SINH GIỎI",{"$f":"IF(Table1[[#This Row],[STT]]=\"\",\"\",ROW()-1)","v":28},{"$f":"IF(Table1[[#This Row],[Lơp]]=\"\",\"\",VLOOKUP(Table1[[#This Row],[Lơp]],$AC$3:$AD$14,2,0))","v":10},{"$f":"IF(AND(Q29=\"HỌC SINH XUẤT SẮC\",LEFT(P29,1)=\"9\"),Table1[[#This Row],[Column1]]+(ROUND(M29,3))+400+ROW()/10000,IF(AND(Q29=\"HỌC SINH XUẤT SẮC\",LEFT(P29,1)=\"8\"),Table1[[#This Row],[Column1]]+(ROUND(M29,3))+450+ROW()/10000,IF(AND(Q29=\"HỌC SINH XUẤT SẮC\",LEFT(P29,1)=\"7\"),Table1[[#This Row],[Column1]]+(ROUND(M29,3))+500+ROW()/10000,IF(AND(Q29=\"HỌC SINH XUẤT SẮC\",LEFT(P29,1)=\"6\"),Table1[[#This Row],[Column1]]+(ROUND(M29,3))+550+ROW()/10000,IF(AND(Q29=\"HỌC SINH GIỎI\",LEFT(P29,1)=\"9\"),Table1[[#This Row],[Column1]]+(ROUND(M29,3))+10+ROW()/10000,IF(AND(Q29=\"HỌC SINH GIỎI\",LEFT(P29,1)=\"8\"),Table1[[#This Row],[Column1]]+(ROUND(M29,3))+ 50+ROW()/10000,IF(AND(Q29=\"HỌC SINH GIỎI\",LEFT(P29,1)=\"7\"),Table1[[#This Row],[Column1]]+(ROUND(M29,3))+100+ROW()/10000,IF(AND(Q29=\"HỌC SINH GIỎI\",LEFT(P29,1)=\"6\"),Table1[[#This Row],[Column1]]+(ROUND(M29,3))+150+ROW()/10000,\"\"))))))))","v":38.902899999999995},{"$f":"IF(AND(Q29=\"HỌC SINH XUẤT SẮC\",LEFT(P29,1)=\"9\"),(ROUND(M29,3))+Table1[[#This Row],[Column1]]+10+ROW()/10000,IF(AND(Q29=\"HỌC SINH XUẤT SẮC\",LEFT(P29,1)=\"8\"),Table1[[#This Row],[Column1]]+(ROUND(M29,3))+50+ROW()/10000,IF(AND(Q29=\"HỌC SINH XUẤT SẮC\",LEFT(P29,1)=\"7\"),Table1[[#This Row],[Column1]]+(ROUND(M29,3))+100+ROW()/10000,IF(AND(Q29=\"HỌC SINH XUẤT SẮC\",LEFT(P29,1)=\"6\"),Table1[[#This Row],[Column1]]+(ROUND(M29,3))+150+ROW()/10000,\"\"))))","v":""},{"$f":"IF(AND(Q29=\"HỌC SINH GIỎI\",LEFT(P29,1)=\"9\"),Table1[[#This Row],[Column1]]+(ROUND(M29,3))+200+ROW()/10000,IF(AND(Q29=\"HỌC SINH GIỎI\",LEFT(P29,1)=\"8\"),Table1[[#This Row],[Column1]]+(ROUND(M29,3))+250+ROW()/10000,IF(AND(Q29=\"HỌC SINH GIỎI\",LEFT(P29,1)=\"7\"),Table1[[#This Row],[Column1]]+(ROUND(M29,3))+300+ROW()/10000,IF(AND(Q29=\"HỌC SINH GIỎI\",LEFT(P29,1)=\"6\"),Table1[[#This Row],[Column1]]+(ROUND(M29,3))+350+ROW()/10000,\"\"))))","v":228.90290000000002},"Lê Thành","Đạt","HỌC SINH GIỎI","9C"]
["29","Đỗ Trung","Hiếu","29/03/2011","Đỗ Văn Cảnh","Xóm 4","T","T",8.75,7.25,7.65,null,23.65,null,"x","9C","HỌC SINH GIỎI",{"$f":"IF(Table1[[#This Row],[STT]]=\"\",\"\",ROW()-1)","v":29},{"$f":"IF(Table1[[#This Row],[Lơp]]=\"\",\"\",VLOOKUP(Table1[[#This Row],[Lơp]],$AC$3:$AD$14,2,0))","v":10},{"$f":"IF(AND(Q30=\"HỌC SINH XUẤT SẮC\",LEFT(P30,1)=\"9\"),Table1[[#This Row],[Column1]]+(ROUND(M30,3))+400+ROW()/10000,IF(AND(Q30=\"HỌC SINH XUẤT SẮC\",LEFT(P30,1)=\"8\"),Table1[[#This Row],[Column1]]+(ROUND(M30,3))+450+ROW()/10000,IF(AND(Q30=\"HỌC SINH XUẤT SẮC\",LEFT(P30,1)=\"7\"),Table1[[#This Row],[Column1]]+(ROUND(M30,3))+500+ROW()/10000,IF(AND(Q30=\"HỌC SINH XUẤT SẮC\",LEFT(P30,1)=\"6\"),Table1[[#This Row],[Column1]]+(ROUND(M30,3))+550+ROW()/10000,IF(AND(Q30=\"HỌC SINH GIỎI\",LEFT(P30,1)=\"9\"),Table1[[#This Row],[Column1]]+(ROUND(M30,3))+10+ROW()/10000,IF(AND(Q30=\"HỌC SINH GIỎI\",LEFT(P30,1)=\"8\"),Table1[[#This Row],[Column1]]+(ROUND(M30,3))+ 50+ROW()/10000,IF(AND(Q30=\"HỌC SINH GIỎI\",LEFT(P30,1)=\"7\"),Table1[[#This Row],[Column1]]+(ROUND(M30,3))+100+ROW()/10000,IF(AND(Q30=\"HỌC SINH GIỎI\",LEFT(P30,1)=\"6\"),Table1[[#This Row],[Column1]]+(ROUND(M30,3))+150+ROW()/10000,\"\"))))))))","v":43.652999999999999},{"$f":"IF(AND(Q30=\"HỌC SINH XUẤT SẮC\",LEFT(P30,1)=\"9\"),(ROUND(M30,3))+Table1[[#This Row],[Column1]]+10+ROW()/10000,IF(AND(Q30=\"HỌC SINH XUẤT SẮC\",LEFT(P30,1)=\"8\"),Table1[[#This Row],[Column1]]+(ROUND(M30,3))+50+ROW()/10000,IF(AND(Q30=\"HỌC SINH XUẤT SẮC\",LEFT(P30,1)=\"7\"),Table1[[#This Row],[Column1]]+(ROUND(M30,3))+100+ROW()/10000,IF(AND(Q30=\"HỌC SINH XUẤT SẮC\",LEFT(P30,1)=\"6\"),Table1[[#This Row],[Column1]]+(ROUND(M30,3))+150+ROW()/10000,\"\"))))","v":""},{"$f":"IF(AND(Q30=\"HỌC SINH GIỎI\",LEFT(P30,1)=\"9\"),Table1[[#This Row],[Column1]]+(ROUND(M30,3))+200+ROW()/10000,IF(AND(Q30=\"HỌC SINH GIỎI\",LEFT(P30,1)=\"8\"),Table1[[#This Row],[Column1]]+(ROUND(M30,3))+250+ROW()/10000,IF(AND(Q30=\"HỌC SINH GIỎI\",LEFT(P30,1)=\"7\"),Table1[[#This Row],[Column1]]+(ROUND(M30,3))+300+ROW()/10000,IF(AND(Q30=\"HỌC SINH GIỎI\",LEFT(P30,1)=\"6\"),Table1[[#This Row],[Column1]]+(ROUND(M30,3))+350+ROW()/10000,\"\"))))","v":233.65299999999999},"Đỗ Trung","Hiếu","HỌC SINH GIỎI","9C"]
["30","Lê Nhật","Khánh","06/10/2011","Lê Hồng Duy","Xóm 5","T","T",7.75,7.75,6.4,null,21.9,null,"x","9C","HỌC SINH GIỎI",{"$f":"IF(Table1[[#This Row],[STT]]=\"\",\"\",ROW()-1)","v":30},{"$f":"IF(Table1[[#This Row],[Lơp]]=\"\",\"\",VLOOKUP(Table1[[#This Row],[Lơp]],$AC$3:$AD$14,2,0))","v":10},{"$f":"IF(AND(Q31=\"HỌC SINH XUẤT SẮC\",LEFT(P31,1)=\"9\"),Table1[[#This Row],[Column1]]+(ROUND(M31,3))+400+ROW()/10000,IF(AND(Q31=\"HỌC SINH XUẤT SẮC\",LEFT(P31,1)=\"8\"),Table1[[#This Row],[Column1]]+(ROUND(M31,3))+450+ROW()/10000,IF(AND(Q31=\"HỌC SINH XUẤT SẮC\",LEFT(P31,1)=\"7\"),Table1[[#This Row],[Column1]]+(ROUND(M31,3))+500+ROW()/10000,IF(AND(Q31=\"HỌC SINH XUẤT SẮC\",LEFT(P31,1)=\"6\"),Table1[[#This Row],[Column1]]+(ROUND(M31,3))+550+ROW()/10000,IF(AND(Q31=\"HỌC SINH GIỎI\",LEFT(P31,1)=\"9\"),Table1[[#This Row],[Column1]]+(ROUND(M31,3))+10+ROW()/10000,IF(AND(Q31=\"HỌC SINH GIỎI\",LEFT(P31,1)=\"8\"),Table1[[#This Row],[Column1]]+(ROUND(M31,3))+ 50+ROW()/10000,IF(AND(Q31=\"HỌC SINH GIỎI\",LEFT(P31,1)=\"7\"),Table1[[#This Row],[Column1]]+(ROUND(M31,3))+100+ROW()/10000,IF(AND(Q31=\"HỌC SINH GIỎI\",LEFT(P31,1)=\"6\"),Table1[[#This Row],[Column1]]+(ROUND(M31,3))+150+ROW()/10000,\"\"))))))))","v":41.903100000000002},{"$f":"IF(AND(Q31=\"HỌC SINH XUẤT SẮC\",LEFT(P31,1)=\"9\"),(ROUND(M31,3))+Table1[[#This Row],[Column1]]+10+ROW()/10000,IF(AND(Q31=\"HỌC SINH XUẤT SẮC\",LEFT(P31,1)=\"8\"),Table1[[#This Row],[Column1]]+(ROUND(M31,3))+50+ROW()/10000,IF(AND(Q31=\"HỌC SINH XUẤT SẮC\",LEFT(P31,1)=\"7\"),Table1[[#This Row],[Column1]]+(ROUND(M31,3))+100+ROW()/10000,IF(AND(Q31=\"HỌC SINH XUẤT SẮC\",LEFT(P31,1)=\"6\"),Table1[[#This Row],[Column1]]+(ROUND(M31,3))+150+ROW()/10000,\"\"))))","v":""},{"$f":"IF(AND(Q31=\"HỌC SINH GIỎI\",LEFT(P31,1)=\"9\"),Table1[[#This Row],[Column1]]+(ROUND(M31,3))+200+ROW()/10000,IF(AND(Q31=\"HỌC SINH GIỎI\",LEFT(P31,1)=\"8\"),Table1[[#This Row],[Column1]]+(ROUND(M31,3))+250+ROW()/10000,IF(AND(Q31=\"HỌC SINH GIỎI\",LEFT(P31,1)=\"7\"),Table1[[#This Row],[Column1]]+(ROUND(M31,3))+300+ROW()/10000,IF(AND(Q31=\"HỌC SINH GIỎI\",LEFT(P31,1)=\"6\"),Table1[[#This Row],[Column1]]+(ROUND(M31,3))+350+ROW()/10000,\"\"))))","v":231.90309999999999},"Lê Nhật","Khánh","HỌC SINH GIỎI","9C"]
["31","Đỗ Xuân Trung","Kiên","17/09/2011","Đỗ Xuân Ninh","Xóm 7","T","T",8,8.25,9.25,null,25.5,null,"x","9C","HỌC SINH GIỎI",{"$f":"IF(Table1[[#This Row],[STT]]=\"\",\"\",ROW()-1)","v":31},{"$f":"IF(Table1[[#This Row],[Lơp]]=\"\",\"\",VLOOKUP(Table1[[#This Row],[Lơp]],$AC$3:$AD$14,2,0))","v":10},{"$f":"IF(AND(Q32=\"HỌC SINH XUẤT SẮC\",LEFT(P32,1)=\"9\"),Table1[[#This Row],[Column1]]+(ROUND(M32,3))+400+ROW()/10000,IF(AND(Q32=\"HỌC SINH XUẤT SẮC\",LEFT(P32,1)=\"8\"),Table1[[#This Row],[Column1]]+(ROUND(M32,3))+450+ROW()/10000,IF(AND(Q32=\"HỌC SINH XUẤT SẮC\",LEFT(P32,1)=\"7\"),Table1[[#This Row],[Column1]]+(ROUND(M32,3))+500+ROW()/10000,IF(AND(Q32=\"HỌC SINH XUẤT SẮC\",LEFT(P32,1)=\"6\"),Table1[[#This Row],[Column1]]+(ROUND(M32,3))+550+ROW()/10000,IF(AND(Q32=\"HỌC SINH GIỎI\",LEFT(P32,1)=\"9\"),Table1[[#This Row],[Column1]]+(ROUND(M32,3))+10+ROW()/10000,IF(AND(Q32=\"HỌC SINH GIỎI\",LEFT(P32,1)=\"8\"),Table1[[#This Row],[Column1]]+(ROUND(M32,3))+ 50+ROW()/10000,IF(AND(Q32=\"HỌC SINH GIỎI\",LEFT(P32,1)=\"7\"),Table1[[#This Row],[Column1]]+(ROUND(M32,3))+100+ROW()/10000,IF(AND(Q32=\"HỌC SINH GIỎI\",LEFT(P32,1)=\"6\"),Table1[[#This Row],[Column1]]+(ROUND(M32,3))+150+ROW()/10000,\"\"))))))))","v":45.5032},{"$f":"IF(AND(Q32=\"HỌC SINH XUẤT SẮC\",LEFT(P32,1)=\"9\"),(ROUND(M32,3))+Table1[[#This Row],[Column1]]+10+ROW()/10000,IF(AND(Q32=\"HỌC SINH XUẤT SẮC\",LEFT(P32,1)=\"8\"),Table1[[#This Row],[Column1]]+(ROUND(M32,3))+50+ROW()/10000,IF(AND(Q32=\"HỌC SINH XUẤT SẮC\",LEFT(P32,1)=\"7\"),Table1[[#This Row],[Column1]]+(ROUND(M32,3))+100+ROW()/10000,IF(AND(Q32=\"HỌC SINH XUẤT SẮC\",LEFT(P32,1)=\"6\"),Table1[[#This Row],[Column1]]+(ROUND(M32,3))+150+ROW()/10000,\"\"))))","v":""},{"$f":"IF(AND(Q32=\"HỌC SINH GIỎI\",LEFT(P32,1)=\"9\"),Table1[[#This Row],[Column1]]+(ROUND(M32,3))+200+ROW()/10000,IF(AND(Q32=\"HỌC SINH GIỎI\",LEFT(P32,1)=\"8\"),Table1[[#This Row],[Column1]]+(ROUND(M32,3))+250+ROW()/10000,IF(AND(Q32=\"HỌC SINH GIỎI\",LEFT(P32,1)=\"7\"),Table1[[#This Row],[Column1]]+(ROUND(M32,3))+300+ROW()/10000,IF(AND(Q32=\"HỌC SINH GIỎI\",LEFT(P32,1)=\"6\"),Table1[[#This Row],[Column1]]+(ROUND(M32,3))+350+ROW()/10000,\"\"))))","v":235.50319999999999},"Đỗ Xuân Trung","Kiên","HỌC SINH GIỎI","9C"]
["32","Nguyễn Phương","Linh","02/02/2011","Nguyễn Đức Tài","xóm 3","T","T",9,7.75,7.15,null,23.9,null,"x","9C","HỌC SINH GIỎI",{"$f":"IF(Table1[[#This Row],[STT]]=\"\",\"\",ROW()-1)","v":32},{"$f":"IF(Table1[[#This Row],[Lơp]]=\"\",\"\",VLOOKUP(Table1[[#This Row],[Lơp]],$AC$3:$AD$14,2,0))","v":10},{"$f":"IF(AND(Q33=\"HỌC SINH XUẤT SẮC\",LEFT(P33,1)=\"9\"),Table1[[#This Row],[Column1]]+(ROUND(M33,3))+400+ROW()/10000,IF(AND(Q33=\"HỌC SINH XUẤT SẮC\",LEFT(P33,1)=\"8\"),Table1[[#This Row],[Column1]]+(ROUND(M33,3))+450+ROW()/10000,IF(AND(Q33=\"HỌC SINH XUẤT SẮC\",LEFT(P33,1)=\"7\"),Table1[[#This Row],[Column1]]+(ROUND(M33,3))+500+ROW()/10000,IF(AND(Q33=\"HỌC SINH XUẤT SẮC\",LEFT(P33,1)=\"6\"),Table1[[#This Row],[Column1]]+(ROUND(M33,3))+550+ROW()/10000,IF(AND(Q33=\"HỌC SINH GIỎI\",LEFT(P33,1)=\"9\"),Table1[[#This Row],[Column1]]+(ROUND(M33,3))+10+ROW()/10000,IF(AND(Q33=\"HỌC SINH GIỎI\",LEFT(P33,1)=\"8\"),Table1[[#This Row],[Column1]]+(ROUND(M33,3))+ 50+ROW()/10000,IF(AND(Q33=\"HỌC SINH GIỎI\",LEFT(P33,1)=\"7\"),Table1[[#This Row],[Column1]]+(ROUND(M33,3))+100+ROW()/10000,IF(AND(Q33=\"HỌC SINH GIỎI\",LEFT(P33,1)=\"6\"),Table1[[#This Row],[Column1]]+(ROUND(M33,3))+150+ROW()/10000,\"\"))))))))","v":43.903300000000002},{"$f":"IF(AND(Q33=\"HỌC SINH XUẤT SẮC\",LEFT(P33,1)=\"9\"),(ROUND(M33,3))+Table1[[#This Row],[Column1]]+10+ROW()/10000,IF(AND(Q33=\"HỌC SINH XUẤT SẮC\",LEFT(P33,1)=\"8\"),Table1[[#This Row],[Column1]]+(ROUND(M33,3))+50+ROW()/10000,IF(AND(Q33=\"HỌC SINH XUẤT SẮC\",LEFT(P33,1)=\"7\"),Table1[[#This Row],[Column1]]+(ROUND(M33,3))+100+ROW()/10000,IF(AND(Q33=\"HỌC SINH XUẤT SẮC\",LEFT(P33,1)=\"6\"),Table1[[#This Row],[Column1]]+(ROUND(M33,3))+150+ROW()/10000,\"\"))))","v":""},{"$f":"IF(AND(Q33=\"HỌC SINH GIỎI\",LEFT(P33,1)=\"9\"),Table1[[#This Row],[Column1]]+(ROUND(M33,3))+200+ROW()/10000,IF(AND(Q33=\"HỌC SINH GIỎI\",LEFT(P33,1)=\"8\"),Table1[[#This Row],[Column1]]+(ROUND(M33,3))+250+ROW()/10000,IF(AND(Q33=\"HỌC SINH GIỎI\",LEFT(P33,1)=\"7\"),Table1[[#This Row],[Column1]]+(ROUND(M33,3))+300+ROW()/10000,IF(AND(Q33=\"HỌC SINH GIỎI\",LEFT(P33,1)=\"6\"),Table1[[#This Row],[Column1]]+(ROUND(M33,3))+350+ROW()/10000,\"\"))))","v":233.9033},"Nguyễn Phương","Linh","HỌC SINH GIỎI","9C"]
["33","Phạm Mạnh","Thắng","11/04/2011","Phạm Mạnh Tân","Xóm 1","T","T",8.5,8,9.1,null,25.6,null,"x","9C","HỌC SINH GIỎI",{"$f":"IF(Table1[[#This Row],[STT]]=\"\",\"\",ROW()-1)","v":33},{"$f":"IF(Table1[[#This Row],[Lơp]]=\"\",\"\",VLOOKUP(Table1[[#This Row],[Lơp]],$AC$3:$AD$14,2,0))","v":10},{"$f":"IF(AND(Q34=\"HỌC SINH XUẤT SẮC\",LEFT(P34,1)=\"9\"),Table1[[#This Row],[Column1]]+(ROUND(M34,3))+400+ROW()/10000,IF(AND(Q34=\"HỌC SINH XUẤT SẮC\",LEFT(P34,1)=\"8\"),Table1[[#This Row],[Column1]]+(ROUND(M34,3))+450+ROW()/10000,IF(AND(Q34=\"HỌC SINH XUẤT SẮC\",LEFT(P34,1)=\"7\"),Table1[[#This Row],[Column1]]+(ROUND(M34,3))+500+ROW()/10000,IF(AND(Q34=\"HỌC SINH XUẤT SẮC\",LEFT(P34,1)=\"6\"),Table1[[#This Row],[Column1]]+(ROUND(M34,3))+550+ROW()/10000,IF(AND(Q34=\"HỌC SINH GIỎI\",LEFT(P34,1)=\"9\"),Table1[[#This Row],[Column1]]+(ROUND(M34,3))+10+ROW()/10000,IF(AND(Q34=\"HỌC SINH GIỎI\",LEFT(P34,1)=\"8\"),Table1[[#This Row],[Column1]]+(ROUND(M34,3))+ 50+ROW()/10000,IF(AND(Q34=\"HỌC SINH GIỎI\",LEFT(P34,1)=\"7\"),Table1[[#This Row],[Column1]]+(ROUND(M34,3))+100+ROW()/10000,IF(AND(Q34=\"HỌC SINH GIỎI\",LEFT(P34,1)=\"6\"),Table1[[#This Row],[Column1]]+(ROUND(M34,3))+150+ROW()/10000,\"\"))))))))","v":45.603400000000001},{"$f":"IF(AND(Q34=\"HỌC SINH XUẤT SẮC\",LEFT(P34,1)=\"9\"),(ROUND(M34,3))+Table1[[#This Row],[Column1]]+10+ROW()/10000,IF(AND(Q34=\"HỌC SINH XUẤT SẮC\",LEFT(P34,1)=\"8\"),Table1[[#This Row],[Column1]]+(ROUND(M34,3))+50+ROW()/10000,IF(AND(Q34=\"HỌC SINH XUẤT SẮC\",LEFT(P34,1)=\"7\"),Table1[[#This Row],[Column1]]+(ROUND(M34,3))+100+ROW()/10000,IF(AND(Q34=\"HỌC SINH XUẤT SẮC\",LEFT(P34,1)=\"6\"),Table1[[#This Row],[Column1]]+(ROUND(M34,3))+150+ROW()/10000,\"\"))))","v":""},{"$f":"IF(AND(Q34=\"HỌC SINH GIỎI\",LEFT(P34,1)=\"9\"),Table1[[#This Row],[Column1]]+(ROUND(M34,3))+200+ROW()/10000,IF(AND(Q34=\"HỌC SINH GIỎI\",LEFT(P34,1)=\"8\"),Table1[[#This Row],[Column1]]+(ROUND(M34,3))+250+ROW()/10000,IF(AND(Q34=\"HỌC SINH GIỎI\",LEFT(P34,1)=\"7\"),Table1[[#This Row],[Column1]]+(ROUND(M34,3))+300+ROW()/10000,IF(AND(Q34=\"HỌC SINH GIỎI\",LEFT(P34,1)=\"6\"),Table1[[#This Row],[Column1]]+(ROUND(M34,3))+350+ROW()/10000,\"\"))))","v":235.60339999999999},"Phạm Mạnh",{"$f":"IF(W34=\"\",\"\",C34)","v":"Thắng"},"HỌC SINH GIỎI","9C"]
["34","Trần Thanh","Trúc","01/12/2011","Trần Văn Vũ","Xóm 7","T","T",8,8,7,null,23,null,"x","9C","HỌC SINH GIỎI",{"$f":"IF(Table1[[#This Row],[STT]]=\"\",\"\",ROW()-1)","v":34},{"$f":"IF(Table1[[#This Row],[Lơp]]=\"\",\"\",VLOOKUP(Table1[[#This Row],[Lơp]],$AC$3:$AD$14,2,0))","v":10},{"$f":"IF(AND(Q35=\"HỌC SINH XUẤT SẮC\",LEFT(P35,1)=\"9\"),Table1[[#This Row],[Column1]]+(ROUND(M35,3))+400+ROW()/10000,IF(AND(Q35=\"HỌC SINH XUẤT SẮC\",LEFT(P35,1)=\"8\"),Table1[[#This Row],[Column1]]+(ROUND(M35,3))+450+ROW()/10000,IF(AND(Q35=\"HỌC SINH XUẤT SẮC\",LEFT(P35,1)=\"7\"),Table1[[#This Row],[Column1]]+(ROUND(M35,3))+500+ROW()/10000,IF(AND(Q35=\"HỌC SINH XUẤT SẮC\",LEFT(P35,1)=\"6\"),Table1[[#This Row],[Column1]]+(ROUND(M35,3))+550+ROW()/10000,IF(AND(Q35=\"HỌC SINH GIỎI\",LEFT(P35,1)=\"9\"),Table1[[#This Row],[Column1]]+(ROUND(M35,3))+10+ROW()/10000,IF(AND(Q35=\"HỌC SINH GIỎI\",LEFT(P35,1)=\"8\"),Table1[[#This Row],[Column1]]+(ROUND(M35,3))+ 50+ROW()/10000,IF(AND(Q35=\"HỌC SINH GIỎI\",LEFT(P35,1)=\"7\"),Table1[[#This Row],[Column1]]+(ROUND(M35,3))+100+ROW()/10000,IF(AND(Q35=\"HỌC SINH GIỎI\",LEFT(P35,1)=\"6\"),Table1[[#This Row],[Column1]]+(ROUND(M35,3))+150+ROW()/10000,\"\"))))))))","v":43.003500000000003},{"$f":"IF(AND(Q35=\"HỌC SINH XUẤT SẮC\",LEFT(P35,1)=\"9\"),(ROUND(M35,3))+Table1[[#This Row],[Column1]]+10+ROW()/10000,IF(AND(Q35=\"HỌC SINH XUẤT SẮC\",LEFT(P35,1)=\"8\"),Table1[[#This Row],[Column1]]+(ROUND(M35,3))+50+ROW()/10000,IF(AND(Q35=\"HỌC SINH XUẤT SẮC\",LEFT(P35,1)=\"7\"),Table1[[#This Row],[Column1]]+(ROUND(M35,3))+100+ROW()/10000,IF(AND(Q35=\"HỌC SINH XUẤT SẮC\",LEFT(P35,1)=\"6\"),Table1[[#This Row],[Column1]]+(ROUND(M35,3))+150+ROW()/10000,\"\"))))","v":""},{"$f":"IF(AND(Q35=\"HỌC SINH GIỎI\",LEFT(P35,1)=\"9\"),Table1[[#This Row],[Column1]]+(ROUND(M35,3))+200+ROW()/10000,IF(AND(Q35=\"HỌC SINH GIỎI\",LEFT(P35,1)=\"8\"),Table1[[#This Row],[Column1]]+(ROUND(M35,3))+250+ROW()/10000,IF(AND(Q35=\"HỌC SINH GIỎI\",LEFT(P35,1)=\"7\"),Table1[[#This Row],[Column1]]+(ROUND(M35,3))+300+ROW()/10000,IF(AND(Q35=\"HỌC SINH GIỎI\",LEFT(P35,1)=\"6\"),Table1[[#This Row],[Column1]]+(ROUND(M35,3))+350+ROW()/10000,\"\"))))","v":233.0035},"Trần Thanh","Trúc","HỌC SINH GIỎI","9C"]
["35","Lê Tú","Uyên","07/04/2011","Lê Trung Thông","Xóm 5","T","T",7.5,6.75,5.75,null,20,null,"x","9C","HỌC SINH GIỎI",{"$f":"IF(Table1[[#This Row],[STT]]=\"\",\"\",ROW()-1)","v":35},{"$f":"IF(Table1[[#This Row],[Lơp]]=\"\",\"\",VLOOKUP(Table1[[#This Row],[Lơp]],$AC$3:$AD$14,2,0))","v":10},{"$f":"IF(AND(Q36=\"HỌC SINH XUẤT SẮC\",LEFT(P36,1)=\"9\"),Table1[[#This Row],[Column1]]+(ROUND(M36,3))+400+ROW()/10000,IF(AND(Q36=\"HỌC SINH XUẤT SẮC\",LEFT(P36,1)=\"8\"),Table1[[#This Row],[Column1]]+(ROUND(M36,3))+450+ROW()/10000,IF(AND(Q36=\"HỌC SINH XUẤT SẮC\",LEFT(P36,1)=\"7\"),Table1[[#This Row],[Column1]]+(ROUND(M36,3))+500+ROW()/10000,IF(AND(Q36=\"HỌC SINH XUẤT SẮC\",LEFT(P36,1)=\"6\"),Table1[[#This Row],[Column1]]+(ROUND(M36,3))+550+ROW()/10000,IF(AND(Q36=\"HỌC SINH GIỎI\",LEFT(P36,1)=\"9\"),Table1[[#This Row],[Column1]]+(ROUND(M36,3))+10+ROW()/10000,IF(AND(Q36=\"HỌC SINH GIỎI\",LEFT(P36,1)=\"8\"),Table1[[#This Row],[Column1]]+(ROUND(M36,3))+ 50+ROW()/10000,IF(AND(Q36=\"HỌC SINH GIỎI\",LEFT(P36,1)=\"7\"),Table1[[#This Row],[Column1]]+(ROUND(M36,3))+100+ROW()/10000,IF(AND(Q36=\"HỌC SINH GIỎI\",LEFT(P36,1)=\"6\"),Table1[[#This Row],[Column1]]+(ROUND(M36,3))+150+ROW()/10000,\"\"))))))))","v":40.003599999999999},{"$f":"IF(AND(Q36=\"HỌC SINH XUẤT SẮC\",LEFT(P36,1)=\"9\"),(ROUND(M36,3))+Table1[[#This Row],[Column1]]+10+ROW()/10000,IF(AND(Q36=\"HỌC SINH XUẤT SẮC\",LEFT(P36,1)=\"8\"),Table1[[#This Row],[Column1]]+(ROUND(M36,3))+50+ROW()/10000,IF(AND(Q36=\"HỌC SINH XUẤT SẮC\",LEFT(P36,1)=\"7\"),Table1[[#This Row],[Column1]]+(ROUND(M36,3))+100+ROW()/10000,IF(AND(Q36=\"HỌC SINH XUẤT SẮC\",LEFT(P36,1)=\"6\"),Table1[[#This Row],[Column1]]+(ROUND(M36,3))+150+ROW()/10000,\"\"))))","v":""},{"$f":"IF(AND(Q36=\"HỌC SINH GIỎI\",LEFT(P36,1)=\"9\"),Table1[[#This Row],[Column1]]+(ROUND(M36,3))+200+ROW()/10000,IF(AND(Q36=\"HỌC SINH GIỎI\",LEFT(P36,1)=\"8\"),Table1[[#This Row],[Column1]]+(ROUND(M36,3))+250+ROW()/10000,IF(AND(Q36=\"HỌC SINH GIỎI\",LEFT(P36,1)=\"7\"),Table1[[#This Row],[Column1]]+(ROUND(M36,3))+300+ROW()/10000,IF(AND(Q36=\"HỌC SINH GIỎI\",LEFT(P36,1)=\"6\"),Table1[[#This Row],[Column1]]+(ROUND(M36,3))+350+ROW()/10000,\"\"))))","v":230.00360000000001},"Lê Tú","Uyên","HỌC SINH GIỎI","9C"]
["36","Lê Tú ","Anh","16/10/2011","Lê Mạnh Tân","Xóm 6","T","T",8.25,7.75,5.3,null,{"$f":"IF(AND(I37=\"\",J37=\"\",K37=\"\",L37=\"\"),\"\",SUM(I37:L37))","v":21.3},null,"x","9A","HỌC SINH GIỎI",{"$f":"IF(Table1[[#This Row],[STT]]=\"\",\"\",ROW()-1)","v":36},{"$f":"IF(Table1[[#This Row],[Lơp]]=\"\",\"\",VLOOKUP(Table1[[#This Row],[Lơp]],$AC$3:$AD$14,2,0))","v":30},{"$f":"IF(AND(Q37=\"HỌC SINH XUẤT SẮC\",LEFT(P37,1)=\"9\"),Table1[[#This Row],[Column1]]+(ROUND(M37,3))+400+ROW()/10000,IF(AND(Q37=\"HỌC SINH XUẤT SẮC\",LEFT(P37,1)=\"8\"),Table1[[#This Row],[Column1]]+(ROUND(M37,3))+450+ROW()/10000,IF(AND(Q37=\"HỌC SINH XUẤT SẮC\",LEFT(P37,1)=\"7\"),Table1[[#This Row],[Column1]]+(ROUND(M37,3))+500+ROW()/10000,IF(AND(Q37=\"HỌC SINH XUẤT SẮC\",LEFT(P37,1)=\"6\"),Table1[[#This Row],[Column1]]+(ROUND(M37,3))+550+ROW()/10000,IF(AND(Q37=\"HỌC SINH GIỎI\",LEFT(P37,1)=\"9\"),Table1[[#This Row],[Column1]]+(ROUND(M37,3))+10+ROW()/10000,IF(AND(Q37=\"HỌC SINH GIỎI\",LEFT(P37,1)=\"8\"),Table1[[#This Row],[Column1]]+(ROUND(M37,3))+ 50+ROW()/10000,IF(AND(Q37=\"HỌC SINH GIỎI\",LEFT(P37,1)=\"7\"),Table1[[#This Row],[Column1]]+(ROUND(M37,3))+100+ROW()/10000,IF(AND(Q37=\"HỌC SINH GIỎI\",LEFT(P37,1)=\"6\"),Table1[[#This Row],[Column1]]+(ROUND(M37,3))+150+ROW()/10000,\"\"))))))))","v":61.303699999999999},{"$f":"IF(AND(Q37=\"HỌC SINH XUẤT SẮC\",LEFT(P37,1)=\"9\"),(ROUND(M37,3))+Table1[[#This Row],[Column1]]+10+ROW()/10000,IF(AND(Q37=\"HỌC SINH XUẤT SẮC\",LEFT(P37,1)=\"8\"),Table1[[#This Row],[Column1]]+(ROUND(M37,3))+50+ROW()/10000,IF(AND(Q37=\"HỌC SINH XUẤT SẮC\",LEFT(P37,1)=\"7\"),Table1[[#This Row],[Column1]]+(ROUND(M37,3))+100+ROW()/10000,IF(AND(Q37=\"HỌC SINH XUẤT SẮC\",LEFT(P37,1)=\"6\"),Table1[[#This Row],[Column1]]+(ROUND(M37,3))+150+ROW()/10000,\"\"))))","v":""},{"$f":"IF(AND(Q37=\"HỌC SINH GIỎI\",LEFT(P37,1)=\"9\"),Table1[[#This Row],[Column1]]+(ROUND(M37,3))+200+ROW()/10000,IF(AND(Q37=\"HỌC SINH GIỎI\",LEFT(P37,1)=\"8\"),Table1[[#This Row],[Column1]]+(ROUND(M37,3))+250+ROW()/10000,IF(AND(Q37=\"HỌC SINH GIỎI\",LEFT(P37,1)=\"7\"),Table1[[#This Row],[Column1]]+(ROUND(M37,3))+300+ROW()/10000,IF(AND(Q37=\"HỌC SINH GIỎI\",LEFT(P37,1)=\"6\"),Table1[[#This Row],[Column1]]+(ROUND(M37,3))+350+ROW()/10000,\"\"))))","v":251.30370000000002},"Lê Tú ","Anh","HỌC SINH GIỎI","9A"]
["37","Trần Xuân ","Sang","2011-05-02","Trần Văn Thắng","Xóm 3","T","T",7.75,8.75,6.9,null,23.4,null,"x","9A","HỌC SINH GIỎI",{"$f":"IF(Table1[[#This Row],[STT]]=\"\",\"\",ROW()-1)","v":37},{"$f":"IF(Table1[[#This Row],[Lơp]]=\"\",\"\",VLOOKUP(Table1[[#This Row],[Lơp]],$AC$3:$AD$14,2,0))","v":30},{"$f":"IF(AND(Q38=\"HỌC SINH XUẤT SẮC\",LEFT(P38,1)=\"9\"),Table1[[#This Row],[Column1]]+(ROUND(M38,3))+400+ROW()/10000,IF(AND(Q38=\"HỌC SINH XUẤT SẮC\",LEFT(P38,1)=\"8\"),Table1[[#This Row],[Column1]]+(ROUND(M38,3))+450+ROW()/10000,IF(AND(Q38=\"HỌC SINH XUẤT SẮC\",LEFT(P38,1)=\"7\"),Table1[[#This Row],[Column1]]+(ROUND(M38,3))+500+ROW()/10000,IF(AND(Q38=\"HỌC SINH XUẤT SẮC\",LEFT(P38,1)=\"6\"),Table1[[#This Row],[Column1]]+(ROUND(M38,3))+550+ROW()/10000,IF(AND(Q38=\"HỌC SINH GIỎI\",LEFT(P38,1)=\"9\"),Table1[[#This Row],[Column1]]+(ROUND(M38,3))+10+ROW()/10000,IF(AND(Q38=\"HỌC SINH GIỎI\",LEFT(P38,1)=\"8\"),Table1[[#This Row],[Column1]]+(ROUND(M38,3))+ 50+ROW()/10000,IF(AND(Q38=\"HỌC SINH GIỎI\",LEFT(P38,1)=\"7\"),Table1[[#This Row],[Column1]]+(ROUND(M38,3))+100+ROW()/10000,IF(AND(Q38=\"HỌC SINH GIỎI\",LEFT(P38,1)=\"6\"),Table1[[#This Row],[Column1]]+(ROUND(M38,3))+150+ROW()/10000,\"\"))))))))","v":63.403799999999997},{"$f":"IF(AND(Q38=\"HỌC SINH XUẤT SẮC\",LEFT(P38,1)=\"9\"),(ROUND(M38,3))+Table1[[#This Row],[Column1]]+10+ROW()/10000,IF(AND(Q38=\"HỌC SINH XUẤT SẮC\",LEFT(P38,1)=\"8\"),Table1[[#This Row],[Column1]]+(ROUND(M38,3))+50+ROW()/10000,IF(AND(Q38=\"HỌC SINH XUẤT SẮC\",LEFT(P38,1)=\"7\"),Table1[[#This Row],[Column1]]+(ROUND(M38,3))+100+ROW()/10000,IF(AND(Q38=\"HỌC SINH XUẤT SẮC\",LEFT(P38,1)=\"6\"),Table1[[#This Row],[Column1]]+(ROUND(M38,3))+150+ROW()/10000,\"\"))))","v":""},{"$f":"IF(AND(Q38=\"HỌC SINH GIỎI\",LEFT(P38,1)=\"9\"),Table1[[#This Row],[Column1]]+(ROUND(M38,3))+200+ROW()/10000,IF(AND(Q38=\"HỌC SINH GIỎI\",LEFT(P38,1)=\"8\"),Table1[[#This Row],[Column1]]+(ROUND(M38,3))+250+ROW()/10000,IF(AND(Q38=\"HỌC SINH GIỎI\",LEFT(P38,1)=\"7\"),Table1[[#This Row],[Column1]]+(ROUND(M38,3))+300+ROW()/10000,IF(AND(Q38=\"HỌC SINH GIỎI\",LEFT(P38,1)=\"6\"),Table1[[#This Row],[Column1]]+(ROUND(M38,3))+350+ROW()/10000,\"\"))))","v":253.40380000000002},"Trần Xuân ","Sang",{"$f":"IF(X38=\"\",\"\",Q38)","v":"HỌC SINH GIỎI"},{"$f":"IF(Y38=\"\",\"\",P38)","v":"9A"}]
["38","Lương Trần Hương","Trà","22/04/2011","Trần Thị Thảo","Xóm 8","T","T",8.5,7.25,6.75,null,22.5,null,"x","9A","HỌC SINH GIỎI",{"$f":"IF(Table1[[#This Row],[STT]]=\"\",\"\",ROW()-1)","v":38},{"$f":"IF(Table1[[#This Row],[Lơp]]=\"\",\"\",VLOOKUP(Table1[[#This Row],[Lơp]],$AC$3:$AD$14,2,0))","v":30},{"$f":"IF(AND(Q39=\"HỌC SINH XUẤT SẮC\",LEFT(P39,1)=\"9\"),Table1[[#This Row],[Column1]]+(ROUND(M39,3))+400+ROW()/10000,IF(AND(Q39=\"HỌC SINH XUẤT SẮC\",LEFT(P39,1)=\"8\"),Table1[[#This Row],[Column1]]+(ROUND(M39,3))+450+ROW()/10000,IF(AND(Q39=\"HỌC SINH XUẤT SẮC\",LEFT(P39,1)=\"7\"),Table1[[#This Row],[Column1]]+(ROUND(M39,3))+500+ROW()/10000,IF(AND(Q39=\"HỌC SINH XUẤT SẮC\",LEFT(P39,1)=\"6\"),Table1[[#This Row],[Column1]]+(ROUND(M39,3))+550+ROW()/10000,IF(AND(Q39=\"HỌC SINH GIỎI\",LEFT(P39,1)=\"9\"),Table1[[#This Row],[Column1]]+(ROUND(M39,3))+10+ROW()/10000,IF(AND(Q39=\"HỌC SINH GIỎI\",LEFT(P39,1)=\"8\"),Table1[[#This Row],[Column1]]+(ROUND(M39,3))+ 50+ROW()/10000,IF(AND(Q39=\"HỌC SINH GIỎI\",LEFT(P39,1)=\"7\"),Table1[[#This Row],[Column1]]+(ROUND(M39,3))+100+ROW()/10000,IF(AND(Q39=\"HỌC SINH GIỎI\",LEFT(P39,1)=\"6\"),Table1[[#This Row],[Column1]]+(ROUND(M39,3))+150+ROW()/10000,\"\"))))))))","v":62.503900000000002},{"$f":"IF(AND(Q39=\"HỌC SINH XUẤT SẮC\",LEFT(P39,1)=\"9\"),(ROUND(M39,3))+Table1[[#This Row],[Column1]]+10+ROW()/10000,IF(AND(Q39=\"HỌC SINH XUẤT SẮC\",LEFT(P39,1)=\"8\"),Table1[[#This Row],[Column1]]+(ROUND(M39,3))+50+ROW()/10000,IF(AND(Q39=\"HỌC SINH XUẤT SẮC\",LEFT(P39,1)=\"7\"),Table1[[#This Row],[Column1]]+(ROUND(M39,3))+100+ROW()/10000,IF(AND(Q39=\"HỌC SINH XUẤT SẮC\",LEFT(P39,1)=\"6\"),Table1[[#This Row],[Column1]]+(ROUND(M39,3))+150+ROW()/10000,\"\"))))","v":""},{"$f":"IF(AND(Q39=\"HỌC SINH GIỎI\",LEFT(P39,1)=\"9\"),Table1[[#This Row],[Column1]]+(ROUND(M39,3))+200+ROW()/10000,IF(AND(Q39=\"HỌC SINH GIỎI\",LEFT(P39,1)=\"8\"),Table1[[#This Row],[Column1]]+(ROUND(M39,3))+250+ROW()/10000,IF(AND(Q39=\"HỌC SINH GIỎI\",LEFT(P39,1)=\"7\"),Table1[[#This Row],[Column1]]+(ROUND(M39,3))+300+ROW()/10000,IF(AND(Q39=\"HỌC SINH GIỎI\",LEFT(P39,1)=\"6\"),Table1[[#This Row],[Column1]]+(ROUND(M39,3))+350+ROW()/10000,\"\"))))","v":252.50389999999999},"Lương Trần Hương","Trà","HỌC SINH GIỎI","9A"]
["39","Lê Mai Hà ","Vy","13/06/2011","Lê Văn Huy","Xóm 6","T","T",8.5,7.25,6.8,null,22.55,null,"x","9A","HỌC SINH GIỎI",{"$f":"IF(Table1[[#This Row],[STT]]=\"\",\"\",ROW()-1)","v":39},{"$f":"IF(Table1[[#This Row],[Lơp]]=\"\",\"\",VLOOKUP(Table1[[#This Row],[Lơp]],$AC$3:$AD$14,2,0))","v":30},{"$f":"IF(AND(Q40=\"HỌC SINH XUẤT SẮC\",LEFT(P40,1)=\"9\"),Table1[[#This Row],[Column1]]+(ROUND(M40,3))+400+ROW()/10000,IF(AND(Q40=\"HỌC SINH XUẤT SẮC\",LEFT(P40,1)=\"8\"),Table1[[#This Row],[Column1]]+(ROUND(M40,3))+450+ROW()/10000,IF(AND(Q40=\"HỌC SINH XUẤT SẮC\",LEFT(P40,1)=\"7\"),Table1[[#This Row],[Column1]]+(ROUND(M40,3))+500+ROW()/10000,IF(AND(Q40=\"HỌC SINH XUẤT SẮC\",LEFT(P40,1)=\"6\"),Table1[[#This Row],[Column1]]+(ROUND(M40,3))+550+ROW()/10000,IF(AND(Q40=\"HỌC SINH GIỎI\",LEFT(P40,1)=\"9\"),Table1[[#This Row],[Column1]]+(ROUND(M40,3))+10+ROW()/10000,IF(AND(Q40=\"HỌC SINH GIỎI\",LEFT(P40,1)=\"8\"),Table1[[#This Row],[Column1]]+(ROUND(M40,3))+ 50+ROW()/10000,IF(AND(Q40=\"HỌC SINH GIỎI\",LEFT(P40,1)=\"7\"),Table1[[#This Row],[Column1]]+(ROUND(M40,3))+100+ROW()/10000,IF(AND(Q40=\"HỌC SINH GIỎI\",LEFT(P40,1)=\"6\"),Table1[[#This Row],[Column1]]+(ROUND(M40,3))+150+ROW()/10000,\"\"))))))))","v":62.553999999999995},{"$f":"IF(AND(Q40=\"HỌC SINH XUẤT SẮC\",LEFT(P40,1)=\"9\"),(ROUND(M40,3))+Table1[[#This Row],[Column1]]+10+ROW()/10000,IF(AND(Q40=\"HỌC SINH XUẤT SẮC\",LEFT(P40,1)=\"8\"),Table1[[#This Row],[Column1]]+(ROUND(M40,3))+50+ROW()/10000,IF(AND(Q40=\"HỌC SINH XUẤT SẮC\",LEFT(P40,1)=\"7\"),Table1[[#This Row],[Column1]]+(ROUND(M40,3))+100+ROW()/10000,IF(AND(Q40=\"HỌC SINH XUẤT SẮC\",LEFT(P40,1)=\"6\"),Table1[[#This Row],[Column1]]+(ROUND(M40,3))+150+ROW()/10000,\"\"))))","v":""},{"$f":"IF(AND(Q40=\"HỌC SINH GIỎI\",LEFT(P40,1)=\"9\"),Table1[[#This Row],[Column1]]+(ROUND(M40,3))+200+ROW()/10000,IF(AND(Q40=\"HỌC SINH GIỎI\",LEFT(P40,1)=\"8\"),Table1[[#This Row],[Column1]]+(ROUND(M40,3))+250+ROW()/10000,IF(AND(Q40=\"HỌC SINH GIỎI\",LEFT(P40,1)=\"7\"),Table1[[#This Row],[Column1]]+(ROUND(M40,3))+300+ROW()/10000,IF(AND(Q40=\"HỌC SINH GIỎI\",LEFT(P40,1)=\"6\"),Table1[[#This Row],[Column1]]+(ROUND(M40,3))+350+ROW()/10000,\"\"))))","v":252.554},"Lê Mai Hà ","Vy","HỌC SINH GIỎI","9A"]
["40","Lê Ngọc Bình","An","12/01/2014","Lê Ngọc Dưỡng","Xóm 5","T","T",8,8.5,8.25,9.75,{"$f":"IF(AND(I41=\"\",J41=\"\",K41=\"\",L41=\"\"),\"\",SUM(I41:L41))","v":34.5},null,"X","6A","HỌC SINH GIỎI",{"$f":"IF(Table1[[#This Row],[STT]]=\"\",\"\",ROW()-1)","v":40},{"$f":"IF(Table1[[#This Row],[Lơp]]=\"\",\"\",VLOOKUP(Table1[[#This Row],[Lơp]],$AC$3:$AD$14,2,0))","v":120},{"$f":"IF(AND(Q41=\"HỌC SINH XUẤT SẮC\",LEFT(P41,1)=\"9\"),Table1[[#This Row],[Column1]]+(ROUND(M41,3))+400+ROW()/10000,IF(AND(Q41=\"HỌC SINH XUẤT SẮC\",LEFT(P41,1)=\"8\"),Table1[[#This Row],[Column1]]+(ROUND(M41,3))+450+ROW()/10000,IF(AND(Q41=\"HỌC SINH XUẤT SẮC\",LEFT(P41,1)=\"7\"),Table1[[#This Row],[Column1]]+(ROUND(M41,3))+500+ROW()/10000,IF(AND(Q41=\"HỌC SINH XUẤT SẮC\",LEFT(P41,1)=\"6\"),Table1[[#This Row],[Column1]]+(ROUND(M41,3))+550+ROW()/10000,IF(AND(Q41=\"HỌC SINH GIỎI\",LEFT(P41,1)=\"9\"),Table1[[#This Row],[Column1]]+(ROUND(M41,3))+10+ROW()/10000,IF(AND(Q41=\"HỌC SINH GIỎI\",LEFT(P41,1)=\"8\"),Table1[[#This Row],[Column1]]+(ROUND(M41,3))+ 50+ROW()/10000,IF(AND(Q41=\"HỌC SINH GIỎI\",LEFT(P41,1)=\"7\"),Table1[[#This Row],[Column1]]+(ROUND(M41,3))+100+ROW()/10000,IF(AND(Q41=\"HỌC SINH GIỎI\",LEFT(P41,1)=\"6\"),Table1[[#This Row],[Column1]]+(ROUND(M41,3))+150+ROW()/10000,\"\"))))))))","v":304.50409999999999},{"$f":"IF(AND(Q41=\"HỌC SINH XUẤT SẮC\",LEFT(P41,1)=\"9\"),(ROUND(M41,3))+Table1[[#This Row],[Column1]]+10+ROW()/10000,IF(AND(Q41=\"HỌC SINH XUẤT SẮC\",LEFT(P41,1)=\"8\"),Table1[[#This Row],[Column1]]+(ROUND(M41,3))+50+ROW()/10000,IF(AND(Q41=\"HỌC SINH XUẤT SẮC\",LEFT(P41,1)=\"7\"),Table1[[#This Row],[Column1]]+(ROUND(M41,3))+100+ROW()/10000,IF(AND(Q41=\"HỌC SINH XUẤT SẮC\",LEFT(P41,1)=\"6\"),Table1[[#This Row],[Column1]]+(ROUND(M41,3))+150+ROW()/10000,\"\"))))","v":""},{"$f":"IF(AND(Q41=\"HỌC SINH GIỎI\",LEFT(P41,1)=\"9\"),Table1[[#This Row],[Column1]]+(ROUND(M41,3))+200+ROW()/10000,IF(AND(Q41=\"HỌC SINH GIỎI\",LEFT(P41,1)=\"8\"),Table1[[#This Row],[Column1]]+(ROUND(M41,3))+250+ROW()/10000,IF(AND(Q41=\"HỌC SINH GIỎI\",LEFT(P41,1)=\"7\"),Table1[[#This Row],[Column1]]+(ROUND(M41,3))+300+ROW()/10000,IF(AND(Q41=\"HỌC SINH GIỎI\",LEFT(P41,1)=\"6\"),Table1[[#This Row],[Column1]]+(ROUND(M41,3))+350+ROW()/10000,\"\"))))","v":504.50409999999999},"Lê Ngọc Bình","An","HỌC SINH GIỎI","6A"]
["41","Lê Quang","Đại","04/04/2014","Lê Văn Hiện","Xóm 9","T","T",7,8.5,8.25,9.5,{"$f":"IF(AND(I42=\"\",J42=\"\",K42=\"\",L42=\"\"),\"\",SUM(I42:L42))","v":33.25},null,"x","6A","HỌC SINH GIỎI",{"$f":"IF(Table1[[#This Row],[STT]]=\"\",\"\",ROW()-1)","v":41},{"$f":"IF(Table1[[#This Row],[Lơp]]=\"\",\"\",VLOOKUP(Table1[[#This Row],[Lơp]],$AC$3:$AD$14,2,0))","v":120},{"$f":"IF(AND(Q42=\"HỌC SINH XUẤT SẮC\",LEFT(P42,1)=\"9\"),Table1[[#This Row],[Column1]]+(ROUND(M42,3))+400+ROW()/10000,IF(AND(Q42=\"HỌC SINH XUẤT SẮC\",LEFT(P42,1)=\"8\"),Table1[[#This Row],[Column1]]+(ROUND(M42,3))+450+ROW()/10000,IF(AND(Q42=\"HỌC SINH XUẤT SẮC\",LEFT(P42,1)=\"7\"),Table1[[#This Row],[Column1]]+(ROUND(M42,3))+500+ROW()/10000,IF(AND(Q42=\"HỌC SINH XUẤT SẮC\",LEFT(P42,1)=\"6\"),Table1[[#This Row],[Column1]]+(ROUND(M42,3))+550+ROW()/10000,IF(AND(Q42=\"HỌC SINH GIỎI\",LEFT(P42,1)=\"9\"),Table1[[#This Row],[Column1]]+(ROUND(M42,3))+10+ROW()/10000,IF(AND(Q42=\"HỌC SINH GIỎI\",LEFT(P42,1)=\"8\"),Table1[[#This Row],[Column1]]+(ROUND(M42,3))+ 50+ROW()/10000,IF(AND(Q42=\"HỌC SINH GIỎI\",LEFT(P42,1)=\"7\"),Table1[[#This Row],[Column1]]+(ROUND(M42,3))+100+ROW()/10000,IF(AND(Q42=\"HỌC SINH GIỎI\",LEFT(P42,1)=\"6\"),Table1[[#This Row],[Column1]]+(ROUND(M42,3))+150+ROW()/10000,\"\"))))))))","v":303.25420000000003},{"$f":"IF(AND(Q42=\"HỌC SINH XUẤT SẮC\",LEFT(P42,1)=\"9\"),(ROUND(M42,3))+Table1[[#This Row],[Column1]]+10+ROW()/10000,IF(AND(Q42=\"HỌC SINH XUẤT SẮC\",LEFT(P42,1)=\"8\"),Table1[[#This Row],[Column1]]+(ROUND(M42,3))+50+ROW()/10000,IF(AND(Q42=\"HỌC SINH XUẤT SẮC\",LEFT(P42,1)=\"7\"),Table1[[#This Row],[Column1]]+(ROUND(M42,3))+100+ROW()/10000,IF(AND(Q42=\"HỌC SINH XUẤT SẮC\",LEFT(P42,1)=\"6\"),Table1[[#This Row],[Column1]]+(ROUND(M42,3))+150+ROW()/10000,\"\"))))","v":""},{"$f":"IF(AND(Q42=\"HỌC SINH GIỎI\",LEFT(P42,1)=\"9\"),Table1[[#This Row],[Column1]]+(ROUND(M42,3))+200+ROW()/10000,IF(AND(Q42=\"HỌC SINH GIỎI\",LEFT(P42,1)=\"8\"),Table1[[#This Row],[Column1]]+(ROUND(M42,3))+250+ROW()/10000,IF(AND(Q42=\"HỌC SINH GIỎI\",LEFT(P42,1)=\"7\"),Table1[[#This Row],[Column1]]+(ROUND(M42,3))+300+ROW()/10000,IF(AND(Q42=\"HỌC SINH GIỎI\",LEFT(P42,1)=\"6\"),Table1[[#This Row],[Column1]]+(ROUND(M42,3))+350+ROW()/10000,\"\"))))","v":503.25420000000003},"Lê Quang","Đại","HỌC SINH GIỎI","6A"]
["42","Tạ Trần Hương","Giang","16/11/2014","Tạ Trung Trực","Xóm 9","T","T",9.25,6.5,8.25,9.5,33.5,null,"X","6A","HỌC SINH GIỎI",{"$f":"IF(Table1[[#This Row],[STT]]=\"\",\"\",ROW()-1)","v":42},{"$f":"IF(Table1[[#This Row],[Lơp]]=\"\",\"\",VLOOKUP(Table1[[#This Row],[Lơp]],$AC$3:$AD$14,2,0))","v":120},{"$f":"IF(AND(Q43=\"HỌC SINH XUẤT SẮC\",LEFT(P43,1)=\"9\"),Table1[[#This Row],[Column1]]+(ROUND(M43,3))+400+ROW()/10000,IF(AND(Q43=\"HỌC SINH XUẤT SẮC\",LEFT(P43,1)=\"8\"),Table1[[#This Row],[Column1]]+(ROUND(M43,3))+450+ROW()/10000,IF(AND(Q43=\"HỌC SINH XUẤT SẮC\",LEFT(P43,1)=\"7\"),Table1[[#This Row],[Column1]]+(ROUND(M43,3))+500+ROW()/10000,IF(AND(Q43=\"HỌC SINH XUẤT SẮC\",LEFT(P43,1)=\"6\"),Table1[[#This Row],[Column1]]+(ROUND(M43,3))+550+ROW()/10000,IF(AND(Q43=\"HỌC SINH GIỎI\",LEFT(P43,1)=\"9\"),Table1[[#This Row],[Column1]]+(ROUND(M43,3))+10+ROW()/10000,IF(AND(Q43=\"HỌC SINH GIỎI\",LEFT(P43,1)=\"8\"),Table1[[#This Row],[Column1]]+(ROUND(M43,3))+ 50+ROW()/10000,IF(AND(Q43=\"HỌC SINH GIỎI\",LEFT(P43,1)=\"7\"),Table1[[#This Row],[Column1]]+(ROUND(M43,3))+100+ROW()/10000,IF(AND(Q43=\"HỌC SINH GIỎI\",LEFT(P43,1)=\"6\"),Table1[[#This Row],[Column1]]+(ROUND(M43,3))+150+ROW()/10000,\"\"))))))))","v":303.5043},{"$f":"IF(AND(Q43=\"HỌC SINH XUẤT SẮC\",LEFT(P43,1)=\"9\"),(ROUND(M43,3))+Table1[[#This Row],[Column1]]+10+ROW()/10000,IF(AND(Q43=\"HỌC SINH XUẤT SẮC\",LEFT(P43,1)=\"8\"),Table1[[#This Row],[Column1]]+(ROUND(M43,3))+50+ROW()/10000,IF(AND(Q43=\"HỌC SINH XUẤT SẮC\",LEFT(P43,1)=\"7\"),Table1[[#This Row],[Column1]]+(ROUND(M43,3))+100+ROW()/10000,IF(AND(Q43=\"HỌC SINH XUẤT SẮC\",LEFT(P43,1)=\"6\"),Table1[[#This Row],[Column1]]+(ROUND(M43,3))+150+ROW()/10000,\"\"))))","v":""},{"$f":"IF(AND(Q43=\"HỌC SINH GIỎI\",LEFT(P43,1)=\"9\"),Table1[[#This Row],[Column1]]+(ROUND(M43,3))+200+ROW()/10000,IF(AND(Q43=\"HỌC SINH GIỎI\",LEFT(P43,1)=\"8\"),Table1[[#This Row],[Column1]]+(ROUND(M43,3))+250+ROW()/10000,IF(AND(Q43=\"HỌC SINH GIỎI\",LEFT(P43,1)=\"7\"),Table1[[#This Row],[Column1]]+(ROUND(M43,3))+300+ROW()/10000,IF(AND(Q43=\"HỌC SINH GIỎI\",LEFT(P43,1)=\"6\"),Table1[[#This Row],[Column1]]+(ROUND(M43,3))+350+ROW()/10000,\"\"))))","v":503.5043},"Tạ Trần Hương","Giang","HỌC SINH GIỎI","6A"]
["43","Đặng Huyền","Trang","04/03/2014","Đặng Văn Quý","Xóm 4","T","T",8,8.5,7.25,8.25,32,null,"x","6A","HỌC SINH GIỎI",{"$f":"IF(Table1[[#This Row],[STT]]=\"\",\"\",ROW()-1)","v":43},{"$f":"IF(Table1[[#This Row],[Lơp]]=\"\",\"\",VLOOKUP(Table1[[#This Row],[Lơp]],$AC$3:$AD$14,2,0))","v":120},{"$f":"IF(AND(Q44=\"HỌC SINH XUẤT SẮC\",LEFT(P44,1)=\"9\"),Table1[[#This Row],[Column1]]+(ROUND(M44,3))+400+ROW()/10000,IF(AND(Q44=\"HỌC SINH XUẤT SẮC\",LEFT(P44,1)=\"8\"),Table1[[#This Row],[Column1]]+(ROUND(M44,3))+450+ROW()/10000,IF(AND(Q44=\"HỌC SINH XUẤT SẮC\",LEFT(P44,1)=\"7\"),Table1[[#This Row],[Column1]]+(ROUND(M44,3))+500+ROW()/10000,IF(AND(Q44=\"HỌC SINH XUẤT SẮC\",LEFT(P44,1)=\"6\"),Table1[[#This Row],[Column1]]+(ROUND(M44,3))+550+ROW()/10000,IF(AND(Q44=\"HỌC SINH GIỎI\",LEFT(P44,1)=\"9\"),Table1[[#This Row],[Column1]]+(ROUND(M44,3))+10+ROW()/10000,IF(AND(Q44=\"HỌC SINH GIỎI\",LEFT(P44,1)=\"8\"),Table1[[#This Row],[Column1]]+(ROUND(M44,3))+ 50+ROW()/10000,IF(AND(Q44=\"HỌC SINH GIỎI\",LEFT(P44,1)=\"7\"),Table1[[#This Row],[Column1]]+(ROUND(M44,3))+100+ROW()/10000,IF(AND(Q44=\"HỌC SINH GIỎI\",LEFT(P44,1)=\"6\"),Table1[[#This Row],[Column1]]+(ROUND(M44,3))+150+ROW()/10000,\"\"))))))))","v":302.00439999999998},{"$f":"IF(AND(Q44=\"HỌC SINH XUẤT SẮC\",LEFT(P44,1)=\"9\"),(ROUND(M44,3))+Table1[[#This Row],[Column1]]+10+ROW()/10000,IF(AND(Q44=\"HỌC SINH XUẤT SẮC\",LEFT(P44,1)=\"8\"),Table1[[#This Row],[Column1]]+(ROUND(M44,3))+50+ROW()/10000,IF(AND(Q44=\"HỌC SINH XUẤT SẮC\",LEFT(P44,1)=\"7\"),Table1[[#This Row],[Column1]]+(ROUND(M44,3))+100+ROW()/10000,IF(AND(Q44=\"HỌC SINH XUẤT SẮC\",LEFT(P44,1)=\"6\"),Table1[[#This Row],[Column1]]+(ROUND(M44,3))+150+ROW()/10000,\"\"))))","v":""},{"$f":"IF(AND(Q44=\"HỌC SINH GIỎI\",LEFT(P44,1)=\"9\"),Table1[[#This Row],[Column1]]+(ROUND(M44,3))+200+ROW()/10000,IF(AND(Q44=\"HỌC SINH GIỎI\",LEFT(P44,1)=\"8\"),Table1[[#This Row],[Column1]]+(ROUND(M44,3))+250+ROW()/10000,IF(AND(Q44=\"HỌC SINH GIỎI\",LEFT(P44,1)=\"7\"),Table1[[#This Row],[Column1]]+(ROUND(M44,3))+300+ROW()/10000,IF(AND(Q44=\"HỌC SINH GIỎI\",LEFT(P44,1)=\"6\"),Table1[[#This Row],[Column1]]+(ROUND(M44,3))+350+ROW()/10000,\"\"))))","v":502.00439999999998},"Đặng Huyền","Trang","HỌC SINH GIỎI","6A"]
["44","Tống Bảo","Trâm","11/07/2014","Tống Công Đoàn","Xóm 1","T","T",9.25,8.75,6.5,9.75,34.25,null,"x","6A","HỌC SINH GIỎI",{"$f":"IF(Table1[[#This Row],[STT]]=\"\",\"\",ROW()-1)","v":44},{"$f":"IF(Table1[[#This Row],[Lơp]]=\"\",\"\",VLOOKUP(Table1[[#This Row],[Lơp]],$AC$3:$AD$14,2,0))","v":120},{"$f":"IF(AND(Q45=\"HỌC SINH XUẤT SẮC\",LEFT(P45,1)=\"9\"),Table1[[#This Row],[Column1]]+(ROUND(M45,3))+400+ROW()/10000,IF(AND(Q45=\"HỌC SINH XUẤT SẮC\",LEFT(P45,1)=\"8\"),Table1[[#This Row],[Column1]]+(ROUND(M45,3))+450+ROW()/10000,IF(AND(Q45=\"HỌC SINH XUẤT SẮC\",LEFT(P45,1)=\"7\"),Table1[[#This Row],[Column1]]+(ROUND(M45,3))+500+ROW()/10000,IF(AND(Q45=\"HỌC SINH XUẤT SẮC\",LEFT(P45,1)=\"6\"),Table1[[#This Row],[Column1]]+(ROUND(M45,3))+550+ROW()/10000,IF(AND(Q45=\"HỌC SINH GIỎI\",LEFT(P45,1)=\"9\"),Table1[[#This Row],[Column1]]+(ROUND(M45,3))+10+ROW()/10000,IF(AND(Q45=\"HỌC SINH GIỎI\",LEFT(P45,1)=\"8\"),Table1[[#This Row],[Column1]]+(ROUND(M45,3))+ 50+ROW()/10000,IF(AND(Q45=\"HỌC SINH GIỎI\",LEFT(P45,1)=\"7\"),Table1[[#This Row],[Column1]]+(ROUND(M45,3))+100+ROW()/10000,IF(AND(Q45=\"HỌC SINH GIỎI\",LEFT(P45,1)=\"6\"),Table1[[#This Row],[Column1]]+(ROUND(M45,3))+150+ROW()/10000,\"\"))))))))","v":304.25450000000001},{"$f":"IF(AND(Q45=\"HỌC SINH XUẤT SẮC\",LEFT(P45,1)=\"9\"),(ROUND(M45,3))+Table1[[#This Row],[Column1]]+10+ROW()/10000,IF(AND(Q45=\"HỌC SINH XUẤT SẮC\",LEFT(P45,1)=\"8\"),Table1[[#This Row],[Column1]]+(ROUND(M45,3))+50+ROW()/10000,IF(AND(Q45=\"HỌC SINH XUẤT SẮC\",LEFT(P45,1)=\"7\"),Table1[[#This Row],[Column1]]+(ROUND(M45,3))+100+ROW()/10000,IF(AND(Q45=\"HỌC SINH XUẤT SẮC\",LEFT(P45,1)=\"6\"),Table1[[#This Row],[Column1]]+(ROUND(M45,3))+150+ROW()/10000,\"\"))))","v":""},{"$f":"IF(AND(Q45=\"HỌC SINH GIỎI\",LEFT(P45,1)=\"9\"),Table1[[#This Row],[Column1]]+(ROUND(M45,3))+200+ROW()/10000,IF(AND(Q45=\"HỌC SINH GIỎI\",LEFT(P45,1)=\"8\"),Table1[[#This Row],[Column1]]+(ROUND(M45,3))+250+ROW()/10000,IF(AND(Q45=\"HỌC SINH GIỎI\",LEFT(P45,1)=\"7\"),Table1[[#This Row],[Column1]]+(ROUND(M45,3))+300+ROW()/10000,IF(AND(Q45=\"HỌC SINH GIỎI\",LEFT(P45,1)=\"6\"),Table1[[#This Row],[Column1]]+(ROUND(M45,3))+350+ROW()/10000,\"\"))))","v":504.25450000000001},"Tống Bảo","Trâm","HỌC SINH GIỎI","6A"]
["45","Lê Anh","Quân","25/10/2012","Lê Văn Toàn","Xóm 9","T","T","7,0","7,5","5,0","8,0","27,50",null,"x","8B","HỌC SINH GIỎI",{"$f":"IF(Table1[[#This Row],[STT]]=\"\",\"\",ROW()-1)","v":45},{"$f":"IF(Table1[[#This Row],[Lơp]]=\"\",\"\",VLOOKUP(Table1[[#This Row],[Lơp]],$AC$3:$AD$14,2,0))","v":50},{"$f":"IF(AND(Q46=\"HỌC SINH XUẤT SẮC\",LEFT(P46,1)=\"9\"),Table1[[#This Row],[Column1]]+(ROUND(M46,3))+400+ROW()/10000,IF(AND(Q46=\"HỌC SINH XUẤT SẮC\",LEFT(P46,1)=\"8\"),Table1[[#This Row],[Column1]]+(ROUND(M46,3))+450+ROW()/10000,IF(AND(Q46=\"HỌC SINH XUẤT SẮC\",LEFT(P46,1)=\"7\"),Table1[[#This Row],[Column1]]+(ROUND(M46,3))+500+ROW()/10000,IF(AND(Q46=\"HỌC SINH XUẤT SẮC\",LEFT(P46,1)=\"6\"),Table1[[#This Row],[Column1]]+(ROUND(M46,3))+550+ROW()/10000,IF(AND(Q46=\"HỌC SINH GIỎI\",LEFT(P46,1)=\"9\"),Table1[[#This Row],[Column1]]+(ROUND(M46,3))+10+ROW()/10000,IF(AND(Q46=\"HỌC SINH GIỎI\",LEFT(P46,1)=\"8\"),Table1[[#This Row],[Column1]]+(ROUND(M46,3))+ 50+ROW()/10000,IF(AND(Q46=\"HỌC SINH GIỎI\",LEFT(P46,1)=\"7\"),Table1[[#This Row],[Column1]]+(ROUND(M46,3))+100+ROW()/10000,IF(AND(Q46=\"HỌC SINH GIỎI\",LEFT(P46,1)=\"6\"),Table1[[#This Row],[Column1]]+(ROUND(M46,3))+150+ROW()/10000,\"\"))))))))","v":127.5046},{"$f":"IF(AND(Q46=\"HỌC SINH XUẤT SẮC\",LEFT(P46,1)=\"9\"),(ROUND(M46,3))+Table1[[#This Row],[Column1]]+10+ROW()/10000,IF(AND(Q46=\"HỌC SINH XUẤT SẮC\",LEFT(P46,1)=\"8\"),Table1[[#This Row],[Column1]]+(ROUND(M46,3))+50+ROW()/10000,IF(AND(Q46=\"HỌC SINH XUẤT SẮC\",LEFT(P46,1)=\"7\"),Table1[[#This Row],[Column1]]+(ROUND(M46,3))+100+ROW()/10000,IF(AND(Q46=\"HỌC SINH XUẤT SẮC\",LEFT(P46,1)=\"6\"),Table1[[#This Row],[Column1]]+(ROUND(M46,3))+150+ROW()/10000,\"\"))))","v":""},{"$f":"IF(AND(Q46=\"HỌC SINH GIỎI\",LEFT(P46,1)=\"9\"),Table1[[#This Row],[Column1]]+(ROUND(M46,3))+200+ROW()/10000,IF(AND(Q46=\"HỌC SINH GIỎI\",LEFT(P46,1)=\"8\"),Table1[[#This Row],[Column1]]+(ROUND(M46,3))+250+ROW()/10000,IF(AND(Q46=\"HỌC SINH GIỎI\",LEFT(P46,1)=\"7\"),Table1[[#This Row],[Column1]]+(ROUND(M46,3))+300+ROW()/10000,IF(AND(Q46=\"HỌC SINH GIỎI\",LEFT(P46,1)=\"6\"),Table1[[#This Row],[Column1]]+(ROUND(M46,3))+350+ROW()/10000,\"\"))))","v":327.50459999999998},"Lê Anh","Quân","HỌC SINH GIỎI","8B"]
["46","Vũ Quốc","Ân","13/05/2012","Vũ Thanh Vương","Xóm 9","T","T","8,50","7,75","7,25","7,75","31,25",null,"x","8B","HỌC SINH GIỎI",{"$f":"IF(Table1[[#This Row],[STT]]=\"\",\"\",ROW()-1)","v":46},{"$f":"IF(Table1[[#This Row],[Lơp]]=\"\",\"\",VLOOKUP(Table1[[#This Row],[Lơp]],$AC$3:$AD$14,2,0))","v":50},{"$f":"IF(AND(Q47=\"HỌC SINH XUẤT SẮC\",LEFT(P47,1)=\"9\"),Table1[[#This Row],[Column1]]+(ROUND(M47,3))+400+ROW()/10000,IF(AND(Q47=\"HỌC SINH XUẤT SẮC\",LEFT(P47,1)=\"8\"),Table1[[#This Row],[Column1]]+(ROUND(M47,3))+450+ROW()/10000,IF(AND(Q47=\"HỌC SINH XUẤT SẮC\",LEFT(P47,1)=\"7\"),Table1[[#This Row],[Column1]]+(ROUND(M47,3))+500+ROW()/10000,IF(AND(Q47=\"HỌC SINH XUẤT SẮC\",LEFT(P47,1)=\"6\"),Table1[[#This Row],[Column1]]+(ROUND(M47,3))+550+ROW()/10000,IF(AND(Q47=\"HỌC SINH GIỎI\",LEFT(P47,1)=\"9\"),Table1[[#This Row],[Column1]]+(ROUND(M47,3))+10+ROW()/10000,IF(AND(Q47=\"HỌC SINH GIỎI\",LEFT(P47,1)=\"8\"),Table1[[#This Row],[Column1]]+(ROUND(M47,3))+ 50+ROW()/10000,IF(AND(Q47=\"HỌC SINH GIỎI\",LEFT(P47,1)=\"7\"),Table1[[#This Row],[Column1]]+(ROUND(M47,3))+100+ROW()/10000,IF(AND(Q47=\"HỌC SINH GIỎI\",LEFT(P47,1)=\"6\"),Table1[[#This Row],[Column1]]+(ROUND(M47,3))+150+ROW()/10000,\"\"))))))))","v":131.25470000000001},{"$f":"IF(AND(Q47=\"HỌC SINH XUẤT SẮC\",LEFT(P47,1)=\"9\"),(ROUND(M47,3))+Table1[[#This Row],[Column1]]+10+ROW()/10000,IF(AND(Q47=\"HỌC SINH XUẤT SẮC\",LEFT(P47,1)=\"8\"),Table1[[#This Row],[Column1]]+(ROUND(M47,3))+50+ROW()/10000,IF(AND(Q47=\"HỌC SINH XUẤT SẮC\",LEFT(P47,1)=\"7\"),Table1[[#This Row],[Column1]]+(ROUND(M47,3))+100+ROW()/10000,IF(AND(Q47=\"HỌC SINH XUẤT SẮC\",LEFT(P47,1)=\"6\"),Table1[[#This Row],[Column1]]+(ROUND(M47,3))+150+ROW()/10000,\"\"))))","v":""},{"$f":"IF(AND(Q47=\"HỌC SINH GIỎI\",LEFT(P47,1)=\"9\"),Table1[[#This Row],[Column1]]+(ROUND(M47,3))+200+ROW()/10000,IF(AND(Q47=\"HỌC SINH GIỎI\",LEFT(P47,1)=\"8\"),Table1[[#This Row],[Column1]]+(ROUND(M47,3))+250+ROW()/10000,IF(AND(Q47=\"HỌC SINH GIỎI\",LEFT(P47,1)=\"7\"),Table1[[#This Row],[Column1]]+(ROUND(M47,3))+300+ROW()/10000,IF(AND(Q47=\"HỌC SINH GIỎI\",LEFT(P47,1)=\"6\"),Table1[[#This Row],[Column1]]+(ROUND(M47,3))+350+ROW()/10000,\"\"))))","v":331.25470000000001},"Vũ Quốc","Ân","HỌC SINH GIỎI","8B"]
["47","Trần Thùy","Dương","2012-12-07","Trần Ngọc Văn","Xóm 10","T","T","8,00","8,5","6,75","7,25","30,50",null,"x","8B","HỌC SINH GIỎI",{"$f":"IF(Table1[[#This Row],[STT]]=\"\",\"\",ROW()-1)","v":47},{"$f":"IF(Table1[[#This Row],[Lơp]]=\"\",\"\",VLOOKUP(Table1[[#This Row],[Lơp]],$AC$3:$AD$14,2,0))","v":50},{"$f":"IF(AND(Q48=\"HỌC SINH XUẤT SẮC\",LEFT(P48,1)=\"9\"),Table1[[#This Row],[Column1]]+(ROUND(M48,3))+400+ROW()/10000,IF(AND(Q48=\"HỌC SINH XUẤT SẮC\",LEFT(P48,1)=\"8\"),Table1[[#This Row],[Column1]]+(ROUND(M48,3))+450+ROW()/10000,IF(AND(Q48=\"HỌC SINH XUẤT SẮC\",LEFT(P48,1)=\"7\"),Table1[[#This Row],[Column1]]+(ROUND(M48,3))+500+ROW()/10000,IF(AND(Q48=\"HỌC SINH XUẤT SẮC\",LEFT(P48,1)=\"6\"),Table1[[#This Row],[Column1]]+(ROUND(M48,3))+550+ROW()/10000,IF(AND(Q48=\"HỌC SINH GIỎI\",LEFT(P48,1)=\"9\"),Table1[[#This Row],[Column1]]+(ROUND(M48,3))+10+ROW()/10000,IF(AND(Q48=\"HỌC SINH GIỎI\",LEFT(P48,1)=\"8\"),Table1[[#This Row],[Column1]]+(ROUND(M48,3))+ 50+ROW()/10000,IF(AND(Q48=\"HỌC SINH GIỎI\",LEFT(P48,1)=\"7\"),Table1[[#This Row],[Column1]]+(ROUND(M48,3))+100+ROW()/10000,IF(AND(Q48=\"HỌC SINH GIỎI\",LEFT(P48,1)=\"6\"),Table1[[#This Row],[Column1]]+(ROUND(M48,3))+150+ROW()/10000,\"\"))))))))","v":130.50479999999999},{"$f":"IF(AND(Q48=\"HỌC SINH XUẤT SẮC\",LEFT(P48,1)=\"9\"),(ROUND(M48,3))+Table1[[#This Row],[Column1]]+10+ROW()/10000,IF(AND(Q48=\"HỌC SINH XUẤT SẮC\",LEFT(P48,1)=\"8\"),Table1[[#This Row],[Column1]]+(ROUND(M48,3))+50+ROW()/10000,IF(AND(Q48=\"HỌC SINH XUẤT SẮC\",LEFT(P48,1)=\"7\"),Table1[[#This Row],[Column1]]+(ROUND(M48,3))+100+ROW()/10000,IF(AND(Q48=\"HỌC SINH XUẤT SẮC\",LEFT(P48,1)=\"6\"),Table1[[#This Row],[Column1]]+(ROUND(M48,3))+150+ROW()/10000,\"\"))))","v":""},{"$f":"IF(AND(Q48=\"HỌC SINH GIỎI\",LEFT(P48,1)=\"9\"),Table1[[#This Row],[Column1]]+(ROUND(M48,3))+200+ROW()/10000,IF(AND(Q48=\"HỌC SINH GIỎI\",LEFT(P48,1)=\"8\"),Table1[[#This Row],[Column1]]+(ROUND(M48,3))+250+ROW()/10000,IF(AND(Q48=\"HỌC SINH GIỎI\",LEFT(P48,1)=\"7\"),Table1[[#This Row],[Column1]]+(ROUND(M48,3))+300+ROW()/10000,IF(AND(Q48=\"HỌC SINH GIỎI\",LEFT(P48,1)=\"6\"),Table1[[#This Row],[Column1]]+(ROUND(M48,3))+350+ROW()/10000,\"\"))))","v":330.50479999999999},"Trần Thùy","Dương","HỌC SINH GIỎI","8B"]
["48","Trần Bảo","Huy","2012-09-09","Trần Sỹ Nghị","Xóm 11","T","T","7,50","8,50","7,25","7,25","31,00",null,"x","8B","HỌC SINH GIỎI",{"$f":"IF(Table1[[#This Row],[STT]]=\"\",\"\",ROW()-1)","v":48},{"$f":"IF(Table1[[#This Row],[Lơp]]=\"\",\"\",VLOOKUP(Table1[[#This Row],[Lơp]],$AC$3:$AD$14,2,0))","v":50},{"$f":"IF(AND(Q49=\"HỌC SINH XUẤT SẮC\",LEFT(P49,1)=\"9\"),Table1[[#This Row],[Column1]]+(ROUND(M49,3))+400+ROW()/10000,IF(AND(Q49=\"HỌC SINH XUẤT SẮC\",LEFT(P49,1)=\"8\"),Table1[[#This Row],[Column1]]+(ROUND(M49,3))+450+ROW()/10000,IF(AND(Q49=\"HỌC SINH XUẤT SẮC\",LEFT(P49,1)=\"7\"),Table1[[#This Row],[Column1]]+(ROUND(M49,3))+500+ROW()/10000,IF(AND(Q49=\"HỌC SINH XUẤT SẮC\",LEFT(P49,1)=\"6\"),Table1[[#This Row],[Column1]]+(ROUND(M49,3))+550+ROW()/10000,IF(AND(Q49=\"HỌC SINH GIỎI\",LEFT(P49,1)=\"9\"),Table1[[#This Row],[Column1]]+(ROUND(M49,3))+10+ROW()/10000,IF(AND(Q49=\"HỌC SINH GIỎI\",LEFT(P49,1)=\"8\"),Table1[[#This Row],[Column1]]+(ROUND(M49,3))+ 50+ROW()/10000,IF(AND(Q49=\"HỌC SINH GIỎI\",LEFT(P49,1)=\"7\"),Table1[[#This Row],[Column1]]+(ROUND(M49,3))+100+ROW()/10000,IF(AND(Q49=\"HỌC SINH GIỎI\",LEFT(P49,1)=\"6\"),Table1[[#This Row],[Column1]]+(ROUND(M49,3))+150+ROW()/10000,\"\"))))))))","v":131.00489999999999},{"$f":"IF(AND(Q49=\"HỌC SINH XUẤT SẮC\",LEFT(P49,1)=\"9\"),(ROUND(M49,3))+Table1[[#This Row],[Column1]]+10+ROW()/10000,IF(AND(Q49=\"HỌC SINH XUẤT SẮC\",LEFT(P49,1)=\"8\"),Table1[[#This Row],[Column1]]+(ROUND(M49,3))+50+ROW()/10000,IF(AND(Q49=\"HỌC SINH XUẤT SẮC\",LEFT(P49,1)=\"7\"),Table1[[#This Row],[Column1]]+(ROUND(M49,3))+100+ROW()/10000,IF(AND(Q49=\"HỌC SINH XUẤT SẮC\",LEFT(P49,1)=\"6\"),Table1[[#This Row],[Column1]]+(ROUND(M49,3))+150+ROW()/10000,\"\"))))","v":""},{"$f":"IF(AND(Q49=\"HỌC SINH GIỎI\",LEFT(P49,1)=\"9\"),Table1[[#This Row],[Column1]]+(ROUND(M49,3))+200+ROW()/10000,IF(AND(Q49=\"HỌC SINH GIỎI\",LEFT(P49,1)=\"8\"),Table1[[#This Row],[Column1]]+(ROUND(M49,3))+250+ROW()/10000,IF(AND(Q49=\"HỌC SINH GIỎI\",LEFT(P49,1)=\"7\"),Table1[[#This Row],[Column1]]+(ROUND(M49,3))+300+ROW()/10000,IF(AND(Q49=\"HỌC SINH GIỎI\",LEFT(P49,1)=\"6\"),Table1[[#This Row],[Column1]]+(ROUND(M49,3))+350+ROW()/10000,\"\"))))","v":331.00490000000002},"Trần Bảo","Huy","HỌC SINH GIỎI","8B"]
["49","Trần Bình ","Minh","2012-03-11","Trần Viết Trường","Xóm 12","T","T","7,50","8,00","9,00","8,25","32,75",null,"x","8B","HỌC SINH GIỎI",{"$f":"IF(Table1[[#This Row],[STT]]=\"\",\"\",ROW()-1)","v":49},{"$f":"IF(Table1[[#This Row],[Lơp]]=\"\",\"\",VLOOKUP(Table1[[#This Row],[Lơp]],$AC$3:$AD$14,2,0))","v":50},{"$f":"IF(AND(Q50=\"HỌC SINH XUẤT SẮC\",LEFT(P50,1)=\"9\"),Table1[[#This Row],[Column1]]+(ROUND(M50,3))+400+ROW()/10000,IF(AND(Q50=\"HỌC SINH XUẤT SẮC\",LEFT(P50,1)=\"8\"),Table1[[#This Row],[Column1]]+(ROUND(M50,3))+450+ROW()/10000,IF(AND(Q50=\"HỌC SINH XUẤT SẮC\",LEFT(P50,1)=\"7\"),Table1[[#This Row],[Column1]]+(ROUND(M50,3))+500+ROW()/10000,IF(AND(Q50=\"HỌC SINH XUẤT SẮC\",LEFT(P50,1)=\"6\"),Table1[[#This Row],[Column1]]+(ROUND(M50,3))+550+ROW()/10000,IF(AND(Q50=\"HỌC SINH GIỎI\",LEFT(P50,1)=\"9\"),Table1[[#This Row],[Column1]]+(ROUND(M50,3))+10+ROW()/10000,IF(AND(Q50=\"HỌC SINH GIỎI\",LEFT(P50,1)=\"8\"),Table1[[#This Row],[Column1]]+(ROUND(M50,3))+ 50+ROW()/10000,IF(AND(Q50=\"HỌC SINH GIỎI\",LEFT(P50,1)=\"7\"),Table1[[#This Row],[Column1]]+(ROUND(M50,3))+100+ROW()/10000,IF(AND(Q50=\"HỌC SINH GIỎI\",LEFT(P50,1)=\"6\"),Table1[[#This Row],[Column1]]+(ROUND(M50,3))+150+ROW()/10000,\"\"))))))))","v":132.755},{"$f":"IF(AND(Q50=\"HỌC SINH XUẤT SẮC\",LEFT(P50,1)=\"9\"),(ROUND(M50,3))+Table1[[#This Row],[Column1]]+10+ROW()/10000,IF(AND(Q50=\"HỌC SINH XUẤT SẮC\",LEFT(P50,1)=\"8\"),Table1[[#This Row],[Column1]]+(ROUND(M50,3))+50+ROW()/10000,IF(AND(Q50=\"HỌC SINH XUẤT SẮC\",LEFT(P50,1)=\"7\"),Table1[[#This Row],[Column1]]+(ROUND(M50,3))+100+ROW()/10000,IF(AND(Q50=\"HỌC SINH XUẤT SẮC\",LEFT(P50,1)=\"6\"),Table1[[#This Row],[Column1]]+(ROUND(M50,3))+150+ROW()/10000,\"\"))))","v":""},{"$f":"IF(AND(Q50=\"HỌC SINH GIỎI\",LEFT(P50,1)=\"9\"),Table1[[#This Row],[Column1]]+(ROUND(M50,3))+200+ROW()/10000,IF(AND(Q50=\"HỌC SINH GIỎI\",LEFT(P50,1)=\"8\"),Table1[[#This Row],[Column1]]+(ROUND(M50,3))+250+ROW()/10000,IF(AND(Q50=\"HỌC SINH GIỎI\",LEFT(P50,1)=\"7\"),Table1[[#This Row],[Column1]]+(ROUND(M50,3))+300+ROW()/10000,IF(AND(Q50=\"HỌC SINH GIỎI\",LEFT(P50,1)=\"6\"),Table1[[#This Row],[Column1]]+(ROUND(M50,3))+350+ROW()/10000,\"\"))))","v":332.755},"Trần Bình ","Minh","HỌC SINH GIỎI","8B"]
["50","Phạm Phương","Trinh","19/11/2012","Phạm Văn Cẩn","Xóm 13","T","T","8,25","9,00","6,50","8,25","32,00",null,"x","8B","HỌC SINH GIỎI",{"$f":"IF(Table1[[#This Row],[STT]]=\"\",\"\",ROW()-1)","v":50},{"$f":"IF(Table1[[#This Row],[Lơp]]=\"\",\"\",VLOOKUP(Table1[[#This Row],[Lơp]],$AC$3:$AD$14,2,0))","v":50},{"$f":"IF(AND(Q51=\"HỌC SINH XUẤT SẮC\",LEFT(P51,1)=\"9\"),Table1[[#This Row],[Column1]]+(ROUND(M51,3))+400+ROW()/10000,IF(AND(Q51=\"HỌC SINH XUẤT SẮC\",LEFT(P51,1)=\"8\"),Table1[[#This Row],[Column1]]+(ROUND(M51,3))+450+ROW()/10000,IF(AND(Q51=\"HỌC SINH XUẤT SẮC\",LEFT(P51,1)=\"7\"),Table1[[#This Row],[Column1]]+(ROUND(M51,3))+500+ROW()/10000,IF(AND(Q51=\"HỌC SINH XUẤT SẮC\",LEFT(P51,1)=\"6\"),Table1[[#This Row],[Column1]]+(ROUND(M51,3))+550+ROW()/10000,IF(AND(Q51=\"HỌC SINH GIỎI\",LEFT(P51,1)=\"9\"),Table1[[#This Row],[Column1]]+(ROUND(M51,3))+10+ROW()/10000,IF(AND(Q51=\"HỌC SINH GIỎI\",LEFT(P51,1)=\"8\"),Table1[[#This Row],[Column1]]+(ROUND(M51,3))+ 50+ROW()/10000,IF(AND(Q51=\"HỌC SINH GIỎI\",LEFT(P51,1)=\"7\"),Table1[[#This Row],[Column1]]+(ROUND(M51,3))+100+ROW()/10000,IF(AND(Q51=\"HỌC SINH GIỎI\",LEFT(P51,1)=\"6\"),Table1[[#This Row],[Column1]]+(ROUND(M51,3))+150+ROW()/10000,\"\"))))))))","v":132.0051},{"$f":"IF(AND(Q51=\"HỌC SINH XUẤT SẮC\",LEFT(P51,1)=\"9\"),(ROUND(M51,3))+Table1[[#This Row],[Column1]]+10+ROW()/10000,IF(AND(Q51=\"HỌC SINH XUẤT SẮC\",LEFT(P51,1)=\"8\"),Table1[[#This Row],[Column1]]+(ROUND(M51,3))+50+ROW()/10000,IF(AND(Q51=\"HỌC SINH XUẤT SẮC\",LEFT(P51,1)=\"7\"),Table1[[#This Row],[Column1]]+(ROUND(M51,3))+100+ROW()/10000,IF(AND(Q51=\"HỌC SINH XUẤT SẮC\",LEFT(P51,1)=\"6\"),Table1[[#This Row],[Column1]]+(ROUND(M51,3))+150+ROW()/10000,\"\"))))","v":""},{"$f":"IF(AND(Q51=\"HỌC SINH GIỎI\",LEFT(P51,1)=\"9\"),Table1[[#This Row],[Column1]]+(ROUND(M51,3))+200+ROW()/10000,IF(AND(Q51=\"HỌC SINH GIỎI\",LEFT(P51,1)=\"8\"),Table1[[#This Row],[Column1]]+(ROUND(M51,3))+250+ROW()/10000,IF(AND(Q51=\"HỌC SINH GIỎI\",LEFT(P51,1)=\"7\"),Table1[[#This Row],[Column1]]+(ROUND(M51,3))+300+ROW()/10000,IF(AND(Q51=\"HỌC SINH GIỎI\",LEFT(P51,1)=\"6\"),Table1[[#This Row],[Column1]]+(ROUND(M51,3))+350+ROW()/10000,\"\"))))","v":332.00510000000003},"Phạm Phương","Trinh","HỌC SINH GIỎI","8B"]
["51","Nguyễn Thảo","Anh","2012-10-18","Nguyễn Văn Cẩn","Xóm 7","T","T",8.5,9.5,5.25,9.25,{"$f":"IF(AND(I52=\"\",J52=\"\",K52=\"\",L52=\"\"),\"\",SUM(I52:L52))","v":32.5},null,"x","8A","HỌC SINH GIỎI",{"$f":"IF(Table1[[#This Row],[STT]]=\"\",\"\",ROW()-1)","v":51},{"$f":"IF(Table1[[#This Row],[Lơp]]=\"\",\"\",VLOOKUP(Table1[[#This Row],[Lơp]],$AC$3:$AD$14,2,0))","v":60},{"$f":"IF(AND(Q52=\"HỌC SINH XUẤT SẮC\",LEFT(P52,1)=\"9\"),Table1[[#This Row],[Column1]]+(ROUND(M52,3))+400+ROW()/10000,IF(AND(Q52=\"HỌC SINH XUẤT SẮC\",LEFT(P52,1)=\"8\"),Table1[[#This Row],[Column1]]+(ROUND(M52,3))+450+ROW()/10000,IF(AND(Q52=\"HỌC SINH XUẤT SẮC\",LEFT(P52,1)=\"7\"),Table1[[#This Row],[Column1]]+(ROUND(M52,3))+500+ROW()/10000,IF(AND(Q52=\"HỌC SINH XUẤT SẮC\",LEFT(P52,1)=\"6\"),Table1[[#This Row],[Column1]]+(ROUND(M52,3))+550+ROW()/10000,IF(AND(Q52=\"HỌC SINH GIỎI\",LEFT(P52,1)=\"9\"),Table1[[#This Row],[Column1]]+(ROUND(M52,3))+10+ROW()/10000,IF(AND(Q52=\"HỌC SINH GIỎI\",LEFT(P52,1)=\"8\"),Table1[[#This Row],[Column1]]+(ROUND(M52,3))+ 50+ROW()/10000,IF(AND(Q52=\"HỌC SINH GIỎI\",LEFT(P52,1)=\"7\"),Table1[[#This Row],[Column1]]+(ROUND(M52,3))+100+ROW()/10000,IF(AND(Q52=\"HỌC SINH GIỎI\",LEFT(P52,1)=\"6\"),Table1[[#This Row],[Column1]]+(ROUND(M52,3))+150+ROW()/10000,\"\"))))))))","v":142.5052},{"$f":"IF(AND(Q52=\"HỌC SINH XUẤT SẮC\",LEFT(P52,1)=\"9\"),(ROUND(M52,3))+Table1[[#This Row],[Column1]]+10+ROW()/10000,IF(AND(Q52=\"HỌC SINH XUẤT SẮC\",LEFT(P52,1)=\"8\"),Table1[[#This Row],[Column1]]+(ROUND(M52,3))+50+ROW()/10000,IF(AND(Q52=\"HỌC SINH XUẤT SẮC\",LEFT(P52,1)=\"7\"),Table1[[#This Row],[Column1]]+(ROUND(M52,3))+100+ROW()/10000,IF(AND(Q52=\"HỌC SINH XUẤT SẮC\",LEFT(P52,1)=\"6\"),Table1[[#This Row],[Column1]]+(ROUND(M52,3))+150+ROW()/10000,\"\"))))","v":""},{"$f":"IF(AND(Q52=\"HỌC SINH GIỎI\",LEFT(P52,1)=\"9\"),Table1[[#This Row],[Column1]]+(ROUND(M52,3))+200+ROW()/10000,IF(AND(Q52=\"HỌC SINH GIỎI\",LEFT(P52,1)=\"8\"),Table1[[#This Row],[Column1]]+(ROUND(M52,3))+250+ROW()/10000,IF(AND(Q52=\"HỌC SINH GIỎI\",LEFT(P52,1)=\"7\"),Table1[[#This Row],[Column1]]+(ROUND(M52,3))+300+ROW()/10000,IF(AND(Q52=\"HỌC SINH GIỎI\",LEFT(P52,1)=\"6\"),Table1[[#This Row],[Column1]]+(ROUND(M52,3))+350+ROW()/10000,\"\"))))","v":342.5052},"Nguyễn Thảo","Anh","HỌC SINH GIỎI","8A"]
["52","Trần Văn ","Hiệu","2012-02-20","Trần Văn Hà","Xóm 9","T","T",7.75,7.75,6.5,6.5,{"$f":"IF(AND(I53=\"\",J53=\"\",K53=\"\",L53=\"\"),\"\",SUM(I53:L53))","v":28.5},null,"x","8A","HỌC SINH GIỎI",{"$f":"IF(Table1[[#This Row],[STT]]=\"\",\"\",ROW()-1)","v":52},{"$f":"IF(Table1[[#This Row],[Lơp]]=\"\",\"\",VLOOKUP(Table1[[#This Row],[Lơp]],$AC$3:$AD$14,2,0))","v":60},{"$f":"IF(AND(Q53=\"HỌC SINH XUẤT SẮC\",LEFT(P53,1)=\"9\"),Table1[[#This Row],[Column1]]+(ROUND(M53,3))+400+ROW()/10000,IF(AND(Q53=\"HỌC SINH XUẤT SẮC\",LEFT(P53,1)=\"8\"),Table1[[#This Row],[Column1]]+(ROUND(M53,3))+450+ROW()/10000,IF(AND(Q53=\"HỌC SINH XUẤT SẮC\",LEFT(P53,1)=\"7\"),Table1[[#This Row],[Column1]]+(ROUND(M53,3))+500+ROW()/10000,IF(AND(Q53=\"HỌC SINH XUẤT SẮC\",LEFT(P53,1)=\"6\"),Table1[[#This Row],[Column1]]+(ROUND(M53,3))+550+ROW()/10000,IF(AND(Q53=\"HỌC SINH GIỎI\",LEFT(P53,1)=\"9\"),Table1[[#This Row],[Column1]]+(ROUND(M53,3))+10+ROW()/10000,IF(AND(Q53=\"HỌC SINH GIỎI\",LEFT(P53,1)=\"8\"),Table1[[#This Row],[Column1]]+(ROUND(M53,3))+ 50+ROW()/10000,IF(AND(Q53=\"HỌC SINH GIỎI\",LEFT(P53,1)=\"7\"),Table1[[#This Row],[Column1]]+(ROUND(M53,3))+100+ROW()/10000,IF(AND(Q53=\"HỌC SINH GIỎI\",LEFT(P53,1)=\"6\"),Table1[[#This Row],[Column1]]+(ROUND(M53,3))+150+ROW()/10000,\"\"))))))))","v":138.50530000000001},{"$f":"IF(AND(Q53=\"HỌC SINH XUẤT SẮC\",LEFT(P53,1)=\"9\"),(ROUND(M53,3))+Table1[[#This Row],[Column1]]+10+ROW()/10000,IF(AND(Q53=\"HỌC SINH XUẤT SẮC\",LEFT(P53,1)=\"8\"),Table1[[#This Row],[Column1]]+(ROUND(M53,3))+50+ROW()/10000,IF(AND(Q53=\"HỌC SINH XUẤT SẮC\",LEFT(P53,1)=\"7\"),Table1[[#This Row],[Column1]]+(ROUND(M53,3))+100+ROW()/10000,IF(AND(Q53=\"HỌC SINH XUẤT SẮC\",LEFT(P53,1)=\"6\"),Table1[[#This Row],[Column1]]+(ROUND(M53,3))+150+ROW()/10000,\"\"))))","v":""},{"$f":"IF(AND(Q53=\"HỌC SINH GIỎI\",LEFT(P53,1)=\"9\"),Table1[[#This Row],[Column1]]+(ROUND(M53,3))+200+ROW()/10000,IF(AND(Q53=\"HỌC SINH GIỎI\",LEFT(P53,1)=\"8\"),Table1[[#This Row],[Column1]]+(ROUND(M53,3))+250+ROW()/10000,IF(AND(Q53=\"HỌC SINH GIỎI\",LEFT(P53,1)=\"7\"),Table1[[#This Row],[Column1]]+(ROUND(M53,3))+300+ROW()/10000,IF(AND(Q53=\"HỌC SINH GIỎI\",LEFT(P53,1)=\"6\"),Table1[[#This Row],[Column1]]+(ROUND(M53,3))+350+ROW()/10000,\"\"))))","v":338.50529999999998},"Trần Văn ","Hiệu","HỌC SINH GIỎI","8A"]
["53","Trần Đức ","Long","2012-12-08","Trần Thế  Đạt","Xóm 9","T","T",8.5,8,7.25,9.5,33.25,null,"x","8A","HỌC SINH GIỎI",{"$f":"IF(Table1[[#This Row],[STT]]=\"\",\"\",ROW()-1)","v":53},{"$f":"IF(Table1[[#This Row],[Lơp]]=\"\",\"\",VLOOKUP(Table1[[#This Row],[Lơp]],$AC$3:$AD$14,2,0))","v":60},{"$f":"IF(AND(Q54=\"HỌC SINH XUẤT SẮC\",LEFT(P54,1)=\"9\"),Table1[[#This Row],[Column1]]+(ROUND(M54,3))+400+ROW()/10000,IF(AND(Q54=\"HỌC SINH XUẤT SẮC\",LEFT(P54,1)=\"8\"),Table1[[#This Row],[Column1]]+(ROUND(M54,3))+450+ROW()/10000,IF(AND(Q54=\"HỌC SINH XUẤT SẮC\",LEFT(P54,1)=\"7\"),Table1[[#This Row],[Column1]]+(ROUND(M54,3))+500+ROW()/10000,IF(AND(Q54=\"HỌC SINH XUẤT SẮC\",LEFT(P54,1)=\"6\"),Table1[[#This Row],[Column1]]+(ROUND(M54,3))+550+ROW()/10000,IF(AND(Q54=\"HỌC SINH GIỎI\",LEFT(P54,1)=\"9\"),Table1[[#This Row],[Column1]]+(ROUND(M54,3))+10+ROW()/10000,IF(AND(Q54=\"HỌC SINH GIỎI\",LEFT(P54,1)=\"8\"),Table1[[#This Row],[Column1]]+(ROUND(M54,3))+ 50+ROW()/10000,IF(AND(Q54=\"HỌC SINH GIỎI\",LEFT(P54,1)=\"7\"),Table1[[#This Row],[Column1]]+(ROUND(M54,3))+100+ROW()/10000,IF(AND(Q54=\"HỌC SINH GIỎI\",LEFT(P54,1)=\"6\"),Table1[[#This Row],[Column1]]+(ROUND(M54,3))+150+ROW()/10000,\"\"))))))))","v":143.25540000000001},{"$f":"IF(AND(Q54=\"HỌC SINH XUẤT SẮC\",LEFT(P54,1)=\"9\"),(ROUND(M54,3))+Table1[[#This Row],[Column1]]+10+ROW()/10000,IF(AND(Q54=\"HỌC SINH XUẤT SẮC\",LEFT(P54,1)=\"8\"),Table1[[#This Row],[Column1]]+(ROUND(M54,3))+50+ROW()/10000,IF(AND(Q54=\"HỌC SINH XUẤT SẮC\",LEFT(P54,1)=\"7\"),Table1[[#This Row],[Column1]]+(ROUND(M54,3))+100+ROW()/10000,IF(AND(Q54=\"HỌC SINH XUẤT SẮC\",LEFT(P54,1)=\"6\"),Table1[[#This Row],[Column1]]+(ROUND(M54,3))+150+ROW()/10000,\"\"))))","v":""},{"$f":"IF(AND(Q54=\"HỌC SINH GIỎI\",LEFT(P54,1)=\"9\"),Table1[[#This Row],[Column1]]+(ROUND(M54,3))+200+ROW()/10000,IF(AND(Q54=\"HỌC SINH GIỎI\",LEFT(P54,1)=\"8\"),Table1[[#This Row],[Column1]]+(ROUND(M54,3))+250+ROW()/10000,IF(AND(Q54=\"HỌC SINH GIỎI\",LEFT(P54,1)=\"7\"),Table1[[#This Row],[Column1]]+(ROUND(M54,3))+300+ROW()/10000,IF(AND(Q54=\"HỌC SINH GIỎI\",LEFT(P54,1)=\"6\"),Table1[[#This Row],[Column1]]+(ROUND(M54,3))+350+ROW()/10000,\"\"))))","v":343.25540000000001},"Trần Đức ","Long","HỌC SINH GIỎI","8A"]
["54","Đặng Thị Minh","Hà","06/07/2013","Đặng Văn Trường","Xóm 4","T","T",8.5,8,6,7.25,{"$f":"IF(AND(I55=\"\",J55=\"\",K55=\"\",L55=\"\"),\"\",SUM(I55:L55))","v":29.75},null,"x","7A","HỌC SINH GIỎI",{"$f":"IF(Table1[[#This Row],[STT]]=\"\",\"\",ROW()-1)","v":54},{"$f":"IF(Table1[[#This Row],[Lơp]]=\"\",\"\",VLOOKUP(Table1[[#This Row],[Lơp]],$AC$3:$AD$14,2,0))","v":90},{"$f":"IF(AND(Q55=\"HỌC SINH XUẤT SẮC\",LEFT(P55,1)=\"9\"),Table1[[#This Row],[Column1]]+(ROUND(M55,3))+400+ROW()/10000,IF(AND(Q55=\"HỌC SINH XUẤT SẮC\",LEFT(P55,1)=\"8\"),Table1[[#This Row],[Column1]]+(ROUND(M55,3))+450+ROW()/10000,IF(AND(Q55=\"HỌC SINH XUẤT SẮC\",LEFT(P55,1)=\"7\"),Table1[[#This Row],[Column1]]+(ROUND(M55,3))+500+ROW()/10000,IF(AND(Q55=\"HỌC SINH XUẤT SẮC\",LEFT(P55,1)=\"6\"),Table1[[#This Row],[Column1]]+(ROUND(M55,3))+550+ROW()/10000,IF(AND(Q55=\"HỌC SINH GIỎI\",LEFT(P55,1)=\"9\"),Table1[[#This Row],[Column1]]+(ROUND(M55,3))+10+ROW()/10000,IF(AND(Q55=\"HỌC SINH GIỎI\",LEFT(P55,1)=\"8\"),Table1[[#This Row],[Column1]]+(ROUND(M55,3))+ 50+ROW()/10000,IF(AND(Q55=\"HỌC SINH GIỎI\",LEFT(P55,1)=\"7\"),Table1[[#This Row],[Column1]]+(ROUND(M55,3))+100+ROW()/10000,IF(AND(Q55=\"HỌC SINH GIỎI\",LEFT(P55,1)=\"6\"),Table1[[#This Row],[Column1]]+(ROUND(M55,3))+150+ROW()/10000,\"\"))))))))","v":219.75550000000001},{"$f":"IF(AND(Q55=\"HỌC SINH XUẤT SẮC\",LEFT(P55,1)=\"9\"),(ROUND(M55,3))+Table1[[#This Row],[Column1]]+10+ROW()/10000,IF(AND(Q55=\"HỌC SINH XUẤT SẮC\",LEFT(P55,1)=\"8\"),Table1[[#This Row],[Column1]]+(ROUND(M55,3))+50+ROW()/10000,IF(AND(Q55=\"HỌC SINH XUẤT SẮC\",LEFT(P55,1)=\"7\"),Table1[[#This Row],[Column1]]+(ROUND(M55,3))+100+ROW()/10000,IF(AND(Q55=\"HỌC SINH XUẤT SẮC\",LEFT(P55,1)=\"6\"),Table1[[#This Row],[Column1]]+(ROUND(M55,3))+150+ROW()/10000,\"\"))))","v":""},{"$f":"IF(AND(Q55=\"HỌC SINH GIỎI\",LEFT(P55,1)=\"9\"),Table1[[#This Row],[Column1]]+(ROUND(M55,3))+200+ROW()/10000,IF(AND(Q55=\"HỌC SINH GIỎI\",LEFT(P55,1)=\"8\"),Table1[[#This Row],[Column1]]+(ROUND(M55,3))+250+ROW()/10000,IF(AND(Q55=\"HỌC SINH GIỎI\",LEFT(P55,1)=\"7\"),Table1[[#This Row],[Column1]]+(ROUND(M55,3))+300+ROW()/10000,IF(AND(Q55=\"HỌC SINH GIỎI\",LEFT(P55,1)=\"6\"),Table1[[#This Row],[Column1]]+(ROUND(M55,3))+350+ROW()/10000,\"\"))))","v":419.75549999999998},"Đặng Thị Minh","Hà","HỌC SINH GIỎI","7A"]
["55","Hoàng Thùy","Linh","30/06/2013","Hoàng Văn Hải","Xóm 3","T","T",7.5,7.25,8.5,8.5,{"$f":"IF(AND(I56=\"\",J56=\"\",K56=\"\",L56=\"\"),\"\",SUM(I56:L56))","v":31.75},null,"x","7A","HỌC SINH GIỎI",{"$f":"IF(Table1[[#This Row],[STT]]=\"\",\"\",ROW()-1)","v":55},{"$f":"IF(Table1[[#This Row],[Lơp]]=\"\",\"\",VLOOKUP(Table1[[#This Row],[Lơp]],$AC$3:$AD$14,2,0))","v":90},{"$f":"IF(AND(Q56=\"HỌC SINH XUẤT SẮC\",LEFT(P56,1)=\"9\"),Table1[[#This Row],[Column1]]+(ROUND(M56,3))+400+ROW()/10000,IF(AND(Q56=\"HỌC SINH XUẤT SẮC\",LEFT(P56,1)=\"8\"),Table1[[#This Row],[Column1]]+(ROUND(M56,3))+450+ROW()/10000,IF(AND(Q56=\"HỌC SINH XUẤT SẮC\",LEFT(P56,1)=\"7\"),Table1[[#This Row],[Column1]]+(ROUND(M56,3))+500+ROW()/10000,IF(AND(Q56=\"HỌC SINH XUẤT SẮC\",LEFT(P56,1)=\"6\"),Table1[[#This Row],[Column1]]+(ROUND(M56,3))+550+ROW()/10000,IF(AND(Q56=\"HỌC SINH GIỎI\",LEFT(P56,1)=\"9\"),Table1[[#This Row],[Column1]]+(ROUND(M56,3))+10+ROW()/10000,IF(AND(Q56=\"HỌC SINH GIỎI\",LEFT(P56,1)=\"8\"),Table1[[#This Row],[Column1]]+(ROUND(M56,3))+ 50+ROW()/10000,IF(AND(Q56=\"HỌC SINH GIỎI\",LEFT(P56,1)=\"7\"),Table1[[#This Row],[Column1]]+(ROUND(M56,3))+100+ROW()/10000,IF(AND(Q56=\"HỌC SINH GIỎI\",LEFT(P56,1)=\"6\"),Table1[[#This Row],[Column1]]+(ROUND(M56,3))+150+ROW()/10000,\"\"))))))))","v":221.75559999999999},{"$f":"IF(AND(Q56=\"HỌC SINH XUẤT SẮC\",LEFT(P56,1)=\"9\"),(ROUND(M56,3))+Table1[[#This Row],[Column1]]+10+ROW()/10000,IF(AND(Q56=\"HỌC SINH XUẤT SẮC\",LEFT(P56,1)=\"8\"),Table1[[#This Row],[Column1]]+(ROUND(M56,3))+50+ROW()/10000,IF(AND(Q56=\"HỌC SINH XUẤT SẮC\",LEFT(P56,1)=\"7\"),Table1[[#This Row],[Column1]]+(ROUND(M56,3))+100+ROW()/10000,IF(AND(Q56=\"HỌC SINH XUẤT SẮC\",LEFT(P56,1)=\"6\"),Table1[[#This Row],[Column1]]+(ROUND(M56,3))+150+ROW()/10000,\"\"))))","v":""},{"$f":"IF(AND(Q56=\"HỌC SINH GIỎI\",LEFT(P56,1)=\"9\"),Table1[[#This Row],[Column1]]+(ROUND(M56,3))+200+ROW()/10000,IF(AND(Q56=\"HỌC SINH GIỎI\",LEFT(P56,1)=\"8\"),Table1[[#This Row],[Column1]]+(ROUND(M56,3))+250+ROW()/10000,IF(AND(Q56=\"HỌC SINH GIỎI\",LEFT(P56,1)=\"7\"),Table1[[#This Row],[Column1]]+(ROUND(M56,3))+300+ROW()/10000,IF(AND(Q56=\"HỌC SINH GIỎI\",LEFT(P56,1)=\"6\"),Table1[[#This Row],[Column1]]+(ROUND(M56,3))+350+ROW()/10000,\"\"))))","v":421.75560000000002},"Hoàng Thùy","Linh","HỌC SINH GIỎI","7A"]
["56","Trần Thị Yến","Nhi","2013-03-01","Trần Xuân Nam","Xóm 3","T","T",7.25,8,5.5,8,28.75,null,"x","7A","HỌC SINH GIỎI",{"$f":"IF(Table1[[#This Row],[STT]]=\"\",\"\",ROW()-1)","v":56},{"$f":"IF(Table1[[#This Row],[Lơp]]=\"\",\"\",VLOOKUP(Table1[[#This Row],[Lơp]],$AC$3:$AD$14,2,0))","v":90},{"$f":"IF(AND(Q57=\"HỌC SINH XUẤT SẮC\",LEFT(P57,1)=\"9\"),Table1[[#This Row],[Column1]]+(ROUND(M57,3))+400+ROW()/10000,IF(AND(Q57=\"HỌC SINH XUẤT SẮC\",LEFT(P57,1)=\"8\"),Table1[[#This Row],[Column1]]+(ROUND(M57,3))+450+ROW()/10000,IF(AND(Q57=\"HỌC SINH XUẤT SẮC\",LEFT(P57,1)=\"7\"),Table1[[#This Row],[Column1]]+(ROUND(M57,3))+500+ROW()/10000,IF(AND(Q57=\"HỌC SINH XUẤT SẮC\",LEFT(P57,1)=\"6\"),Table1[[#This Row],[Column1]]+(ROUND(M57,3))+550+ROW()/10000,IF(AND(Q57=\"HỌC SINH GIỎI\",LEFT(P57,1)=\"9\"),Table1[[#This Row],[Column1]]+(ROUND(M57,3))+10+ROW()/10000,IF(AND(Q57=\"HỌC SINH GIỎI\",LEFT(P57,1)=\"8\"),Table1[[#This Row],[Column1]]+(ROUND(M57,3))+ 50+ROW()/10000,IF(AND(Q57=\"HỌC SINH GIỎI\",LEFT(P57,1)=\"7\"),Table1[[#This Row],[Column1]]+(ROUND(M57,3))+100+ROW()/10000,IF(AND(Q57=\"HỌC SINH GIỎI\",LEFT(P57,1)=\"6\"),Table1[[#This Row],[Column1]]+(ROUND(M57,3))+150+ROW()/10000,\"\"))))))))","v":218.75569999999999},{"$f":"IF(AND(Q57=\"HỌC SINH XUẤT SẮC\",LEFT(P57,1)=\"9\"),(ROUND(M57,3))+Table1[[#This Row],[Column1]]+10+ROW()/10000,IF(AND(Q57=\"HỌC SINH XUẤT SẮC\",LEFT(P57,1)=\"8\"),Table1[[#This Row],[Column1]]+(ROUND(M57,3))+50+ROW()/10000,IF(AND(Q57=\"HỌC SINH XUẤT SẮC\",LEFT(P57,1)=\"7\"),Table1[[#This Row],[Column1]]+(ROUND(M57,3))+100+ROW()/10000,IF(AND(Q57=\"HỌC SINH XUẤT SẮC\",LEFT(P57,1)=\"6\"),Table1[[#This Row],[Column1]]+(ROUND(M57,3))+150+ROW()/10000,\"\"))))","v":""},{"$f":"IF(AND(Q57=\"HỌC SINH GIỎI\",LEFT(P57,1)=\"9\"),Table1[[#This Row],[Column1]]+(ROUND(M57,3))+200+ROW()/10000,IF(AND(Q57=\"HỌC SINH GIỎI\",LEFT(P57,1)=\"8\"),Table1[[#This Row],[Column1]]+(ROUND(M57,3))+250+ROW()/10000,IF(AND(Q57=\"HỌC SINH GIỎI\",LEFT(P57,1)=\"7\"),Table1[[#This Row],[Column1]]+(ROUND(M57,3))+300+ROW()/10000,IF(AND(Q57=\"HỌC SINH GIỎI\",LEFT(P57,1)=\"6\"),Table1[[#This Row],[Column1]]+(ROUND(M57,3))+350+ROW()/10000,\"\"))))","v":418.75569999999999},"Trần Thị Yến","Nhi","HỌC SINH GIỎI","7A"]
["57","Nguyễn Kim","Oanh","04/10/2013","Nguyễn Xuân Kiều","Xóm 3","T","T",9,7.5,7.75,8.25,32.5,null,"x","7A","HỌC SINH GIỎI",{"$f":"IF(Table1[[#This Row],[STT]]=\"\",\"\",ROW()-1)","v":57},{"$f":"IF(Table1[[#This Row],[Lơp]]=\"\",\"\",VLOOKUP(Table1[[#This Row],[Lơp]],$AC$3:$AD$14,2,0))","v":90},{"$f":"IF(AND(Q58=\"HỌC SINH XUẤT SẮC\",LEFT(P58,1)=\"9\"),Table1[[#This Row],[Column1]]+(ROUND(M58,3))+400+ROW()/10000,IF(AND(Q58=\"HỌC SINH XUẤT SẮC\",LEFT(P58,1)=\"8\"),Table1[[#This Row],[Column1]]+(ROUND(M58,3))+450+ROW()/10000,IF(AND(Q58=\"HỌC SINH XUẤT SẮC\",LEFT(P58,1)=\"7\"),Table1[[#This Row],[Column1]]+(ROUND(M58,3))+500+ROW()/10000,IF(AND(Q58=\"HỌC SINH XUẤT SẮC\",LEFT(P58,1)=\"6\"),Table1[[#This Row],[Column1]]+(ROUND(M58,3))+550+ROW()/10000,IF(AND(Q58=\"HỌC SINH GIỎI\",LEFT(P58,1)=\"9\"),Table1[[#This Row],[Column1]]+(ROUND(M58,3))+10+ROW()/10000,IF(AND(Q58=\"HỌC SINH GIỎI\",LEFT(P58,1)=\"8\"),Table1[[#This Row],[Column1]]+(ROUND(M58,3))+ 50+ROW()/10000,IF(AND(Q58=\"HỌC SINH GIỎI\",LEFT(P58,1)=\"7\"),Table1[[#This Row],[Column1]]+(ROUND(M58,3))+100+ROW()/10000,IF(AND(Q58=\"HỌC SINH GIỎI\",LEFT(P58,1)=\"6\"),Table1[[#This Row],[Column1]]+(ROUND(M58,3))+150+ROW()/10000,\"\"))))))))","v":222.50579999999999},{"$f":"IF(AND(Q58=\"HỌC SINH XUẤT SẮC\",LEFT(P58,1)=\"9\"),(ROUND(M58,3))+Table1[[#This Row],[Column1]]+10+ROW()/10000,IF(AND(Q58=\"HỌC SINH XUẤT SẮC\",LEFT(P58,1)=\"8\"),Table1[[#This Row],[Column1]]+(ROUND(M58,3))+50+ROW()/10000,IF(AND(Q58=\"HỌC SINH XUẤT SẮC\",LEFT(P58,1)=\"7\"),Table1[[#This Row],[Column1]]+(ROUND(M58,3))+100+ROW()/10000,IF(AND(Q58=\"HỌC SINH XUẤT SẮC\",LEFT(P58,1)=\"6\"),Table1[[#This Row],[Column1]]+(ROUND(M58,3))+150+ROW()/10000,\"\"))))","v":""},{"$f":"IF(AND(Q58=\"HỌC SINH GIỎI\",LEFT(P58,1)=\"9\"),Table1[[#This Row],[Column1]]+(ROUND(M58,3))+200+ROW()/10000,IF(AND(Q58=\"HỌC SINH GIỎI\",LEFT(P58,1)=\"8\"),Table1[[#This Row],[Column1]]+(ROUND(M58,3))+250+ROW()/10000,IF(AND(Q58=\"HỌC SINH GIỎI\",LEFT(P58,1)=\"7\"),Table1[[#This Row],[Column1]]+(ROUND(M58,3))+300+ROW()/10000,IF(AND(Q58=\"HỌC SINH GIỎI\",LEFT(P58,1)=\"6\"),Table1[[#This Row],[Column1]]+(ROUND(M58,3))+350+ROW()/10000,\"\"))))","v":422.50580000000002},"Nguyễn Kim",{"$f":"IF(W58=\"\",\"\",C58)","v":"Oanh"},{"$f":"IF(X58=\"\",\"\",Q58)","v":"HỌC SINH GIỎI"},{"$f":"IF(Y58=\"\",\"\",P58)","v":"7A"}]
["58","Lê Thùy","Anh","04/05/2014","Lê Văn Huyển","Xóm 6","T","T",9,5,6.25,9.75,30,null,"x","6B","HỌC SINH GIỎI",{"$f":"IF(Table1[[#This Row],[STT]]=\"\",\"\",ROW()-1)","v":58},{"$f":"IF(Table1[[#This Row],[Lơp]]=\"\",\"\",VLOOKUP(Table1[[#This Row],[Lơp]],$AC$3:$AD$14,2,0))","v":110},{"$f":"IF(AND(Q59=\"HỌC SINH XUẤT SẮC\",LEFT(P59,1)=\"9\"),Table1[[#This Row],[Column1]]+(ROUND(M59,3))+400+ROW()/10000,IF(AND(Q59=\"HỌC SINH XUẤT SẮC\",LEFT(P59,1)=\"8\"),Table1[[#This Row],[Column1]]+(ROUND(M59,3))+450+ROW()/10000,IF(AND(Q59=\"HỌC SINH XUẤT SẮC\",LEFT(P59,1)=\"7\"),Table1[[#This Row],[Column1]]+(ROUND(M59,3))+500+ROW()/10000,IF(AND(Q59=\"HỌC SINH XUẤT SẮC\",LEFT(P59,1)=\"6\"),Table1[[#This Row],[Column1]]+(ROUND(M59,3))+550+ROW()/10000,IF(AND(Q59=\"HỌC SINH GIỎI\",LEFT(P59,1)=\"9\"),Table1[[#This Row],[Column1]]+(ROUND(M59,3))+10+ROW()/10000,IF(AND(Q59=\"HỌC SINH GIỎI\",LEFT(P59,1)=\"8\"),Table1[[#This Row],[Column1]]+(ROUND(M59,3))+ 50+ROW()/10000,IF(AND(Q59=\"HỌC SINH GIỎI\",LEFT(P59,1)=\"7\"),Table1[[#This Row],[Column1]]+(ROUND(M59,3))+100+ROW()/10000,IF(AND(Q59=\"HỌC SINH GIỎI\",LEFT(P59,1)=\"6\"),Table1[[#This Row],[Column1]]+(ROUND(M59,3))+150+ROW()/10000,\"\"))))))))","v":290.0059},{"$f":"IF(AND(Q59=\"HỌC SINH XUẤT SẮC\",LEFT(P59,1)=\"9\"),(ROUND(M59,3))+Table1[[#This Row],[Column1]]+10+ROW()/10000,IF(AND(Q59=\"HỌC SINH XUẤT SẮC\",LEFT(P59,1)=\"8\"),Table1[[#This Row],[Column1]]+(ROUND(M59,3))+50+ROW()/10000,IF(AND(Q59=\"HỌC SINH XUẤT SẮC\",LEFT(P59,1)=\"7\"),Table1[[#This Row],[Column1]]+(ROUND(M59,3))+100+ROW()/10000,IF(AND(Q59=\"HỌC SINH XUẤT SẮC\",LEFT(P59,1)=\"6\"),Table1[[#This Row],[Column1]]+(ROUND(M59,3))+150+ROW()/10000,\"\"))))","v":""},{"$f":"IF(AND(Q59=\"HỌC SINH GIỎI\",LEFT(P59,1)=\"9\"),Table1[[#This Row],[Column1]]+(ROUND(M59,3))+200+ROW()/10000,IF(AND(Q59=\"HỌC SINH GIỎI\",LEFT(P59,1)=\"8\"),Table1[[#This Row],[Column1]]+(ROUND(M59,3))+250+ROW()/10000,IF(AND(Q59=\"HỌC SINH GIỎI\",LEFT(P59,1)=\"7\"),Table1[[#This Row],[Column1]]+(ROUND(M59,3))+300+ROW()/10000,IF(AND(Q59=\"HỌC SINH GIỎI\",LEFT(P59,1)=\"6\"),Table1[[#This Row],[Column1]]+(ROUND(M59,3))+350+ROW()/10000,\"\"))))","v":490.0059},"Lê Thùy","Anh","HỌC SINH GIỎI","6B"]
["59","Lê Việt","Anh","2014-01-03","Lê Văn Tình","Xóm 9","T","T",8.25,7,5,9,29.25,null,"x","6B","HỌC SINH GIỎI",{"$f":"IF(Table1[[#This Row],[STT]]=\"\",\"\",ROW()-1)","v":59},{"$f":"IF(Table1[[#This Row],[Lơp]]=\"\",\"\",VLOOKUP(Table1[[#This Row],[Lơp]],$AC$3:$AD$14,2,0))","v":110},{"$f":"IF(AND(Q60=\"HỌC SINH XUẤT SẮC\",LEFT(P60,1)=\"9\"),Table1[[#This Row],[Column1]]+(ROUND(M60,3))+400+ROW()/10000,IF(AND(Q60=\"HỌC SINH XUẤT SẮC\",LEFT(P60,1)=\"8\"),Table1[[#This Row],[Column1]]+(ROUND(M60,3))+450+ROW()/10000,IF(AND(Q60=\"HỌC SINH XUẤT SẮC\",LEFT(P60,1)=\"7\"),Table1[[#This Row],[Column1]]+(ROUND(M60,3))+500+ROW()/10000,IF(AND(Q60=\"HỌC SINH XUẤT SẮC\",LEFT(P60,1)=\"6\"),Table1[[#This Row],[Column1]]+(ROUND(M60,3))+550+ROW()/10000,IF(AND(Q60=\"HỌC SINH GIỎI\",LEFT(P60,1)=\"9\"),Table1[[#This Row],[Column1]]+(ROUND(M60,3))+10+ROW()/10000,IF(AND(Q60=\"HỌC SINH GIỎI\",LEFT(P60,1)=\"8\"),Table1[[#This Row],[Column1]]+(ROUND(M60,3))+ 50+ROW()/10000,IF(AND(Q60=\"HỌC SINH GIỎI\",LEFT(P60,1)=\"7\"),Table1[[#This Row],[Column1]]+(ROUND(M60,3))+100+ROW()/10000,IF(AND(Q60=\"HỌC SINH GIỎI\",LEFT(P60,1)=\"6\"),Table1[[#This Row],[Column1]]+(ROUND(M60,3))+150+ROW()/10000,\"\"))))))))","v":289.25599999999997},{"$f":"IF(AND(Q60=\"HỌC SINH XUẤT SẮC\",LEFT(P60,1)=\"9\"),(ROUND(M60,3))+Table1[[#This Row],[Column1]]+10+ROW()/10000,IF(AND(Q60=\"HỌC SINH XUẤT SẮC\",LEFT(P60,1)=\"8\"),Table1[[#This Row],[Column1]]+(ROUND(M60,3))+50+ROW()/10000,IF(AND(Q60=\"HỌC SINH XUẤT SẮC\",LEFT(P60,1)=\"7\"),Table1[[#This Row],[Column1]]+(ROUND(M60,3))+100+ROW()/10000,IF(AND(Q60=\"HỌC SINH XUẤT SẮC\",LEFT(P60,1)=\"6\"),Table1[[#This Row],[Column1]]+(ROUND(M60,3))+150+ROW()/10000,\"\"))))","v":""},{"$f":"IF(AND(Q60=\"HỌC SINH GIỎI\",LEFT(P60,1)=\"9\"),Table1[[#This Row],[Column1]]+(ROUND(M60,3))+200+ROW()/10000,IF(AND(Q60=\"HỌC SINH GIỎI\",LEFT(P60,1)=\"8\"),Table1[[#This Row],[Column1]]+(ROUND(M60,3))+250+ROW()/10000,IF(AND(Q60=\"HỌC SINH GIỎI\",LEFT(P60,1)=\"7\"),Table1[[#This Row],[Column1]]+(ROUND(M60,3))+300+ROW()/10000,IF(AND(Q60=\"HỌC SINH GIỎI\",LEFT(P60,1)=\"6\"),Table1[[#This Row],[Column1]]+(ROUND(M60,3))+350+ROW()/10000,\"\"))))","v":489.25599999999997},"Lê Việt","Anh","HỌC SINH GIỎI","6B"]
["60","Phạm Nhật Mỹ","Anh","2014-02-07","Phạm Quốc Hùng","Xóm 3","T","T",9.5,5,7.5,10,32,null,"x","6B","HỌC SINH GIỎI",{"$f":"IF(Table1[[#This Row],[STT]]=\"\",\"\",ROW()-1)","v":60},{"$f":"IF(Table1[[#This Row],[Lơp]]=\"\",\"\",VLOOKUP(Table1[[#This Row],[Lơp]],$AC$3:$AD$14,2,0))","v":110},{"$f":"IF(AND(Q61=\"HỌC SINH XUẤT SẮC\",LEFT(P61,1)=\"9\"),Table1[[#This Row],[Column1]]+(ROUND(M61,3))+400+ROW()/10000,IF(AND(Q61=\"HỌC SINH XUẤT SẮC\",LEFT(P61,1)=\"8\"),Table1[[#This Row],[Column1]]+(ROUND(M61,3))+450+ROW()/10000,IF(AND(Q61=\"HỌC SINH XUẤT SẮC\",LEFT(P61,1)=\"7\"),Table1[[#This Row],[Column1]]+(ROUND(M61,3))+500+ROW()/10000,IF(AND(Q61=\"HỌC SINH XUẤT SẮC\",LEFT(P61,1)=\"6\"),Table1[[#This Row],[Column1]]+(ROUND(M61,3))+550+ROW()/10000,IF(AND(Q61=\"HỌC SINH GIỎI\",LEFT(P61,1)=\"9\"),Table1[[#This Row],[Column1]]+(ROUND(M61,3))+10+ROW()/10000,IF(AND(Q61=\"HỌC SINH GIỎI\",LEFT(P61,1)=\"8\"),Table1[[#This Row],[Column1]]+(ROUND(M61,3))+ 50+ROW()/10000,IF(AND(Q61=\"HỌC SINH GIỎI\",LEFT(P61,1)=\"7\"),Table1[[#This Row],[Column1]]+(ROUND(M61,3))+100+ROW()/10000,IF(AND(Q61=\"HỌC SINH GIỎI\",LEFT(P61,1)=\"6\"),Table1[[#This Row],[Column1]]+(ROUND(M61,3))+150+ROW()/10000,\"\"))))))))","v":292.0061},{"$f":"IF(AND(Q61=\"HỌC SINH XUẤT SẮC\",LEFT(P61,1)=\"9\"),(ROUND(M61,3))+Table1[[#This Row],[Column1]]+10+ROW()/10000,IF(AND(Q61=\"HỌC SINH XUẤT SẮC\",LEFT(P61,1)=\"8\"),Table1[[#This Row],[Column1]]+(ROUND(M61,3))+50+ROW()/10000,IF(AND(Q61=\"HỌC SINH XUẤT SẮC\",LEFT(P61,1)=\"7\"),Table1[[#This Row],[Column1]]+(ROUND(M61,3))+100+ROW()/10000,IF(AND(Q61=\"HỌC SINH XUẤT SẮC\",LEFT(P61,1)=\"6\"),Table1[[#This Row],[Column1]]+(ROUND(M61,3))+150+ROW()/10000,\"\"))))","v":""},{"$f":"IF(AND(Q61=\"HỌC SINH GIỎI\",LEFT(P61,1)=\"9\"),Table1[[#This Row],[Column1]]+(ROUND(M61,3))+200+ROW()/10000,IF(AND(Q61=\"HỌC SINH GIỎI\",LEFT(P61,1)=\"8\"),Table1[[#This Row],[Column1]]+(ROUND(M61,3))+250+ROW()/10000,IF(AND(Q61=\"HỌC SINH GIỎI\",LEFT(P61,1)=\"7\"),Table1[[#This Row],[Column1]]+(ROUND(M61,3))+300+ROW()/10000,IF(AND(Q61=\"HỌC SINH GIỎI\",LEFT(P61,1)=\"6\"),Table1[[#This Row],[Column1]]+(ROUND(M61,3))+350+ROW()/10000,\"\"))))","v":492.0061},"Phạm Nhật Mỹ","Anh","HỌC SINH GIỎI","6B"]
["61","Trần Thị Phương","Thúy","10/03/2014","Trần Văn Khiêm","Xóm 3","T","T",9.25,8.5,5.5,9,32.25,null,"x","6B","HỌC SINH GIỎI",{"$f":"IF(Table1[[#This Row],[STT]]=\"\",\"\",ROW()-1)","v":61},{"$f":"IF(Table1[[#This Row],[Lơp]]=\"\",\"\",VLOOKUP(Table1[[#This Row],[Lơp]],$AC$3:$AD$14,2,0))","v":110},{"$f":"IF(AND(Q62=\"HỌC SINH XUẤT SẮC\",LEFT(P62,1)=\"9\"),Table1[[#This Row],[Column1]]+(ROUND(M62,3))+400+ROW()/10000,IF(AND(Q62=\"HỌC SINH XUẤT SẮC\",LEFT(P62,1)=\"8\"),Table1[[#This Row],[Column1]]+(ROUND(M62,3))+450+ROW()/10000,IF(AND(Q62=\"HỌC SINH XUẤT SẮC\",LEFT(P62,1)=\"7\"),Table1[[#This Row],[Column1]]+(ROUND(M62,3))+500+ROW()/10000,IF(AND(Q62=\"HỌC SINH XUẤT SẮC\",LEFT(P62,1)=\"6\"),Table1[[#This Row],[Column1]]+(ROUND(M62,3))+550+ROW()/10000,IF(AND(Q62=\"HỌC SINH GIỎI\",LEFT(P62,1)=\"9\"),Table1[[#This Row],[Column1]]+(ROUND(M62,3))+10+ROW()/10000,IF(AND(Q62=\"HỌC SINH GIỎI\",LEFT(P62,1)=\"8\"),Table1[[#This Row],[Column1]]+(ROUND(M62,3))+ 50+ROW()/10000,IF(AND(Q62=\"HỌC SINH GIỎI\",LEFT(P62,1)=\"7\"),Table1[[#This Row],[Column1]]+(ROUND(M62,3))+100+ROW()/10000,IF(AND(Q62=\"HỌC SINH GIỎI\",LEFT(P62,1)=\"6\"),Table1[[#This Row],[Column1]]+(ROUND(M62,3))+150+ROW()/10000,\"\"))))))))","v":292.25619999999998},{"$f":"IF(AND(Q62=\"HỌC SINH XUẤT SẮC\",LEFT(P62,1)=\"9\"),(ROUND(M62,3))+Table1[[#This Row],[Column1]]+10+ROW()/10000,IF(AND(Q62=\"HỌC SINH XUẤT SẮC\",LEFT(P62,1)=\"8\"),Table1[[#This Row],[Column1]]+(ROUND(M62,3))+50+ROW()/10000,IF(AND(Q62=\"HỌC SINH XUẤT SẮC\",LEFT(P62,1)=\"7\"),Table1[[#This Row],[Column1]]+(ROUND(M62,3))+100+ROW()/10000,IF(AND(Q62=\"HỌC SINH XUẤT SẮC\",LEFT(P62,1)=\"6\"),Table1[[#This Row],[Column1]]+(ROUND(M62,3))+150+ROW()/10000,\"\"))))","v":""},{"$f":"IF(AND(Q62=\"HỌC SINH GIỎI\",LEFT(P62,1)=\"9\"),Table1[[#This Row],[Column1]]+(ROUND(M62,3))+200+ROW()/10000,IF(AND(Q62=\"HỌC SINH GIỎI\",LEFT(P62,1)=\"8\"),Table1[[#This Row],[Column1]]+(ROUND(M62,3))+250+ROW()/10000,IF(AND(Q62=\"HỌC SINH GIỎI\",LEFT(P62,1)=\"7\"),Table1[[#This Row],[Column1]]+(ROUND(M62,3))+300+ROW()/10000,IF(AND(Q62=\"HỌC SINH GIỎI\",LEFT(P62,1)=\"6\"),Table1[[#This Row],[Column1]]+(ROUND(M62,3))+350+ROW()/10000,\"\"))))","v":492.25619999999998},"Trần Thị Phương","Thúy","HỌC SINH GIỎI","6B"]
["62","Trần Cẩm","Tú","29/07/2014","Trần Văn Thưởng","Xóm 7","T","T",8.75,7.5,5,8.75,30,null,"x","6B","HỌC SINH GIỎI",{"$f":"IF(Table1[[#This Row],[STT]]=\"\",\"\",ROW()-1)","v":62},{"$f":"IF(Table1[[#This Row],[Lơp]]=\"\",\"\",VLOOKUP(Table1[[#This Row],[Lơp]],$AC$3:$AD$14,2,0))","v":110},{"$f":"IF(AND(Q63=\"HỌC SINH XUẤT SẮC\",LEFT(P63,1)=\"9\"),Table1[[#This Row],[Column1]]+(ROUND(M63,3))+400+ROW()/10000,IF(AND(Q63=\"HỌC SINH XUẤT SẮC\",LEFT(P63,1)=\"8\"),Table1[[#This Row],[Column1]]+(ROUND(M63,3))+450+ROW()/10000,IF(AND(Q63=\"HỌC SINH XUẤT SẮC\",LEFT(P63,1)=\"7\"),Table1[[#This Row],[Column1]]+(ROUND(M63,3))+500+ROW()/10000,IF(AND(Q63=\"HỌC SINH XUẤT SẮC\",LEFT(P63,1)=\"6\"),Table1[[#This Row],[Column1]]+(ROUND(M63,3))+550+ROW()/10000,IF(AND(Q63=\"HỌC SINH GIỎI\",LEFT(P63,1)=\"9\"),Table1[[#This Row],[Column1]]+(ROUND(M63,3))+10+ROW()/10000,IF(AND(Q63=\"HỌC SINH GIỎI\",LEFT(P63,1)=\"8\"),Table1[[#This Row],[Column1]]+(ROUND(M63,3))+ 50+ROW()/10000,IF(AND(Q63=\"HỌC SINH GIỎI\",LEFT(P63,1)=\"7\"),Table1[[#This Row],[Column1]]+(ROUND(M63,3))+100+ROW()/10000,IF(AND(Q63=\"HỌC SINH GIỎI\",LEFT(P63,1)=\"6\"),Table1[[#This Row],[Column1]]+(ROUND(M63,3))+150+ROW()/10000,\"\"))))))))","v":290.00630000000001},{"$f":"IF(AND(Q63=\"HỌC SINH XUẤT SẮC\",LEFT(P63,1)=\"9\"),(ROUND(M63,3))+Table1[[#This Row],[Column1]]+10+ROW()/10000,IF(AND(Q63=\"HỌC SINH XUẤT SẮC\",LEFT(P63,1)=\"8\"),Table1[[#This Row],[Column1]]+(ROUND(M63,3))+50+ROW()/10000,IF(AND(Q63=\"HỌC SINH XUẤT SẮC\",LEFT(P63,1)=\"7\"),Table1[[#This Row],[Column1]]+(ROUND(M63,3))+100+ROW()/10000,IF(AND(Q63=\"HỌC SINH XUẤT SẮC\",LEFT(P63,1)=\"6\"),Table1[[#This Row],[Column1]]+(ROUND(M63,3))+150+ROW()/10000,\"\"))))","v":""},{"$f":"IF(AND(Q63=\"HỌC SINH GIỎI\",LEFT(P63,1)=\"9\"),Table1[[#This Row],[Column1]]+(ROUND(M63,3))+200+ROW()/10000,IF(AND(Q63=\"HỌC SINH GIỎI\",LEFT(P63,1)=\"8\"),Table1[[#This Row],[Column1]]+(ROUND(M63,3))+250+ROW()/10000,IF(AND(Q63=\"HỌC SINH GIỎI\",LEFT(P63,1)=\"7\"),Table1[[#This Row],[Column1]]+(ROUND(M63,3))+300+ROW()/10000,IF(AND(Q63=\"HỌC SINH GIỎI\",LEFT(P63,1)=\"6\"),Table1[[#This Row],[Column1]]+(ROUND(M63,3))+350+ROW()/10000,\"\"))))","v":490.00630000000001},"Trần Cẩm","Tú","HỌC SINH GIỎI","6B"]
["63","Lê Ngọc","Anh","09/06/2013","Lê Văn Dũng","Xóm 9","T","T",8.25,5.75,8,6,{"$f":"IF(AND(I64=\"\",J64=\"\",K64=\"\",L64=\"\"),\"\",SUM(I64:L64))","v":28},null,"x","7C","HỌC SINH GIỎI",{"$f":"IF(Table1[[#This Row],[STT]]=\"\",\"\",ROW()-1)","v":63},{"$f":"IF(Table1[[#This Row],[Lơp]]=\"\",\"\",VLOOKUP(Table1[[#This Row],[Lơp]],$AC$3:$AD$14,2,0))","v":70},{"$f":"IF(AND(Q64=\"HỌC SINH XUẤT SẮC\",LEFT(P64,1)=\"9\"),Table1[[#This Row],[Column1]]+(ROUND(M64,3))+400+ROW()/10000,IF(AND(Q64=\"HỌC SINH XUẤT SẮC\",LEFT(P64,1)=\"8\"),Table1[[#This Row],[Column1]]+(ROUND(M64,3))+450+ROW()/10000,IF(AND(Q64=\"HỌC SINH XUẤT SẮC\",LEFT(P64,1)=\"7\"),Table1[[#This Row],[Column1]]+(ROUND(M64,3))+500+ROW()/10000,IF(AND(Q64=\"HỌC SINH XUẤT SẮC\",LEFT(P64,1)=\"6\"),Table1[[#This Row],[Column1]]+(ROUND(M64,3))+550+ROW()/10000,IF(AND(Q64=\"HỌC SINH GIỎI\",LEFT(P64,1)=\"9\"),Table1[[#This Row],[Column1]]+(ROUND(M64,3))+10+ROW()/10000,IF(AND(Q64=\"HỌC SINH GIỎI\",LEFT(P64,1)=\"8\"),Table1[[#This Row],[Column1]]+(ROUND(M64,3))+ 50+ROW()/10000,IF(AND(Q64=\"HỌC SINH GIỎI\",LEFT(P64,1)=\"7\"),Table1[[#This Row],[Column1]]+(ROUND(M64,3))+100+ROW()/10000,IF(AND(Q64=\"HỌC SINH GIỎI\",LEFT(P64,1)=\"6\"),Table1[[#This Row],[Column1]]+(ROUND(M64,3))+150+ROW()/10000,\"\"))))))))","v":198.00640000000001},{"$f":"IF(AND(Q64=\"HỌC SINH XUẤT SẮC\",LEFT(P64,1)=\"9\"),(ROUND(M64,3))+Table1[[#This Row],[Column1]]+10+ROW()/10000,IF(AND(Q64=\"HỌC SINH XUẤT SẮC\",LEFT(P64,1)=\"8\"),Table1[[#This Row],[Column1]]+(ROUND(M64,3))+50+ROW()/10000,IF(AND(Q64=\"HỌC SINH XUẤT SẮC\",LEFT(P64,1)=\"7\"),Table1[[#This Row],[Column1]]+(ROUND(M64,3))+100+ROW()/10000,IF(AND(Q64=\"HỌC SINH XUẤT SẮC\",LEFT(P64,1)=\"6\"),Table1[[#This Row],[Column1]]+(ROUND(M64,3))+150+ROW()/10000,\"\"))))","v":""},{"$f":"IF(AND(Q64=\"HỌC SINH GIỎI\",LEFT(P64,1)=\"9\"),Table1[[#This Row],[Column1]]+(ROUND(M64,3))+200+ROW()/10000,IF(AND(Q64=\"HỌC SINH GIỎI\",LEFT(P64,1)=\"8\"),Table1[[#This Row],[Column1]]+(ROUND(M64,3))+250+ROW()/10000,IF(AND(Q64=\"HỌC SINH GIỎI\",LEFT(P64,1)=\"7\"),Table1[[#This Row],[Column1]]+(ROUND(M64,3))+300+ROW()/10000,IF(AND(Q64=\"HỌC SINH GIỎI\",LEFT(P64,1)=\"6\"),Table1[[#This Row],[Column1]]+(ROUND(M64,3))+350+ROW()/10000,\"\"))))","v":398.00639999999999},"Lê Ngọc","Anh","HỌC SINH GIỎI","7C"]
["64","Phạm Bảo","Anh","08/06/2013","Phạm Văn Triệu","Xóm 7","T","T",8.5,8.75,9,8.5,{"$f":"IF(AND(I65=\"\",J65=\"\",K65=\"\",L65=\"\"),\"\",SUM(I65:L65))","v":34.75},null,"x","7C","HỌC SINH GIỎI",{"$f":"IF(Table1[[#This Row],[STT]]=\"\",\"\",ROW()-1)","v":64},{"$f":"IF(Table1[[#This Row],[Lơp]]=\"\",\"\",VLOOKUP(Table1[[#This Row],[Lơp]],$AC$3:$AD$14,2,0))","v":70},{"$f":"IF(AND(Q65=\"HỌC SINH XUẤT SẮC\",LEFT(P65,1)=\"9\"),Table1[[#This Row],[Column1]]+(ROUND(M65,3))+400+ROW()/10000,IF(AND(Q65=\"HỌC SINH XUẤT SẮC\",LEFT(P65,1)=\"8\"),Table1[[#This Row],[Column1]]+(ROUND(M65,3))+450+ROW()/10000,IF(AND(Q65=\"HỌC SINH XUẤT SẮC\",LEFT(P65,1)=\"7\"),Table1[[#This Row],[Column1]]+(ROUND(M65,3))+500+ROW()/10000,IF(AND(Q65=\"HỌC SINH XUẤT SẮC\",LEFT(P65,1)=\"6\"),Table1[[#This Row],[Column1]]+(ROUND(M65,3))+550+ROW()/10000,IF(AND(Q65=\"HỌC SINH GIỎI\",LEFT(P65,1)=\"9\"),Table1[[#This Row],[Column1]]+(ROUND(M65,3))+10+ROW()/10000,IF(AND(Q65=\"HỌC SINH GIỎI\",LEFT(P65,1)=\"8\"),Table1[[#This Row],[Column1]]+(ROUND(M65,3))+ 50+ROW()/10000,IF(AND(Q65=\"HỌC SINH GIỎI\",LEFT(P65,1)=\"7\"),Table1[[#This Row],[Column1]]+(ROUND(M65,3))+100+ROW()/10000,IF(AND(Q65=\"HỌC SINH GIỎI\",LEFT(P65,1)=\"6\"),Table1[[#This Row],[Column1]]+(ROUND(M65,3))+150+ROW()/10000,\"\"))))))))","v":204.75649999999999},{"$f":"IF(AND(Q65=\"HỌC SINH XUẤT SẮC\",LEFT(P65,1)=\"9\"),(ROUND(M65,3))+Table1[[#This Row],[Column1]]+10+ROW()/10000,IF(AND(Q65=\"HỌC SINH XUẤT SẮC\",LEFT(P65,1)=\"8\"),Table1[[#This Row],[Column1]]+(ROUND(M65,3))+50+ROW()/10000,IF(AND(Q65=\"HỌC SINH XUẤT SẮC\",LEFT(P65,1)=\"7\"),Table1[[#This Row],[Column1]]+(ROUND(M65,3))+100+ROW()/10000,IF(AND(Q65=\"HỌC SINH XUẤT SẮC\",LEFT(P65,1)=\"6\"),Table1[[#This Row],[Column1]]+(ROUND(M65,3))+150+ROW()/10000,\"\"))))","v":""},{"$f":"IF(AND(Q65=\"HỌC SINH GIỎI\",LEFT(P65,1)=\"9\"),Table1[[#This Row],[Column1]]+(ROUND(M65,3))+200+ROW()/10000,IF(AND(Q65=\"HỌC SINH GIỎI\",LEFT(P65,1)=\"8\"),Table1[[#This Row],[Column1]]+(ROUND(M65,3))+250+ROW()/10000,IF(AND(Q65=\"HỌC SINH GIỎI\",LEFT(P65,1)=\"7\"),Table1[[#This Row],[Column1]]+(ROUND(M65,3))+300+ROW()/10000,IF(AND(Q65=\"HỌC SINH GIỎI\",LEFT(P65,1)=\"6\"),Table1[[#This Row],[Column1]]+(ROUND(M65,3))+350+ROW()/10000,\"\"))))","v":404.75650000000002},"Phạm Bảo","Anh","HỌC SINH GIỎI","7C"]
["65","Trần Bảo","Châu","10/04/2013","Trần Văn Khánh","Xóm 7","T","T",8.25,6,7.5,7.5,29.25,null,"x","7C","HỌC SINH GIỎI",{"$f":"IF(Table1[[#This Row],[STT]]=\"\",\"\",ROW()-1)","v":65},{"$f":"IF(Table1[[#This Row],[Lơp]]=\"\",\"\",VLOOKUP(Table1[[#This Row],[Lơp]],$AC$3:$AD$14,2,0))","v":70},{"$f":"IF(AND(Q66=\"HỌC SINH XUẤT SẮC\",LEFT(P66,1)=\"9\"),Table1[[#This Row],[Column1]]+(ROUND(M66,3))+400+ROW()/10000,IF(AND(Q66=\"HỌC SINH XUẤT SẮC\",LEFT(P66,1)=\"8\"),Table1[[#This Row],[Column1]]+(ROUND(M66,3))+450+ROW()/10000,IF(AND(Q66=\"HỌC SINH XUẤT SẮC\",LEFT(P66,1)=\"7\"),Table1[[#This Row],[Column1]]+(ROUND(M66,3))+500+ROW()/10000,IF(AND(Q66=\"HỌC SINH XUẤT SẮC\",LEFT(P66,1)=\"6\"),Table1[[#This Row],[Column1]]+(ROUND(M66,3))+550+ROW()/10000,IF(AND(Q66=\"HỌC SINH GIỎI\",LEFT(P66,1)=\"9\"),Table1[[#This Row],[Column1]]+(ROUND(M66,3))+10+ROW()/10000,IF(AND(Q66=\"HỌC SINH GIỎI\",LEFT(P66,1)=\"8\"),Table1[[#This Row],[Column1]]+(ROUND(M66,3))+ 50+ROW()/10000,IF(AND(Q66=\"HỌC SINH GIỎI\",LEFT(P66,1)=\"7\"),Table1[[#This Row],[Column1]]+(ROUND(M66,3))+100+ROW()/10000,IF(AND(Q66=\"HỌC SINH GIỎI\",LEFT(P66,1)=\"6\"),Table1[[#This Row],[Column1]]+(ROUND(M66,3))+150+ROW()/10000,\"\"))))))))","v":199.25659999999999},{"$f":"IF(AND(Q66=\"HỌC SINH XUẤT SẮC\",LEFT(P66,1)=\"9\"),(ROUND(M66,3))+Table1[[#This Row],[Column1]]+10+ROW()/10000,IF(AND(Q66=\"HỌC SINH XUẤT SẮC\",LEFT(P66,1)=\"8\"),Table1[[#This Row],[Column1]]+(ROUND(M66,3))+50+ROW()/10000,IF(AND(Q66=\"HỌC SINH XUẤT SẮC\",LEFT(P66,1)=\"7\"),Table1[[#This Row],[Column1]]+(ROUND(M66,3))+100+ROW()/10000,IF(AND(Q66=\"HỌC SINH XUẤT SẮC\",LEFT(P66,1)=\"6\"),Table1[[#This Row],[Column1]]+(ROUND(M66,3))+150+ROW()/10000,\"\"))))","v":""},{"$f":"IF(AND(Q66=\"HỌC SINH GIỎI\",LEFT(P66,1)=\"9\"),Table1[[#This Row],[Column1]]+(ROUND(M66,3))+200+ROW()/10000,IF(AND(Q66=\"HỌC SINH GIỎI\",LEFT(P66,1)=\"8\"),Table1[[#This Row],[Column1]]+(ROUND(M66,3))+250+ROW()/10000,IF(AND(Q66=\"HỌC SINH GIỎI\",LEFT(P66,1)=\"7\"),Table1[[#This Row],[Column1]]+(ROUND(M66,3))+300+ROW()/10000,IF(AND(Q66=\"HỌC SINH GIỎI\",LEFT(P66,1)=\"6\"),Table1[[#This Row],[Column1]]+(ROUND(M66,3))+350+ROW()/10000,\"\"))))","v":399.25659999999999},"Trần Bảo","Châu","HỌC SINH GIỎI","7C"]
["66","Mai Bích","Diệp","27/11/2013","Mai Ngọc Khảo","Xóm 3","T","T",9,7.75,8,8,32.75,null,"x","7C",{"$f":"IF(AND(N67=\"\",O67=\"\"),\"\",IF(N67=\"x\",\"HỌC SINH XUẤT SẮC\",\"HỌC SINH GIỎI\"))","v":"HỌC SINH GIỎI"},{"$f":"IF(Table1[[#This Row],[STT]]=\"\",\"\",ROW()-1)","v":66},{"$f":"IF(Table1[[#This Row],[Lơp]]=\"\",\"\",VLOOKUP(Table1[[#This Row],[Lơp]],$AC$3:$AD$14,2,0))","v":70},{"$f":"IF(AND(Q67=\"HỌC SINH XUẤT SẮC\",LEFT(P67,1)=\"9\"),Table1[[#This Row],[Column1]]+(ROUND(M67,3))+400+ROW()/10000,IF(AND(Q67=\"HỌC SINH XUẤT SẮC\",LEFT(P67,1)=\"8\"),Table1[[#This Row],[Column1]]+(ROUND(M67,3))+450+ROW()/10000,IF(AND(Q67=\"HỌC SINH XUẤT SẮC\",LEFT(P67,1)=\"7\"),Table1[[#This Row],[Column1]]+(ROUND(M67,3))+500+ROW()/10000,IF(AND(Q67=\"HỌC SINH XUẤT SẮC\",LEFT(P67,1)=\"6\"),Table1[[#This Row],[Column1]]+(ROUND(M67,3))+550+ROW()/10000,IF(AND(Q67=\"HỌC SINH GIỎI\",LEFT(P67,1)=\"9\"),Table1[[#This Row],[Column1]]+(ROUND(M67,3))+10+ROW()/10000,IF(AND(Q67=\"HỌC SINH GIỎI\",LEFT(P67,1)=\"8\"),Table1[[#This Row],[Column1]]+(ROUND(M67,3))+ 50+ROW()/10000,IF(AND(Q67=\"HỌC SINH GIỎI\",LEFT(P67,1)=\"7\"),Table1[[#This Row],[Column1]]+(ROUND(M67,3))+100+ROW()/10000,IF(AND(Q67=\"HỌC SINH GIỎI\",LEFT(P67,1)=\"6\"),Table1[[#This Row],[Column1]]+(ROUND(M67,3))+150+ROW()/10000,\"\"))))))))","v":202.7567},{"$f":"IF(AND(Q67=\"HỌC SINH XUẤT SẮC\",LEFT(P67,1)=\"9\"),(ROUND(M67,3))+Table1[[#This Row],[Column1]]+10+ROW()/10000,IF(AND(Q67=\"HỌC SINH XUẤT SẮC\",LEFT(P67,1)=\"8\"),Table1[[#This Row],[Column1]]+(ROUND(M67,3))+50+ROW()/10000,IF(AND(Q67=\"HỌC SINH XUẤT SẮC\",LEFT(P67,1)=\"7\"),Table1[[#This Row],[Column1]]+(ROUND(M67,3))+100+ROW()/10000,IF(AND(Q67=\"HỌC SINH XUẤT SẮC\",LEFT(P67,1)=\"6\"),Table1[[#This Row],[Column1]]+(ROUND(M67,3))+150+ROW()/10000,\"\"))))","v":""},{"$f":"IF(AND(Q67=\"HỌC SINH GIỎI\",LEFT(P67,1)=\"9\"),Table1[[#This Row],[Column1]]+(ROUND(M67,3))+200+ROW()/10000,IF(AND(Q67=\"HỌC SINH GIỎI\",LEFT(P67,1)=\"8\"),Table1[[#This Row],[Column1]]+(ROUND(M67,3))+250+ROW()/10000,IF(AND(Q67=\"HỌC SINH GIỎI\",LEFT(P67,1)=\"7\"),Table1[[#This Row],[Column1]]+(ROUND(M67,3))+300+ROW()/10000,IF(AND(Q67=\"HỌC SINH GIỎI\",LEFT(P67,1)=\"6\"),Table1[[#This Row],[Column1]]+(ROUND(M67,3))+350+ROW()/10000,\"\"))))","v":402.75670000000002},{"$f":"IF(AND(V67=\"\",U67=\"\"),\"\",B67)","v":"Mai Bích"},"Diệp","HỌC SINH GIỎI","7C"]
["67","Trần Ngọc ","Diệp","10/10/2013","Trần Ngọc Thắng","Xóm 7","T","T",8,8.25,8.25,5.5,{"$f":"IF(AND(I68=\"\",J68=\"\",K68=\"\",L68=\"\"),\"\",SUM(I68:L68))","v":30},null,"x","7C","HỌC SINH GIỎI",{"$f":"IF(Table1[[#This Row],[STT]]=\"\",\"\",ROW()-1)","v":67},{"$f":"IF(Table1[[#This Row],[Lơp]]=\"\",\"\",VLOOKUP(Table1[[#This Row],[Lơp]],$AC$3:$AD$14,2,0))","v":70},{"$f":"IF(AND(Q68=\"HỌC SINH XUẤT SẮC\",LEFT(P68,1)=\"9\"),Table1[[#This Row],[Column1]]+(ROUND(M68,3))+400+ROW()/10000,IF(AND(Q68=\"HỌC SINH XUẤT SẮC\",LEFT(P68,1)=\"8\"),Table1[[#This Row],[Column1]]+(ROUND(M68,3))+450+ROW()/10000,IF(AND(Q68=\"HỌC SINH XUẤT SẮC\",LEFT(P68,1)=\"7\"),Table1[[#This Row],[Column1]]+(ROUND(M68,3))+500+ROW()/10000,IF(AND(Q68=\"HỌC SINH XUẤT SẮC\",LEFT(P68,1)=\"6\"),Table1[[#This Row],[Column1]]+(ROUND(M68,3))+550+ROW()/10000,IF(AND(Q68=\"HỌC SINH GIỎI\",LEFT(P68,1)=\"9\"),Table1[[#This Row],[Column1]]+(ROUND(M68,3))+10+ROW()/10000,IF(AND(Q68=\"HỌC SINH GIỎI\",LEFT(P68,1)=\"8\"),Table1[[#This Row],[Column1]]+(ROUND(M68,3))+ 50+ROW()/10000,IF(AND(Q68=\"HỌC SINH GIỎI\",LEFT(P68,1)=\"7\"),Table1[[#This Row],[Column1]]+(ROUND(M68,3))+100+ROW()/10000,IF(AND(Q68=\"HỌC SINH GIỎI\",LEFT(P68,1)=\"6\"),Table1[[#This Row],[Column1]]+(ROUND(M68,3))+150+ROW()/10000,\"\"))))))))","v":200.0068},{"$f":"IF(AND(Q68=\"HỌC SINH XUẤT SẮC\",LEFT(P68,1)=\"9\"),(ROUND(M68,3))+Table1[[#This Row],[Column1]]+10+ROW()/10000,IF(AND(Q68=\"HỌC SINH XUẤT SẮC\",LEFT(P68,1)=\"8\"),Table1[[#This Row],[Column1]]+(ROUND(M68,3))+50+ROW()/10000,IF(AND(Q68=\"HỌC SINH XUẤT SẮC\",LEFT(P68,1)=\"7\"),Table1[[#This Row],[Column1]]+(ROUND(M68,3))+100+ROW()/10000,IF(AND(Q68=\"HỌC SINH XUẤT SẮC\",LEFT(P68,1)=\"6\"),Table1[[#This Row],[Column1]]+(ROUND(M68,3))+150+ROW()/10000,\"\"))))","v":""},{"$f":"IF(AND(Q68=\"HỌC SINH GIỎI\",LEFT(P68,1)=\"9\"),Table1[[#This Row],[Column1]]+(ROUND(M68,3))+200+ROW()/10000,IF(AND(Q68=\"HỌC SINH GIỎI\",LEFT(P68,1)=\"8\"),Table1[[#This Row],[Column1]]+(ROUND(M68,3))+250+ROW()/10000,IF(AND(Q68=\"HỌC SINH GIỎI\",LEFT(P68,1)=\"7\"),Table1[[#This Row],[Column1]]+(ROUND(M68,3))+300+ROW()/10000,IF(AND(Q68=\"HỌC SINH GIỎI\",LEFT(P68,1)=\"6\"),Table1[[#This Row],[Column1]]+(ROUND(M68,3))+350+ROW()/10000,\"\"))))","v":400.0068},"Trần Ngọc ","Diệp","HỌC SINH GIỎI","7C"]
["68","Lê Thùy","Dương","04/02/2013","Lê Văn Nguyện","Xóm 6","T","T",8,8.75,7.5,8,{"$f":"IF(AND(I69=\"\",J69=\"\",K69=\"\",L69=\"\"),\"\",SUM(I69:L69))","v":32.25},"x",null,"7C","HỌC SINH XUẤT SẮC",{"$f":"IF(Table1[[#This Row],[STT]]=\"\",\"\",ROW()-1)","v":68},{"$f":"IF(Table1[[#This Row],[Lơp]]=\"\",\"\",VLOOKUP(Table1[[#This Row],[Lơp]],$AC$3:$AD$14,2,0))","v":70},{"$f":"IF(AND(Q69=\"HỌC SINH XUẤT SẮC\",LEFT(P69,1)=\"9\"),Table1[[#This Row],[Column1]]+(ROUND(M69,3))+400+ROW()/10000,IF(AND(Q69=\"HỌC SINH XUẤT SẮC\",LEFT(P69,1)=\"8\"),Table1[[#This Row],[Column1]]+(ROUND(M69,3))+450+ROW()/10000,IF(AND(Q69=\"HỌC SINH XUẤT SẮC\",LEFT(P69,1)=\"7\"),Table1[[#This Row],[Column1]]+(ROUND(M69,3))+500+ROW()/10000,IF(AND(Q69=\"HỌC SINH XUẤT SẮC\",LEFT(P69,1)=\"6\"),Table1[[#This Row],[Column1]]+(ROUND(M69,3))+550+ROW()/10000,IF(AND(Q69=\"HỌC SINH GIỎI\",LEFT(P69,1)=\"9\"),Table1[[#This Row],[Column1]]+(ROUND(M69,3))+10+ROW()/10000,IF(AND(Q69=\"HỌC SINH GIỎI\",LEFT(P69,1)=\"8\"),Table1[[#This Row],[Column1]]+(ROUND(M69,3))+ 50+ROW()/10000,IF(AND(Q69=\"HỌC SINH GIỎI\",LEFT(P69,1)=\"7\"),Table1[[#This Row],[Column1]]+(ROUND(M69,3))+100+ROW()/10000,IF(AND(Q69=\"HỌC SINH GIỎI\",LEFT(P69,1)=\"6\"),Table1[[#This Row],[Column1]]+(ROUND(M69,3))+150+ROW()/10000,\"\"))))))))","v":602.25689999999997},{"$f":"IF(AND(Q69=\"HỌC SINH XUẤT SẮC\",LEFT(P69,1)=\"9\"),(ROUND(M69,3))+Table1[[#This Row],[Column1]]+10+ROW()/10000,IF(AND(Q69=\"HỌC SINH XUẤT SẮC\",LEFT(P69,1)=\"8\"),Table1[[#This Row],[Column1]]+(ROUND(M69,3))+50+ROW()/10000,IF(AND(Q69=\"HỌC SINH XUẤT SẮC\",LEFT(P69,1)=\"7\"),Table1[[#This Row],[Column1]]+(ROUND(M69,3))+100+ROW()/10000,IF(AND(Q69=\"HỌC SINH XUẤT SẮC\",LEFT(P69,1)=\"6\"),Table1[[#This Row],[Column1]]+(ROUND(M69,3))+150+ROW()/10000,\"\"))))","v":202.2569},{"$f":"IF(AND(Q69=\"HỌC SINH GIỎI\",LEFT(P69,1)=\"9\"),Table1[[#This Row],[Column1]]+(ROUND(M69,3))+200+ROW()/10000,IF(AND(Q69=\"HỌC SINH GIỎI\",LEFT(P69,1)=\"8\"),Table1[[#This Row],[Column1]]+(ROUND(M69,3))+250+ROW()/10000,IF(AND(Q69=\"HỌC SINH GIỎI\",LEFT(P69,1)=\"7\"),Table1[[#This Row],[Column1]]+(ROUND(M69,3))+300+ROW()/10000,IF(AND(Q69=\"HỌC SINH GIỎI\",LEFT(P69,1)=\"6\"),Table1[[#This Row],[Column1]]+(ROUND(M69,3))+350+ROW()/10000,\"\"))))","v":""},"Lê Thùy","Dương","HỌC SINH XUẤT SẮC","7C"]
["69","Trần Anh","Đức","14/03/2013","Trần Văn Bằng","Xóm 6","T","T",9,6,9.25,7,{"$f":"IF(AND(I70=\"\",J70=\"\",K70=\"\",L70=\"\"),\"\",SUM(I70:L70))","v":31.25},null,"x","7C","HỌC SINH GIỎI",{"$f":"IF(Table1[[#This Row],[STT]]=\"\",\"\",ROW()-1)","v":69},{"$f":"IF(Table1[[#This Row],[Lơp]]=\"\",\"\",VLOOKUP(Table1[[#This Row],[Lơp]],$AC$3:$AD$14,2,0))","v":70},{"$f":"IF(AND(Q70=\"HỌC SINH XUẤT SẮC\",LEFT(P70,1)=\"9\"),Table1[[#This Row],[Column1]]+(ROUND(M70,3))+400+ROW()/10000,IF(AND(Q70=\"HỌC SINH XUẤT SẮC\",LEFT(P70,1)=\"8\"),Table1[[#This Row],[Column1]]+(ROUND(M70,3))+450+ROW()/10000,IF(AND(Q70=\"HỌC SINH XUẤT SẮC\",LEFT(P70,1)=\"7\"),Table1[[#This Row],[Column1]]+(ROUND(M70,3))+500+ROW()/10000,IF(AND(Q70=\"HỌC SINH XUẤT SẮC\",LEFT(P70,1)=\"6\"),Table1[[#This Row],[Column1]]+(ROUND(M70,3))+550+ROW()/10000,IF(AND(Q70=\"HỌC SINH GIỎI\",LEFT(P70,1)=\"9\"),Table1[[#This Row],[Column1]]+(ROUND(M70,3))+10+ROW()/10000,IF(AND(Q70=\"HỌC SINH GIỎI\",LEFT(P70,1)=\"8\"),Table1[[#This Row],[Column1]]+(ROUND(M70,3))+ 50+ROW()/10000,IF(AND(Q70=\"HỌC SINH GIỎI\",LEFT(P70,1)=\"7\"),Table1[[#This Row],[Column1]]+(ROUND(M70,3))+100+ROW()/10000,IF(AND(Q70=\"HỌC SINH GIỎI\",LEFT(P70,1)=\"6\"),Table1[[#This Row],[Column1]]+(ROUND(M70,3))+150+ROW()/10000,\"\"))))))))","v":201.25700000000001},{"$f":"IF(AND(Q70=\"HỌC SINH XUẤT SẮC\",LEFT(P70,1)=\"9\"),(ROUND(M70,3))+Table1[[#This Row],[Column1]]+10+ROW()/10000,IF(AND(Q70=\"HỌC SINH XUẤT SẮC\",LEFT(P70,1)=\"8\"),Table1[[#This Row],[Column1]]+(ROUND(M70,3))+50+ROW()/10000,IF(AND(Q70=\"HỌC SINH XUẤT SẮC\",LEFT(P70,1)=\"7\"),Table1[[#This Row],[Column1]]+(ROUND(M70,3))+100+ROW()/10000,IF(AND(Q70=\"HỌC SINH XUẤT SẮC\",LEFT(P70,1)=\"6\"),Table1[[#This Row],[Column1]]+(ROUND(M70,3))+150+ROW()/10000,\"\"))))","v":""},{"$f":"IF(AND(Q70=\"HỌC SINH GIỎI\",LEFT(P70,1)=\"9\"),Table1[[#This Row],[Column1]]+(ROUND(M70,3))+200+ROW()/10000,IF(AND(Q70=\"HỌC SINH GIỎI\",LEFT(P70,1)=\"8\"),Table1[[#This Row],[Column1]]+(ROUND(M70,3))+250+ROW()/10000,IF(AND(Q70=\"HỌC SINH GIỎI\",LEFT(P70,1)=\"7\"),Table1[[#This Row],[Column1]]+(ROUND(M70,3))+300+ROW()/10000,IF(AND(Q70=\"HỌC SINH GIỎI\",LEFT(P70,1)=\"6\"),Table1[[#This Row],[Column1]]+(ROUND(M70,3))+350+ROW()/10000,\"\"))))","v":401.25700000000001},"Trần Anh","Đức","HỌC SINH GIỎI","7C"]
["70","Lương Minh","Hằng","11/08/2013","Lương Công Chửng","Xóm 7","T","T",9.25,8,9,7.75,{"$f":"IF(AND(I71=\"\",J71=\"\",K71=\"\",L71=\"\"),\"\",SUM(I71:L71))","v":34},null,"x","7C","HỌC SINH GIỎI",{"$f":"IF(Table1[[#This Row],[STT]]=\"\",\"\",ROW()-1)","v":70},{"$f":"IF(Table1[[#This Row],[Lơp]]=\"\",\"\",VLOOKUP(Table1[[#This Row],[Lơp]],$AC$3:$AD$14,2,0))","v":70},{"$f":"IF(AND(Q71=\"HỌC SINH XUẤT SẮC\",LEFT(P71,1)=\"9\"),Table1[[#This Row],[Column1]]+(ROUND(M71,3))+400+ROW()/10000,IF(AND(Q71=\"HỌC SINH XUẤT SẮC\",LEFT(P71,1)=\"8\"),Table1[[#This Row],[Column1]]+(ROUND(M71,3))+450+ROW()/10000,IF(AND(Q71=\"HỌC SINH XUẤT SẮC\",LEFT(P71,1)=\"7\"),Table1[[#This Row],[Column1]]+(ROUND(M71,3))+500+ROW()/10000,IF(AND(Q71=\"HỌC SINH XUẤT SẮC\",LEFT(P71,1)=\"6\"),Table1[[#This Row],[Column1]]+(ROUND(M71,3))+550+ROW()/10000,IF(AND(Q71=\"HỌC SINH GIỎI\",LEFT(P71,1)=\"9\"),Table1[[#This Row],[Column1]]+(ROUND(M71,3))+10+ROW()/10000,IF(AND(Q71=\"HỌC SINH GIỎI\",LEFT(P71,1)=\"8\"),Table1[[#This Row],[Column1]]+(ROUND(M71,3))+ 50+ROW()/10000,IF(AND(Q71=\"HỌC SINH GIỎI\",LEFT(P71,1)=\"7\"),Table1[[#This Row],[Column1]]+(ROUND(M71,3))+100+ROW()/10000,IF(AND(Q71=\"HỌC SINH GIỎI\",LEFT(P71,1)=\"6\"),Table1[[#This Row],[Column1]]+(ROUND(M71,3))+150+ROW()/10000,\"\"))))))))","v":204.00710000000001},{"$f":"IF(AND(Q71=\"HỌC SINH XUẤT SẮC\",LEFT(P71,1)=\"9\"),(ROUND(M71,3))+Table1[[#This Row],[Column1]]+10+ROW()/10000,IF(AND(Q71=\"HỌC SINH XUẤT SẮC\",LEFT(P71,1)=\"8\"),Table1[[#This Row],[Column1]]+(ROUND(M71,3))+50+ROW()/10000,IF(AND(Q71=\"HỌC SINH XUẤT SẮC\",LEFT(P71,1)=\"7\"),Table1[[#This Row],[Column1]]+(ROUND(M71,3))+100+ROW()/10000,IF(AND(Q71=\"HỌC SINH XUẤT SẮC\",LEFT(P71,1)=\"6\"),Table1[[#This Row],[Column1]]+(ROUND(M71,3))+150+ROW()/10000,\"\"))))","v":""},{"$f":"IF(AND(Q71=\"HỌC SINH GIỎI\",LEFT(P71,1)=\"9\"),Table1[[#This Row],[Column1]]+(ROUND(M71,3))+200+ROW()/10000,IF(AND(Q71=\"HỌC SINH GIỎI\",LEFT(P71,1)=\"8\"),Table1[[#This Row],[Column1]]+(ROUND(M71,3))+250+ROW()/10000,IF(AND(Q71=\"HỌC SINH GIỎI\",LEFT(P71,1)=\"7\"),Table1[[#This Row],[Column1]]+(ROUND(M71,3))+300+ROW()/10000,IF(AND(Q71=\"HỌC SINH GIỎI\",LEFT(P71,1)=\"6\"),Table1[[#This Row],[Column1]]+(ROUND(M71,3))+350+ROW()/10000,\"\"))))","v":404.00709999999998},"Lương Minh","Hằng","HỌC SINH GIỎI","7C"]
["71","Nguyễn Phạm Bảo","Hân","06/12/2013","Nguyễn Đình Khẩn","Xóm 2","T","T",8.75,8.75,9.25,6,{"$f":"IF(AND(I72=\"\",J72=\"\",K72=\"\",L72=\"\"),\"\",SUM(I72:L72))","v":32.75},null,"x","7C","HỌC SINH GIỎI",{"$f":"IF(Table1[[#This Row],[STT]]=\"\",\"\",ROW()-1)","v":71},{"$f":"IF(Table1[[#This Row],[Lơp]]=\"\",\"\",VLOOKUP(Table1[[#This Row],[Lơp]],$AC$3:$AD$14,2,0))","v":70},{"$f":"IF(AND(Q72=\"HỌC SINH XUẤT SẮC\",LEFT(P72,1)=\"9\"),Table1[[#This Row],[Column1]]+(ROUND(M72,3))+400+ROW()/10000,IF(AND(Q72=\"HỌC SINH XUẤT SẮC\",LEFT(P72,1)=\"8\"),Table1[[#This Row],[Column1]]+(ROUND(M72,3))+450+ROW()/10000,IF(AND(Q72=\"HỌC SINH XUẤT SẮC\",LEFT(P72,1)=\"7\"),Table1[[#This Row],[Column1]]+(ROUND(M72,3))+500+ROW()/10000,IF(AND(Q72=\"HỌC SINH XUẤT SẮC\",LEFT(P72,1)=\"6\"),Table1[[#This Row],[Column1]]+(ROUND(M72,3))+550+ROW()/10000,IF(AND(Q72=\"HỌC SINH GIỎI\",LEFT(P72,1)=\"9\"),Table1[[#This Row],[Column1]]+(ROUND(M72,3))+10+ROW()/10000,IF(AND(Q72=\"HỌC SINH GIỎI\",LEFT(P72,1)=\"8\"),Table1[[#This Row],[Column1]]+(ROUND(M72,3))+ 50+ROW()/10000,IF(AND(Q72=\"HỌC SINH GIỎI\",LEFT(P72,1)=\"7\"),Table1[[#This Row],[Column1]]+(ROUND(M72,3))+100+ROW()/10000,IF(AND(Q72=\"HỌC SINH GIỎI\",LEFT(P72,1)=\"6\"),Table1[[#This Row],[Column1]]+(ROUND(M72,3))+150+ROW()/10000,\"\"))))))))","v":202.75720000000001},{"$f":"IF(AND(Q72=\"HỌC SINH XUẤT SẮC\",LEFT(P72,1)=\"9\"),(ROUND(M72,3))+Table1[[#This Row],[Column1]]+10+ROW()/10000,IF(AND(Q72=\"HỌC SINH XUẤT SẮC\",LEFT(P72,1)=\"8\"),Table1[[#This Row],[Column1]]+(ROUND(M72,3))+50+ROW()/10000,IF(AND(Q72=\"HỌC SINH XUẤT SẮC\",LEFT(P72,1)=\"7\"),Table1[[#This Row],[Column1]]+(ROUND(M72,3))+100+ROW()/10000,IF(AND(Q72=\"HỌC SINH XUẤT SẮC\",LEFT(P72,1)=\"6\"),Table1[[#This Row],[Column1]]+(ROUND(M72,3))+150+ROW()/10000,\"\"))))","v":""},{"$f":"IF(AND(Q72=\"HỌC SINH GIỎI\",LEFT(P72,1)=\"9\"),Table1[[#This Row],[Column1]]+(ROUND(M72,3))+200+ROW()/10000,IF(AND(Q72=\"HỌC SINH GIỎI\",LEFT(P72,1)=\"8\"),Table1[[#This Row],[Column1]]+(ROUND(M72,3))+250+ROW()/10000,IF(AND(Q72=\"HỌC SINH GIỎI\",LEFT(P72,1)=\"7\"),Table1[[#This Row],[Column1]]+(ROUND(M72,3))+300+ROW()/10000,IF(AND(Q72=\"HỌC SINH GIỎI\",LEFT(P72,1)=\"6\"),Table1[[#This Row],[Column1]]+(ROUND(M72,3))+350+ROW()/10000,\"\"))))","v":402.75720000000001},"Nguyễn Phạm Bảo","Hân","HỌC SINH GIỎI","7C"]
["72","Hoàng Thanh","Hiền","07/10/2013","Hoàng Văn Sinh"," Xóm 7","T","T",9,9.25,9,7.75,35,"x",null,"7C","HỌC SINH XUẤT SẮC",{"$f":"IF(Table1[[#This Row],[STT]]=\"\",\"\",ROW()-1)","v":72},{"$f":"IF(Table1[[#This Row],[Lơp]]=\"\",\"\",VLOOKUP(Table1[[#This Row],[Lơp]],$AC$3:$AD$14,2,0))","v":70},{"$f":"IF(AND(Q73=\"HỌC SINH XUẤT SẮC\",LEFT(P73,1)=\"9\"),Table1[[#This Row],[Column1]]+(ROUND(M73,3))+400+ROW()/10000,IF(AND(Q73=\"HỌC SINH XUẤT SẮC\",LEFT(P73,1)=\"8\"),Table1[[#This Row],[Column1]]+(ROUND(M73,3))+450+ROW()/10000,IF(AND(Q73=\"HỌC SINH XUẤT SẮC\",LEFT(P73,1)=\"7\"),Table1[[#This Row],[Column1]]+(ROUND(M73,3))+500+ROW()/10000,IF(AND(Q73=\"HỌC SINH XUẤT SẮC\",LEFT(P73,1)=\"6\"),Table1[[#This Row],[Column1]]+(ROUND(M73,3))+550+ROW()/10000,IF(AND(Q73=\"HỌC SINH GIỎI\",LEFT(P73,1)=\"9\"),Table1[[#This Row],[Column1]]+(ROUND(M73,3))+10+ROW()/10000,IF(AND(Q73=\"HỌC SINH GIỎI\",LEFT(P73,1)=\"8\"),Table1[[#This Row],[Column1]]+(ROUND(M73,3))+ 50+ROW()/10000,IF(AND(Q73=\"HỌC SINH GIỎI\",LEFT(P73,1)=\"7\"),Table1[[#This Row],[Column1]]+(ROUND(M73,3))+100+ROW()/10000,IF(AND(Q73=\"HỌC SINH GIỎI\",LEFT(P73,1)=\"6\"),Table1[[#This Row],[Column1]]+(ROUND(M73,3))+150+ROW()/10000,\"\"))))))))","v":605.00729999999999},{"$f":"IF(AND(Q73=\"HỌC SINH XUẤT SẮC\",LEFT(P73,1)=\"9\"),(ROUND(M73,3))+Table1[[#This Row],[Column1]]+10+ROW()/10000,IF(AND(Q73=\"HỌC SINH XUẤT SẮC\",LEFT(P73,1)=\"8\"),Table1[[#This Row],[Column1]]+(ROUND(M73,3))+50+ROW()/10000,IF(AND(Q73=\"HỌC SINH XUẤT SẮC\",LEFT(P73,1)=\"7\"),Table1[[#This Row],[Column1]]+(ROUND(M73,3))+100+ROW()/10000,IF(AND(Q73=\"HỌC SINH XUẤT SẮC\",LEFT(P73,1)=\"6\"),Table1[[#This Row],[Column1]]+(ROUND(M73,3))+150+ROW()/10000,\"\"))))","v":205.00729999999999},{"$f":"IF(AND(Q73=\"HỌC SINH GIỎI\",LEFT(P73,1)=\"9\"),Table1[[#This Row],[Column1]]+(ROUND(M73,3))+200+ROW()/10000,IF(AND(Q73=\"HỌC SINH GIỎI\",LEFT(P73,1)=\"8\"),Table1[[#This Row],[Column1]]+(ROUND(M73,3))+250+ROW()/10000,IF(AND(Q73=\"HỌC SINH GIỎI\",LEFT(P73,1)=\"7\"),Table1[[#This Row],[Column1]]+(ROUND(M73,3))+300+ROW()/10000,IF(AND(Q73=\"HỌC SINH GIỎI\",LEFT(P73,1)=\"6\"),Table1[[#This Row],[Column1]]+(ROUND(M73,3))+350+ROW()/10000,\"\"))))","v":""},"Hoàng Thanh","Hiền","HỌC SINH XUẤT SẮC","7C"]
["73","Lê Quốc ","Hội","18/09/2013","Lê Văn Huy","Xóm 9","T","T",8.5,7,7,7,29.5,null,"x","7C","HỌC SINH GIỎI",{"$f":"IF(Table1[[#This Row],[STT]]=\"\",\"\",ROW()-1)","v":73},{"$f":"IF(Table1[[#This Row],[Lơp]]=\"\",\"\",VLOOKUP(Table1[[#This Row],[Lơp]],$AC$3:$AD$14,2,0))","v":70},{"$f":"IF(AND(Q74=\"HỌC SINH XUẤT SẮC\",LEFT(P74,1)=\"9\"),Table1[[#This Row],[Column1]]+(ROUND(M74,3))+400+ROW()/10000,IF(AND(Q74=\"HỌC SINH XUẤT SẮC\",LEFT(P74,1)=\"8\"),Table1[[#This Row],[Column1]]+(ROUND(M74,3))+450+ROW()/10000,IF(AND(Q74=\"HỌC SINH XUẤT SẮC\",LEFT(P74,1)=\"7\"),Table1[[#This Row],[Column1]]+(ROUND(M74,3))+500+ROW()/10000,IF(AND(Q74=\"HỌC SINH XUẤT SẮC\",LEFT(P74,1)=\"6\"),Table1[[#This Row],[Column1]]+(ROUND(M74,3))+550+ROW()/10000,IF(AND(Q74=\"HỌC SINH GIỎI\",LEFT(P74,1)=\"9\"),Table1[[#This Row],[Column1]]+(ROUND(M74,3))+10+ROW()/10000,IF(AND(Q74=\"HỌC SINH GIỎI\",LEFT(P74,1)=\"8\"),Table1[[#This Row],[Column1]]+(ROUND(M74,3))+ 50+ROW()/10000,IF(AND(Q74=\"HỌC SINH GIỎI\",LEFT(P74,1)=\"7\"),Table1[[#This Row],[Column1]]+(ROUND(M74,3))+100+ROW()/10000,IF(AND(Q74=\"HỌC SINH GIỎI\",LEFT(P74,1)=\"6\"),Table1[[#This Row],[Column1]]+(ROUND(M74,3))+150+ROW()/10000,\"\"))))))))","v":199.50739999999999},{"$f":"IF(AND(Q74=\"HỌC SINH XUẤT SẮC\",LEFT(P74,1)=\"9\"),(ROUND(M74,3))+Table1[[#This Row],[Column1]]+10+ROW()/10000,IF(AND(Q74=\"HỌC SINH XUẤT SẮC\",LEFT(P74,1)=\"8\"),Table1[[#This Row],[Column1]]+(ROUND(M74,3))+50+ROW()/10000,IF(AND(Q74=\"HỌC SINH XUẤT SẮC\",LEFT(P74,1)=\"7\"),Table1[[#This Row],[Column1]]+(ROUND(M74,3))+100+ROW()/10000,IF(AND(Q74=\"HỌC SINH XUẤT SẮC\",LEFT(P74,1)=\"6\"),Table1[[#This Row],[Column1]]+(ROUND(M74,3))+150+ROW()/10000,\"\"))))","v":""},{"$f":"IF(AND(Q74=\"HỌC SINH GIỎI\",LEFT(P74,1)=\"9\"),Table1[[#This Row],[Column1]]+(ROUND(M74,3))+200+ROW()/10000,IF(AND(Q74=\"HỌC SINH GIỎI\",LEFT(P74,1)=\"8\"),Table1[[#This Row],[Column1]]+(ROUND(M74,3))+250+ROW()/10000,IF(AND(Q74=\"HỌC SINH GIỎI\",LEFT(P74,1)=\"7\"),Table1[[#This Row],[Column1]]+(ROUND(M74,3))+300+ROW()/10000,IF(AND(Q74=\"HỌC SINH GIỎI\",LEFT(P74,1)=\"6\"),Table1[[#This Row],[Column1]]+(ROUND(M74,3))+350+ROW()/10000,\"\"))))","v":399.50740000000002},"Lê Quốc ","Hội","HỌC SINH GIỎI","7C"]
["74","Vũ Quang","Hưng","16/04/2013","Vũ Quốc Trưởng","Xóm 3","T","T",8.5,9.25,10,9.25,37,"x",null,"7C","HỌC SINH XUẤT SẮC",{"$f":"IF(Table1[[#This Row],[STT]]=\"\",\"\",ROW()-1)","v":74},{"$f":"IF(Table1[[#This Row],[Lơp]]=\"\",\"\",VLOOKUP(Table1[[#This Row],[Lơp]],$AC$3:$AD$14,2,0))","v":70},{"$f":"IF(AND(Q75=\"HỌC SINH XUẤT SẮC\",LEFT(P75,1)=\"9\"),Table1[[#This Row],[Column1]]+(ROUND(M75,3))+400+ROW()/10000,IF(AND(Q75=\"HỌC SINH XUẤT SẮC\",LEFT(P75,1)=\"8\"),Table1[[#This Row],[Column1]]+(ROUND(M75,3))+450+ROW()/10000,IF(AND(Q75=\"HỌC SINH XUẤT SẮC\",LEFT(P75,1)=\"7\"),Table1[[#This Row],[Column1]]+(ROUND(M75,3))+500+ROW()/10000,IF(AND(Q75=\"HỌC SINH XUẤT SẮC\",LEFT(P75,1)=\"6\"),Table1[[#This Row],[Column1]]+(ROUND(M75,3))+550+ROW()/10000,IF(AND(Q75=\"HỌC SINH GIỎI\",LEFT(P75,1)=\"9\"),Table1[[#This Row],[Column1]]+(ROUND(M75,3))+10+ROW()/10000,IF(AND(Q75=\"HỌC SINH GIỎI\",LEFT(P75,1)=\"8\"),Table1[[#This Row],[Column1]]+(ROUND(M75,3))+ 50+ROW()/10000,IF(AND(Q75=\"HỌC SINH GIỎI\",LEFT(P75,1)=\"7\"),Table1[[#This Row],[Column1]]+(ROUND(M75,3))+100+ROW()/10000,IF(AND(Q75=\"HỌC SINH GIỎI\",LEFT(P75,1)=\"6\"),Table1[[#This Row],[Column1]]+(ROUND(M75,3))+150+ROW()/10000,\"\"))))))))","v":607.00750000000005},{"$f":"IF(AND(Q75=\"HỌC SINH XUẤT SẮC\",LEFT(P75,1)=\"9\"),(ROUND(M75,3))+Table1[[#This Row],[Column1]]+10+ROW()/10000,IF(AND(Q75=\"HỌC SINH XUẤT SẮC\",LEFT(P75,1)=\"8\"),Table1[[#This Row],[Column1]]+(ROUND(M75,3))+50+ROW()/10000,IF(AND(Q75=\"HỌC SINH XUẤT SẮC\",LEFT(P75,1)=\"7\"),Table1[[#This Row],[Column1]]+(ROUND(M75,3))+100+ROW()/10000,IF(AND(Q75=\"HỌC SINH XUẤT SẮC\",LEFT(P75,1)=\"6\"),Table1[[#This Row],[Column1]]+(ROUND(M75,3))+150+ROW()/10000,\"\"))))","v":207.00749999999999},{"$f":"IF(AND(Q75=\"HỌC SINH GIỎI\",LEFT(P75,1)=\"9\"),Table1[[#This Row],[Column1]]+(ROUND(M75,3))+200+ROW()/10000,IF(AND(Q75=\"HỌC SINH GIỎI\",LEFT(P75,1)=\"8\"),Table1[[#This Row],[Column1]]+(ROUND(M75,3))+250+ROW()/10000,IF(AND(Q75=\"HỌC SINH GIỎI\",LEFT(P75,1)=\"7\"),Table1[[#This Row],[Column1]]+(ROUND(M75,3))+300+ROW()/10000,IF(AND(Q75=\"HỌC SINH GIỎI\",LEFT(P75,1)=\"6\"),Table1[[#This Row],[Column1]]+(ROUND(M75,3))+350+ROW()/10000,\"\"))))","v":""},"Vũ Quang","Hưng","HỌC SINH XUẤT SẮC","7C"]
["75","Lê Bảo ","Khanh","16/04/2013","Lê Gia Thọ","Xóm 6","T","T",9,7.75,9.25,6.75,32.75,null,"x","7C","HỌC SINH GIỎI",{"$f":"IF(Table1[[#This Row],[STT]]=\"\",\"\",ROW()-1)","v":75},{"$f":"IF(Table1[[#This Row],[Lơp]]=\"\",\"\",VLOOKUP(Table1[[#This Row],[Lơp]],$AC$3:$AD$14,2,0))","v":70},{"$f":"IF(AND(Q76=\"HỌC SINH XUẤT SẮC\",LEFT(P76,1)=\"9\"),Table1[[#This Row],[Column1]]+(ROUND(M76,3))+400+ROW()/10000,IF(AND(Q76=\"HỌC SINH XUẤT SẮC\",LEFT(P76,1)=\"8\"),Table1[[#This Row],[Column1]]+(ROUND(M76,3))+450+ROW()/10000,IF(AND(Q76=\"HỌC SINH XUẤT SẮC\",LEFT(P76,1)=\"7\"),Table1[[#This Row],[Column1]]+(ROUND(M76,3))+500+ROW()/10000,IF(AND(Q76=\"HỌC SINH XUẤT SẮC\",LEFT(P76,1)=\"6\"),Table1[[#This Row],[Column1]]+(ROUND(M76,3))+550+ROW()/10000,IF(AND(Q76=\"HỌC SINH GIỎI\",LEFT(P76,1)=\"9\"),Table1[[#This Row],[Column1]]+(ROUND(M76,3))+10+ROW()/10000,IF(AND(Q76=\"HỌC SINH GIỎI\",LEFT(P76,1)=\"8\"),Table1[[#This Row],[Column1]]+(ROUND(M76,3))+ 50+ROW()/10000,IF(AND(Q76=\"HỌC SINH GIỎI\",LEFT(P76,1)=\"7\"),Table1[[#This Row],[Column1]]+(ROUND(M76,3))+100+ROW()/10000,IF(AND(Q76=\"HỌC SINH GIỎI\",LEFT(P76,1)=\"6\"),Table1[[#This Row],[Column1]]+(ROUND(M76,3))+150+ROW()/10000,\"\"))))))))","v":202.7576},{"$f":"IF(AND(Q76=\"HỌC SINH XUẤT SẮC\",LEFT(P76,1)=\"9\"),(ROUND(M76,3))+Table1[[#This Row],[Column1]]+10+ROW()/10000,IF(AND(Q76=\"HỌC SINH XUẤT SẮC\",LEFT(P76,1)=\"8\"),Table1[[#This Row],[Column1]]+(ROUND(M76,3))+50+ROW()/10000,IF(AND(Q76=\"HỌC SINH XUẤT SẮC\",LEFT(P76,1)=\"7\"),Table1[[#This Row],[Column1]]+(ROUND(M76,3))+100+ROW()/10000,IF(AND(Q76=\"HỌC SINH XUẤT SẮC\",LEFT(P76,1)=\"6\"),Table1[[#This Row],[Column1]]+(ROUND(M76,3))+150+ROW()/10000,\"\"))))","v":""},{"$f":"IF(AND(Q76=\"HỌC SINH GIỎI\",LEFT(P76,1)=\"9\"),Table1[[#This Row],[Column1]]+(ROUND(M76,3))+200+ROW()/10000,IF(AND(Q76=\"HỌC SINH GIỎI\",LEFT(P76,1)=\"8\"),Table1[[#This Row],[Column1]]+(ROUND(M76,3))+250+ROW()/10000,IF(AND(Q76=\"HỌC SINH GIỎI\",LEFT(P76,1)=\"7\"),Table1[[#This Row],[Column1]]+(ROUND(M76,3))+300+ROW()/10000,IF(AND(Q76=\"HỌC SINH GIỎI\",LEFT(P76,1)=\"6\"),Table1[[#This Row],[Column1]]+(ROUND(M76,3))+350+ROW()/10000,\"\"))))","v":402.75760000000002},"Lê Bảo ","Khanh","HỌC SINH GIỎI","7C"]
["76","Nguyễn Thị Khánh","Ly","13/02/2013","Nguyễn Văn Long","Xóm 9","T","T",9,8.5,8.75,9.5,35.75,"x",null,"7C","HỌC SINH XUẤT SẮC",{"$f":"IF(Table1[[#This Row],[STT]]=\"\",\"\",ROW()-1)","v":76},{"$f":"IF(Table1[[#This Row],[Lơp]]=\"\",\"\",VLOOKUP(Table1[[#This Row],[Lơp]],$AC$3:$AD$14,2,0))","v":70},{"$f":"IF(AND(Q77=\"HỌC SINH XUẤT SẮC\",LEFT(P77,1)=\"9\"),Table1[[#This Row],[Column1]]+(ROUND(M77,3))+400+ROW()/10000,IF(AND(Q77=\"HỌC SINH XUẤT SẮC\",LEFT(P77,1)=\"8\"),Table1[[#This Row],[Column1]]+(ROUND(M77,3))+450+ROW()/10000,IF(AND(Q77=\"HỌC SINH XUẤT SẮC\",LEFT(P77,1)=\"7\"),Table1[[#This Row],[Column1]]+(ROUND(M77,3))+500+ROW()/10000,IF(AND(Q77=\"HỌC SINH XUẤT SẮC\",LEFT(P77,1)=\"6\"),Table1[[#This Row],[Column1]]+(ROUND(M77,3))+550+ROW()/10000,IF(AND(Q77=\"HỌC SINH GIỎI\",LEFT(P77,1)=\"9\"),Table1[[#This Row],[Column1]]+(ROUND(M77,3))+10+ROW()/10000,IF(AND(Q77=\"HỌC SINH GIỎI\",LEFT(P77,1)=\"8\"),Table1[[#This Row],[Column1]]+(ROUND(M77,3))+ 50+ROW()/10000,IF(AND(Q77=\"HỌC SINH GIỎI\",LEFT(P77,1)=\"7\"),Table1[[#This Row],[Column1]]+(ROUND(M77,3))+100+ROW()/10000,IF(AND(Q77=\"HỌC SINH GIỎI\",LEFT(P77,1)=\"6\"),Table1[[#This Row],[Column1]]+(ROUND(M77,3))+150+ROW()/10000,\"\"))))))))","v":605.7577},{"$f":"IF(AND(Q77=\"HỌC SINH XUẤT SẮC\",LEFT(P77,1)=\"9\"),(ROUND(M77,3))+Table1[[#This Row],[Column1]]+10+ROW()/10000,IF(AND(Q77=\"HỌC SINH XUẤT SẮC\",LEFT(P77,1)=\"8\"),Table1[[#This Row],[Column1]]+(ROUND(M77,3))+50+ROW()/10000,IF(AND(Q77=\"HỌC SINH XUẤT SẮC\",LEFT(P77,1)=\"7\"),Table1[[#This Row],[Column1]]+(ROUND(M77,3))+100+ROW()/10000,IF(AND(Q77=\"HỌC SINH XUẤT SẮC\",LEFT(P77,1)=\"6\"),Table1[[#This Row],[Column1]]+(ROUND(M77,3))+150+ROW()/10000,\"\"))))","v":205.7577},{"$f":"IF(AND(Q77=\"HỌC SINH GIỎI\",LEFT(P77,1)=\"9\"),Table1[[#This Row],[Column1]]+(ROUND(M77,3))+200+ROW()/10000,IF(AND(Q77=\"HỌC SINH GIỎI\",LEFT(P77,1)=\"8\"),Table1[[#This Row],[Column1]]+(ROUND(M77,3))+250+ROW()/10000,IF(AND(Q77=\"HỌC SINH GIỎI\",LEFT(P77,1)=\"7\"),Table1[[#This Row],[Column1]]+(ROUND(M77,3))+300+ROW()/10000,IF(AND(Q77=\"HỌC SINH GIỎI\",LEFT(P77,1)=\"6\"),Table1[[#This Row],[Column1]]+(ROUND(M77,3))+350+ROW()/10000,\"\"))))","v":""},"Nguyễn Thị Khánh","Ly","HỌC SINH XUẤT SẮC","7C"]
["77","Trần Thu","Minh","21/09/2013","Trần Văn Hưng","Xóm 9","T","T",9,8.25,9.25,8.75,35.25,null,"x","7C","HỌC SINH GIỎI",{"$f":"IF(Table1[[#This Row],[STT]]=\"\",\"\",ROW()-1)","v":77},{"$f":"IF(Table1[[#This Row],[Lơp]]=\"\",\"\",VLOOKUP(Table1[[#This Row],[Lơp]],$AC$3:$AD$14,2,0))","v":70},{"$f":"IF(AND(Q78=\"HỌC SINH XUẤT SẮC\",LEFT(P78,1)=\"9\"),Table1[[#This Row],[Column1]]+(ROUND(M78,3))+400+ROW()/10000,IF(AND(Q78=\"HỌC SINH XUẤT SẮC\",LEFT(P78,1)=\"8\"),Table1[[#This Row],[Column1]]+(ROUND(M78,3))+450+ROW()/10000,IF(AND(Q78=\"HỌC SINH XUẤT SẮC\",LEFT(P78,1)=\"7\"),Table1[[#This Row],[Column1]]+(ROUND(M78,3))+500+ROW()/10000,IF(AND(Q78=\"HỌC SINH XUẤT SẮC\",LEFT(P78,1)=\"6\"),Table1[[#This Row],[Column1]]+(ROUND(M78,3))+550+ROW()/10000,IF(AND(Q78=\"HỌC SINH GIỎI\",LEFT(P78,1)=\"9\"),Table1[[#This Row],[Column1]]+(ROUND(M78,3))+10+ROW()/10000,IF(AND(Q78=\"HỌC SINH GIỎI\",LEFT(P78,1)=\"8\"),Table1[[#This Row],[Column1]]+(ROUND(M78,3))+ 50+ROW()/10000,IF(AND(Q78=\"HỌC SINH GIỎI\",LEFT(P78,1)=\"7\"),Table1[[#This Row],[Column1]]+(ROUND(M78,3))+100+ROW()/10000,IF(AND(Q78=\"HỌC SINH GIỎI\",LEFT(P78,1)=\"6\"),Table1[[#This Row],[Column1]]+(ROUND(M78,3))+150+ROW()/10000,\"\"))))))))","v":205.2578},{"$f":"IF(AND(Q78=\"HỌC SINH XUẤT SẮC\",LEFT(P78,1)=\"9\"),(ROUND(M78,3))+Table1[[#This Row],[Column1]]+10+ROW()/10000,IF(AND(Q78=\"HỌC SINH XUẤT SẮC\",LEFT(P78,1)=\"8\"),Table1[[#This Row],[Column1]]+(ROUND(M78,3))+50+ROW()/10000,IF(AND(Q78=\"HỌC SINH XUẤT SẮC\",LEFT(P78,1)=\"7\"),Table1[[#This Row],[Column1]]+(ROUND(M78,3))+100+ROW()/10000,IF(AND(Q78=\"HỌC SINH XUẤT SẮC\",LEFT(P78,1)=\"6\"),Table1[[#This Row],[Column1]]+(ROUND(M78,3))+150+ROW()/10000,\"\"))))","v":""},{"$f":"IF(AND(Q78=\"HỌC SINH GIỎI\",LEFT(P78,1)=\"9\"),Table1[[#This Row],[Column1]]+(ROUND(M78,3))+200+ROW()/10000,IF(AND(Q78=\"HỌC SINH GIỎI\",LEFT(P78,1)=\"8\"),Table1[[#This Row],[Column1]]+(ROUND(M78,3))+250+ROW()/10000,IF(AND(Q78=\"HỌC SINH GIỎI\",LEFT(P78,1)=\"7\"),Table1[[#This Row],[Column1]]+(ROUND(M78,3))+300+ROW()/10000,IF(AND(Q78=\"HỌC SINH GIỎI\",LEFT(P78,1)=\"6\"),Table1[[#This Row],[Column1]]+(ROUND(M78,3))+350+ROW()/10000,\"\"))))","v":405.25779999999997},"Trần Thu","Minh","HỌC SINH GIỎI","7C"]
["78","Trần Huyền","My","01/10/2013","Trần Thanh Huấn","Xóm 8","T","T",9.25,8.5,9.75,8.75,36.25,"x",null,"7C","HỌC SINH XUẤT SẮC",{"$f":"IF(Table1[[#This Row],[STT]]=\"\",\"\",ROW()-1)","v":78},{"$f":"IF(Table1[[#This Row],[Lơp]]=\"\",\"\",VLOOKUP(Table1[[#This Row],[Lơp]],$AC$3:$AD$14,2,0))","v":70},{"$f":"IF(AND(Q79=\"HỌC SINH XUẤT SẮC\",LEFT(P79,1)=\"9\"),Table1[[#This Row],[Column1]]+(ROUND(M79,3))+400+ROW()/10000,IF(AND(Q79=\"HỌC SINH XUẤT SẮC\",LEFT(P79,1)=\"8\"),Table1[[#This Row],[Column1]]+(ROUND(M79,3))+450+ROW()/10000,IF(AND(Q79=\"HỌC SINH XUẤT SẮC\",LEFT(P79,1)=\"7\"),Table1[[#This Row],[Column1]]+(ROUND(M79,3))+500+ROW()/10000,IF(AND(Q79=\"HỌC SINH XUẤT SẮC\",LEFT(P79,1)=\"6\"),Table1[[#This Row],[Column1]]+(ROUND(M79,3))+550+ROW()/10000,IF(AND(Q79=\"HỌC SINH GIỎI\",LEFT(P79,1)=\"9\"),Table1[[#This Row],[Column1]]+(ROUND(M79,3))+10+ROW()/10000,IF(AND(Q79=\"HỌC SINH GIỎI\",LEFT(P79,1)=\"8\"),Table1[[#This Row],[Column1]]+(ROUND(M79,3))+ 50+ROW()/10000,IF(AND(Q79=\"HỌC SINH GIỎI\",LEFT(P79,1)=\"7\"),Table1[[#This Row],[Column1]]+(ROUND(M79,3))+100+ROW()/10000,IF(AND(Q79=\"HỌC SINH GIỎI\",LEFT(P79,1)=\"6\"),Table1[[#This Row],[Column1]]+(ROUND(M79,3))+150+ROW()/10000,\"\"))))))))","v":606.25789999999995},{"$f":"IF(AND(Q79=\"HỌC SINH XUẤT SẮC\",LEFT(P79,1)=\"9\"),(ROUND(M79,3))+Table1[[#This Row],[Column1]]+10+ROW()/10000,IF(AND(Q79=\"HỌC SINH XUẤT SẮC\",LEFT(P79,1)=\"8\"),Table1[[#This Row],[Column1]]+(ROUND(M79,3))+50+ROW()/10000,IF(AND(Q79=\"HỌC SINH XUẤT SẮC\",LEFT(P79,1)=\"7\"),Table1[[#This Row],[Column1]]+(ROUND(M79,3))+100+ROW()/10000,IF(AND(Q79=\"HỌC SINH XUẤT SẮC\",LEFT(P79,1)=\"6\"),Table1[[#This Row],[Column1]]+(ROUND(M79,3))+150+ROW()/10000,\"\"))))","v":206.25790000000001},{"$f":"IF(AND(Q79=\"HỌC SINH GIỎI\",LEFT(P79,1)=\"9\"),Table1[[#This Row],[Column1]]+(ROUND(M79,3))+200+ROW()/10000,IF(AND(Q79=\"HỌC SINH GIỎI\",LEFT(P79,1)=\"8\"),Table1[[#This Row],[Column1]]+(ROUND(M79,3))+250+ROW()/10000,IF(AND(Q79=\"HỌC SINH GIỎI\",LEFT(P79,1)=\"7\"),Table1[[#This Row],[Column1]]+(ROUND(M79,3))+300+ROW()/10000,IF(AND(Q79=\"HỌC SINH GIỎI\",LEFT(P79,1)=\"6\"),Table1[[#This Row],[Column1]]+(ROUND(M79,3))+350+ROW()/10000,\"\"))))","v":""},"Trần Huyền","My","HỌC SINH XUẤT SẮC","7C"]
["79","Cao Trần Khánh","My","06/03/2013","Cao Duy Hiếu","Xóm 7","T","T",8.5,8.25,9,8.25,34,null,"x","7C","HỌC SINH GIỎI",{"$f":"IF(Table1[[#This Row],[STT]]=\"\",\"\",ROW()-1)","v":79},{"$f":"IF(Table1[[#This Row],[Lơp]]=\"\",\"\",VLOOKUP(Table1[[#This Row],[Lơp]],$AC$3:$AD$14,2,0))","v":70},{"$f":"IF(AND(Q80=\"HỌC SINH XUẤT SẮC\",LEFT(P80,1)=\"9\"),Table1[[#This Row],[Column1]]+(ROUND(M80,3))+400+ROW()/10000,IF(AND(Q80=\"HỌC SINH XUẤT SẮC\",LEFT(P80,1)=\"8\"),Table1[[#This Row],[Column1]]+(ROUND(M80,3))+450+ROW()/10000,IF(AND(Q80=\"HỌC SINH XUẤT SẮC\",LEFT(P80,1)=\"7\"),Table1[[#This Row],[Column1]]+(ROUND(M80,3))+500+ROW()/10000,IF(AND(Q80=\"HỌC SINH XUẤT SẮC\",LEFT(P80,1)=\"6\"),Table1[[#This Row],[Column1]]+(ROUND(M80,3))+550+ROW()/10000,IF(AND(Q80=\"HỌC SINH GIỎI\",LEFT(P80,1)=\"9\"),Table1[[#This Row],[Column1]]+(ROUND(M80,3))+10+ROW()/10000,IF(AND(Q80=\"HỌC SINH GIỎI\",LEFT(P80,1)=\"8\"),Table1[[#This Row],[Column1]]+(ROUND(M80,3))+ 50+ROW()/10000,IF(AND(Q80=\"HỌC SINH GIỎI\",LEFT(P80,1)=\"7\"),Table1[[#This Row],[Column1]]+(ROUND(M80,3))+100+ROW()/10000,IF(AND(Q80=\"HỌC SINH GIỎI\",LEFT(P80,1)=\"6\"),Table1[[#This Row],[Column1]]+(ROUND(M80,3))+150+ROW()/10000,\"\"))))))))","v":204.00800000000001},{"$f":"IF(AND(Q80=\"HỌC SINH XUẤT SẮC\",LEFT(P80,1)=\"9\"),(ROUND(M80,3))+Table1[[#This Row],[Column1]]+10+ROW()/10000,IF(AND(Q80=\"HỌC SINH XUẤT SẮC\",LEFT(P80,1)=\"8\"),Table1[[#This Row],[Column1]]+(ROUND(M80,3))+50+ROW()/10000,IF(AND(Q80=\"HỌC SINH XUẤT SẮC\",LEFT(P80,1)=\"7\"),Table1[[#This Row],[Column1]]+(ROUND(M80,3))+100+ROW()/10000,IF(AND(Q80=\"HỌC SINH XUẤT SẮC\",LEFT(P80,1)=\"6\"),Table1[[#This Row],[Column1]]+(ROUND(M80,3))+150+ROW()/10000,\"\"))))","v":""},{"$f":"IF(AND(Q80=\"HỌC SINH GIỎI\",LEFT(P80,1)=\"9\"),Table1[[#This Row],[Column1]]+(ROUND(M80,3))+200+ROW()/10000,IF(AND(Q80=\"HỌC SINH GIỎI\",LEFT(P80,1)=\"8\"),Table1[[#This Row],[Column1]]+(ROUND(M80,3))+250+ROW()/10000,IF(AND(Q80=\"HỌC SINH GIỎI\",LEFT(P80,1)=\"7\"),Table1[[#This Row],[Column1]]+(ROUND(M80,3))+300+ROW()/10000,IF(AND(Q80=\"HỌC SINH GIỎI\",LEFT(P80,1)=\"6\"),Table1[[#This Row],[Column1]]+(ROUND(M80,3))+350+ROW()/10000,\"\"))))","v":404.00799999999998},"Cao Trần Khánh","My","HỌC SINH GIỎI","7C"]
["80","Bùi Thành","Nam","01/01/2013","Bùi Văn Hân","Xóm 7","T","T",9.5,8.25,9.5,8,35.25,"x",null,"7C","HỌC SINH XUẤT SẮC",{"$f":"IF(Table1[[#This Row],[STT]]=\"\",\"\",ROW()-1)","v":80},{"$f":"IF(Table1[[#This Row],[Lơp]]=\"\",\"\",VLOOKUP(Table1[[#This Row],[Lơp]],$AC$3:$AD$14,2,0))","v":70},{"$f":"IF(AND(Q81=\"HỌC SINH XUẤT SẮC\",LEFT(P81,1)=\"9\"),Table1[[#This Row],[Column1]]+(ROUND(M81,3))+400+ROW()/10000,IF(AND(Q81=\"HỌC SINH XUẤT SẮC\",LEFT(P81,1)=\"8\"),Table1[[#This Row],[Column1]]+(ROUND(M81,3))+450+ROW()/10000,IF(AND(Q81=\"HỌC SINH XUẤT SẮC\",LEFT(P81,1)=\"7\"),Table1[[#This Row],[Column1]]+(ROUND(M81,3))+500+ROW()/10000,IF(AND(Q81=\"HỌC SINH XUẤT SẮC\",LEFT(P81,1)=\"6\"),Table1[[#This Row],[Column1]]+(ROUND(M81,3))+550+ROW()/10000,IF(AND(Q81=\"HỌC SINH GIỎI\",LEFT(P81,1)=\"9\"),Table1[[#This Row],[Column1]]+(ROUND(M81,3))+10+ROW()/10000,IF(AND(Q81=\"HỌC SINH GIỎI\",LEFT(P81,1)=\"8\"),Table1[[#This Row],[Column1]]+(ROUND(M81,3))+ 50+ROW()/10000,IF(AND(Q81=\"HỌC SINH GIỎI\",LEFT(P81,1)=\"7\"),Table1[[#This Row],[Column1]]+(ROUND(M81,3))+100+ROW()/10000,IF(AND(Q81=\"HỌC SINH GIỎI\",LEFT(P81,1)=\"6\"),Table1[[#This Row],[Column1]]+(ROUND(M81,3))+150+ROW()/10000,\"\"))))))))","v":605.25810000000001},{"$f":"IF(AND(Q81=\"HỌC SINH XUẤT SẮC\",LEFT(P81,1)=\"9\"),(ROUND(M81,3))+Table1[[#This Row],[Column1]]+10+ROW()/10000,IF(AND(Q81=\"HỌC SINH XUẤT SẮC\",LEFT(P81,1)=\"8\"),Table1[[#This Row],[Column1]]+(ROUND(M81,3))+50+ROW()/10000,IF(AND(Q81=\"HỌC SINH XUẤT SẮC\",LEFT(P81,1)=\"7\"),Table1[[#This Row],[Column1]]+(ROUND(M81,3))+100+ROW()/10000,IF(AND(Q81=\"HỌC SINH XUẤT SẮC\",LEFT(P81,1)=\"6\"),Table1[[#This Row],[Column1]]+(ROUND(M81,3))+150+ROW()/10000,\"\"))))","v":205.25810000000001},{"$f":"IF(AND(Q81=\"HỌC SINH GIỎI\",LEFT(P81,1)=\"9\"),Table1[[#This Row],[Column1]]+(ROUND(M81,3))+200+ROW()/10000,IF(AND(Q81=\"HỌC SINH GIỎI\",LEFT(P81,1)=\"8\"),Table1[[#This Row],[Column1]]+(ROUND(M81,3))+250+ROW()/10000,IF(AND(Q81=\"HỌC SINH GIỎI\",LEFT(P81,1)=\"7\"),Table1[[#This Row],[Column1]]+(ROUND(M81,3))+300+ROW()/10000,IF(AND(Q81=\"HỌC SINH GIỎI\",LEFT(P81,1)=\"6\"),Table1[[#This Row],[Column1]]+(ROUND(M81,3))+350+ROW()/10000,\"\"))))","v":""},"Bùi Thành","Nam","HỌC SINH XUẤT SẮC","7C"]
["81","Mai Hải","Nam","06/07/2013","Mai Ngọc Yên","Xóm 2","T","T",9,5.25,9.25,6.75,30.25,null,"x","7C","HỌC SINH GIỎI",{"$f":"IF(Table1[[#This Row],[STT]]=\"\",\"\",ROW()-1)","v":81},{"$f":"IF(Table1[[#This Row],[Lơp]]=\"\",\"\",VLOOKUP(Table1[[#This Row],[Lơp]],$AC$3:$AD$14,2,0))","v":70},{"$f":"IF(AND(Q82=\"HỌC SINH XUẤT SẮC\",LEFT(P82,1)=\"9\"),Table1[[#This Row],[Column1]]+(ROUND(M82,3))+400+ROW()/10000,IF(AND(Q82=\"HỌC SINH XUẤT SẮC\",LEFT(P82,1)=\"8\"),Table1[[#This Row],[Column1]]+(ROUND(M82,3))+450+ROW()/10000,IF(AND(Q82=\"HỌC SINH XUẤT SẮC\",LEFT(P82,1)=\"7\"),Table1[[#This Row],[Column1]]+(ROUND(M82,3))+500+ROW()/10000,IF(AND(Q82=\"HỌC SINH XUẤT SẮC\",LEFT(P82,1)=\"6\"),Table1[[#This Row],[Column1]]+(ROUND(M82,3))+550+ROW()/10000,IF(AND(Q82=\"HỌC SINH GIỎI\",LEFT(P82,1)=\"9\"),Table1[[#This Row],[Column1]]+(ROUND(M82,3))+10+ROW()/10000,IF(AND(Q82=\"HỌC SINH GIỎI\",LEFT(P82,1)=\"8\"),Table1[[#This Row],[Column1]]+(ROUND(M82,3))+ 50+ROW()/10000,IF(AND(Q82=\"HỌC SINH GIỎI\",LEFT(P82,1)=\"7\"),Table1[[#This Row],[Column1]]+(ROUND(M82,3))+100+ROW()/10000,IF(AND(Q82=\"HỌC SINH GIỎI\",LEFT(P82,1)=\"6\"),Table1[[#This Row],[Column1]]+(ROUND(M82,3))+150+ROW()/10000,\"\"))))))))","v":200.25819999999999},{"$f":"IF(AND(Q82=\"HỌC SINH XUẤT SẮC\",LEFT(P82,1)=\"9\"),(ROUND(M82,3))+Table1[[#This Row],[Column1]]+10+ROW()/10000,IF(AND(Q82=\"HỌC SINH XUẤT SẮC\",LEFT(P82,1)=\"8\"),Table1[[#This Row],[Column1]]+(ROUND(M82,3))+50+ROW()/10000,IF(AND(Q82=\"HỌC SINH XUẤT SẮC\",LEFT(P82,1)=\"7\"),Table1[[#This Row],[Column1]]+(ROUND(M82,3))+100+ROW()/10000,IF(AND(Q82=\"HỌC SINH XUẤT SẮC\",LEFT(P82,1)=\"6\"),Table1[[#This Row],[Column1]]+(ROUND(M82,3))+150+ROW()/10000,\"\"))))","v":""},{"$f":"IF(AND(Q82=\"HỌC SINH GIỎI\",LEFT(P82,1)=\"9\"),Table1[[#This Row],[Column1]]+(ROUND(M82,3))+200+ROW()/10000,IF(AND(Q82=\"HỌC SINH GIỎI\",LEFT(P82,1)=\"8\"),Table1[[#This Row],[Column1]]+(ROUND(M82,3))+250+ROW()/10000,IF(AND(Q82=\"HỌC SINH GIỎI\",LEFT(P82,1)=\"7\"),Table1[[#This Row],[Column1]]+(ROUND(M82,3))+300+ROW()/10000,IF(AND(Q82=\"HỌC SINH GIỎI\",LEFT(P82,1)=\"6\"),Table1[[#This Row],[Column1]]+(ROUND(M82,3))+350+ROW()/10000,\"\"))))","v":400.25819999999999},"Mai Hải","Nam","HỌC SINH GIỎI","7C"]
["82","Trần Linh","Nhi","03/07/2013","Trần Trung Kiên","Xóm 8","T","T",8.25,7.25,9.75,8.25,33.5,null,"x","7C","HỌC SINH GIỎI",{"$f":"IF(Table1[[#This Row],[STT]]=\"\",\"\",ROW()-1)","v":82},{"$f":"IF(Table1[[#This Row],[Lơp]]=\"\",\"\",VLOOKUP(Table1[[#This Row],[Lơp]],$AC$3:$AD$14,2,0))","v":70},{"$f":"IF(AND(Q83=\"HỌC SINH XUẤT SẮC\",LEFT(P83,1)=\"9\"),Table1[[#This Row],[Column1]]+(ROUND(M83,3))+400+ROW()/10000,IF(AND(Q83=\"HỌC SINH XUẤT SẮC\",LEFT(P83,1)=\"8\"),Table1[[#This Row],[Column1]]+(ROUND(M83,3))+450+ROW()/10000,IF(AND(Q83=\"HỌC SINH XUẤT SẮC\",LEFT(P83,1)=\"7\"),Table1[[#This Row],[Column1]]+(ROUND(M83,3))+500+ROW()/10000,IF(AND(Q83=\"HỌC SINH XUẤT SẮC\",LEFT(P83,1)=\"6\"),Table1[[#This Row],[Column1]]+(ROUND(M83,3))+550+ROW()/10000,IF(AND(Q83=\"HỌC SINH GIỎI\",LEFT(P83,1)=\"9\"),Table1[[#This Row],[Column1]]+(ROUND(M83,3))+10+ROW()/10000,IF(AND(Q83=\"HỌC SINH GIỎI\",LEFT(P83,1)=\"8\"),Table1[[#This Row],[Column1]]+(ROUND(M83,3))+ 50+ROW()/10000,IF(AND(Q83=\"HỌC SINH GIỎI\",LEFT(P83,1)=\"7\"),Table1[[#This Row],[Column1]]+(ROUND(M83,3))+100+ROW()/10000,IF(AND(Q83=\"HỌC SINH GIỎI\",LEFT(P83,1)=\"6\"),Table1[[#This Row],[Column1]]+(ROUND(M83,3))+150+ROW()/10000,\"\"))))))))","v":203.50829999999999},{"$f":"IF(AND(Q83=\"HỌC SINH XUẤT SẮC\",LEFT(P83,1)=\"9\"),(ROUND(M83,3))+Table1[[#This Row],[Column1]]+10+ROW()/10000,IF(AND(Q83=\"HỌC SINH XUẤT SẮC\",LEFT(P83,1)=\"8\"),Table1[[#This Row],[Column1]]+(ROUND(M83,3))+50+ROW()/10000,IF(AND(Q83=\"HỌC SINH XUẤT SẮC\",LEFT(P83,1)=\"7\"),Table1[[#This Row],[Column1]]+(ROUND(M83,3))+100+ROW()/10000,IF(AND(Q83=\"HỌC SINH XUẤT SẮC\",LEFT(P83,1)=\"6\"),Table1[[#This Row],[Column1]]+(ROUND(M83,3))+150+ROW()/10000,\"\"))))","v":""},{"$f":"IF(AND(Q83=\"HỌC SINH GIỎI\",LEFT(P83,1)=\"9\"),Table1[[#This Row],[Column1]]+(ROUND(M83,3))+200+ROW()/10000,IF(AND(Q83=\"HỌC SINH GIỎI\",LEFT(P83,1)=\"8\"),Table1[[#This Row],[Column1]]+(ROUND(M83,3))+250+ROW()/10000,IF(AND(Q83=\"HỌC SINH GIỎI\",LEFT(P83,1)=\"7\"),Table1[[#This Row],[Column1]]+(ROUND(M83,3))+300+ROW()/10000,IF(AND(Q83=\"HỌC SINH GIỎI\",LEFT(P83,1)=\"6\"),Table1[[#This Row],[Column1]]+(ROUND(M83,3))+350+ROW()/10000,\"\"))))","v":403.50830000000002},"Trần Linh","Nhi","HỌC SINH GIỎI","7C"]
["83","Trần Thị Yến","Nhi","08/09/2013","Trần Văn Trường","Xóm 6","T","T",8,8,8.5,7,31.5,null,"x","7C","HỌC SINH GIỎI",{"$f":"IF(Table1[[#This Row],[STT]]=\"\",\"\",ROW()-1)","v":83},{"$f":"IF(Table1[[#This Row],[Lơp]]=\"\",\"\",VLOOKUP(Table1[[#This Row],[Lơp]],$AC$3:$AD$14,2,0))","v":70},{"$f":"IF(AND(Q84=\"HỌC SINH XUẤT SẮC\",LEFT(P84,1)=\"9\"),Table1[[#This Row],[Column1]]+(ROUND(M84,3))+400+ROW()/10000,IF(AND(Q84=\"HỌC SINH XUẤT SẮC\",LEFT(P84,1)=\"8\"),Table1[[#This Row],[Column1]]+(ROUND(M84,3))+450+ROW()/10000,IF(AND(Q84=\"HỌC SINH XUẤT SẮC\",LEFT(P84,1)=\"7\"),Table1[[#This Row],[Column1]]+(ROUND(M84,3))+500+ROW()/10000,IF(AND(Q84=\"HỌC SINH XUẤT SẮC\",LEFT(P84,1)=\"6\"),Table1[[#This Row],[Column1]]+(ROUND(M84,3))+550+ROW()/10000,IF(AND(Q84=\"HỌC SINH GIỎI\",LEFT(P84,1)=\"9\"),Table1[[#This Row],[Column1]]+(ROUND(M84,3))+10+ROW()/10000,IF(AND(Q84=\"HỌC SINH GIỎI\",LEFT(P84,1)=\"8\"),Table1[[#This Row],[Column1]]+(ROUND(M84,3))+ 50+ROW()/10000,IF(AND(Q84=\"HỌC SINH GIỎI\",LEFT(P84,1)=\"7\"),Table1[[#This Row],[Column1]]+(ROUND(M84,3))+100+ROW()/10000,IF(AND(Q84=\"HỌC SINH GIỎI\",LEFT(P84,1)=\"6\"),Table1[[#This Row],[Column1]]+(ROUND(M84,3))+150+ROW()/10000,\"\"))))))))","v":201.50839999999999},{"$f":"IF(AND(Q84=\"HỌC SINH XUẤT SẮC\",LEFT(P84,1)=\"9\"),(ROUND(M84,3))+Table1[[#This Row],[Column1]]+10+ROW()/10000,IF(AND(Q84=\"HỌC SINH XUẤT SẮC\",LEFT(P84,1)=\"8\"),Table1[[#This Row],[Column1]]+(ROUND(M84,3))+50+ROW()/10000,IF(AND(Q84=\"HỌC SINH XUẤT SẮC\",LEFT(P84,1)=\"7\"),Table1[[#This Row],[Column1]]+(ROUND(M84,3))+100+ROW()/10000,IF(AND(Q84=\"HỌC SINH XUẤT SẮC\",LEFT(P84,1)=\"6\"),Table1[[#This Row],[Column1]]+(ROUND(M84,3))+150+ROW()/10000,\"\"))))","v":""},{"$f":"IF(AND(Q84=\"HỌC SINH GIỎI\",LEFT(P84,1)=\"9\"),Table1[[#This Row],[Column1]]+(ROUND(M84,3))+200+ROW()/10000,IF(AND(Q84=\"HỌC SINH GIỎI\",LEFT(P84,1)=\"8\"),Table1[[#This Row],[Column1]]+(ROUND(M84,3))+250+ROW()/10000,IF(AND(Q84=\"HỌC SINH GIỎI\",LEFT(P84,1)=\"7\"),Table1[[#This Row],[Column1]]+(ROUND(M84,3))+300+ROW()/10000,IF(AND(Q84=\"HỌC SINH GIỎI\",LEFT(P84,1)=\"6\"),Table1[[#This Row],[Column1]]+(ROUND(M84,3))+350+ROW()/10000,\"\"))))","v":401.50839999999999},"Trần Thị Yến","Nhi","HỌC SINH GIỎI","7C"]
["84","Lê Phước","Sang","07/11/2013","Lê Văn Nam","Xóm 6","T","T",9,8.5,8,8.25,33.75,null,"x","7C","HỌC SINH GIỎI",{"$f":"IF(Table1[[#This Row],[STT]]=\"\",\"\",ROW()-1)","v":84},{"$f":"IF(Table1[[#This Row],[Lơp]]=\"\",\"\",VLOOKUP(Table1[[#This Row],[Lơp]],$AC$3:$AD$14,2,0))","v":70},{"$f":"IF(AND(Q85=\"HỌC SINH XUẤT SẮC\",LEFT(P85,1)=\"9\"),Table1[[#This Row],[Column1]]+(ROUND(M85,3))+400+ROW()/10000,IF(AND(Q85=\"HỌC SINH XUẤT SẮC\",LEFT(P85,1)=\"8\"),Table1[[#This Row],[Column1]]+(ROUND(M85,3))+450+ROW()/10000,IF(AND(Q85=\"HỌC SINH XUẤT SẮC\",LEFT(P85,1)=\"7\"),Table1[[#This Row],[Column1]]+(ROUND(M85,3))+500+ROW()/10000,IF(AND(Q85=\"HỌC SINH XUẤT SẮC\",LEFT(P85,1)=\"6\"),Table1[[#This Row],[Column1]]+(ROUND(M85,3))+550+ROW()/10000,IF(AND(Q85=\"HỌC SINH GIỎI\",LEFT(P85,1)=\"9\"),Table1[[#This Row],[Column1]]+(ROUND(M85,3))+10+ROW()/10000,IF(AND(Q85=\"HỌC SINH GIỎI\",LEFT(P85,1)=\"8\"),Table1[[#This Row],[Column1]]+(ROUND(M85,3))+ 50+ROW()/10000,IF(AND(Q85=\"HỌC SINH GIỎI\",LEFT(P85,1)=\"7\"),Table1[[#This Row],[Column1]]+(ROUND(M85,3))+100+ROW()/10000,IF(AND(Q85=\"HỌC SINH GIỎI\",LEFT(P85,1)=\"6\"),Table1[[#This Row],[Column1]]+(ROUND(M85,3))+150+ROW()/10000,\"\"))))))))","v":203.7585},{"$f":"IF(AND(Q85=\"HỌC SINH XUẤT SẮC\",LEFT(P85,1)=\"9\"),(ROUND(M85,3))+Table1[[#This Row],[Column1]]+10+ROW()/10000,IF(AND(Q85=\"HỌC SINH XUẤT SẮC\",LEFT(P85,1)=\"8\"),Table1[[#This Row],[Column1]]+(ROUND(M85,3))+50+ROW()/10000,IF(AND(Q85=\"HỌC SINH XUẤT SẮC\",LEFT(P85,1)=\"7\"),Table1[[#This Row],[Column1]]+(ROUND(M85,3))+100+ROW()/10000,IF(AND(Q85=\"HỌC SINH XUẤT SẮC\",LEFT(P85,1)=\"6\"),Table1[[#This Row],[Column1]]+(ROUND(M85,3))+150+ROW()/10000,\"\"))))","v":""},{"$f":"IF(AND(Q85=\"HỌC SINH GIỎI\",LEFT(P85,1)=\"9\"),Table1[[#This Row],[Column1]]+(ROUND(M85,3))+200+ROW()/10000,IF(AND(Q85=\"HỌC SINH GIỎI\",LEFT(P85,1)=\"8\"),Table1[[#This Row],[Column1]]+(ROUND(M85,3))+250+ROW()/10000,IF(AND(Q85=\"HỌC SINH GIỎI\",LEFT(P85,1)=\"7\"),Table1[[#This Row],[Column1]]+(ROUND(M85,3))+300+ROW()/10000,IF(AND(Q85=\"HỌC SINH GIỎI\",LEFT(P85,1)=\"6\"),Table1[[#This Row],[Column1]]+(ROUND(M85,3))+350+ROW()/10000,\"\"))))","v":403.75850000000003},"Lê Phước","Sang","HỌC SINH GIỎI","7C"]
["85","Nguyễn Phúc","Tài","02/06/2013","Nguyễn Văn Tuân","Xóm 1","T","T",8.5,6.5,9,7.25,31.25,null,"x","7C","HỌC SINH GIỎI",{"$f":"IF(Table1[[#This Row],[STT]]=\"\",\"\",ROW()-1)","v":85},{"$f":"IF(Table1[[#This Row],[Lơp]]=\"\",\"\",VLOOKUP(Table1[[#This Row],[Lơp]],$AC$3:$AD$14,2,0))","v":70},{"$f":"IF(AND(Q86=\"HỌC SINH XUẤT SẮC\",LEFT(P86,1)=\"9\"),Table1[[#This Row],[Column1]]+(ROUND(M86,3))+400+ROW()/10000,IF(AND(Q86=\"HỌC SINH XUẤT SẮC\",LEFT(P86,1)=\"8\"),Table1[[#This Row],[Column1]]+(ROUND(M86,3))+450+ROW()/10000,IF(AND(Q86=\"HỌC SINH XUẤT SẮC\",LEFT(P86,1)=\"7\"),Table1[[#This Row],[Column1]]+(ROUND(M86,3))+500+ROW()/10000,IF(AND(Q86=\"HỌC SINH XUẤT SẮC\",LEFT(P86,1)=\"6\"),Table1[[#This Row],[Column1]]+(ROUND(M86,3))+550+ROW()/10000,IF(AND(Q86=\"HỌC SINH GIỎI\",LEFT(P86,1)=\"9\"),Table1[[#This Row],[Column1]]+(ROUND(M86,3))+10+ROW()/10000,IF(AND(Q86=\"HỌC SINH GIỎI\",LEFT(P86,1)=\"8\"),Table1[[#This Row],[Column1]]+(ROUND(M86,3))+ 50+ROW()/10000,IF(AND(Q86=\"HỌC SINH GIỎI\",LEFT(P86,1)=\"7\"),Table1[[#This Row],[Column1]]+(ROUND(M86,3))+100+ROW()/10000,IF(AND(Q86=\"HỌC SINH GIỎI\",LEFT(P86,1)=\"6\"),Table1[[#This Row],[Column1]]+(ROUND(M86,3))+150+ROW()/10000,\"\"))))))))","v":201.2586},{"$f":"IF(AND(Q86=\"HỌC SINH XUẤT SẮC\",LEFT(P86,1)=\"9\"),(ROUND(M86,3))+Table1[[#This Row],[Column1]]+10+ROW()/10000,IF(AND(Q86=\"HỌC SINH XUẤT SẮC\",LEFT(P86,1)=\"8\"),Table1[[#This Row],[Column1]]+(ROUND(M86,3))+50+ROW()/10000,IF(AND(Q86=\"HỌC SINH XUẤT SẮC\",LEFT(P86,1)=\"7\"),Table1[[#This Row],[Column1]]+(ROUND(M86,3))+100+ROW()/10000,IF(AND(Q86=\"HỌC SINH XUẤT SẮC\",LEFT(P86,1)=\"6\"),Table1[[#This Row],[Column1]]+(ROUND(M86,3))+150+ROW()/10000,\"\"))))","v":""},{"$f":"IF(AND(Q86=\"HỌC SINH GIỎI\",LEFT(P86,1)=\"9\"),Table1[[#This Row],[Column1]]+(ROUND(M86,3))+200+ROW()/10000,IF(AND(Q86=\"HỌC SINH GIỎI\",LEFT(P86,1)=\"8\"),Table1[[#This Row],[Column1]]+(ROUND(M86,3))+250+ROW()/10000,IF(AND(Q86=\"HỌC SINH GIỎI\",LEFT(P86,1)=\"7\"),Table1[[#This Row],[Column1]]+(ROUND(M86,3))+300+ROW()/10000,IF(AND(Q86=\"HỌC SINH GIỎI\",LEFT(P86,1)=\"6\"),Table1[[#This Row],[Column1]]+(ROUND(M86,3))+350+ROW()/10000,\"\"))))","v":401.2586},"Nguyễn Phúc","Tài","HỌC SINH GIỎI","7C"]
["86","Nguyễn Minh","Tâm","09/07/2013","Nguyễn Văn Vịnh","Xóm 8","T","T",9.5,9.5,9.75,8,36.75,"x",null,"7C","HỌC SINH XUẤT SẮC",{"$f":"IF(Table1[[#This Row],[STT]]=\"\",\"\",ROW()-1)","v":86},{"$f":"IF(Table1[[#This Row],[Lơp]]=\"\",\"\",VLOOKUP(Table1[[#This Row],[Lơp]],$AC$3:$AD$14,2,0))","v":70},{"$f":"IF(AND(Q87=\"HỌC SINH XUẤT SẮC\",LEFT(P87,1)=\"9\"),Table1[[#This Row],[Column1]]+(ROUND(M87,3))+400+ROW()/10000,IF(AND(Q87=\"HỌC SINH XUẤT SẮC\",LEFT(P87,1)=\"8\"),Table1[[#This Row],[Column1]]+(ROUND(M87,3))+450+ROW()/10000,IF(AND(Q87=\"HỌC SINH XUẤT SẮC\",LEFT(P87,1)=\"7\"),Table1[[#This Row],[Column1]]+(ROUND(M87,3))+500+ROW()/10000,IF(AND(Q87=\"HỌC SINH XUẤT SẮC\",LEFT(P87,1)=\"6\"),Table1[[#This Row],[Column1]]+(ROUND(M87,3))+550+ROW()/10000,IF(AND(Q87=\"HỌC SINH GIỎI\",LEFT(P87,1)=\"9\"),Table1[[#This Row],[Column1]]+(ROUND(M87,3))+10+ROW()/10000,IF(AND(Q87=\"HỌC SINH GIỎI\",LEFT(P87,1)=\"8\"),Table1[[#This Row],[Column1]]+(ROUND(M87,3))+ 50+ROW()/10000,IF(AND(Q87=\"HỌC SINH GIỎI\",LEFT(P87,1)=\"7\"),Table1[[#This Row],[Column1]]+(ROUND(M87,3))+100+ROW()/10000,IF(AND(Q87=\"HỌC SINH GIỎI\",LEFT(P87,1)=\"6\"),Table1[[#This Row],[Column1]]+(ROUND(M87,3))+150+ROW()/10000,\"\"))))))))","v":606.75869999999998},{"$f":"IF(AND(Q87=\"HỌC SINH XUẤT SẮC\",LEFT(P87,1)=\"9\"),(ROUND(M87,3))+Table1[[#This Row],[Column1]]+10+ROW()/10000,IF(AND(Q87=\"HỌC SINH XUẤT SẮC\",LEFT(P87,1)=\"8\"),Table1[[#This Row],[Column1]]+(ROUND(M87,3))+50+ROW()/10000,IF(AND(Q87=\"HỌC SINH XUẤT SẮC\",LEFT(P87,1)=\"7\"),Table1[[#This Row],[Column1]]+(ROUND(M87,3))+100+ROW()/10000,IF(AND(Q87=\"HỌC SINH XUẤT SẮC\",LEFT(P87,1)=\"6\"),Table1[[#This Row],[Column1]]+(ROUND(M87,3))+150+ROW()/10000,\"\"))))","v":206.7587},{"$f":"IF(AND(Q87=\"HỌC SINH GIỎI\",LEFT(P87,1)=\"9\"),Table1[[#This Row],[Column1]]+(ROUND(M87,3))+200+ROW()/10000,IF(AND(Q87=\"HỌC SINH GIỎI\",LEFT(P87,1)=\"8\"),Table1[[#This Row],[Column1]]+(ROUND(M87,3))+250+ROW()/10000,IF(AND(Q87=\"HỌC SINH GIỎI\",LEFT(P87,1)=\"7\"),Table1[[#This Row],[Column1]]+(ROUND(M87,3))+300+ROW()/10000,IF(AND(Q87=\"HỌC SINH GIỎI\",LEFT(P87,1)=\"6\"),Table1[[#This Row],[Column1]]+(ROUND(M87,3))+350+ROW()/10000,\"\"))))","v":""},"Nguyễn Minh","Tâm","HỌC SINH XUẤT SẮC","7C"]
["87","Phạm Anh","Thư","22/03/2013","Phạm Thanh Thuấn","Xóm 7","T","T",9.25,5.25,8.5,7,30,null,"x","7C","HỌC SINH GIỎI",{"$f":"IF(Table1[[#This Row],[STT]]=\"\",\"\",ROW()-1)","v":87},{"$f":"IF(Table1[[#This Row],[Lơp]]=\"\",\"\",VLOOKUP(Table1[[#This Row],[Lơp]],$AC$3:$AD$14,2,0))","v":70},{"$f":"IF(AND(Q88=\"HỌC SINH XUẤT SẮC\",LEFT(P88,1)=\"9\"),Table1[[#This Row],[Column1]]+(ROUND(M88,3))+400+ROW()/10000,IF(AND(Q88=\"HỌC SINH XUẤT SẮC\",LEFT(P88,1)=\"8\"),Table1[[#This Row],[Column1]]+(ROUND(M88,3))+450+ROW()/10000,IF(AND(Q88=\"HỌC SINH XUẤT SẮC\",LEFT(P88,1)=\"7\"),Table1[[#This Row],[Column1]]+(ROUND(M88,3))+500+ROW()/10000,IF(AND(Q88=\"HỌC SINH XUẤT SẮC\",LEFT(P88,1)=\"6\"),Table1[[#This Row],[Column1]]+(ROUND(M88,3))+550+ROW()/10000,IF(AND(Q88=\"HỌC SINH GIỎI\",LEFT(P88,1)=\"9\"),Table1[[#This Row],[Column1]]+(ROUND(M88,3))+10+ROW()/10000,IF(AND(Q88=\"HỌC SINH GIỎI\",LEFT(P88,1)=\"8\"),Table1[[#This Row],[Column1]]+(ROUND(M88,3))+ 50+ROW()/10000,IF(AND(Q88=\"HỌC SINH GIỎI\",LEFT(P88,1)=\"7\"),Table1[[#This Row],[Column1]]+(ROUND(M88,3))+100+ROW()/10000,IF(AND(Q88=\"HỌC SINH GIỎI\",LEFT(P88,1)=\"6\"),Table1[[#This Row],[Column1]]+(ROUND(M88,3))+150+ROW()/10000,\"\"))))))))","v":200.00880000000001},{"$f":"IF(AND(Q88=\"HỌC SINH XUẤT SẮC\",LEFT(P88,1)=\"9\"),(ROUND(M88,3))+Table1[[#This Row],[Column1]]+10+ROW()/10000,IF(AND(Q88=\"HỌC SINH XUẤT SẮC\",LEFT(P88,1)=\"8\"),Table1[[#This Row],[Column1]]+(ROUND(M88,3))+50+ROW()/10000,IF(AND(Q88=\"HỌC SINH XUẤT SẮC\",LEFT(P88,1)=\"7\"),Table1[[#This Row],[Column1]]+(ROUND(M88,3))+100+ROW()/10000,IF(AND(Q88=\"HỌC SINH XUẤT SẮC\",LEFT(P88,1)=\"6\"),Table1[[#This Row],[Column1]]+(ROUND(M88,3))+150+ROW()/10000,\"\"))))","v":""},{"$f":"IF(AND(Q88=\"HỌC SINH GIỎI\",LEFT(P88,1)=\"9\"),Table1[[#This Row],[Column1]]+(ROUND(M88,3))+200+ROW()/10000,IF(AND(Q88=\"HỌC SINH GIỎI\",LEFT(P88,1)=\"8\"),Table1[[#This Row],[Column1]]+(ROUND(M88,3))+250+ROW()/10000,IF(AND(Q88=\"HỌC SINH GIỎI\",LEFT(P88,1)=\"7\"),Table1[[#This Row],[Column1]]+(ROUND(M88,3))+300+ROW()/10000,IF(AND(Q88=\"HỌC SINH GIỎI\",LEFT(P88,1)=\"6\"),Table1[[#This Row],[Column1]]+(ROUND(M88,3))+350+ROW()/10000,\"\"))))","v":400.00880000000001},"Phạm Anh","Thư","HỌC SINH GIỎI","7C"]
["88","Vũ Đức","Trí","22/05/2013","Vũ Minh Đắc","Xóm 4","T","T",9.5,8.75,9.75,8.25,36.25,"x",null,"7C","HỌC SINH XUẤT SẮC",{"$f":"IF(Table1[[#This Row],[STT]]=\"\",\"\",ROW()-1)","v":88},{"$f":"IF(Table1[[#This Row],[Lơp]]=\"\",\"\",VLOOKUP(Table1[[#This Row],[Lơp]],$AC$3:$AD$14,2,0))","v":70},{"$f":"IF(AND(Q89=\"HỌC SINH XUẤT SẮC\",LEFT(P89,1)=\"9\"),Table1[[#This Row],[Column1]]+(ROUND(M89,3))+400+ROW()/10000,IF(AND(Q89=\"HỌC SINH XUẤT SẮC\",LEFT(P89,1)=\"8\"),Table1[[#This Row],[Column1]]+(ROUND(M89,3))+450+ROW()/10000,IF(AND(Q89=\"HỌC SINH XUẤT SẮC\",LEFT(P89,1)=\"7\"),Table1[[#This Row],[Column1]]+(ROUND(M89,3))+500+ROW()/10000,IF(AND(Q89=\"HỌC SINH XUẤT SẮC\",LEFT(P89,1)=\"6\"),Table1[[#This Row],[Column1]]+(ROUND(M89,3))+550+ROW()/10000,IF(AND(Q89=\"HỌC SINH GIỎI\",LEFT(P89,1)=\"9\"),Table1[[#This Row],[Column1]]+(ROUND(M89,3))+10+ROW()/10000,IF(AND(Q89=\"HỌC SINH GIỎI\",LEFT(P89,1)=\"8\"),Table1[[#This Row],[Column1]]+(ROUND(M89,3))+ 50+ROW()/10000,IF(AND(Q89=\"HỌC SINH GIỎI\",LEFT(P89,1)=\"7\"),Table1[[#This Row],[Column1]]+(ROUND(M89,3))+100+ROW()/10000,IF(AND(Q89=\"HỌC SINH GIỎI\",LEFT(P89,1)=\"6\"),Table1[[#This Row],[Column1]]+(ROUND(M89,3))+150+ROW()/10000,\"\"))))))))","v":606.25890000000004},{"$f":"IF(AND(Q89=\"HỌC SINH XUẤT SẮC\",LEFT(P89,1)=\"9\"),(ROUND(M89,3))+Table1[[#This Row],[Column1]]+10+ROW()/10000,IF(AND(Q89=\"HỌC SINH XUẤT SẮC\",LEFT(P89,1)=\"8\"),Table1[[#This Row],[Column1]]+(ROUND(M89,3))+50+ROW()/10000,IF(AND(Q89=\"HỌC SINH XUẤT SẮC\",LEFT(P89,1)=\"7\"),Table1[[#This Row],[Column1]]+(ROUND(M89,3))+100+ROW()/10000,IF(AND(Q89=\"HỌC SINH XUẤT SẮC\",LEFT(P89,1)=\"6\"),Table1[[#This Row],[Column1]]+(ROUND(M89,3))+150+ROW()/10000,\"\"))))","v":206.25890000000001},{"$f":"IF(AND(Q89=\"HỌC SINH GIỎI\",LEFT(P89,1)=\"9\"),Table1[[#This Row],[Column1]]+(ROUND(M89,3))+200+ROW()/10000,IF(AND(Q89=\"HỌC SINH GIỎI\",LEFT(P89,1)=\"8\"),Table1[[#This Row],[Column1]]+(ROUND(M89,3))+250+ROW()/10000,IF(AND(Q89=\"HỌC SINH GIỎI\",LEFT(P89,1)=\"7\"),Table1[[#This Row],[Column1]]+(ROUND(M89,3))+300+ROW()/10000,IF(AND(Q89=\"HỌC SINH GIỎI\",LEFT(P89,1)=\"6\"),Table1[[#This Row],[Column1]]+(ROUND(M89,3))+350+ROW()/10000,\"\"))))","v":""},"Vũ Đức","Trí","HỌC SINH XUẤT SẮC","7C"]
["89","Tống Nguyễn Phương","Uyên","09/07/2013","Tống Văn Chính","Xóm 3","T","T",8.5,7.5,7,7.5,30.5,null,"x","7C","HỌC SINH GIỎI",{"$f":"IF(Table1[[#This Row],[STT]]=\"\",\"\",ROW()-1)","v":89},{"$f":"IF(Table1[[#This Row],[Lơp]]=\"\",\"\",VLOOKUP(Table1[[#This Row],[Lơp]],$AC$3:$AD$14,2,0))","v":70},{"$f":"IF(AND(Q90=\"HỌC SINH XUẤT SẮC\",LEFT(P90,1)=\"9\"),Table1[[#This Row],[Column1]]+(ROUND(M90,3))+400+ROW()/10000,IF(AND(Q90=\"HỌC SINH XUẤT SẮC\",LEFT(P90,1)=\"8\"),Table1[[#This Row],[Column1]]+(ROUND(M90,3))+450+ROW()/10000,IF(AND(Q90=\"HỌC SINH XUẤT SẮC\",LEFT(P90,1)=\"7\"),Table1[[#This Row],[Column1]]+(ROUND(M90,3))+500+ROW()/10000,IF(AND(Q90=\"HỌC SINH XUẤT SẮC\",LEFT(P90,1)=\"6\"),Table1[[#This Row],[Column1]]+(ROUND(M90,3))+550+ROW()/10000,IF(AND(Q90=\"HỌC SINH GIỎI\",LEFT(P90,1)=\"9\"),Table1[[#This Row],[Column1]]+(ROUND(M90,3))+10+ROW()/10000,IF(AND(Q90=\"HỌC SINH GIỎI\",LEFT(P90,1)=\"8\"),Table1[[#This Row],[Column1]]+(ROUND(M90,3))+ 50+ROW()/10000,IF(AND(Q90=\"HỌC SINH GIỎI\",LEFT(P90,1)=\"7\"),Table1[[#This Row],[Column1]]+(ROUND(M90,3))+100+ROW()/10000,IF(AND(Q90=\"HỌC SINH GIỎI\",LEFT(P90,1)=\"6\"),Table1[[#This Row],[Column1]]+(ROUND(M90,3))+150+ROW()/10000,\"\"))))))))","v":200.50899999999999},{"$f":"IF(AND(Q90=\"HỌC SINH XUẤT SẮC\",LEFT(P90,1)=\"9\"),(ROUND(M90,3))+Table1[[#This Row],[Column1]]+10+ROW()/10000,IF(AND(Q90=\"HỌC SINH XUẤT SẮC\",LEFT(P90,1)=\"8\"),Table1[[#This Row],[Column1]]+(ROUND(M90,3))+50+ROW()/10000,IF(AND(Q90=\"HỌC SINH XUẤT SẮC\",LEFT(P90,1)=\"7\"),Table1[[#This Row],[Column1]]+(ROUND(M90,3))+100+ROW()/10000,IF(AND(Q90=\"HỌC SINH XUẤT SẮC\",LEFT(P90,1)=\"6\"),Table1[[#This Row],[Column1]]+(ROUND(M90,3))+150+ROW()/10000,\"\"))))","v":""},{"$f":"IF(AND(Q90=\"HỌC SINH GIỎI\",LEFT(P90,1)=\"9\"),Table1[[#This Row],[Column1]]+(ROUND(M90,3))+200+ROW()/10000,IF(AND(Q90=\"HỌC SINH GIỎI\",LEFT(P90,1)=\"8\"),Table1[[#This Row],[Column1]]+(ROUND(M90,3))+250+ROW()/10000,IF(AND(Q90=\"HỌC SINH GIỎI\",LEFT(P90,1)=\"7\"),Table1[[#This Row],[Column1]]+(ROUND(M90,3))+300+ROW()/10000,IF(AND(Q90=\"HỌC SINH GIỎI\",LEFT(P90,1)=\"6\"),Table1[[#This Row],[Column1]]+(ROUND(M90,3))+350+ROW()/10000,\"\"))))","v":400.50900000000001},"Tống Nguyễn Phương","Uyên","HỌC SINH GIỎI","7C"]
["90","Trần Nguyễn Tường","Vy","27/06/2013","Trần Đại Nghĩa","Xóm 3","T","T",9,7.75,7.25,7,31,null,"x","7C","HỌC SINH GIỎI",{"$f":"IF(Table1[[#This Row],[STT]]=\"\",\"\",ROW()-1)","v":90},{"$f":"IF(Table1[[#This Row],[Lơp]]=\"\",\"\",VLOOKUP(Table1[[#This Row],[Lơp]],$AC$3:$AD$14,2,0))","v":70},{"$f":"IF(AND(Q91=\"HỌC SINH XUẤT SẮC\",LEFT(P91,1)=\"9\"),Table1[[#This Row],[Column1]]+(ROUND(M91,3))+400+ROW()/10000,IF(AND(Q91=\"HỌC SINH XUẤT SẮC\",LEFT(P91,1)=\"8\"),Table1[[#This Row],[Column1]]+(ROUND(M91,3))+450+ROW()/10000,IF(AND(Q91=\"HỌC SINH XUẤT SẮC\",LEFT(P91,1)=\"7\"),Table1[[#This Row],[Column1]]+(ROUND(M91,3))+500+ROW()/10000,IF(AND(Q91=\"HỌC SINH XUẤT SẮC\",LEFT(P91,1)=\"6\"),Table1[[#This Row],[Column1]]+(ROUND(M91,3))+550+ROW()/10000,IF(AND(Q91=\"HỌC SINH GIỎI\",LEFT(P91,1)=\"9\"),Table1[[#This Row],[Column1]]+(ROUND(M91,3))+10+ROW()/10000,IF(AND(Q91=\"HỌC SINH GIỎI\",LEFT(P91,1)=\"8\"),Table1[[#This Row],[Column1]]+(ROUND(M91,3))+ 50+ROW()/10000,IF(AND(Q91=\"HỌC SINH GIỎI\",LEFT(P91,1)=\"7\"),Table1[[#This Row],[Column1]]+(ROUND(M91,3))+100+ROW()/10000,IF(AND(Q91=\"HỌC SINH GIỎI\",LEFT(P91,1)=\"6\"),Table1[[#This Row],[Column1]]+(ROUND(M91,3))+150+ROW()/10000,\"\"))))))))","v":201.00909999999999},{"$f":"IF(AND(Q91=\"HỌC SINH XUẤT SẮC\",LEFT(P91,1)=\"9\"),(ROUND(M91,3))+Table1[[#This Row],[Column1]]+10+ROW()/10000,IF(AND(Q91=\"HỌC SINH XUẤT SẮC\",LEFT(P91,1)=\"8\"),Table1[[#This Row],[Column1]]+(ROUND(M91,3))+50+ROW()/10000,IF(AND(Q91=\"HỌC SINH XUẤT SẮC\",LEFT(P91,1)=\"7\"),Table1[[#This Row],[Column1]]+(ROUND(M91,3))+100+ROW()/10000,IF(AND(Q91=\"HỌC SINH XUẤT SẮC\",LEFT(P91,1)=\"6\"),Table1[[#This Row],[Column1]]+(ROUND(M91,3))+150+ROW()/10000,\"\"))))","v":""},{"$f":"IF(AND(Q91=\"HỌC SINH GIỎI\",LEFT(P91,1)=\"9\"),Table1[[#This Row],[Column1]]+(ROUND(M91,3))+200+ROW()/10000,IF(AND(Q91=\"HỌC SINH GIỎI\",LEFT(P91,1)=\"8\"),Table1[[#This Row],[Column1]]+(ROUND(M91,3))+250+ROW()/10000,IF(AND(Q91=\"HỌC SINH GIỎI\",LEFT(P91,1)=\"7\"),Table1[[#This Row],[Column1]]+(ROUND(M91,3))+300+ROW()/10000,IF(AND(Q91=\"HỌC SINH GIỎI\",LEFT(P91,1)=\"6\"),Table1[[#This Row],[Column1]]+(ROUND(M91,3))+350+ROW()/10000,\"\"))))","v":401.00909999999999},"Trần Nguyễn Tường","Vy","HỌC SINH GIỎI","7C"]
["91","Phạm Hoàng ","Anh","2013-10-18","Phạm công Chính","Xóm 1","T","T",9,5,6.5,8,28.5,null,"x","7C","HỌC SINH GIỎI",{"$f":"IF(Table1[[#This Row],[STT]]=\"\",\"\",ROW()-1)","v":91},{"$f":"IF(Table1[[#This Row],[Lơp]]=\"\",\"\",VLOOKUP(Table1[[#This Row],[Lơp]],$AC$3:$AD$14,2,0))","v":70},{"$f":"IF(AND(Q92=\"HỌC SINH XUẤT SẮC\",LEFT(P92,1)=\"9\"),Table1[[#This Row],[Column1]]+(ROUND(M92,3))+400+ROW()/10000,IF(AND(Q92=\"HỌC SINH XUẤT SẮC\",LEFT(P92,1)=\"8\"),Table1[[#This Row],[Column1]]+(ROUND(M92,3))+450+ROW()/10000,IF(AND(Q92=\"HỌC SINH XUẤT SẮC\",LEFT(P92,1)=\"7\"),Table1[[#This Row],[Column1]]+(ROUND(M92,3))+500+ROW()/10000,IF(AND(Q92=\"HỌC SINH XUẤT SẮC\",LEFT(P92,1)=\"6\"),Table1[[#This Row],[Column1]]+(ROUND(M92,3))+550+ROW()/10000,IF(AND(Q92=\"HỌC SINH GIỎI\",LEFT(P92,1)=\"9\"),Table1[[#This Row],[Column1]]+(ROUND(M92,3))+10+ROW()/10000,IF(AND(Q92=\"HỌC SINH GIỎI\",LEFT(P92,1)=\"8\"),Table1[[#This Row],[Column1]]+(ROUND(M92,3))+ 50+ROW()/10000,IF(AND(Q92=\"HỌC SINH GIỎI\",LEFT(P92,1)=\"7\"),Table1[[#This Row],[Column1]]+(ROUND(M92,3))+100+ROW()/10000,IF(AND(Q92=\"HỌC SINH GIỎI\",LEFT(P92,1)=\"6\"),Table1[[#This Row],[Column1]]+(ROUND(M92,3))+150+ROW()/10000,\"\"))))))))","v":198.50919999999999},{"$f":"IF(AND(Q92=\"HỌC SINH XUẤT SẮC\",LEFT(P92,1)=\"9\"),(ROUND(M92,3))+Table1[[#This Row],[Column1]]+10+ROW()/10000,IF(AND(Q92=\"HỌC SINH XUẤT SẮC\",LEFT(P92,1)=\"8\"),Table1[[#This Row],[Column1]]+(ROUND(M92,3))+50+ROW()/10000,IF(AND(Q92=\"HỌC SINH XUẤT SẮC\",LEFT(P92,1)=\"7\"),Table1[[#This Row],[Column1]]+(ROUND(M92,3))+100+ROW()/10000,IF(AND(Q92=\"HỌC SINH XUẤT SẮC\",LEFT(P92,1)=\"6\"),Table1[[#This Row],[Column1]]+(ROUND(M92,3))+150+ROW()/10000,\"\"))))","v":""},{"$f":"IF(AND(Q92=\"HỌC SINH GIỎI\",LEFT(P92,1)=\"9\"),Table1[[#This Row],[Column1]]+(ROUND(M92,3))+200+ROW()/10000,IF(AND(Q92=\"HỌC SINH GIỎI\",LEFT(P92,1)=\"8\"),Table1[[#This Row],[Column1]]+(ROUND(M92,3))+250+ROW()/10000,IF(AND(Q92=\"HỌC SINH GIỎI\",LEFT(P92,1)=\"7\"),Table1[[#This Row],[Column1]]+(ROUND(M92,3))+300+ROW()/10000,IF(AND(Q92=\"HỌC SINH GIỎI\",LEFT(P92,1)=\"6\"),Table1[[#This Row],[Column1]]+(ROUND(M92,3))+350+ROW()/10000,\"\"))))","v":398.50920000000002},"Phạm Hoàng ","Anh","HỌC SINH GIỎI","7C"]
["92","Nguyễn Linh","An","2013-06-24","Nguyễn Hồng Phong","Xóm 3","T","T",9,6.5,6.75,7,{"$f":"IF(AND(I93=\"\",J93=\"\",K93=\"\",L93=\"\"),\"\",SUM(I93:L93))","v":29.25},null,"x","7B","HỌC SINH GIỎI",{"$f":"IF(Table1[[#This Row],[STT]]=\"\",\"\",ROW()-1)","v":92},{"$f":"IF(Table1[[#This Row],[Lơp]]=\"\",\"\",VLOOKUP(Table1[[#This Row],[Lơp]],$AC$3:$AD$14,2,0))","v":80},{"$f":"IF(AND(Q93=\"HỌC SINH XUẤT SẮC\",LEFT(P93,1)=\"9\"),Table1[[#This Row],[Column1]]+(ROUND(M93,3))+400+ROW()/10000,IF(AND(Q93=\"HỌC SINH XUẤT SẮC\",LEFT(P93,1)=\"8\"),Table1[[#This Row],[Column1]]+(ROUND(M93,3))+450+ROW()/10000,IF(AND(Q93=\"HỌC SINH XUẤT SẮC\",LEFT(P93,1)=\"7\"),Table1[[#This Row],[Column1]]+(ROUND(M93,3))+500+ROW()/10000,IF(AND(Q93=\"HỌC SINH XUẤT SẮC\",LEFT(P93,1)=\"6\"),Table1[[#This Row],[Column1]]+(ROUND(M93,3))+550+ROW()/10000,IF(AND(Q93=\"HỌC SINH GIỎI\",LEFT(P93,1)=\"9\"),Table1[[#This Row],[Column1]]+(ROUND(M93,3))+10+ROW()/10000,IF(AND(Q93=\"HỌC SINH GIỎI\",LEFT(P93,1)=\"8\"),Table1[[#This Row],[Column1]]+(ROUND(M93,3))+ 50+ROW()/10000,IF(AND(Q93=\"HỌC SINH GIỎI\",LEFT(P93,1)=\"7\"),Table1[[#This Row],[Column1]]+(ROUND(M93,3))+100+ROW()/10000,IF(AND(Q93=\"HỌC SINH GIỎI\",LEFT(P93,1)=\"6\"),Table1[[#This Row],[Column1]]+(ROUND(M93,3))+150+ROW()/10000,\"\"))))))))","v":209.2593},{"$f":"IF(AND(Q93=\"HỌC SINH XUẤT SẮC\",LEFT(P93,1)=\"9\"),(ROUND(M93,3))+Table1[[#This Row],[Column1]]+10+ROW()/10000,IF(AND(Q93=\"HỌC SINH XUẤT SẮC\",LEFT(P93,1)=\"8\"),Table1[[#This Row],[Column1]]+(ROUND(M93,3))+50+ROW()/10000,IF(AND(Q93=\"HỌC SINH XUẤT SẮC\",LEFT(P93,1)=\"7\"),Table1[[#This Row],[Column1]]+(ROUND(M93,3))+100+ROW()/10000,IF(AND(Q93=\"HỌC SINH XUẤT SẮC\",LEFT(P93,1)=\"6\"),Table1[[#This Row],[Column1]]+(ROUND(M93,3))+150+ROW()/10000,\"\"))))","v":""},{"$f":"IF(AND(Q93=\"HỌC SINH GIỎI\",LEFT(P93,1)=\"9\"),Table1[[#This Row],[Column1]]+(ROUND(M93,3))+200+ROW()/10000,IF(AND(Q93=\"HỌC SINH GIỎI\",LEFT(P93,1)=\"8\"),Table1[[#This Row],[Column1]]+(ROUND(M93,3))+250+ROW()/10000,IF(AND(Q93=\"HỌC SINH GIỎI\",LEFT(P93,1)=\"7\"),Table1[[#This Row],[Column1]]+(ROUND(M93,3))+300+ROW()/10000,IF(AND(Q93=\"HỌC SINH GIỎI\",LEFT(P93,1)=\"6\"),Table1[[#This Row],[Column1]]+(ROUND(M93,3))+350+ROW()/10000,\"\"))))","v":409.2593},"Nguyễn Linh","An","HỌC SINH GIỎI","7B"]
["93","Vũ Thành","Danh","2013-11-07","Vũ Văn Dụng","Xóm 9","T","T",8,7.25,6.75,5.5,{"$f":"IF(AND(I94=\"\",J94=\"\",K94=\"\",L94=\"\"),\"\",SUM(I94:L94))","v":27.5},null,"x","7B","HỌC SINH GIỎI",{"$f":"IF(Table1[[#This Row],[STT]]=\"\",\"\",ROW()-1)","v":93},{"$f":"IF(Table1[[#This Row],[Lơp]]=\"\",\"\",VLOOKUP(Table1[[#This Row],[Lơp]],$AC$3:$AD$14,2,0))","v":80},{"$f":"IF(AND(Q94=\"HỌC SINH XUẤT SẮC\",LEFT(P94,1)=\"9\"),Table1[[#This Row],[Column1]]+(ROUND(M94,3))+400+ROW()/10000,IF(AND(Q94=\"HỌC SINH XUẤT SẮC\",LEFT(P94,1)=\"8\"),Table1[[#This Row],[Column1]]+(ROUND(M94,3))+450+ROW()/10000,IF(AND(Q94=\"HỌC SINH XUẤT SẮC\",LEFT(P94,1)=\"7\"),Table1[[#This Row],[Column1]]+(ROUND(M94,3))+500+ROW()/10000,IF(AND(Q94=\"HỌC SINH XUẤT SẮC\",LEFT(P94,1)=\"6\"),Table1[[#This Row],[Column1]]+(ROUND(M94,3))+550+ROW()/10000,IF(AND(Q94=\"HỌC SINH GIỎI\",LEFT(P94,1)=\"9\"),Table1[[#This Row],[Column1]]+(ROUND(M94,3))+10+ROW()/10000,IF(AND(Q94=\"HỌC SINH GIỎI\",LEFT(P94,1)=\"8\"),Table1[[#This Row],[Column1]]+(ROUND(M94,3))+ 50+ROW()/10000,IF(AND(Q94=\"HỌC SINH GIỎI\",LEFT(P94,1)=\"7\"),Table1[[#This Row],[Column1]]+(ROUND(M94,3))+100+ROW()/10000,IF(AND(Q94=\"HỌC SINH GIỎI\",LEFT(P94,1)=\"6\"),Table1[[#This Row],[Column1]]+(ROUND(M94,3))+150+ROW()/10000,\"\"))))))))","v":207.5094},{"$f":"IF(AND(Q94=\"HỌC SINH XUẤT SẮC\",LEFT(P94,1)=\"9\"),(ROUND(M94,3))+Table1[[#This Row],[Column1]]+10+ROW()/10000,IF(AND(Q94=\"HỌC SINH XUẤT SẮC\",LEFT(P94,1)=\"8\"),Table1[[#This Row],[Column1]]+(ROUND(M94,3))+50+ROW()/10000,IF(AND(Q94=\"HỌC SINH XUẤT SẮC\",LEFT(P94,1)=\"7\"),Table1[[#This Row],[Column1]]+(ROUND(M94,3))+100+ROW()/10000,IF(AND(Q94=\"HỌC SINH XUẤT SẮC\",LEFT(P94,1)=\"6\"),Table1[[#This Row],[Column1]]+(ROUND(M94,3))+150+ROW()/10000,\"\"))))","v":""},{"$f":"IF(AND(Q94=\"HỌC SINH GIỎI\",LEFT(P94,1)=\"9\"),Table1[[#This Row],[Column1]]+(ROUND(M94,3))+200+ROW()/10000,IF(AND(Q94=\"HỌC SINH GIỎI\",LEFT(P94,1)=\"8\"),Table1[[#This Row],[Column1]]+(ROUND(M94,3))+250+ROW()/10000,IF(AND(Q94=\"HỌC SINH GIỎI\",LEFT(P94,1)=\"7\"),Table1[[#This Row],[Column1]]+(ROUND(M94,3))+300+ROW()/10000,IF(AND(Q94=\"HỌC SINH GIỎI\",LEFT(P94,1)=\"6\"),Table1[[#This Row],[Column1]]+(ROUND(M94,3))+350+ROW()/10000,\"\"))))","v":407.50940000000003},"Vũ Thành","Danh","HỌC SINH GIỎI","7B"]
["94","Mai Huyền","Diệu","2013-11-21","Mai Văn Tứ","Xóm 2","T","T",7,7,7.75,5.25,27,null,"x","7B","HỌC SINH GIỎI",{"$f":"IF(Table1[[#This Row],[STT]]=\"\",\"\",ROW()-1)","v":94},{"$f":"IF(Table1[[#This Row],[Lơp]]=\"\",\"\",VLOOKUP(Table1[[#This Row],[Lơp]],$AC$3:$AD$14,2,0))","v":80},{"$f":"IF(AND(Q95=\"HỌC SINH XUẤT SẮC\",LEFT(P95,1)=\"9\"),Table1[[#This Row],[Column1]]+(ROUND(M95,3))+400+ROW()/10000,IF(AND(Q95=\"HỌC SINH XUẤT SẮC\",LEFT(P95,1)=\"8\"),Table1[[#This Row],[Column1]]+(ROUND(M95,3))+450+ROW()/10000,IF(AND(Q95=\"HỌC SINH XUẤT SẮC\",LEFT(P95,1)=\"7\"),Table1[[#This Row],[Column1]]+(ROUND(M95,3))+500+ROW()/10000,IF(AND(Q95=\"HỌC SINH XUẤT SẮC\",LEFT(P95,1)=\"6\"),Table1[[#This Row],[Column1]]+(ROUND(M95,3))+550+ROW()/10000,IF(AND(Q95=\"HỌC SINH GIỎI\",LEFT(P95,1)=\"9\"),Table1[[#This Row],[Column1]]+(ROUND(M95,3))+10+ROW()/10000,IF(AND(Q95=\"HỌC SINH GIỎI\",LEFT(P95,1)=\"8\"),Table1[[#This Row],[Column1]]+(ROUND(M95,3))+ 50+ROW()/10000,IF(AND(Q95=\"HỌC SINH GIỎI\",LEFT(P95,1)=\"7\"),Table1[[#This Row],[Column1]]+(ROUND(M95,3))+100+ROW()/10000,IF(AND(Q95=\"HỌC SINH GIỎI\",LEFT(P95,1)=\"6\"),Table1[[#This Row],[Column1]]+(ROUND(M95,3))+150+ROW()/10000,\"\"))))))))","v":207.0095},{"$f":"IF(AND(Q95=\"HỌC SINH XUẤT SẮC\",LEFT(P95,1)=\"9\"),(ROUND(M95,3))+Table1[[#This Row],[Column1]]+10+ROW()/10000,IF(AND(Q95=\"HỌC SINH XUẤT SẮC\",LEFT(P95,1)=\"8\"),Table1[[#This Row],[Column1]]+(ROUND(M95,3))+50+ROW()/10000,IF(AND(Q95=\"HỌC SINH XUẤT SẮC\",LEFT(P95,1)=\"7\"),Table1[[#This Row],[Column1]]+(ROUND(M95,3))+100+ROW()/10000,IF(AND(Q95=\"HỌC SINH XUẤT SẮC\",LEFT(P95,1)=\"6\"),Table1[[#This Row],[Column1]]+(ROUND(M95,3))+150+ROW()/10000,\"\"))))","v":""},{"$f":"IF(AND(Q95=\"HỌC SINH GIỎI\",LEFT(P95,1)=\"9\"),Table1[[#This Row],[Column1]]+(ROUND(M95,3))+200+ROW()/10000,IF(AND(Q95=\"HỌC SINH GIỎI\",LEFT(P95,1)=\"8\"),Table1[[#This Row],[Column1]]+(ROUND(M95,3))+250+ROW()/10000,IF(AND(Q95=\"HỌC SINH GIỎI\",LEFT(P95,1)=\"7\"),Table1[[#This Row],[Column1]]+(ROUND(M95,3))+300+ROW()/10000,IF(AND(Q95=\"HỌC SINH GIỎI\",LEFT(P95,1)=\"6\"),Table1[[#This Row],[Column1]]+(ROUND(M95,3))+350+ROW()/10000,\"\"))))","v":407.0095},"Mai Huyền","Diệu","HỌC SINH GIỎI","7B"]
["95","Bùi Mai Bảo","An","30/04/2014","Bùi Văn Nam","Xóm 8","T","T",9,7.75,6,8.25,{"$f":"IF(AND(I96=\"\",J96=\"\",K96=\"\",L96=\"\"),\"\",SUM(I96:L96))","v":31},null,"X","6C","HỌC SINH GIỎI",{"$f":"IF(Table1[[#This Row],[STT]]=\"\",\"\",ROW()-1)","v":95},{"$f":"IF(Table1[[#This Row],[Lơp]]=\"\",\"\",VLOOKUP(Table1[[#This Row],[Lơp]],$AC$3:$AD$14,2,0))","v":100},{"$f":"IF(AND(Q96=\"HỌC SINH XUẤT SẮC\",LEFT(P96,1)=\"9\"),Table1[[#This Row],[Column1]]+(ROUND(M96,3))+400+ROW()/10000,IF(AND(Q96=\"HỌC SINH XUẤT SẮC\",LEFT(P96,1)=\"8\"),Table1[[#This Row],[Column1]]+(ROUND(M96,3))+450+ROW()/10000,IF(AND(Q96=\"HỌC SINH XUẤT SẮC\",LEFT(P96,1)=\"7\"),Table1[[#This Row],[Column1]]+(ROUND(M96,3))+500+ROW()/10000,IF(AND(Q96=\"HỌC SINH XUẤT SẮC\",LEFT(P96,1)=\"6\"),Table1[[#This Row],[Column1]]+(ROUND(M96,3))+550+ROW()/10000,IF(AND(Q96=\"HỌC SINH GIỎI\",LEFT(P96,1)=\"9\"),Table1[[#This Row],[Column1]]+(ROUND(M96,3))+10+ROW()/10000,IF(AND(Q96=\"HỌC SINH GIỎI\",LEFT(P96,1)=\"8\"),Table1[[#This Row],[Column1]]+(ROUND(M96,3))+ 50+ROW()/10000,IF(AND(Q96=\"HỌC SINH GIỎI\",LEFT(P96,1)=\"7\"),Table1[[#This Row],[Column1]]+(ROUND(M96,3))+100+ROW()/10000,IF(AND(Q96=\"HỌC SINH GIỎI\",LEFT(P96,1)=\"6\"),Table1[[#This Row],[Column1]]+(ROUND(M96,3))+150+ROW()/10000,\"\"))))))))","v":281.00959999999998},{"$f":"IF(AND(Q96=\"HỌC SINH XUẤT SẮC\",LEFT(P96,1)=\"9\"),(ROUND(M96,3))+Table1[[#This Row],[Column1]]+10+ROW()/10000,IF(AND(Q96=\"HỌC SINH XUẤT SẮC\",LEFT(P96,1)=\"8\"),Table1[[#This Row],[Column1]]+(ROUND(M96,3))+50+ROW()/10000,IF(AND(Q96=\"HỌC SINH XUẤT SẮC\",LEFT(P96,1)=\"7\"),Table1[[#This Row],[Column1]]+(ROUND(M96,3))+100+ROW()/10000,IF(AND(Q96=\"HỌC SINH XUẤT SẮC\",LEFT(P96,1)=\"6\"),Table1[[#This Row],[Column1]]+(ROUND(M96,3))+150+ROW()/10000,\"\"))))","v":""},{"$f":"IF(AND(Q96=\"HỌC SINH GIỎI\",LEFT(P96,1)=\"9\"),Table1[[#This Row],[Column1]]+(ROUND(M96,3))+200+ROW()/10000,IF(AND(Q96=\"HỌC SINH GIỎI\",LEFT(P96,1)=\"8\"),Table1[[#This Row],[Column1]]+(ROUND(M96,3))+250+ROW()/10000,IF(AND(Q96=\"HỌC SINH GIỎI\",LEFT(P96,1)=\"7\"),Table1[[#This Row],[Column1]]+(ROUND(M96,3))+300+ROW()/10000,IF(AND(Q96=\"HỌC SINH GIỎI\",LEFT(P96,1)=\"6\"),Table1[[#This Row],[Column1]]+(ROUND(M96,3))+350+ROW()/10000,\"\"))))","v":481.00959999999998},"Bùi Mai Bảo","An","HỌC SINH GIỎI","6C"]
["96","Trần Ngọc","Ánh","20/01/2014","Trần Văn Hữu","Xóm 9","T","T",7,9,7.5,9,{"$f":"IF(AND(I97=\"\",J97=\"\",K97=\"\",L97=\"\"),\"\",SUM(I97:L97))","v":32.5},null,"X","6C","HỌC SINH GIỎI",{"$f":"IF(Table1[[#This Row],[STT]]=\"\",\"\",ROW()-1)","v":96},{"$f":"IF(Table1[[#This Row],[Lơp]]=\"\",\"\",VLOOKUP(Table1[[#This Row],[Lơp]],$AC$3:$AD$14,2,0))","v":100},{"$f":"IF(AND(Q97=\"HỌC SINH XUẤT SẮC\",LEFT(P97,1)=\"9\"),Table1[[#This Row],[Column1]]+(ROUND(M97,3))+400+ROW()/10000,IF(AND(Q97=\"HỌC SINH XUẤT SẮC\",LEFT(P97,1)=\"8\"),Table1[[#This Row],[Column1]]+(ROUND(M97,3))+450+ROW()/10000,IF(AND(Q97=\"HỌC SINH XUẤT SẮC\",LEFT(P97,1)=\"7\"),Table1[[#This Row],[Column1]]+(ROUND(M97,3))+500+ROW()/10000,IF(AND(Q97=\"HỌC SINH XUẤT SẮC\",LEFT(P97,1)=\"6\"),Table1[[#This Row],[Column1]]+(ROUND(M97,3))+550+ROW()/10000,IF(AND(Q97=\"HỌC SINH GIỎI\",LEFT(P97,1)=\"9\"),Table1[[#This Row],[Column1]]+(ROUND(M97,3))+10+ROW()/10000,IF(AND(Q97=\"HỌC SINH GIỎI\",LEFT(P97,1)=\"8\"),Table1[[#This Row],[Column1]]+(ROUND(M97,3))+ 50+ROW()/10000,IF(AND(Q97=\"HỌC SINH GIỎI\",LEFT(P97,1)=\"7\"),Table1[[#This Row],[Column1]]+(ROUND(M97,3))+100+ROW()/10000,IF(AND(Q97=\"HỌC SINH GIỎI\",LEFT(P97,1)=\"6\"),Table1[[#This Row],[Column1]]+(ROUND(M97,3))+150+ROW()/10000,\"\"))))))))","v":282.50970000000001},{"$f":"IF(AND(Q97=\"HỌC SINH XUẤT SẮC\",LEFT(P97,1)=\"9\"),(ROUND(M97,3))+Table1[[#This Row],[Column1]]+10+ROW()/10000,IF(AND(Q97=\"HỌC SINH XUẤT SẮC\",LEFT(P97,1)=\"8\"),Table1[[#This Row],[Column1]]+(ROUND(M97,3))+50+ROW()/10000,IF(AND(Q97=\"HỌC SINH XUẤT SẮC\",LEFT(P97,1)=\"7\"),Table1[[#This Row],[Column1]]+(ROUND(M97,3))+100+ROW()/10000,IF(AND(Q97=\"HỌC SINH XUẤT SẮC\",LEFT(P97,1)=\"6\"),Table1[[#This Row],[Column1]]+(ROUND(M97,3))+150+ROW()/10000,\"\"))))","v":""},{"$f":"IF(AND(Q97=\"HỌC SINH GIỎI\",LEFT(P97,1)=\"9\"),Table1[[#This Row],[Column1]]+(ROUND(M97,3))+200+ROW()/10000,IF(AND(Q97=\"HỌC SINH GIỎI\",LEFT(P97,1)=\"8\"),Table1[[#This Row],[Column1]]+(ROUND(M97,3))+250+ROW()/10000,IF(AND(Q97=\"HỌC SINH GIỎI\",LEFT(P97,1)=\"7\"),Table1[[#This Row],[Column1]]+(ROUND(M97,3))+300+ROW()/10000,IF(AND(Q97=\"HỌC SINH GIỎI\",LEFT(P97,1)=\"6\"),Table1[[#This Row],[Column1]]+(ROUND(M97,3))+350+ROW()/10000,\"\"))))","v":482.50970000000001},"Trần Ngọc","Ánh","HỌC SINH GIỎI","6C"]
["97","Trần Quốc","Bảo","30/11/2014","Trần Xuân Nam","Xóm 3","T","T",8.5,6.5,5.5,9.5,{"$f":"IF(AND(I98=\"\",J98=\"\",K98=\"\",L98=\"\"),\"\",SUM(I98:L98))","v":30},null,"X","6C","HỌC SINH GIỎI",{"$f":"IF(Table1[[#This Row],[STT]]=\"\",\"\",ROW()-1)","v":97},{"$f":"IF(Table1[[#This Row],[Lơp]]=\"\",\"\",VLOOKUP(Table1[[#This Row],[Lơp]],$AC$3:$AD$14,2,0))","v":100},{"$f":"IF(AND(Q98=\"HỌC SINH XUẤT SẮC\",LEFT(P98,1)=\"9\"),Table1[[#This Row],[Column1]]+(ROUND(M98,3))+400+ROW()/10000,IF(AND(Q98=\"HỌC SINH XUẤT SẮC\",LEFT(P98,1)=\"8\"),Table1[[#This Row],[Column1]]+(ROUND(M98,3))+450+ROW()/10000,IF(AND(Q98=\"HỌC SINH XUẤT SẮC\",LEFT(P98,1)=\"7\"),Table1[[#This Row],[Column1]]+(ROUND(M98,3))+500+ROW()/10000,IF(AND(Q98=\"HỌC SINH XUẤT SẮC\",LEFT(P98,1)=\"6\"),Table1[[#This Row],[Column1]]+(ROUND(M98,3))+550+ROW()/10000,IF(AND(Q98=\"HỌC SINH GIỎI\",LEFT(P98,1)=\"9\"),Table1[[#This Row],[Column1]]+(ROUND(M98,3))+10+ROW()/10000,IF(AND(Q98=\"HỌC SINH GIỎI\",LEFT(P98,1)=\"8\"),Table1[[#This Row],[Column1]]+(ROUND(M98,3))+ 50+ROW()/10000,IF(AND(Q98=\"HỌC SINH GIỎI\",LEFT(P98,1)=\"7\"),Table1[[#This Row],[Column1]]+(ROUND(M98,3))+100+ROW()/10000,IF(AND(Q98=\"HỌC SINH GIỎI\",LEFT(P98,1)=\"6\"),Table1[[#This Row],[Column1]]+(ROUND(M98,3))+150+ROW()/10000,\"\"))))))))","v":280.00979999999998},{"$f":"IF(AND(Q98=\"HỌC SINH XUẤT SẮC\",LEFT(P98,1)=\"9\"),(ROUND(M98,3))+Table1[[#This Row],[Column1]]+10+ROW()/10000,IF(AND(Q98=\"HỌC SINH XUẤT SẮC\",LEFT(P98,1)=\"8\"),Table1[[#This Row],[Column1]]+(ROUND(M98,3))+50+ROW()/10000,IF(AND(Q98=\"HỌC SINH XUẤT SẮC\",LEFT(P98,1)=\"7\"),Table1[[#This Row],[Column1]]+(ROUND(M98,3))+100+ROW()/10000,IF(AND(Q98=\"HỌC SINH XUẤT SẮC\",LEFT(P98,1)=\"6\"),Table1[[#This Row],[Column1]]+(ROUND(M98,3))+150+ROW()/10000,\"\"))))","v":""},{"$f":"IF(AND(Q98=\"HỌC SINH GIỎI\",LEFT(P98,1)=\"9\"),Table1[[#This Row],[Column1]]+(ROUND(M98,3))+200+ROW()/10000,IF(AND(Q98=\"HỌC SINH GIỎI\",LEFT(P98,1)=\"8\"),Table1[[#This Row],[Column1]]+(ROUND(M98,3))+250+ROW()/10000,IF(AND(Q98=\"HỌC SINH GIỎI\",LEFT(P98,1)=\"7\"),Table1[[#This Row],[Column1]]+(ROUND(M98,3))+300+ROW()/10000,IF(AND(Q98=\"HỌC SINH GIỎI\",LEFT(P98,1)=\"6\"),Table1[[#This Row],[Column1]]+(ROUND(M98,3))+350+ROW()/10000,\"\"))))","v":480.00979999999998},"Trần Quốc","Bảo","HỌC SINH GIỎI","6C"]
["98","Trần Thị Huyền","Châu","12/09/2014","Trần Đại Lượng","Xóm 2","T","T",9,7,6.75,9.25,{"$f":"IF(AND(I99=\"\",J99=\"\",K99=\"\",L99=\"\"),\"\",SUM(I99:L99))","v":32},null,"X","6C","HỌC SINH GIỎI",{"$f":"IF(Table1[[#This Row],[STT]]=\"\",\"\",ROW()-1)","v":98},{"$f":"IF(Table1[[#This Row],[Lơp]]=\"\",\"\",VLOOKUP(Table1[[#This Row],[Lơp]],$AC$3:$AD$14,2,0))","v":100},{"$f":"IF(AND(Q99=\"HỌC SINH XUẤT SẮC\",LEFT(P99,1)=\"9\"),Table1[[#This Row],[Column1]]+(ROUND(M99,3))+400+ROW()/10000,IF(AND(Q99=\"HỌC SINH XUẤT SẮC\",LEFT(P99,1)=\"8\"),Table1[[#This Row],[Column1]]+(ROUND(M99,3))+450+ROW()/10000,IF(AND(Q99=\"HỌC SINH XUẤT SẮC\",LEFT(P99,1)=\"7\"),Table1[[#This Row],[Column1]]+(ROUND(M99,3))+500+ROW()/10000,IF(AND(Q99=\"HỌC SINH XUẤT SẮC\",LEFT(P99,1)=\"6\"),Table1[[#This Row],[Column1]]+(ROUND(M99,3))+550+ROW()/10000,IF(AND(Q99=\"HỌC SINH GIỎI\",LEFT(P99,1)=\"9\"),Table1[[#This Row],[Column1]]+(ROUND(M99,3))+10+ROW()/10000,IF(AND(Q99=\"HỌC SINH GIỎI\",LEFT(P99,1)=\"8\"),Table1[[#This Row],[Column1]]+(ROUND(M99,3))+ 50+ROW()/10000,IF(AND(Q99=\"HỌC SINH GIỎI\",LEFT(P99,1)=\"7\"),Table1[[#This Row],[Column1]]+(ROUND(M99,3))+100+ROW()/10000,IF(AND(Q99=\"HỌC SINH GIỎI\",LEFT(P99,1)=\"6\"),Table1[[#This Row],[Column1]]+(ROUND(M99,3))+150+ROW()/10000,\"\"))))))))","v":282.00990000000002},{"$f":"IF(AND(Q99=\"HỌC SINH XUẤT SẮC\",LEFT(P99,1)=\"9\"),(ROUND(M99,3))+Table1[[#This Row],[Column1]]+10+ROW()/10000,IF(AND(Q99=\"HỌC SINH XUẤT SẮC\",LEFT(P99,1)=\"8\"),Table1[[#This Row],[Column1]]+(ROUND(M99,3))+50+ROW()/10000,IF(AND(Q99=\"HỌC SINH XUẤT SẮC\",LEFT(P99,1)=\"7\"),Table1[[#This Row],[Column1]]+(ROUND(M99,3))+100+ROW()/10000,IF(AND(Q99=\"HỌC SINH XUẤT SẮC\",LEFT(P99,1)=\"6\"),Table1[[#This Row],[Column1]]+(ROUND(M99,3))+150+ROW()/10000,\"\"))))","v":""},{"$f":"IF(AND(Q99=\"HỌC SINH GIỎI\",LEFT(P99,1)=\"9\"),Table1[[#This Row],[Column1]]+(ROUND(M99,3))+200+ROW()/10000,IF(AND(Q99=\"HỌC SINH GIỎI\",LEFT(P99,1)=\"8\"),Table1[[#This Row],[Column1]]+(ROUND(M99,3))+250+ROW()/10000,IF(AND(Q99=\"HỌC SINH GIỎI\",LEFT(P99,1)=\"7\"),Table1[[#This Row],[Column1]]+(ROUND(M99,3))+300+ROW()/10000,IF(AND(Q99=\"HỌC SINH GIỎI\",LEFT(P99,1)=\"6\"),Table1[[#This Row],[Column1]]+(ROUND(M99,3))+350+ROW()/10000,\"\"))))","v":482.00990000000002},"Trần Thị Huyền","Châu","HỌC SINH GIỎI","6C"]
["99","Lê Quỳnh","Chi","02/07/2014","Lê Chí Thức","Xóm 7","T","T",9.5,9.25,7,10,{"$f":"IF(AND(I100=\"\",J100=\"\",K100=\"\",L100=\"\"),\"\",SUM(I100:L100))","v":35.75},"X",null,"6C","HỌC SINH XUẤT SẮC",{"$f":"IF(Table1[[#This Row],[STT]]=\"\",\"\",ROW()-1)","v":99},{"$f":"IF(Table1[[#This Row],[Lơp]]=\"\",\"\",VLOOKUP(Table1[[#This Row],[Lơp]],$AC$3:$AD$14,2,0))","v":100},{"$f":"IF(AND(Q100=\"HỌC SINH XUẤT SẮC\",LEFT(P100,1)=\"9\"),Table1[[#This Row],[Column1]]+(ROUND(M100,3))+400+ROW()/10000,IF(AND(Q100=\"HỌC SINH XUẤT SẮC\",LEFT(P100,1)=\"8\"),Table1[[#This Row],[Column1]]+(ROUND(M100,3))+450+ROW()/10000,IF(AND(Q100=\"HỌC SINH XUẤT SẮC\",LEFT(P100,1)=\"7\"),Table1[[#This Row],[Column1]]+(ROUND(M100,3))+500+ROW()/10000,IF(AND(Q100=\"HỌC SINH XUẤT SẮC\",LEFT(P100,1)=\"6\"),Table1[[#This Row],[Column1]]+(ROUND(M100,3))+550+ROW()/10000,IF(AND(Q100=\"HỌC SINH GIỎI\",LEFT(P100,1)=\"9\"),Table1[[#This Row],[Column1]]+(ROUND(M100,3))+10+ROW()/10000,IF(AND(Q100=\"HỌC SINH GIỎI\",LEFT(P100,1)=\"8\"),Table1[[#This Row],[Column1]]+(ROUND(M100,3))+ 50+ROW()/10000,IF(AND(Q100=\"HỌC SINH GIỎI\",LEFT(P100,1)=\"7\"),Table1[[#This Row],[Column1]]+(ROUND(M100,3))+100+ROW()/10000,IF(AND(Q100=\"HỌC SINH GIỎI\",LEFT(P100,1)=\"6\"),Table1[[#This Row],[Column1]]+(ROUND(M100,3))+150+ROW()/10000,\"\"))))))))","v":685.76},{"$f":"IF(AND(Q100=\"HỌC SINH XUẤT SẮC\",LEFT(P100,1)=\"9\"),(ROUND(M100,3))+Table1[[#This Row],[Column1]]+10+ROW()/10000,IF(AND(Q100=\"HỌC SINH XUẤT SẮC\",LEFT(P100,1)=\"8\"),Table1[[#This Row],[Column1]]+(ROUND(M100,3))+50+ROW()/10000,IF(AND(Q100=\"HỌC SINH XUẤT SẮC\",LEFT(P100,1)=\"7\"),Table1[[#This Row],[Column1]]+(ROUND(M100,3))+100+ROW()/10000,IF(AND(Q100=\"HỌC SINH XUẤT SẮC\",LEFT(P100,1)=\"6\"),Table1[[#This Row],[Column1]]+(ROUND(M100,3))+150+ROW()/10000,\"\"))))","v":285.76},{"$f":"IF(AND(Q100=\"HỌC SINH GIỎI\",LEFT(P100,1)=\"9\"),Table1[[#This Row],[Column1]]+(ROUND(M100,3))+200+ROW()/10000,IF(AND(Q100=\"HỌC SINH GIỎI\",LEFT(P100,1)=\"8\"),Table1[[#This Row],[Column1]]+(ROUND(M100,3))+250+ROW()/10000,IF(AND(Q100=\"HỌC SINH GIỎI\",LEFT(P100,1)=\"7\"),Table1[[#This Row],[Column1]]+(ROUND(M100,3))+300+ROW()/10000,IF(AND(Q100=\"HỌC SINH GIỎI\",LEFT(P100,1)=\"6\"),Table1[[#This Row],[Column1]]+(ROUND(M100,3))+350+ROW()/10000,\"\"))))","v":""},"Lê Quỳnh","Chi","HỌC SINH XUẤT SẮC","6C"]
["100","Nguyễn Bích","Diệp","24/06/2014","Nguyễn Hải Bắc","Xóm 9","T","T",8.5,9.25,5.25,9.5,32.5,null,"X","6C","HỌC SINH GIỎI",{"$f":"IF(Table1[[#This Row],[STT]]=\"\",\"\",ROW()-1)","v":100},{"$f":"IF(Table1[[#This Row],[Lơp]]=\"\",\"\",VLOOKUP(Table1[[#This Row],[Lơp]],$AC$3:$AD$14,2,0))","v":100},{"$f":"IF(AND(Q101=\"HỌC SINH XUẤT SẮC\",LEFT(P101,1)=\"9\"),Table1[[#This Row],[Column1]]+(ROUND(M101,3))+400+ROW()/10000,IF(AND(Q101=\"HỌC SINH XUẤT SẮC\",LEFT(P101,1)=\"8\"),Table1[[#This Row],[Column1]]+(ROUND(M101,3))+450+ROW()/10000,IF(AND(Q101=\"HỌC SINH XUẤT SẮC\",LEFT(P101,1)=\"7\"),Table1[[#This Row],[Column1]]+(ROUND(M101,3))+500+ROW()/10000,IF(AND(Q101=\"HỌC SINH XUẤT SẮC\",LEFT(P101,1)=\"6\"),Table1[[#This Row],[Column1]]+(ROUND(M101,3))+550+ROW()/10000,IF(AND(Q101=\"HỌC SINH GIỎI\",LEFT(P101,1)=\"9\"),Table1[[#This Row],[Column1]]+(ROUND(M101,3))+10+ROW()/10000,IF(AND(Q101=\"HỌC SINH GIỎI\",LEFT(P101,1)=\"8\"),Table1[[#This Row],[Column1]]+(ROUND(M101,3))+ 50+ROW()/10000,IF(AND(Q101=\"HỌC SINH GIỎI\",LEFT(P101,1)=\"7\"),Table1[[#This Row],[Column1]]+(ROUND(M101,3))+100+ROW()/10000,IF(AND(Q101=\"HỌC SINH GIỎI\",LEFT(P101,1)=\"6\"),Table1[[#This Row],[Column1]]+(ROUND(M101,3))+150+ROW()/10000,\"\"))))))))","v":282.51010000000002},{"$f":"IF(AND(Q101=\"HỌC SINH XUẤT SẮC\",LEFT(P101,1)=\"9\"),(ROUND(M101,3))+Table1[[#This Row],[Column1]]+10+ROW()/10000,IF(AND(Q101=\"HỌC SINH XUẤT SẮC\",LEFT(P101,1)=\"8\"),Table1[[#This Row],[Column1]]+(ROUND(M101,3))+50+ROW()/10000,IF(AND(Q101=\"HỌC SINH XUẤT SẮC\",LEFT(P101,1)=\"7\"),Table1[[#This Row],[Column1]]+(ROUND(M101,3))+100+ROW()/10000,IF(AND(Q101=\"HỌC SINH XUẤT SẮC\",LEFT(P101,1)=\"6\"),Table1[[#This Row],[Column1]]+(ROUND(M101,3))+150+ROW()/10000,\"\"))))","v":""},{"$f":"IF(AND(Q101=\"HỌC SINH GIỎI\",LEFT(P101,1)=\"9\"),Table1[[#This Row],[Column1]]+(ROUND(M101,3))+200+ROW()/10000,IF(AND(Q101=\"HỌC SINH GIỎI\",LEFT(P101,1)=\"8\"),Table1[[#This Row],[Column1]]+(ROUND(M101,3))+250+ROW()/10000,IF(AND(Q101=\"HỌC SINH GIỎI\",LEFT(P101,1)=\"7\"),Table1[[#This Row],[Column1]]+(ROUND(M101,3))+300+ROW()/10000,IF(AND(Q101=\"HỌC SINH GIỎI\",LEFT(P101,1)=\"6\"),Table1[[#This Row],[Column1]]+(ROUND(M101,3))+350+ROW()/10000,\"\"))))","v":482.51010000000002},"Nguyễn Bích","Diệp","HỌC SINH GIỎI","6C"]
["101","Trần Ngọc","Diệp","18/07/2014","Trần Văn Chiến","Xóm 9","T","T",9,9.25,5.5,9.75,33.5,null,"X","6C","HỌC SINH GIỎI",{"$f":"IF(Table1[[#This Row],[STT]]=\"\",\"\",ROW()-1)","v":101},{"$f":"IF(Table1[[#This Row],[Lơp]]=\"\",\"\",VLOOKUP(Table1[[#This Row],[Lơp]],$AC$3:$AD$14,2,0))","v":100},{"$f":"IF(AND(Q102=\"HỌC SINH XUẤT SẮC\",LEFT(P102,1)=\"9\"),Table1[[#This Row],[Column1]]+(ROUND(M102,3))+400+ROW()/10000,IF(AND(Q102=\"HỌC SINH XUẤT SẮC\",LEFT(P102,1)=\"8\"),Table1[[#This Row],[Column1]]+(ROUND(M102,3))+450+ROW()/10000,IF(AND(Q102=\"HỌC SINH XUẤT SẮC\",LEFT(P102,1)=\"7\"),Table1[[#This Row],[Column1]]+(ROUND(M102,3))+500+ROW()/10000,IF(AND(Q102=\"HỌC SINH XUẤT SẮC\",LEFT(P102,1)=\"6\"),Table1[[#This Row],[Column1]]+(ROUND(M102,3))+550+ROW()/10000,IF(AND(Q102=\"HỌC SINH GIỎI\",LEFT(P102,1)=\"9\"),Table1[[#This Row],[Column1]]+(ROUND(M102,3))+10+ROW()/10000,IF(AND(Q102=\"HỌC SINH GIỎI\",LEFT(P102,1)=\"8\"),Table1[[#This Row],[Column1]]+(ROUND(M102,3))+ 50+ROW()/10000,IF(AND(Q102=\"HỌC SINH GIỎI\",LEFT(P102,1)=\"7\"),Table1[[#This Row],[Column1]]+(ROUND(M102,3))+100+ROW()/10000,IF(AND(Q102=\"HỌC SINH GIỎI\",LEFT(P102,1)=\"6\"),Table1[[#This Row],[Column1]]+(ROUND(M102,3))+150+ROW()/10000,\"\"))))))))","v":283.5102},{"$f":"IF(AND(Q102=\"HỌC SINH XUẤT SẮC\",LEFT(P102,1)=\"9\"),(ROUND(M102,3))+Table1[[#This Row],[Column1]]+10+ROW()/10000,IF(AND(Q102=\"HỌC SINH XUẤT SẮC\",LEFT(P102,1)=\"8\"),Table1[[#This Row],[Column1]]+(ROUND(M102,3))+50+ROW()/10000,IF(AND(Q102=\"HỌC SINH XUẤT SẮC\",LEFT(P102,1)=\"7\"),Table1[[#This Row],[Column1]]+(ROUND(M102,3))+100+ROW()/10000,IF(AND(Q102=\"HỌC SINH XUẤT SẮC\",LEFT(P102,1)=\"6\"),Table1[[#This Row],[Column1]]+(ROUND(M102,3))+150+ROW()/10000,\"\"))))","v":""},{"$f":"IF(AND(Q102=\"HỌC SINH GIỎI\",LEFT(P102,1)=\"9\"),Table1[[#This Row],[Column1]]+(ROUND(M102,3))+200+ROW()/10000,IF(AND(Q102=\"HỌC SINH GIỎI\",LEFT(P102,1)=\"8\"),Table1[[#This Row],[Column1]]+(ROUND(M102,3))+250+ROW()/10000,IF(AND(Q102=\"HỌC SINH GIỎI\",LEFT(P102,1)=\"7\"),Table1[[#This Row],[Column1]]+(ROUND(M102,3))+300+ROW()/10000,IF(AND(Q102=\"HỌC SINH GIỎI\",LEFT(P102,1)=\"6\"),Table1[[#This Row],[Column1]]+(ROUND(M102,3))+350+ROW()/10000,\"\"))))","v":483.5102},"Trần Ngọc","Diệp","HỌC SINH GIỎI","6C"]
["102","Lê Thu","Diệu","26/06/2014","Phạm Thị Lụa","Xóm 6","T","T",9.5,9,6.75,9.5,34.75,null,"X","6C","HỌC SINH GIỎI",{"$f":"IF(Table1[[#This Row],[STT]]=\"\",\"\",ROW()-1)","v":102},{"$f":"IF(Table1[[#This Row],[Lơp]]=\"\",\"\",VLOOKUP(Table1[[#This Row],[Lơp]],$AC$3:$AD$14,2,0))","v":100},{"$f":"IF(AND(Q103=\"HỌC SINH XUẤT SẮC\",LEFT(P103,1)=\"9\"),Table1[[#This Row],[Column1]]+(ROUND(M103,3))+400+ROW()/10000,IF(AND(Q103=\"HỌC SINH XUẤT SẮC\",LEFT(P103,1)=\"8\"),Table1[[#This Row],[Column1]]+(ROUND(M103,3))+450+ROW()/10000,IF(AND(Q103=\"HỌC SINH XUẤT SẮC\",LEFT(P103,1)=\"7\"),Table1[[#This Row],[Column1]]+(ROUND(M103,3))+500+ROW()/10000,IF(AND(Q103=\"HỌC SINH XUẤT SẮC\",LEFT(P103,1)=\"6\"),Table1[[#This Row],[Column1]]+(ROUND(M103,3))+550+ROW()/10000,IF(AND(Q103=\"HỌC SINH GIỎI\",LEFT(P103,1)=\"9\"),Table1[[#This Row],[Column1]]+(ROUND(M103,3))+10+ROW()/10000,IF(AND(Q103=\"HỌC SINH GIỎI\",LEFT(P103,1)=\"8\"),Table1[[#This Row],[Column1]]+(ROUND(M103,3))+ 50+ROW()/10000,IF(AND(Q103=\"HỌC SINH GIỎI\",LEFT(P103,1)=\"7\"),Table1[[#This Row],[Column1]]+(ROUND(M103,3))+100+ROW()/10000,IF(AND(Q103=\"HỌC SINH GIỎI\",LEFT(P103,1)=\"6\"),Table1[[#This Row],[Column1]]+(ROUND(M103,3))+150+ROW()/10000,\"\"))))))))","v":284.76029999999997},{"$f":"IF(AND(Q103=\"HỌC SINH XUẤT SẮC\",LEFT(P103,1)=\"9\"),(ROUND(M103,3))+Table1[[#This Row],[Column1]]+10+ROW()/10000,IF(AND(Q103=\"HỌC SINH XUẤT SẮC\",LEFT(P103,1)=\"8\"),Table1[[#This Row],[Column1]]+(ROUND(M103,3))+50+ROW()/10000,IF(AND(Q103=\"HỌC SINH XUẤT SẮC\",LEFT(P103,1)=\"7\"),Table1[[#This Row],[Column1]]+(ROUND(M103,3))+100+ROW()/10000,IF(AND(Q103=\"HỌC SINH XUẤT SẮC\",LEFT(P103,1)=\"6\"),Table1[[#This Row],[Column1]]+(ROUND(M103,3))+150+ROW()/10000,\"\"))))","v":""},{"$f":"IF(AND(Q103=\"HỌC SINH GIỎI\",LEFT(P103,1)=\"9\"),Table1[[#This Row],[Column1]]+(ROUND(M103,3))+200+ROW()/10000,IF(AND(Q103=\"HỌC SINH GIỎI\",LEFT(P103,1)=\"8\"),Table1[[#This Row],[Column1]]+(ROUND(M103,3))+250+ROW()/10000,IF(AND(Q103=\"HỌC SINH GIỎI\",LEFT(P103,1)=\"7\"),Table1[[#This Row],[Column1]]+(ROUND(M103,3))+300+ROW()/10000,IF(AND(Q103=\"HỌC SINH GIỎI\",LEFT(P103,1)=\"6\"),Table1[[#This Row],[Column1]]+(ROUND(M103,3))+350+ROW()/10000,\"\"))))","v":484.76029999999997},"Lê Thu","Diệu","HỌC SINH GIỎI","6C"]
["103","Nguyễn Kim","Dung","23/04/2014","Nguyễn Văn Đoàn","Xóm 9","T","T",8,8,6,9,31,null,"X","6C","HỌC SINH GIỎI",{"$f":"IF(Table1[[#This Row],[STT]]=\"\",\"\",ROW()-1)","v":103},{"$f":"IF(Table1[[#This Row],[Lơp]]=\"\",\"\",VLOOKUP(Table1[[#This Row],[Lơp]],$AC$3:$AD$14,2,0))","v":100},{"$f":"IF(AND(Q104=\"HỌC SINH XUẤT SẮC\",LEFT(P104,1)=\"9\"),Table1[[#This Row],[Column1]]+(ROUND(M104,3))+400+ROW()/10000,IF(AND(Q104=\"HỌC SINH XUẤT SẮC\",LEFT(P104,1)=\"8\"),Table1[[#This Row],[Column1]]+(ROUND(M104,3))+450+ROW()/10000,IF(AND(Q104=\"HỌC SINH XUẤT SẮC\",LEFT(P104,1)=\"7\"),Table1[[#This Row],[Column1]]+(ROUND(M104,3))+500+ROW()/10000,IF(AND(Q104=\"HỌC SINH XUẤT SẮC\",LEFT(P104,1)=\"6\"),Table1[[#This Row],[Column1]]+(ROUND(M104,3))+550+ROW()/10000,IF(AND(Q104=\"HỌC SINH GIỎI\",LEFT(P104,1)=\"9\"),Table1[[#This Row],[Column1]]+(ROUND(M104,3))+10+ROW()/10000,IF(AND(Q104=\"HỌC SINH GIỎI\",LEFT(P104,1)=\"8\"),Table1[[#This Row],[Column1]]+(ROUND(M104,3))+ 50+ROW()/10000,IF(AND(Q104=\"HỌC SINH GIỎI\",LEFT(P104,1)=\"7\"),Table1[[#This Row],[Column1]]+(ROUND(M104,3))+100+ROW()/10000,IF(AND(Q104=\"HỌC SINH GIỎI\",LEFT(P104,1)=\"6\"),Table1[[#This Row],[Column1]]+(ROUND(M104,3))+150+ROW()/10000,\"\"))))))))","v":281.0104},{"$f":"IF(AND(Q104=\"HỌC SINH XUẤT SẮC\",LEFT(P104,1)=\"9\"),(ROUND(M104,3))+Table1[[#This Row],[Column1]]+10+ROW()/10000,IF(AND(Q104=\"HỌC SINH XUẤT SẮC\",LEFT(P104,1)=\"8\"),Table1[[#This Row],[Column1]]+(ROUND(M104,3))+50+ROW()/10000,IF(AND(Q104=\"HỌC SINH XUẤT SẮC\",LEFT(P104,1)=\"7\"),Table1[[#This Row],[Column1]]+(ROUND(M104,3))+100+ROW()/10000,IF(AND(Q104=\"HỌC SINH XUẤT SẮC\",LEFT(P104,1)=\"6\"),Table1[[#This Row],[Column1]]+(ROUND(M104,3))+150+ROW()/10000,\"\"))))","v":""},{"$f":"IF(AND(Q104=\"HỌC SINH GIỎI\",LEFT(P104,1)=\"9\"),Table1[[#This Row],[Column1]]+(ROUND(M104,3))+200+ROW()/10000,IF(AND(Q104=\"HỌC SINH GIỎI\",LEFT(P104,1)=\"8\"),Table1[[#This Row],[Column1]]+(ROUND(M104,3))+250+ROW()/10000,IF(AND(Q104=\"HỌC SINH GIỎI\",LEFT(P104,1)=\"7\"),Table1[[#This Row],[Column1]]+(ROUND(M104,3))+300+ROW()/10000,IF(AND(Q104=\"HỌC SINH GIỎI\",LEFT(P104,1)=\"6\"),Table1[[#This Row],[Column1]]+(ROUND(M104,3))+350+ROW()/10000,\"\"))))","v":481.0104},"Nguyễn Kim","Dung","HỌC SINH GIỎI","6C"]
["104","Trần Thị","Dung","02/05/2014","Trần Văn Tuyển","Xóm 8","T","T",9.25,9.25,7,8.5,34,"X",null,"6C","HỌC SINH XUẤT SẮC",{"$f":"IF(Table1[[#This Row],[STT]]=\"\",\"\",ROW()-1)","v":104},{"$f":"IF(Table1[[#This Row],[Lơp]]=\"\",\"\",VLOOKUP(Table1[[#This Row],[Lơp]],$AC$3:$AD$14,2,0))","v":100},{"$f":"IF(AND(Q105=\"HỌC SINH XUẤT SẮC\",LEFT(P105,1)=\"9\"),Table1[[#This Row],[Column1]]+(ROUND(M105,3))+400+ROW()/10000,IF(AND(Q105=\"HỌC SINH XUẤT SẮC\",LEFT(P105,1)=\"8\"),Table1[[#This Row],[Column1]]+(ROUND(M105,3))+450+ROW()/10000,IF(AND(Q105=\"HỌC SINH XUẤT SẮC\",LEFT(P105,1)=\"7\"),Table1[[#This Row],[Column1]]+(ROUND(M105,3))+500+ROW()/10000,IF(AND(Q105=\"HỌC SINH XUẤT SẮC\",LEFT(P105,1)=\"6\"),Table1[[#This Row],[Column1]]+(ROUND(M105,3))+550+ROW()/10000,IF(AND(Q105=\"HỌC SINH GIỎI\",LEFT(P105,1)=\"9\"),Table1[[#This Row],[Column1]]+(ROUND(M105,3))+10+ROW()/10000,IF(AND(Q105=\"HỌC SINH GIỎI\",LEFT(P105,1)=\"8\"),Table1[[#This Row],[Column1]]+(ROUND(M105,3))+ 50+ROW()/10000,IF(AND(Q105=\"HỌC SINH GIỎI\",LEFT(P105,1)=\"7\"),Table1[[#This Row],[Column1]]+(ROUND(M105,3))+100+ROW()/10000,IF(AND(Q105=\"HỌC SINH GIỎI\",LEFT(P105,1)=\"6\"),Table1[[#This Row],[Column1]]+(ROUND(M105,3))+150+ROW()/10000,\"\"))))))))","v":684.01049999999998},{"$f":"IF(AND(Q105=\"HỌC SINH XUẤT SẮC\",LEFT(P105,1)=\"9\"),(ROUND(M105,3))+Table1[[#This Row],[Column1]]+10+ROW()/10000,IF(AND(Q105=\"HỌC SINH XUẤT SẮC\",LEFT(P105,1)=\"8\"),Table1[[#This Row],[Column1]]+(ROUND(M105,3))+50+ROW()/10000,IF(AND(Q105=\"HỌC SINH XUẤT SẮC\",LEFT(P105,1)=\"7\"),Table1[[#This Row],[Column1]]+(ROUND(M105,3))+100+ROW()/10000,IF(AND(Q105=\"HỌC SINH XUẤT SẮC\",LEFT(P105,1)=\"6\"),Table1[[#This Row],[Column1]]+(ROUND(M105,3))+150+ROW()/10000,\"\"))))","v":284.01049999999998},{"$f":"IF(AND(Q105=\"HỌC SINH GIỎI\",LEFT(P105,1)=\"9\"),Table1[[#This Row],[Column1]]+(ROUND(M105,3))+200+ROW()/10000,IF(AND(Q105=\"HỌC SINH GIỎI\",LEFT(P105,1)=\"8\"),Table1[[#This Row],[Column1]]+(ROUND(M105,3))+250+ROW()/10000,IF(AND(Q105=\"HỌC SINH GIỎI\",LEFT(P105,1)=\"7\"),Table1[[#This Row],[Column1]]+(ROUND(M105,3))+300+ROW()/10000,IF(AND(Q105=\"HỌC SINH GIỎI\",LEFT(P105,1)=\"6\"),Table1[[#This Row],[Column1]]+(ROUND(M105,3))+350+ROW()/10000,\"\"))))","v":""},"Trần Thị","Dung","HỌC SINH XUẤT SẮC","6C"]
["105","Đặng Quang","Dũng","12/09/2014","Đặng Thanh Quý","Xóm 13","T","T",9.25,9,6,8.5,32.75,null,"X","6C","HỌC SINH GIỎI",{"$f":"IF(Table1[[#This Row],[STT]]=\"\",\"\",ROW()-1)","v":105},{"$f":"IF(Table1[[#This Row],[Lơp]]=\"\",\"\",VLOOKUP(Table1[[#This Row],[Lơp]],$AC$3:$AD$14,2,0))","v":100},{"$f":"IF(AND(Q106=\"HỌC SINH XUẤT SẮC\",LEFT(P106,1)=\"9\"),Table1[[#This Row],[Column1]]+(ROUND(M106,3))+400+ROW()/10000,IF(AND(Q106=\"HỌC SINH XUẤT SẮC\",LEFT(P106,1)=\"8\"),Table1[[#This Row],[Column1]]+(ROUND(M106,3))+450+ROW()/10000,IF(AND(Q106=\"HỌC SINH XUẤT SẮC\",LEFT(P106,1)=\"7\"),Table1[[#This Row],[Column1]]+(ROUND(M106,3))+500+ROW()/10000,IF(AND(Q106=\"HỌC SINH XUẤT SẮC\",LEFT(P106,1)=\"6\"),Table1[[#This Row],[Column1]]+(ROUND(M106,3))+550+ROW()/10000,IF(AND(Q106=\"HỌC SINH GIỎI\",LEFT(P106,1)=\"9\"),Table1[[#This Row],[Column1]]+(ROUND(M106,3))+10+ROW()/10000,IF(AND(Q106=\"HỌC SINH GIỎI\",LEFT(P106,1)=\"8\"),Table1[[#This Row],[Column1]]+(ROUND(M106,3))+ 50+ROW()/10000,IF(AND(Q106=\"HỌC SINH GIỎI\",LEFT(P106,1)=\"7\"),Table1[[#This Row],[Column1]]+(ROUND(M106,3))+100+ROW()/10000,IF(AND(Q106=\"HỌC SINH GIỎI\",LEFT(P106,1)=\"6\"),Table1[[#This Row],[Column1]]+(ROUND(M106,3))+150+ROW()/10000,\"\"))))))))","v":282.76060000000001},{"$f":"IF(AND(Q106=\"HỌC SINH XUẤT SẮC\",LEFT(P106,1)=\"9\"),(ROUND(M106,3))+Table1[[#This Row],[Column1]]+10+ROW()/10000,IF(AND(Q106=\"HỌC SINH XUẤT SẮC\",LEFT(P106,1)=\"8\"),Table1[[#This Row],[Column1]]+(ROUND(M106,3))+50+ROW()/10000,IF(AND(Q106=\"HỌC SINH XUẤT SẮC\",LEFT(P106,1)=\"7\"),Table1[[#This Row],[Column1]]+(ROUND(M106,3))+100+ROW()/10000,IF(AND(Q106=\"HỌC SINH XUẤT SẮC\",LEFT(P106,1)=\"6\"),Table1[[#This Row],[Column1]]+(ROUND(M106,3))+150+ROW()/10000,\"\"))))","v":""},{"$f":"IF(AND(Q106=\"HỌC SINH GIỎI\",LEFT(P106,1)=\"9\"),Table1[[#This Row],[Column1]]+(ROUND(M106,3))+200+ROW()/10000,IF(AND(Q106=\"HỌC SINH GIỎI\",LEFT(P106,1)=\"8\"),Table1[[#This Row],[Column1]]+(ROUND(M106,3))+250+ROW()/10000,IF(AND(Q106=\"HỌC SINH GIỎI\",LEFT(P106,1)=\"7\"),Table1[[#This Row],[Column1]]+(ROUND(M106,3))+300+ROW()/10000,IF(AND(Q106=\"HỌC SINH GIỎI\",LEFT(P106,1)=\"6\"),Table1[[#This Row],[Column1]]+(ROUND(M106,3))+350+ROW()/10000,\"\"))))","v":482.76060000000001},"Đặng Quang","Dũng","HỌC SINH GIỎI","6C"]
["106","Tống Thùy","Dương","09/04/2014","Tống Văn Hiến","Xóm 5","T","T",9.75,9.25,8.25,9.5,36.75,"X",null,"6C","HỌC SINH XUẤT SẮC",{"$f":"IF(Table1[[#This Row],[STT]]=\"\",\"\",ROW()-1)","v":106},{"$f":"IF(Table1[[#This Row],[Lơp]]=\"\",\"\",VLOOKUP(Table1[[#This Row],[Lơp]],$AC$3:$AD$14,2,0))","v":100},{"$f":"IF(AND(Q107=\"HỌC SINH XUẤT SẮC\",LEFT(P107,1)=\"9\"),Table1[[#This Row],[Column1]]+(ROUND(M107,3))+400+ROW()/10000,IF(AND(Q107=\"HỌC SINH XUẤT SẮC\",LEFT(P107,1)=\"8\"),Table1[[#This Row],[Column1]]+(ROUND(M107,3))+450+ROW()/10000,IF(AND(Q107=\"HỌC SINH XUẤT SẮC\",LEFT(P107,1)=\"7\"),Table1[[#This Row],[Column1]]+(ROUND(M107,3))+500+ROW()/10000,IF(AND(Q107=\"HỌC SINH XUẤT SẮC\",LEFT(P107,1)=\"6\"),Table1[[#This Row],[Column1]]+(ROUND(M107,3))+550+ROW()/10000,IF(AND(Q107=\"HỌC SINH GIỎI\",LEFT(P107,1)=\"9\"),Table1[[#This Row],[Column1]]+(ROUND(M107,3))+10+ROW()/10000,IF(AND(Q107=\"HỌC SINH GIỎI\",LEFT(P107,1)=\"8\"),Table1[[#This Row],[Column1]]+(ROUND(M107,3))+ 50+ROW()/10000,IF(AND(Q107=\"HỌC SINH GIỎI\",LEFT(P107,1)=\"7\"),Table1[[#This Row],[Column1]]+(ROUND(M107,3))+100+ROW()/10000,IF(AND(Q107=\"HỌC SINH GIỎI\",LEFT(P107,1)=\"6\"),Table1[[#This Row],[Column1]]+(ROUND(M107,3))+150+ROW()/10000,\"\"))))))))","v":686.76070000000004},{"$f":"IF(AND(Q107=\"HỌC SINH XUẤT SẮC\",LEFT(P107,1)=\"9\"),(ROUND(M107,3))+Table1[[#This Row],[Column1]]+10+ROW()/10000,IF(AND(Q107=\"HỌC SINH XUẤT SẮC\",LEFT(P107,1)=\"8\"),Table1[[#This Row],[Column1]]+(ROUND(M107,3))+50+ROW()/10000,IF(AND(Q107=\"HỌC SINH XUẤT SẮC\",LEFT(P107,1)=\"7\"),Table1[[#This Row],[Column1]]+(ROUND(M107,3))+100+ROW()/10000,IF(AND(Q107=\"HỌC SINH XUẤT SẮC\",LEFT(P107,1)=\"6\"),Table1[[#This Row],[Column1]]+(ROUND(M107,3))+150+ROW()/10000,\"\"))))","v":286.76069999999999},{"$f":"IF(AND(Q107=\"HỌC SINH GIỎI\",LEFT(P107,1)=\"9\"),Table1[[#This Row],[Column1]]+(ROUND(M107,3))+200+ROW()/10000,IF(AND(Q107=\"HỌC SINH GIỎI\",LEFT(P107,1)=\"8\"),Table1[[#This Row],[Column1]]+(ROUND(M107,3))+250+ROW()/10000,IF(AND(Q107=\"HỌC SINH GIỎI\",LEFT(P107,1)=\"7\"),Table1[[#This Row],[Column1]]+(ROUND(M107,3))+300+ROW()/10000,IF(AND(Q107=\"HỌC SINH GIỎI\",LEFT(P107,1)=\"6\"),Table1[[#This Row],[Column1]]+(ROUND(M107,3))+350+ROW()/10000,\"\"))))","v":""},"Tống Thùy","Dương","HỌC SINH XUẤT SẮC","6C"]
["107","Phạm Minh","Đăng","29/10/2014","Phạm Văn Tài","Xóm 1","T","T",8,9,7.5,9.5,34,null,"X","6C","HỌC SINH GIỎI",{"$f":"IF(Table1[[#This Row],[STT]]=\"\",\"\",ROW()-1)","v":107},{"$f":"IF(Table1[[#This Row],[Lơp]]=\"\",\"\",VLOOKUP(Table1[[#This Row],[Lơp]],$AC$3:$AD$14,2,0))","v":100},{"$f":"IF(AND(Q108=\"HỌC SINH XUẤT SẮC\",LEFT(P108,1)=\"9\"),Table1[[#This Row],[Column1]]+(ROUND(M108,3))+400+ROW()/10000,IF(AND(Q108=\"HỌC SINH XUẤT SẮC\",LEFT(P108,1)=\"8\"),Table1[[#This Row],[Column1]]+(ROUND(M108,3))+450+ROW()/10000,IF(AND(Q108=\"HỌC SINH XUẤT SẮC\",LEFT(P108,1)=\"7\"),Table1[[#This Row],[Column1]]+(ROUND(M108,3))+500+ROW()/10000,IF(AND(Q108=\"HỌC SINH XUẤT SẮC\",LEFT(P108,1)=\"6\"),Table1[[#This Row],[Column1]]+(ROUND(M108,3))+550+ROW()/10000,IF(AND(Q108=\"HỌC SINH GIỎI\",LEFT(P108,1)=\"9\"),Table1[[#This Row],[Column1]]+(ROUND(M108,3))+10+ROW()/10000,IF(AND(Q108=\"HỌC SINH GIỎI\",LEFT(P108,1)=\"8\"),Table1[[#This Row],[Column1]]+(ROUND(M108,3))+ 50+ROW()/10000,IF(AND(Q108=\"HỌC SINH GIỎI\",LEFT(P108,1)=\"7\"),Table1[[#This Row],[Column1]]+(ROUND(M108,3))+100+ROW()/10000,IF(AND(Q108=\"HỌC SINH GIỎI\",LEFT(P108,1)=\"6\"),Table1[[#This Row],[Column1]]+(ROUND(M108,3))+150+ROW()/10000,\"\"))))))))","v":284.01080000000002},{"$f":"IF(AND(Q108=\"HỌC SINH XUẤT SẮC\",LEFT(P108,1)=\"9\"),(ROUND(M108,3))+Table1[[#This Row],[Column1]]+10+ROW()/10000,IF(AND(Q108=\"HỌC SINH XUẤT SẮC\",LEFT(P108,1)=\"8\"),Table1[[#This Row],[Column1]]+(ROUND(M108,3))+50+ROW()/10000,IF(AND(Q108=\"HỌC SINH XUẤT SẮC\",LEFT(P108,1)=\"7\"),Table1[[#This Row],[Column1]]+(ROUND(M108,3))+100+ROW()/10000,IF(AND(Q108=\"HỌC SINH XUẤT SẮC\",LEFT(P108,1)=\"6\"),Table1[[#This Row],[Column1]]+(ROUND(M108,3))+150+ROW()/10000,\"\"))))","v":""},{"$f":"IF(AND(Q108=\"HỌC SINH GIỎI\",LEFT(P108,1)=\"9\"),Table1[[#This Row],[Column1]]+(ROUND(M108,3))+200+ROW()/10000,IF(AND(Q108=\"HỌC SINH GIỎI\",LEFT(P108,1)=\"8\"),Table1[[#This Row],[Column1]]+(ROUND(M108,3))+250+ROW()/10000,IF(AND(Q108=\"HỌC SINH GIỎI\",LEFT(P108,1)=\"7\"),Table1[[#This Row],[Column1]]+(ROUND(M108,3))+300+ROW()/10000,IF(AND(Q108=\"HỌC SINH GIỎI\",LEFT(P108,1)=\"6\"),Table1[[#This Row],[Column1]]+(ROUND(M108,3))+350+ROW()/10000,\"\"))))","v":484.01080000000002},"Phạm Minh","Đăng","HỌC SINH GIỎI","6C"]
["108","Trần Hải","Đăng","22/02/2014","Trần Văn Du","Xóm 5","T","T",8.25,8,6,9.25,31.5,null,"X","6C","HỌC SINH GIỎI",{"$f":"IF(Table1[[#This Row],[STT]]=\"\",\"\",ROW()-1)","v":108},{"$f":"IF(Table1[[#This Row],[Lơp]]=\"\",\"\",VLOOKUP(Table1[[#This Row],[Lơp]],$AC$3:$AD$14,2,0))","v":100},{"$f":"IF(AND(Q109=\"HỌC SINH XUẤT SẮC\",LEFT(P109,1)=\"9\"),Table1[[#This Row],[Column1]]+(ROUND(M109,3))+400+ROW()/10000,IF(AND(Q109=\"HỌC SINH XUẤT SẮC\",LEFT(P109,1)=\"8\"),Table1[[#This Row],[Column1]]+(ROUND(M109,3))+450+ROW()/10000,IF(AND(Q109=\"HỌC SINH XUẤT SẮC\",LEFT(P109,1)=\"7\"),Table1[[#This Row],[Column1]]+(ROUND(M109,3))+500+ROW()/10000,IF(AND(Q109=\"HỌC SINH XUẤT SẮC\",LEFT(P109,1)=\"6\"),Table1[[#This Row],[Column1]]+(ROUND(M109,3))+550+ROW()/10000,IF(AND(Q109=\"HỌC SINH GIỎI\",LEFT(P109,1)=\"9\"),Table1[[#This Row],[Column1]]+(ROUND(M109,3))+10+ROW()/10000,IF(AND(Q109=\"HỌC SINH GIỎI\",LEFT(P109,1)=\"8\"),Table1[[#This Row],[Column1]]+(ROUND(M109,3))+ 50+ROW()/10000,IF(AND(Q109=\"HỌC SINH GIỎI\",LEFT(P109,1)=\"7\"),Table1[[#This Row],[Column1]]+(ROUND(M109,3))+100+ROW()/10000,IF(AND(Q109=\"HỌC SINH GIỎI\",LEFT(P109,1)=\"6\"),Table1[[#This Row],[Column1]]+(ROUND(M109,3))+150+ROW()/10000,\"\"))))))))","v":281.51089999999999},{"$f":"IF(AND(Q109=\"HỌC SINH XUẤT SẮC\",LEFT(P109,1)=\"9\"),(ROUND(M109,3))+Table1[[#This Row],[Column1]]+10+ROW()/10000,IF(AND(Q109=\"HỌC SINH XUẤT SẮC\",LEFT(P109,1)=\"8\"),Table1[[#This Row],[Column1]]+(ROUND(M109,3))+50+ROW()/10000,IF(AND(Q109=\"HỌC SINH XUẤT SẮC\",LEFT(P109,1)=\"7\"),Table1[[#This Row],[Column1]]+(ROUND(M109,3))+100+ROW()/10000,IF(AND(Q109=\"HỌC SINH XUẤT SẮC\",LEFT(P109,1)=\"6\"),Table1[[#This Row],[Column1]]+(ROUND(M109,3))+150+ROW()/10000,\"\"))))","v":""},{"$f":"IF(AND(Q109=\"HỌC SINH GIỎI\",LEFT(P109,1)=\"9\"),Table1[[#This Row],[Column1]]+(ROUND(M109,3))+200+ROW()/10000,IF(AND(Q109=\"HỌC SINH GIỎI\",LEFT(P109,1)=\"8\"),Table1[[#This Row],[Column1]]+(ROUND(M109,3))+250+ROW()/10000,IF(AND(Q109=\"HỌC SINH GIỎI\",LEFT(P109,1)=\"7\"),Table1[[#This Row],[Column1]]+(ROUND(M109,3))+300+ROW()/10000,IF(AND(Q109=\"HỌC SINH GIỎI\",LEFT(P109,1)=\"6\"),Table1[[#This Row],[Column1]]+(ROUND(M109,3))+350+ROW()/10000,\"\"))))","v":481.51089999999999},"Trần Hải","Đăng","HỌC SINH GIỎI","6C"]
["109","Trần Hương","Giang","15/04/2014","Trần Văn Lưỡng","Xóm 7","T","T",9.5,8.5,7.5,9.75,35.25,null,"X","6C","HỌC SINH GIỎI",{"$f":"IF(Table1[[#This Row],[STT]]=\"\",\"\",ROW()-1)","v":109},{"$f":"IF(Table1[[#This Row],[Lơp]]=\"\",\"\",VLOOKUP(Table1[[#This Row],[Lơp]],$AC$3:$AD$14,2,0))","v":100},{"$f":"IF(AND(Q110=\"HỌC SINH XUẤT SẮC\",LEFT(P110,1)=\"9\"),Table1[[#This Row],[Column1]]+(ROUND(M110,3))+400+ROW()/10000,IF(AND(Q110=\"HỌC SINH XUẤT SẮC\",LEFT(P110,1)=\"8\"),Table1[[#This Row],[Column1]]+(ROUND(M110,3))+450+ROW()/10000,IF(AND(Q110=\"HỌC SINH XUẤT SẮC\",LEFT(P110,1)=\"7\"),Table1[[#This Row],[Column1]]+(ROUND(M110,3))+500+ROW()/10000,IF(AND(Q110=\"HỌC SINH XUẤT SẮC\",LEFT(P110,1)=\"6\"),Table1[[#This Row],[Column1]]+(ROUND(M110,3))+550+ROW()/10000,IF(AND(Q110=\"HỌC SINH GIỎI\",LEFT(P110,1)=\"9\"),Table1[[#This Row],[Column1]]+(ROUND(M110,3))+10+ROW()/10000,IF(AND(Q110=\"HỌC SINH GIỎI\",LEFT(P110,1)=\"8\"),Table1[[#This Row],[Column1]]+(ROUND(M110,3))+ 50+ROW()/10000,IF(AND(Q110=\"HỌC SINH GIỎI\",LEFT(P110,1)=\"7\"),Table1[[#This Row],[Column1]]+(ROUND(M110,3))+100+ROW()/10000,IF(AND(Q110=\"HỌC SINH GIỎI\",LEFT(P110,1)=\"6\"),Table1[[#This Row],[Column1]]+(ROUND(M110,3))+150+ROW()/10000,\"\"))))))))","v":285.26100000000002},{"$f":"IF(AND(Q110=\"HỌC SINH XUẤT SẮC\",LEFT(P110,1)=\"9\"),(ROUND(M110,3))+Table1[[#This Row],[Column1]]+10+ROW()/10000,IF(AND(Q110=\"HỌC SINH XUẤT SẮC\",LEFT(P110,1)=\"8\"),Table1[[#This Row],[Column1]]+(ROUND(M110,3))+50+ROW()/10000,IF(AND(Q110=\"HỌC SINH XUẤT SẮC\",LEFT(P110,1)=\"7\"),Table1[[#This Row],[Column1]]+(ROUND(M110,3))+100+ROW()/10000,IF(AND(Q110=\"HỌC SINH XUẤT SẮC\",LEFT(P110,1)=\"6\"),Table1[[#This Row],[Column1]]+(ROUND(M110,3))+150+ROW()/10000,\"\"))))","v":""},{"$f":"IF(AND(Q110=\"HỌC SINH GIỎI\",LEFT(P110,1)=\"9\"),Table1[[#This Row],[Column1]]+(ROUND(M110,3))+200+ROW()/10000,IF(AND(Q110=\"HỌC SINH GIỎI\",LEFT(P110,1)=\"8\"),Table1[[#This Row],[Column1]]+(ROUND(M110,3))+250+ROW()/10000,IF(AND(Q110=\"HỌC SINH GIỎI\",LEFT(P110,1)=\"7\"),Table1[[#This Row],[Column1]]+(ROUND(M110,3))+300+ROW()/10000,IF(AND(Q110=\"HỌC SINH GIỎI\",LEFT(P110,1)=\"6\"),Table1[[#This Row],[Column1]]+(ROUND(M110,3))+350+ROW()/10000,\"\"))))","v":485.26100000000002},"Trần Hương","Giang","HỌC SINH GIỎI","6C"]
["110","Phạm Ngân","Hà","20/10/2014","Phạm Đăng Quỳ","Xóm 2","T","T",8.5,8.75,7.25,9.5,34,null,"X","6C","HỌC SINH GIỎI",{"$f":"IF(Table1[[#This Row],[STT]]=\"\",\"\",ROW()-1)","v":110},{"$f":"IF(Table1[[#This Row],[Lơp]]=\"\",\"\",VLOOKUP(Table1[[#This Row],[Lơp]],$AC$3:$AD$14,2,0))","v":100},{"$f":"IF(AND(Q111=\"HỌC SINH XUẤT SẮC\",LEFT(P111,1)=\"9\"),Table1[[#This Row],[Column1]]+(ROUND(M111,3))+400+ROW()/10000,IF(AND(Q111=\"HỌC SINH XUẤT SẮC\",LEFT(P111,1)=\"8\"),Table1[[#This Row],[Column1]]+(ROUND(M111,3))+450+ROW()/10000,IF(AND(Q111=\"HỌC SINH XUẤT SẮC\",LEFT(P111,1)=\"7\"),Table1[[#This Row],[Column1]]+(ROUND(M111,3))+500+ROW()/10000,IF(AND(Q111=\"HỌC SINH XUẤT SẮC\",LEFT(P111,1)=\"6\"),Table1[[#This Row],[Column1]]+(ROUND(M111,3))+550+ROW()/10000,IF(AND(Q111=\"HỌC SINH GIỎI\",LEFT(P111,1)=\"9\"),Table1[[#This Row],[Column1]]+(ROUND(M111,3))+10+ROW()/10000,IF(AND(Q111=\"HỌC SINH GIỎI\",LEFT(P111,1)=\"8\"),Table1[[#This Row],[Column1]]+(ROUND(M111,3))+ 50+ROW()/10000,IF(AND(Q111=\"HỌC SINH GIỎI\",LEFT(P111,1)=\"7\"),Table1[[#This Row],[Column1]]+(ROUND(M111,3))+100+ROW()/10000,IF(AND(Q111=\"HỌC SINH GIỎI\",LEFT(P111,1)=\"6\"),Table1[[#This Row],[Column1]]+(ROUND(M111,3))+150+ROW()/10000,\"\"))))))))","v":284.0111},{"$f":"IF(AND(Q111=\"HỌC SINH XUẤT SẮC\",LEFT(P111,1)=\"9\"),(ROUND(M111,3))+Table1[[#This Row],[Column1]]+10+ROW()/10000,IF(AND(Q111=\"HỌC SINH XUẤT SẮC\",LEFT(P111,1)=\"8\"),Table1[[#This Row],[Column1]]+(ROUND(M111,3))+50+ROW()/10000,IF(AND(Q111=\"HỌC SINH XUẤT SẮC\",LEFT(P111,1)=\"7\"),Table1[[#This Row],[Column1]]+(ROUND(M111,3))+100+ROW()/10000,IF(AND(Q111=\"HỌC SINH XUẤT SẮC\",LEFT(P111,1)=\"6\"),Table1[[#This Row],[Column1]]+(ROUND(M111,3))+150+ROW()/10000,\"\"))))","v":""},{"$f":"IF(AND(Q111=\"HỌC SINH GIỎI\",LEFT(P111,1)=\"9\"),Table1[[#This Row],[Column1]]+(ROUND(M111,3))+200+ROW()/10000,IF(AND(Q111=\"HỌC SINH GIỎI\",LEFT(P111,1)=\"8\"),Table1[[#This Row],[Column1]]+(ROUND(M111,3))+250+ROW()/10000,IF(AND(Q111=\"HỌC SINH GIỎI\",LEFT(P111,1)=\"7\"),Table1[[#This Row],[Column1]]+(ROUND(M111,3))+300+ROW()/10000,IF(AND(Q111=\"HỌC SINH GIỎI\",LEFT(P111,1)=\"6\"),Table1[[#This Row],[Column1]]+(ROUND(M111,3))+350+ROW()/10000,\"\"))))","v":484.0111},"Phạm Ngân","Hà","HỌC SINH GIỎI","6C"]
["111","Phạm Huy","Hiệu","24/03/2014","Phạm Thế Hưng","Xóm 1","T","T",7.75,7.5,7,9.5,31.75,null,"X","6C","HỌC SINH GIỎI",{"$f":"IF(Table1[[#This Row],[STT]]=\"\",\"\",ROW()-1)","v":111},{"$f":"IF(Table1[[#This Row],[Lơp]]=\"\",\"\",VLOOKUP(Table1[[#This Row],[Lơp]],$AC$3:$AD$14,2,0))","v":100},{"$f":"IF(AND(Q112=\"HỌC SINH XUẤT SẮC\",LEFT(P112,1)=\"9\"),Table1[[#This Row],[Column1]]+(ROUND(M112,3))+400+ROW()/10000,IF(AND(Q112=\"HỌC SINH XUẤT SẮC\",LEFT(P112,1)=\"8\"),Table1[[#This Row],[Column1]]+(ROUND(M112,3))+450+ROW()/10000,IF(AND(Q112=\"HỌC SINH XUẤT SẮC\",LEFT(P112,1)=\"7\"),Table1[[#This Row],[Column1]]+(ROUND(M112,3))+500+ROW()/10000,IF(AND(Q112=\"HỌC SINH XUẤT SẮC\",LEFT(P112,1)=\"6\"),Table1[[#This Row],[Column1]]+(ROUND(M112,3))+550+ROW()/10000,IF(AND(Q112=\"HỌC SINH GIỎI\",LEFT(P112,1)=\"9\"),Table1[[#This Row],[Column1]]+(ROUND(M112,3))+10+ROW()/10000,IF(AND(Q112=\"HỌC SINH GIỎI\",LEFT(P112,1)=\"8\"),Table1[[#This Row],[Column1]]+(ROUND(M112,3))+ 50+ROW()/10000,IF(AND(Q112=\"HỌC SINH GIỎI\",LEFT(P112,1)=\"7\"),Table1[[#This Row],[Column1]]+(ROUND(M112,3))+100+ROW()/10000,IF(AND(Q112=\"HỌC SINH GIỎI\",LEFT(P112,1)=\"6\"),Table1[[#This Row],[Column1]]+(ROUND(M112,3))+150+ROW()/10000,\"\"))))))))","v":281.76119999999997},{"$f":"IF(AND(Q112=\"HỌC SINH XUẤT SẮC\",LEFT(P112,1)=\"9\"),(ROUND(M112,3))+Table1[[#This Row],[Column1]]+10+ROW()/10000,IF(AND(Q112=\"HỌC SINH XUẤT SẮC\",LEFT(P112,1)=\"8\"),Table1[[#This Row],[Column1]]+(ROUND(M112,3))+50+ROW()/10000,IF(AND(Q112=\"HỌC SINH XUẤT SẮC\",LEFT(P112,1)=\"7\"),Table1[[#This Row],[Column1]]+(ROUND(M112,3))+100+ROW()/10000,IF(AND(Q112=\"HỌC SINH XUẤT SẮC\",LEFT(P112,1)=\"6\"),Table1[[#This Row],[Column1]]+(ROUND(M112,3))+150+ROW()/10000,\"\"))))","v":""},{"$f":"IF(AND(Q112=\"HỌC SINH GIỎI\",LEFT(P112,1)=\"9\"),Table1[[#This Row],[Column1]]+(ROUND(M112,3))+200+ROW()/10000,IF(AND(Q112=\"HỌC SINH GIỎI\",LEFT(P112,1)=\"8\"),Table1[[#This Row],[Column1]]+(ROUND(M112,3))+250+ROW()/10000,IF(AND(Q112=\"HỌC SINH GIỎI\",LEFT(P112,1)=\"7\"),Table1[[#This Row],[Column1]]+(ROUND(M112,3))+300+ROW()/10000,IF(AND(Q112=\"HỌC SINH GIỎI\",LEFT(P112,1)=\"6\"),Table1[[#This Row],[Column1]]+(ROUND(M112,3))+350+ROW()/10000,\"\"))))","v":481.76119999999997},"Phạm Huy","Hiệu","HỌC SINH GIỎI","6C"]
["112","Hoàng Khánh","Huyền","14/07/2014","Hoàng Đức Hạnh","Xóm 3","T","T",8.75,7.25,6,9.75,31.75,null,"X","6C","HỌC SINH GIỎI",{"$f":"IF(Table1[[#This Row],[STT]]=\"\",\"\",ROW()-1)","v":112},{"$f":"IF(Table1[[#This Row],[Lơp]]=\"\",\"\",VLOOKUP(Table1[[#This Row],[Lơp]],$AC$3:$AD$14,2,0))","v":100},{"$f":"IF(AND(Q113=\"HỌC SINH XUẤT SẮC\",LEFT(P113,1)=\"9\"),Table1[[#This Row],[Column1]]+(ROUND(M113,3))+400+ROW()/10000,IF(AND(Q113=\"HỌC SINH XUẤT SẮC\",LEFT(P113,1)=\"8\"),Table1[[#This Row],[Column1]]+(ROUND(M113,3))+450+ROW()/10000,IF(AND(Q113=\"HỌC SINH XUẤT SẮC\",LEFT(P113,1)=\"7\"),Table1[[#This Row],[Column1]]+(ROUND(M113,3))+500+ROW()/10000,IF(AND(Q113=\"HỌC SINH XUẤT SẮC\",LEFT(P113,1)=\"6\"),Table1[[#This Row],[Column1]]+(ROUND(M113,3))+550+ROW()/10000,IF(AND(Q113=\"HỌC SINH GIỎI\",LEFT(P113,1)=\"9\"),Table1[[#This Row],[Column1]]+(ROUND(M113,3))+10+ROW()/10000,IF(AND(Q113=\"HỌC SINH GIỎI\",LEFT(P113,1)=\"8\"),Table1[[#This Row],[Column1]]+(ROUND(M113,3))+ 50+ROW()/10000,IF(AND(Q113=\"HỌC SINH GIỎI\",LEFT(P113,1)=\"7\"),Table1[[#This Row],[Column1]]+(ROUND(M113,3))+100+ROW()/10000,IF(AND(Q113=\"HỌC SINH GIỎI\",LEFT(P113,1)=\"6\"),Table1[[#This Row],[Column1]]+(ROUND(M113,3))+150+ROW()/10000,\"\"))))))))","v":281.76130000000001},{"$f":"IF(AND(Q113=\"HỌC SINH XUẤT SẮC\",LEFT(P113,1)=\"9\"),(ROUND(M113,3))+Table1[[#This Row],[Column1]]+10+ROW()/10000,IF(AND(Q113=\"HỌC SINH XUẤT SẮC\",LEFT(P113,1)=\"8\"),Table1[[#This Row],[Column1]]+(ROUND(M113,3))+50+ROW()/10000,IF(AND(Q113=\"HỌC SINH XUẤT SẮC\",LEFT(P113,1)=\"7\"),Table1[[#This Row],[Column1]]+(ROUND(M113,3))+100+ROW()/10000,IF(AND(Q113=\"HỌC SINH XUẤT SẮC\",LEFT(P113,1)=\"6\"),Table1[[#This Row],[Column1]]+(ROUND(M113,3))+150+ROW()/10000,\"\"))))","v":""},{"$f":"IF(AND(Q113=\"HỌC SINH GIỎI\",LEFT(P113,1)=\"9\"),Table1[[#This Row],[Column1]]+(ROUND(M113,3))+200+ROW()/10000,IF(AND(Q113=\"HỌC SINH GIỎI\",LEFT(P113,1)=\"8\"),Table1[[#This Row],[Column1]]+(ROUND(M113,3))+250+ROW()/10000,IF(AND(Q113=\"HỌC SINH GIỎI\",LEFT(P113,1)=\"7\"),Table1[[#This Row],[Column1]]+(ROUND(M113,3))+300+ROW()/10000,IF(AND(Q113=\"HỌC SINH GIỎI\",LEFT(P113,1)=\"6\"),Table1[[#This Row],[Column1]]+(ROUND(M113,3))+350+ROW()/10000,\"\"))))","v":481.76130000000001},"Hoàng Khánh","Huyền","HỌC SINH GIỎI","6C"]
["113","Lê Nguyên","Khánh","18/03/2014","Lê Trường Thanh","Xóm 5","T","T",7.75,9,8.5,9.5,34.75,"X",null,"6C","HỌC SINH XUẤT SẮC",{"$f":"IF(Table1[[#This Row],[STT]]=\"\",\"\",ROW()-1)","v":113},{"$f":"IF(Table1[[#This Row],[Lơp]]=\"\",\"\",VLOOKUP(Table1[[#This Row],[Lơp]],$AC$3:$AD$14,2,0))","v":100},{"$f":"IF(AND(Q114=\"HỌC SINH XUẤT SẮC\",LEFT(P114,1)=\"9\"),Table1[[#This Row],[Column1]]+(ROUND(M114,3))+400+ROW()/10000,IF(AND(Q114=\"HỌC SINH XUẤT SẮC\",LEFT(P114,1)=\"8\"),Table1[[#This Row],[Column1]]+(ROUND(M114,3))+450+ROW()/10000,IF(AND(Q114=\"HỌC SINH XUẤT SẮC\",LEFT(P114,1)=\"7\"),Table1[[#This Row],[Column1]]+(ROUND(M114,3))+500+ROW()/10000,IF(AND(Q114=\"HỌC SINH XUẤT SẮC\",LEFT(P114,1)=\"6\"),Table1[[#This Row],[Column1]]+(ROUND(M114,3))+550+ROW()/10000,IF(AND(Q114=\"HỌC SINH GIỎI\",LEFT(P114,1)=\"9\"),Table1[[#This Row],[Column1]]+(ROUND(M114,3))+10+ROW()/10000,IF(AND(Q114=\"HỌC SINH GIỎI\",LEFT(P114,1)=\"8\"),Table1[[#This Row],[Column1]]+(ROUND(M114,3))+ 50+ROW()/10000,IF(AND(Q114=\"HỌC SINH GIỎI\",LEFT(P114,1)=\"7\"),Table1[[#This Row],[Column1]]+(ROUND(M114,3))+100+ROW()/10000,IF(AND(Q114=\"HỌC SINH GIỎI\",LEFT(P114,1)=\"6\"),Table1[[#This Row],[Column1]]+(ROUND(M114,3))+150+ROW()/10000,\"\"))))))))","v":684.76139999999998},{"$f":"IF(AND(Q114=\"HỌC SINH XUẤT SẮC\",LEFT(P114,1)=\"9\"),(ROUND(M114,3))+Table1[[#This Row],[Column1]]+10+ROW()/10000,IF(AND(Q114=\"HỌC SINH XUẤT SẮC\",LEFT(P114,1)=\"8\"),Table1[[#This Row],[Column1]]+(ROUND(M114,3))+50+ROW()/10000,IF(AND(Q114=\"HỌC SINH XUẤT SẮC\",LEFT(P114,1)=\"7\"),Table1[[#This Row],[Column1]]+(ROUND(M114,3))+100+ROW()/10000,IF(AND(Q114=\"HỌC SINH XUẤT SẮC\",LEFT(P114,1)=\"6\"),Table1[[#This Row],[Column1]]+(ROUND(M114,3))+150+ROW()/10000,\"\"))))","v":284.76139999999998},{"$f":"IF(AND(Q114=\"HỌC SINH GIỎI\",LEFT(P114,1)=\"9\"),Table1[[#This Row],[Column1]]+(ROUND(M114,3))+200+ROW()/10000,IF(AND(Q114=\"HỌC SINH GIỎI\",LEFT(P114,1)=\"8\"),Table1[[#This Row],[Column1]]+(ROUND(M114,3))+250+ROW()/10000,IF(AND(Q114=\"HỌC SINH GIỎI\",LEFT(P114,1)=\"7\"),Table1[[#This Row],[Column1]]+(ROUND(M114,3))+300+ROW()/10000,IF(AND(Q114=\"HỌC SINH GIỎI\",LEFT(P114,1)=\"6\"),Table1[[#This Row],[Column1]]+(ROUND(M114,3))+350+ROW()/10000,\"\"))))","v":""},"Lê Nguyên","Khánh","HỌC SINH XUẤT SẮC","6C"]
["114","Phạm Ngọc","Khánh","22/08/2014","Phạm Văn Lượng","Xóm 1","T","T",9.25,9.25,7.75,9.5,35.75,"X",null,"6C","HỌC SINH XUẤT SẮC",{"$f":"IF(Table1[[#This Row],[STT]]=\"\",\"\",ROW()-1)","v":114},{"$f":"IF(Table1[[#This Row],[Lơp]]=\"\",\"\",VLOOKUP(Table1[[#This Row],[Lơp]],$AC$3:$AD$14,2,0))","v":100},{"$f":"IF(AND(Q115=\"HỌC SINH XUẤT SẮC\",LEFT(P115,1)=\"9\"),Table1[[#This Row],[Column1]]+(ROUND(M115,3))+400+ROW()/10000,IF(AND(Q115=\"HỌC SINH XUẤT SẮC\",LEFT(P115,1)=\"8\"),Table1[[#This Row],[Column1]]+(ROUND(M115,3))+450+ROW()/10000,IF(AND(Q115=\"HỌC SINH XUẤT SẮC\",LEFT(P115,1)=\"7\"),Table1[[#This Row],[Column1]]+(ROUND(M115,3))+500+ROW()/10000,IF(AND(Q115=\"HỌC SINH XUẤT SẮC\",LEFT(P115,1)=\"6\"),Table1[[#This Row],[Column1]]+(ROUND(M115,3))+550+ROW()/10000,IF(AND(Q115=\"HỌC SINH GIỎI\",LEFT(P115,1)=\"9\"),Table1[[#This Row],[Column1]]+(ROUND(M115,3))+10+ROW()/10000,IF(AND(Q115=\"HỌC SINH GIỎI\",LEFT(P115,1)=\"8\"),Table1[[#This Row],[Column1]]+(ROUND(M115,3))+ 50+ROW()/10000,IF(AND(Q115=\"HỌC SINH GIỎI\",LEFT(P115,1)=\"7\"),Table1[[#This Row],[Column1]]+(ROUND(M115,3))+100+ROW()/10000,IF(AND(Q115=\"HỌC SINH GIỎI\",LEFT(P115,1)=\"6\"),Table1[[#This Row],[Column1]]+(ROUND(M115,3))+150+ROW()/10000,\"\"))))))))","v":685.76149999999996},{"$f":"IF(AND(Q115=\"HỌC SINH XUẤT SẮC\",LEFT(P115,1)=\"9\"),(ROUND(M115,3))+Table1[[#This Row],[Column1]]+10+ROW()/10000,IF(AND(Q115=\"HỌC SINH XUẤT SẮC\",LEFT(P115,1)=\"8\"),Table1[[#This Row],[Column1]]+(ROUND(M115,3))+50+ROW()/10000,IF(AND(Q115=\"HỌC SINH XUẤT SẮC\",LEFT(P115,1)=\"7\"),Table1[[#This Row],[Column1]]+(ROUND(M115,3))+100+ROW()/10000,IF(AND(Q115=\"HỌC SINH XUẤT SẮC\",LEFT(P115,1)=\"6\"),Table1[[#This Row],[Column1]]+(ROUND(M115,3))+150+ROW()/10000,\"\"))))","v":285.76150000000001},{"$f":"IF(AND(Q115=\"HỌC SINH GIỎI\",LEFT(P115,1)=\"9\"),Table1[[#This Row],[Column1]]+(ROUND(M115,3))+200+ROW()/10000,IF(AND(Q115=\"HỌC SINH GIỎI\",LEFT(P115,1)=\"8\"),Table1[[#This Row],[Column1]]+(ROUND(M115,3))+250+ROW()/10000,IF(AND(Q115=\"HỌC SINH GIỎI\",LEFT(P115,1)=\"7\"),Table1[[#This Row],[Column1]]+(ROUND(M115,3))+300+ROW()/10000,IF(AND(Q115=\"HỌC SINH GIỎI\",LEFT(P115,1)=\"6\"),Table1[[#This Row],[Column1]]+(ROUND(M115,3))+350+ROW()/10000,\"\"))))","v":""},"Phạm Ngọc","Khánh","HỌC SINH XUẤT SẮC","6C"]
["115","Trần Đức","Khoa","15/03/2014","Trần Văn Đăng","Xóm 7","T","T",8.5,9.25,7.25,9.5,34.5,null,"X","6C","HỌC SINH GIỎI",{"$f":"IF(Table1[[#This Row],[STT]]=\"\",\"\",ROW()-1)","v":115},{"$f":"IF(Table1[[#This Row],[Lơp]]=\"\",\"\",VLOOKUP(Table1[[#This Row],[Lơp]],$AC$3:$AD$14,2,0))","v":100},{"$f":"IF(AND(Q116=\"HỌC SINH XUẤT SẮC\",LEFT(P116,1)=\"9\"),Table1[[#This Row],[Column1]]+(ROUND(M116,3))+400+ROW()/10000,IF(AND(Q116=\"HỌC SINH XUẤT SẮC\",LEFT(P116,1)=\"8\"),Table1[[#This Row],[Column1]]+(ROUND(M116,3))+450+ROW()/10000,IF(AND(Q116=\"HỌC SINH XUẤT SẮC\",LEFT(P116,1)=\"7\"),Table1[[#This Row],[Column1]]+(ROUND(M116,3))+500+ROW()/10000,IF(AND(Q116=\"HỌC SINH XUẤT SẮC\",LEFT(P116,1)=\"6\"),Table1[[#This Row],[Column1]]+(ROUND(M116,3))+550+ROW()/10000,IF(AND(Q116=\"HỌC SINH GIỎI\",LEFT(P116,1)=\"9\"),Table1[[#This Row],[Column1]]+(ROUND(M116,3))+10+ROW()/10000,IF(AND(Q116=\"HỌC SINH GIỎI\",LEFT(P116,1)=\"8\"),Table1[[#This Row],[Column1]]+(ROUND(M116,3))+ 50+ROW()/10000,IF(AND(Q116=\"HỌC SINH GIỎI\",LEFT(P116,1)=\"7\"),Table1[[#This Row],[Column1]]+(ROUND(M116,3))+100+ROW()/10000,IF(AND(Q116=\"HỌC SINH GIỎI\",LEFT(P116,1)=\"6\"),Table1[[#This Row],[Column1]]+(ROUND(M116,3))+150+ROW()/10000,\"\"))))))))","v":284.51159999999999},{"$f":"IF(AND(Q116=\"HỌC SINH XUẤT SẮC\",LEFT(P116,1)=\"9\"),(ROUND(M116,3))+Table1[[#This Row],[Column1]]+10+ROW()/10000,IF(AND(Q116=\"HỌC SINH XUẤT SẮC\",LEFT(P116,1)=\"8\"),Table1[[#This Row],[Column1]]+(ROUND(M116,3))+50+ROW()/10000,IF(AND(Q116=\"HỌC SINH XUẤT SẮC\",LEFT(P116,1)=\"7\"),Table1[[#This Row],[Column1]]+(ROUND(M116,3))+100+ROW()/10000,IF(AND(Q116=\"HỌC SINH XUẤT SẮC\",LEFT(P116,1)=\"6\"),Table1[[#This Row],[Column1]]+(ROUND(M116,3))+150+ROW()/10000,\"\"))))","v":""},{"$f":"IF(AND(Q116=\"HỌC SINH GIỎI\",LEFT(P116,1)=\"9\"),Table1[[#This Row],[Column1]]+(ROUND(M116,3))+200+ROW()/10000,IF(AND(Q116=\"HỌC SINH GIỎI\",LEFT(P116,1)=\"8\"),Table1[[#This Row],[Column1]]+(ROUND(M116,3))+250+ROW()/10000,IF(AND(Q116=\"HỌC SINH GIỎI\",LEFT(P116,1)=\"7\"),Table1[[#This Row],[Column1]]+(ROUND(M116,3))+300+ROW()/10000,IF(AND(Q116=\"HỌC SINH GIỎI\",LEFT(P116,1)=\"6\"),Table1[[#This Row],[Column1]]+(ROUND(M116,3))+350+ROW()/10000,\"\"))))","v":484.51159999999999},"Trần Đức","Khoa","HỌC SINH GIỎI","6C"]
["116","Nguyễn Tùng","Lâm","05/03/2014","Nguyễn Văn Duy","Xóm 9","T","T",9,8.75,8.5,9.75,36,"X",null,"6C","HỌC SINH XUẤT SẮC",{"$f":"IF(Table1[[#This Row],[STT]]=\"\",\"\",ROW()-1)","v":116},{"$f":"IF(Table1[[#This Row],[Lơp]]=\"\",\"\",VLOOKUP(Table1[[#This Row],[Lơp]],$AC$3:$AD$14,2,0))","v":100},{"$f":"IF(AND(Q117=\"HỌC SINH XUẤT SẮC\",LEFT(P117,1)=\"9\"),Table1[[#This Row],[Column1]]+(ROUND(M117,3))+400+ROW()/10000,IF(AND(Q117=\"HỌC SINH XUẤT SẮC\",LEFT(P117,1)=\"8\"),Table1[[#This Row],[Column1]]+(ROUND(M117,3))+450+ROW()/10000,IF(AND(Q117=\"HỌC SINH XUẤT SẮC\",LEFT(P117,1)=\"7\"),Table1[[#This Row],[Column1]]+(ROUND(M117,3))+500+ROW()/10000,IF(AND(Q117=\"HỌC SINH XUẤT SẮC\",LEFT(P117,1)=\"6\"),Table1[[#This Row],[Column1]]+(ROUND(M117,3))+550+ROW()/10000,IF(AND(Q117=\"HỌC SINH GIỎI\",LEFT(P117,1)=\"9\"),Table1[[#This Row],[Column1]]+(ROUND(M117,3))+10+ROW()/10000,IF(AND(Q117=\"HỌC SINH GIỎI\",LEFT(P117,1)=\"8\"),Table1[[#This Row],[Column1]]+(ROUND(M117,3))+ 50+ROW()/10000,IF(AND(Q117=\"HỌC SINH GIỎI\",LEFT(P117,1)=\"7\"),Table1[[#This Row],[Column1]]+(ROUND(M117,3))+100+ROW()/10000,IF(AND(Q117=\"HỌC SINH GIỎI\",LEFT(P117,1)=\"6\"),Table1[[#This Row],[Column1]]+(ROUND(M117,3))+150+ROW()/10000,\"\"))))))))","v":686.01170000000002},{"$f":"IF(AND(Q117=\"HỌC SINH XUẤT SẮC\",LEFT(P117,1)=\"9\"),(ROUND(M117,3))+Table1[[#This Row],[Column1]]+10+ROW()/10000,IF(AND(Q117=\"HỌC SINH XUẤT SẮC\",LEFT(P117,1)=\"8\"),Table1[[#This Row],[Column1]]+(ROUND(M117,3))+50+ROW()/10000,IF(AND(Q117=\"HỌC SINH XUẤT SẮC\",LEFT(P117,1)=\"7\"),Table1[[#This Row],[Column1]]+(ROUND(M117,3))+100+ROW()/10000,IF(AND(Q117=\"HỌC SINH XUẤT SẮC\",LEFT(P117,1)=\"6\"),Table1[[#This Row],[Column1]]+(ROUND(M117,3))+150+ROW()/10000,\"\"))))","v":286.01170000000002},{"$f":"IF(AND(Q117=\"HỌC SINH GIỎI\",LEFT(P117,1)=\"9\"),Table1[[#This Row],[Column1]]+(ROUND(M117,3))+200+ROW()/10000,IF(AND(Q117=\"HỌC SINH GIỎI\",LEFT(P117,1)=\"8\"),Table1[[#This Row],[Column1]]+(ROUND(M117,3))+250+ROW()/10000,IF(AND(Q117=\"HỌC SINH GIỎI\",LEFT(P117,1)=\"7\"),Table1[[#This Row],[Column1]]+(ROUND(M117,3))+300+ROW()/10000,IF(AND(Q117=\"HỌC SINH GIỎI\",LEFT(P117,1)=\"6\"),Table1[[#This Row],[Column1]]+(ROUND(M117,3))+350+ROW()/10000,\"\"))))","v":""},"Nguyễn Tùng","Lâm","HỌC SINH XUẤT SẮC","6C"]
["117","Mai Khánh","Lệ","04/04/2014","Mai Văn Điện","Xóm 3","T","T",9.25,9,7,9.25,34.5,null,"X","6C","HỌC SINH GIỎI",{"$f":"IF(Table1[[#This Row],[STT]]=\"\",\"\",ROW()-1)","v":117},{"$f":"IF(Table1[[#This Row],[Lơp]]=\"\",\"\",VLOOKUP(Table1[[#This Row],[Lơp]],$AC$3:$AD$14,2,0))","v":100},{"$f":"IF(AND(Q118=\"HỌC SINH XUẤT SẮC\",LEFT(P118,1)=\"9\"),Table1[[#This Row],[Column1]]+(ROUND(M118,3))+400+ROW()/10000,IF(AND(Q118=\"HỌC SINH XUẤT SẮC\",LEFT(P118,1)=\"8\"),Table1[[#This Row],[Column1]]+(ROUND(M118,3))+450+ROW()/10000,IF(AND(Q118=\"HỌC SINH XUẤT SẮC\",LEFT(P118,1)=\"7\"),Table1[[#This Row],[Column1]]+(ROUND(M118,3))+500+ROW()/10000,IF(AND(Q118=\"HỌC SINH XUẤT SẮC\",LEFT(P118,1)=\"6\"),Table1[[#This Row],[Column1]]+(ROUND(M118,3))+550+ROW()/10000,IF(AND(Q118=\"HỌC SINH GIỎI\",LEFT(P118,1)=\"9\"),Table1[[#This Row],[Column1]]+(ROUND(M118,3))+10+ROW()/10000,IF(AND(Q118=\"HỌC SINH GIỎI\",LEFT(P118,1)=\"8\"),Table1[[#This Row],[Column1]]+(ROUND(M118,3))+ 50+ROW()/10000,IF(AND(Q118=\"HỌC SINH GIỎI\",LEFT(P118,1)=\"7\"),Table1[[#This Row],[Column1]]+(ROUND(M118,3))+100+ROW()/10000,IF(AND(Q118=\"HỌC SINH GIỎI\",LEFT(P118,1)=\"6\"),Table1[[#This Row],[Column1]]+(ROUND(M118,3))+150+ROW()/10000,\"\"))))))))","v":284.51179999999999},{"$f":"IF(AND(Q118=\"HỌC SINH XUẤT SẮC\",LEFT(P118,1)=\"9\"),(ROUND(M118,3))+Table1[[#This Row],[Column1]]+10+ROW()/10000,IF(AND(Q118=\"HỌC SINH XUẤT SẮC\",LEFT(P118,1)=\"8\"),Table1[[#This Row],[Column1]]+(ROUND(M118,3))+50+ROW()/10000,IF(AND(Q118=\"HỌC SINH XUẤT SẮC\",LEFT(P118,1)=\"7\"),Table1[[#This Row],[Column1]]+(ROUND(M118,3))+100+ROW()/10000,IF(AND(Q118=\"HỌC SINH XUẤT SẮC\",LEFT(P118,1)=\"6\"),Table1[[#This Row],[Column1]]+(ROUND(M118,3))+150+ROW()/10000,\"\"))))","v":""},{"$f":"IF(AND(Q118=\"HỌC SINH GIỎI\",LEFT(P118,1)=\"9\"),Table1[[#This Row],[Column1]]+(ROUND(M118,3))+200+ROW()/10000,IF(AND(Q118=\"HỌC SINH GIỎI\",LEFT(P118,1)=\"8\"),Table1[[#This Row],[Column1]]+(ROUND(M118,3))+250+ROW()/10000,IF(AND(Q118=\"HỌC SINH GIỎI\",LEFT(P118,1)=\"7\"),Table1[[#This Row],[Column1]]+(ROUND(M118,3))+300+ROW()/10000,IF(AND(Q118=\"HỌC SINH GIỎI\",LEFT(P118,1)=\"6\"),Table1[[#This Row],[Column1]]+(ROUND(M118,3))+350+ROW()/10000,\"\"))))","v":484.51179999999999},"Mai Khánh","Lệ","HỌC SINH GIỎI","6C"]
["118","Đỗ Thảo","Linh","25/06/2014","Đỗ Ngọc Diễm","Xóm 2","T","T",9,8.75,6.5,8.25,32.5,null,"X","6C","HỌC SINH GIỎI",{"$f":"IF(Table1[[#This Row],[STT]]=\"\",\"\",ROW()-1)","v":118},{"$f":"IF(Table1[[#This Row],[Lơp]]=\"\",\"\",VLOOKUP(Table1[[#This Row],[Lơp]],$AC$3:$AD$14,2,0))","v":100},{"$f":"IF(AND(Q119=\"HỌC SINH XUẤT SẮC\",LEFT(P119,1)=\"9\"),Table1[[#This Row],[Column1]]+(ROUND(M119,3))+400+ROW()/10000,IF(AND(Q119=\"HỌC SINH XUẤT SẮC\",LEFT(P119,1)=\"8\"),Table1[[#This Row],[Column1]]+(ROUND(M119,3))+450+ROW()/10000,IF(AND(Q119=\"HỌC SINH XUẤT SẮC\",LEFT(P119,1)=\"7\"),Table1[[#This Row],[Column1]]+(ROUND(M119,3))+500+ROW()/10000,IF(AND(Q119=\"HỌC SINH XUẤT SẮC\",LEFT(P119,1)=\"6\"),Table1[[#This Row],[Column1]]+(ROUND(M119,3))+550+ROW()/10000,IF(AND(Q119=\"HỌC SINH GIỎI\",LEFT(P119,1)=\"9\"),Table1[[#This Row],[Column1]]+(ROUND(M119,3))+10+ROW()/10000,IF(AND(Q119=\"HỌC SINH GIỎI\",LEFT(P119,1)=\"8\"),Table1[[#This Row],[Column1]]+(ROUND(M119,3))+ 50+ROW()/10000,IF(AND(Q119=\"HỌC SINH GIỎI\",LEFT(P119,1)=\"7\"),Table1[[#This Row],[Column1]]+(ROUND(M119,3))+100+ROW()/10000,IF(AND(Q119=\"HỌC SINH GIỎI\",LEFT(P119,1)=\"6\"),Table1[[#This Row],[Column1]]+(ROUND(M119,3))+150+ROW()/10000,\"\"))))))))","v":282.51190000000003},{"$f":"IF(AND(Q119=\"HỌC SINH XUẤT SẮC\",LEFT(P119,1)=\"9\"),(ROUND(M119,3))+Table1[[#This Row],[Column1]]+10+ROW()/10000,IF(AND(Q119=\"HỌC SINH XUẤT SẮC\",LEFT(P119,1)=\"8\"),Table1[[#This Row],[Column1]]+(ROUND(M119,3))+50+ROW()/10000,IF(AND(Q119=\"HỌC SINH XUẤT SẮC\",LEFT(P119,1)=\"7\"),Table1[[#This Row],[Column1]]+(ROUND(M119,3))+100+ROW()/10000,IF(AND(Q119=\"HỌC SINH XUẤT SẮC\",LEFT(P119,1)=\"6\"),Table1[[#This Row],[Column1]]+(ROUND(M119,3))+150+ROW()/10000,\"\"))))","v":""},{"$f":"IF(AND(Q119=\"HỌC SINH GIỎI\",LEFT(P119,1)=\"9\"),Table1[[#This Row],[Column1]]+(ROUND(M119,3))+200+ROW()/10000,IF(AND(Q119=\"HỌC SINH GIỎI\",LEFT(P119,1)=\"8\"),Table1[[#This Row],[Column1]]+(ROUND(M119,3))+250+ROW()/10000,IF(AND(Q119=\"HỌC SINH GIỎI\",LEFT(P119,1)=\"7\"),Table1[[#This Row],[Column1]]+(ROUND(M119,3))+300+ROW()/10000,IF(AND(Q119=\"HỌC SINH GIỎI\",LEFT(P119,1)=\"6\"),Table1[[#This Row],[Column1]]+(ROUND(M119,3))+350+ROW()/10000,\"\"))))","v":482.51190000000003},"Đỗ Thảo","Linh","HỌC SINH GIỎI","6C"]
["119","Lê Thị Thùy","Linh","09/05/2014","Lê Hồng Duy","Xóm 5","T","T",8.75,5.25,6.75,9,29.75,null,"X","6C","HỌC SINH GIỎI",{"$f":"IF(Table1[[#This Row],[STT]]=\"\",\"\",ROW()-1)","v":119},{"$f":"IF(Table1[[#This Row],[Lơp]]=\"\",\"\",VLOOKUP(Table1[[#This Row],[Lơp]],$AC$3:$AD$14,2,0))","v":100},{"$f":"IF(AND(Q120=\"HỌC SINH XUẤT SẮC\",LEFT(P120,1)=\"9\"),Table1[[#This Row],[Column1]]+(ROUND(M120,3))+400+ROW()/10000,IF(AND(Q120=\"HỌC SINH XUẤT SẮC\",LEFT(P120,1)=\"8\"),Table1[[#This Row],[Column1]]+(ROUND(M120,3))+450+ROW()/10000,IF(AND(Q120=\"HỌC SINH XUẤT SẮC\",LEFT(P120,1)=\"7\"),Table1[[#This Row],[Column1]]+(ROUND(M120,3))+500+ROW()/10000,IF(AND(Q120=\"HỌC SINH XUẤT SẮC\",LEFT(P120,1)=\"6\"),Table1[[#This Row],[Column1]]+(ROUND(M120,3))+550+ROW()/10000,IF(AND(Q120=\"HỌC SINH GIỎI\",LEFT(P120,1)=\"9\"),Table1[[#This Row],[Column1]]+(ROUND(M120,3))+10+ROW()/10000,IF(AND(Q120=\"HỌC SINH GIỎI\",LEFT(P120,1)=\"8\"),Table1[[#This Row],[Column1]]+(ROUND(M120,3))+ 50+ROW()/10000,IF(AND(Q120=\"HỌC SINH GIỎI\",LEFT(P120,1)=\"7\"),Table1[[#This Row],[Column1]]+(ROUND(M120,3))+100+ROW()/10000,IF(AND(Q120=\"HỌC SINH GIỎI\",LEFT(P120,1)=\"6\"),Table1[[#This Row],[Column1]]+(ROUND(M120,3))+150+ROW()/10000,\"\"))))))))","v":279.762},{"$f":"IF(AND(Q120=\"HỌC SINH XUẤT SẮC\",LEFT(P120,1)=\"9\"),(ROUND(M120,3))+Table1[[#This Row],[Column1]]+10+ROW()/10000,IF(AND(Q120=\"HỌC SINH XUẤT SẮC\",LEFT(P120,1)=\"8\"),Table1[[#This Row],[Column1]]+(ROUND(M120,3))+50+ROW()/10000,IF(AND(Q120=\"HỌC SINH XUẤT SẮC\",LEFT(P120,1)=\"7\"),Table1[[#This Row],[Column1]]+(ROUND(M120,3))+100+ROW()/10000,IF(AND(Q120=\"HỌC SINH XUẤT SẮC\",LEFT(P120,1)=\"6\"),Table1[[#This Row],[Column1]]+(ROUND(M120,3))+150+ROW()/10000,\"\"))))","v":""},{"$f":"IF(AND(Q120=\"HỌC SINH GIỎI\",LEFT(P120,1)=\"9\"),Table1[[#This Row],[Column1]]+(ROUND(M120,3))+200+ROW()/10000,IF(AND(Q120=\"HỌC SINH GIỎI\",LEFT(P120,1)=\"8\"),Table1[[#This Row],[Column1]]+(ROUND(M120,3))+250+ROW()/10000,IF(AND(Q120=\"HỌC SINH GIỎI\",LEFT(P120,1)=\"7\"),Table1[[#This Row],[Column1]]+(ROUND(M120,3))+300+ROW()/10000,IF(AND(Q120=\"HỌC SINH GIỎI\",LEFT(P120,1)=\"6\"),Table1[[#This Row],[Column1]]+(ROUND(M120,3))+350+ROW()/10000,\"\"))))","v":479.762},"Lê Thị Thùy","Linh","HỌC SINH GIỎI","6C"]
["120","Trần Phương","Linh","06/11/2014","Trần Văn Đạt","Xóm 8","T","T",9,7.25,6,9.5,31.75,null,"X","6C","HỌC SINH GIỎI",{"$f":"IF(Table1[[#This Row],[STT]]=\"\",\"\",ROW()-1)","v":120},{"$f":"IF(Table1[[#This Row],[Lơp]]=\"\",\"\",VLOOKUP(Table1[[#This Row],[Lơp]],$AC$3:$AD$14,2,0))","v":100},{"$f":"IF(AND(Q121=\"HỌC SINH XUẤT SẮC\",LEFT(P121,1)=\"9\"),Table1[[#This Row],[Column1]]+(ROUND(M121,3))+400+ROW()/10000,IF(AND(Q121=\"HỌC SINH XUẤT SẮC\",LEFT(P121,1)=\"8\"),Table1[[#This Row],[Column1]]+(ROUND(M121,3))+450+ROW()/10000,IF(AND(Q121=\"HỌC SINH XUẤT SẮC\",LEFT(P121,1)=\"7\"),Table1[[#This Row],[Column1]]+(ROUND(M121,3))+500+ROW()/10000,IF(AND(Q121=\"HỌC SINH XUẤT SẮC\",LEFT(P121,1)=\"6\"),Table1[[#This Row],[Column1]]+(ROUND(M121,3))+550+ROW()/10000,IF(AND(Q121=\"HỌC SINH GIỎI\",LEFT(P121,1)=\"9\"),Table1[[#This Row],[Column1]]+(ROUND(M121,3))+10+ROW()/10000,IF(AND(Q121=\"HỌC SINH GIỎI\",LEFT(P121,1)=\"8\"),Table1[[#This Row],[Column1]]+(ROUND(M121,3))+ 50+ROW()/10000,IF(AND(Q121=\"HỌC SINH GIỎI\",LEFT(P121,1)=\"7\"),Table1[[#This Row],[Column1]]+(ROUND(M121,3))+100+ROW()/10000,IF(AND(Q121=\"HỌC SINH GIỎI\",LEFT(P121,1)=\"6\"),Table1[[#This Row],[Column1]]+(ROUND(M121,3))+150+ROW()/10000,\"\"))))))))","v":281.76209999999998},{"$f":"IF(AND(Q121=\"HỌC SINH XUẤT SẮC\",LEFT(P121,1)=\"9\"),(ROUND(M121,3))+Table1[[#This Row],[Column1]]+10+ROW()/10000,IF(AND(Q121=\"HỌC SINH XUẤT SẮC\",LEFT(P121,1)=\"8\"),Table1[[#This Row],[Column1]]+(ROUND(M121,3))+50+ROW()/10000,IF(AND(Q121=\"HỌC SINH XUẤT SẮC\",LEFT(P121,1)=\"7\"),Table1[[#This Row],[Column1]]+(ROUND(M121,3))+100+ROW()/10000,IF(AND(Q121=\"HỌC SINH XUẤT SẮC\",LEFT(P121,1)=\"6\"),Table1[[#This Row],[Column1]]+(ROUND(M121,3))+150+ROW()/10000,\"\"))))","v":""},{"$f":"IF(AND(Q121=\"HỌC SINH GIỎI\",LEFT(P121,1)=\"9\"),Table1[[#This Row],[Column1]]+(ROUND(M121,3))+200+ROW()/10000,IF(AND(Q121=\"HỌC SINH GIỎI\",LEFT(P121,1)=\"8\"),Table1[[#This Row],[Column1]]+(ROUND(M121,3))+250+ROW()/10000,IF(AND(Q121=\"HỌC SINH GIỎI\",LEFT(P121,1)=\"7\"),Table1[[#This Row],[Column1]]+(ROUND(M121,3))+300+ROW()/10000,IF(AND(Q121=\"HỌC SINH GIỎI\",LEFT(P121,1)=\"6\"),Table1[[#This Row],[Column1]]+(ROUND(M121,3))+350+ROW()/10000,\"\"))))","v":481.76209999999998},"Trần Phương","Linh","HỌC SINH GIỎI","6C"]
["121","Phạm Gia","Long","05/07/2014","Phạm Văn Vũ","Xóm 7","T","T",9,7,7.25,9.5,32.75,"X",null,"6C","HỌC SINH XUẤT SẮC",{"$f":"IF(Table1[[#This Row],[STT]]=\"\",\"\",ROW()-1)","v":121},{"$f":"IF(Table1[[#This Row],[Lơp]]=\"\",\"\",VLOOKUP(Table1[[#This Row],[Lơp]],$AC$3:$AD$14,2,0))","v":100},{"$f":"IF(AND(Q122=\"HỌC SINH XUẤT SẮC\",LEFT(P122,1)=\"9\"),Table1[[#This Row],[Column1]]+(ROUND(M122,3))+400+ROW()/10000,IF(AND(Q122=\"HỌC SINH XUẤT SẮC\",LEFT(P122,1)=\"8\"),Table1[[#This Row],[Column1]]+(ROUND(M122,3))+450+ROW()/10000,IF(AND(Q122=\"HỌC SINH XUẤT SẮC\",LEFT(P122,1)=\"7\"),Table1[[#This Row],[Column1]]+(ROUND(M122,3))+500+ROW()/10000,IF(AND(Q122=\"HỌC SINH XUẤT SẮC\",LEFT(P122,1)=\"6\"),Table1[[#This Row],[Column1]]+(ROUND(M122,3))+550+ROW()/10000,IF(AND(Q122=\"HỌC SINH GIỎI\",LEFT(P122,1)=\"9\"),Table1[[#This Row],[Column1]]+(ROUND(M122,3))+10+ROW()/10000,IF(AND(Q122=\"HỌC SINH GIỎI\",LEFT(P122,1)=\"8\"),Table1[[#This Row],[Column1]]+(ROUND(M122,3))+ 50+ROW()/10000,IF(AND(Q122=\"HỌC SINH GIỎI\",LEFT(P122,1)=\"7\"),Table1[[#This Row],[Column1]]+(ROUND(M122,3))+100+ROW()/10000,IF(AND(Q122=\"HỌC SINH GIỎI\",LEFT(P122,1)=\"6\"),Table1[[#This Row],[Column1]]+(ROUND(M122,3))+150+ROW()/10000,\"\"))))))))","v":682.76220000000001},{"$f":"IF(AND(Q122=\"HỌC SINH XUẤT SẮC\",LEFT(P122,1)=\"9\"),(ROUND(M122,3))+Table1[[#This Row],[Column1]]+10+ROW()/10000,IF(AND(Q122=\"HỌC SINH XUẤT SẮC\",LEFT(P122,1)=\"8\"),Table1[[#This Row],[Column1]]+(ROUND(M122,3))+50+ROW()/10000,IF(AND(Q122=\"HỌC SINH XUẤT SẮC\",LEFT(P122,1)=\"7\"),Table1[[#This Row],[Column1]]+(ROUND(M122,3))+100+ROW()/10000,IF(AND(Q122=\"HỌC SINH XUẤT SẮC\",LEFT(P122,1)=\"6\"),Table1[[#This Row],[Column1]]+(ROUND(M122,3))+150+ROW()/10000,\"\"))))","v":282.76220000000001},{"$f":"IF(AND(Q122=\"HỌC SINH GIỎI\",LEFT(P122,1)=\"9\"),Table1[[#This Row],[Column1]]+(ROUND(M122,3))+200+ROW()/10000,IF(AND(Q122=\"HỌC SINH GIỎI\",LEFT(P122,1)=\"8\"),Table1[[#This Row],[Column1]]+(ROUND(M122,3))+250+ROW()/10000,IF(AND(Q122=\"HỌC SINH GIỎI\",LEFT(P122,1)=\"7\"),Table1[[#This Row],[Column1]]+(ROUND(M122,3))+300+ROW()/10000,IF(AND(Q122=\"HỌC SINH GIỎI\",LEFT(P122,1)=\"6\"),Table1[[#This Row],[Column1]]+(ROUND(M122,3))+350+ROW()/10000,\"\"))))","v":""},"Phạm Gia",{"$f":"IF(W122=\"\",\"\",C122)","v":"Long"},{"$f":"IF(X122=\"\",\"\",Q122)","v":"HỌC SINH XUẤT SẮC"},{"$f":"IF(Y122=\"\",\"\",P122)","v":"6C"}]
["122","Nguyễn Bảo","Ngọc","30/09/2014","Nguyễn Hữu Hậu","Xóm 4","T","T",9,6.75,7,9,31.75,null,"X","6C","HỌC SINH GIỎI",{"$f":"IF(Table1[[#This Row],[STT]]=\"\",\"\",ROW()-1)","v":122},{"$f":"IF(Table1[[#This Row],[Lơp]]=\"\",\"\",VLOOKUP(Table1[[#This Row],[Lơp]],$AC$3:$AD$14,2,0))","v":100},{"$f":"IF(AND(Q123=\"HỌC SINH XUẤT SẮC\",LEFT(P123,1)=\"9\"),Table1[[#This Row],[Column1]]+(ROUND(M123,3))+400+ROW()/10000,IF(AND(Q123=\"HỌC SINH XUẤT SẮC\",LEFT(P123,1)=\"8\"),Table1[[#This Row],[Column1]]+(ROUND(M123,3))+450+ROW()/10000,IF(AND(Q123=\"HỌC SINH XUẤT SẮC\",LEFT(P123,1)=\"7\"),Table1[[#This Row],[Column1]]+(ROUND(M123,3))+500+ROW()/10000,IF(AND(Q123=\"HỌC SINH XUẤT SẮC\",LEFT(P123,1)=\"6\"),Table1[[#This Row],[Column1]]+(ROUND(M123,3))+550+ROW()/10000,IF(AND(Q123=\"HỌC SINH GIỎI\",LEFT(P123,1)=\"9\"),Table1[[#This Row],[Column1]]+(ROUND(M123,3))+10+ROW()/10000,IF(AND(Q123=\"HỌC SINH GIỎI\",LEFT(P123,1)=\"8\"),Table1[[#This Row],[Column1]]+(ROUND(M123,3))+ 50+ROW()/10000,IF(AND(Q123=\"HỌC SINH GIỎI\",LEFT(P123,1)=\"7\"),Table1[[#This Row],[Column1]]+(ROUND(M123,3))+100+ROW()/10000,IF(AND(Q123=\"HỌC SINH GIỎI\",LEFT(P123,1)=\"6\"),Table1[[#This Row],[Column1]]+(ROUND(M123,3))+150+ROW()/10000,\"\"))))))))","v":281.76229999999998},{"$f":"IF(AND(Q123=\"HỌC SINH XUẤT SẮC\",LEFT(P123,1)=\"9\"),(ROUND(M123,3))+Table1[[#This Row],[Column1]]+10+ROW()/10000,IF(AND(Q123=\"HỌC SINH XUẤT SẮC\",LEFT(P123,1)=\"8\"),Table1[[#This Row],[Column1]]+(ROUND(M123,3))+50+ROW()/10000,IF(AND(Q123=\"HỌC SINH XUẤT SẮC\",LEFT(P123,1)=\"7\"),Table1[[#This Row],[Column1]]+(ROUND(M123,3))+100+ROW()/10000,IF(AND(Q123=\"HỌC SINH XUẤT SẮC\",LEFT(P123,1)=\"6\"),Table1[[#This Row],[Column1]]+(ROUND(M123,3))+150+ROW()/10000,\"\"))))","v":""},{"$f":"IF(AND(Q123=\"HỌC SINH GIỎI\",LEFT(P123,1)=\"9\"),Table1[[#This Row],[Column1]]+(ROUND(M123,3))+200+ROW()/10000,IF(AND(Q123=\"HỌC SINH GIỎI\",LEFT(P123,1)=\"8\"),Table1[[#This Row],[Column1]]+(ROUND(M123,3))+250+ROW()/10000,IF(AND(Q123=\"HỌC SINH GIỎI\",LEFT(P123,1)=\"7\"),Table1[[#This Row],[Column1]]+(ROUND(M123,3))+300+ROW()/10000,IF(AND(Q123=\"HỌC SINH GIỎI\",LEFT(P123,1)=\"6\"),Table1[[#This Row],[Column1]]+(ROUND(M123,3))+350+ROW()/10000,\"\"))))","v":481.76229999999998},"Nguyễn Bảo","Ngọc","HỌC SINH GIỎI","6C"]
["123","Nguyễn Bảo","Ngọc","18/08/2014","Nguyễn Văn Tân","Xóm 7","T","T",9.5,7.5,7.5,9.75,34.25,null,"X","6C","HỌC SINH GIỎI",{"$f":"IF(Table1[[#This Row],[STT]]=\"\",\"\",ROW()-1)","v":123},{"$f":"IF(Table1[[#This Row],[Lơp]]=\"\",\"\",VLOOKUP(Table1[[#This Row],[Lơp]],$AC$3:$AD$14,2,0))","v":100},{"$f":"IF(AND(Q124=\"HỌC SINH XUẤT SẮC\",LEFT(P124,1)=\"9\"),Table1[[#This Row],[Column1]]+(ROUND(M124,3))+400+ROW()/10000,IF(AND(Q124=\"HỌC SINH XUẤT SẮC\",LEFT(P124,1)=\"8\"),Table1[[#This Row],[Column1]]+(ROUND(M124,3))+450+ROW()/10000,IF(AND(Q124=\"HỌC SINH XUẤT SẮC\",LEFT(P124,1)=\"7\"),Table1[[#This Row],[Column1]]+(ROUND(M124,3))+500+ROW()/10000,IF(AND(Q124=\"HỌC SINH XUẤT SẮC\",LEFT(P124,1)=\"6\"),Table1[[#This Row],[Column1]]+(ROUND(M124,3))+550+ROW()/10000,IF(AND(Q124=\"HỌC SINH GIỎI\",LEFT(P124,1)=\"9\"),Table1[[#This Row],[Column1]]+(ROUND(M124,3))+10+ROW()/10000,IF(AND(Q124=\"HỌC SINH GIỎI\",LEFT(P124,1)=\"8\"),Table1[[#This Row],[Column1]]+(ROUND(M124,3))+ 50+ROW()/10000,IF(AND(Q124=\"HỌC SINH GIỎI\",LEFT(P124,1)=\"7\"),Table1[[#This Row],[Column1]]+(ROUND(M124,3))+100+ROW()/10000,IF(AND(Q124=\"HỌC SINH GIỎI\",LEFT(P124,1)=\"6\"),Table1[[#This Row],[Column1]]+(ROUND(M124,3))+150+ROW()/10000,\"\"))))))))","v":284.26240000000001},{"$f":"IF(AND(Q124=\"HỌC SINH XUẤT SẮC\",LEFT(P124,1)=\"9\"),(ROUND(M124,3))+Table1[[#This Row],[Column1]]+10+ROW()/10000,IF(AND(Q124=\"HỌC SINH XUẤT SẮC\",LEFT(P124,1)=\"8\"),Table1[[#This Row],[Column1]]+(ROUND(M124,3))+50+ROW()/10000,IF(AND(Q124=\"HỌC SINH XUẤT SẮC\",LEFT(P124,1)=\"7\"),Table1[[#This Row],[Column1]]+(ROUND(M124,3))+100+ROW()/10000,IF(AND(Q124=\"HỌC SINH XUẤT SẮC\",LEFT(P124,1)=\"6\"),Table1[[#This Row],[Column1]]+(ROUND(M124,3))+150+ROW()/10000,\"\"))))","v":""},{"$f":"IF(AND(Q124=\"HỌC SINH GIỎI\",LEFT(P124,1)=\"9\"),Table1[[#This Row],[Column1]]+(ROUND(M124,3))+200+ROW()/10000,IF(AND(Q124=\"HỌC SINH GIỎI\",LEFT(P124,1)=\"8\"),Table1[[#This Row],[Column1]]+(ROUND(M124,3))+250+ROW()/10000,IF(AND(Q124=\"HỌC SINH GIỎI\",LEFT(P124,1)=\"7\"),Table1[[#This Row],[Column1]]+(ROUND(M124,3))+300+ROW()/10000,IF(AND(Q124=\"HỌC SINH GIỎI\",LEFT(P124,1)=\"6\"),Table1[[#This Row],[Column1]]+(ROUND(M124,3))+350+ROW()/10000,\"\"))))","v":484.26240000000001},"Nguyễn Bảo","Ngọc","HỌC SINH GIỎI","6C"]
["124","Nguyễn Phương Khánh","Ngọc","24/11/2014","Nguyễn Văn Tuân","Xóm 1","T","T",9.25,5,7.5,8.5,30.25,null,"X","6C","HỌC SINH GIỎI",{"$f":"IF(Table1[[#This Row],[STT]]=\"\",\"\",ROW()-1)","v":124},{"$f":"IF(Table1[[#This Row],[Lơp]]=\"\",\"\",VLOOKUP(Table1[[#This Row],[Lơp]],$AC$3:$AD$14,2,0))","v":100},{"$f":"IF(AND(Q125=\"HỌC SINH XUẤT SẮC\",LEFT(P125,1)=\"9\"),Table1[[#This Row],[Column1]]+(ROUND(M125,3))+400+ROW()/10000,IF(AND(Q125=\"HỌC SINH XUẤT SẮC\",LEFT(P125,1)=\"8\"),Table1[[#This Row],[Column1]]+(ROUND(M125,3))+450+ROW()/10000,IF(AND(Q125=\"HỌC SINH XUẤT SẮC\",LEFT(P125,1)=\"7\"),Table1[[#This Row],[Column1]]+(ROUND(M125,3))+500+ROW()/10000,IF(AND(Q125=\"HỌC SINH XUẤT SẮC\",LEFT(P125,1)=\"6\"),Table1[[#This Row],[Column1]]+(ROUND(M125,3))+550+ROW()/10000,IF(AND(Q125=\"HỌC SINH GIỎI\",LEFT(P125,1)=\"9\"),Table1[[#This Row],[Column1]]+(ROUND(M125,3))+10+ROW()/10000,IF(AND(Q125=\"HỌC SINH GIỎI\",LEFT(P125,1)=\"8\"),Table1[[#This Row],[Column1]]+(ROUND(M125,3))+ 50+ROW()/10000,IF(AND(Q125=\"HỌC SINH GIỎI\",LEFT(P125,1)=\"7\"),Table1[[#This Row],[Column1]]+(ROUND(M125,3))+100+ROW()/10000,IF(AND(Q125=\"HỌC SINH GIỎI\",LEFT(P125,1)=\"6\"),Table1[[#This Row],[Column1]]+(ROUND(M125,3))+150+ROW()/10000,\"\"))))))))","v":280.26249999999999},{"$f":"IF(AND(Q125=\"HỌC SINH XUẤT SẮC\",LEFT(P125,1)=\"9\"),(ROUND(M125,3))+Table1[[#This Row],[Column1]]+10+ROW()/10000,IF(AND(Q125=\"HỌC SINH XUẤT SẮC\",LEFT(P125,1)=\"8\"),Table1[[#This Row],[Column1]]+(ROUND(M125,3))+50+ROW()/10000,IF(AND(Q125=\"HỌC SINH XUẤT SẮC\",LEFT(P125,1)=\"7\"),Table1[[#This Row],[Column1]]+(ROUND(M125,3))+100+ROW()/10000,IF(AND(Q125=\"HỌC SINH XUẤT SẮC\",LEFT(P125,1)=\"6\"),Table1[[#This Row],[Column1]]+(ROUND(M125,3))+150+ROW()/10000,\"\"))))","v":""},{"$f":"IF(AND(Q125=\"HỌC SINH GIỎI\",LEFT(P125,1)=\"9\"),Table1[[#This Row],[Column1]]+(ROUND(M125,3))+200+ROW()/10000,IF(AND(Q125=\"HỌC SINH GIỎI\",LEFT(P125,1)=\"8\"),Table1[[#This Row],[Column1]]+(ROUND(M125,3))+250+ROW()/10000,IF(AND(Q125=\"HỌC SINH GIỎI\",LEFT(P125,1)=\"7\"),Table1[[#This Row],[Column1]]+(ROUND(M125,3))+300+ROW()/10000,IF(AND(Q125=\"HỌC SINH GIỎI\",LEFT(P125,1)=\"6\"),Table1[[#This Row],[Column1]]+(ROUND(M125,3))+350+ROW()/10000,\"\"))))","v":480.26249999999999},"Nguyễn Phương Khánh","Ngọc","HỌC SINH GIỎI","6C"]
["125","Trần Bảo","Ngọc","16/11/2014","Trần Văn Thành","Xóm 8","T","T",8.25,9,8,9.25,34.5,null,"X","6C","HỌC SINH GIỎI",{"$f":"IF(Table1[[#This Row],[STT]]=\"\",\"\",ROW()-1)","v":125},{"$f":"IF(Table1[[#This Row],[Lơp]]=\"\",\"\",VLOOKUP(Table1[[#This Row],[Lơp]],$AC$3:$AD$14,2,0))","v":100},{"$f":"IF(AND(Q126=\"HỌC SINH XUẤT SẮC\",LEFT(P126,1)=\"9\"),Table1[[#This Row],[Column1]]+(ROUND(M126,3))+400+ROW()/10000,IF(AND(Q126=\"HỌC SINH XUẤT SẮC\",LEFT(P126,1)=\"8\"),Table1[[#This Row],[Column1]]+(ROUND(M126,3))+450+ROW()/10000,IF(AND(Q126=\"HỌC SINH XUẤT SẮC\",LEFT(P126,1)=\"7\"),Table1[[#This Row],[Column1]]+(ROUND(M126,3))+500+ROW()/10000,IF(AND(Q126=\"HỌC SINH XUẤT SẮC\",LEFT(P126,1)=\"6\"),Table1[[#This Row],[Column1]]+(ROUND(M126,3))+550+ROW()/10000,IF(AND(Q126=\"HỌC SINH GIỎI\",LEFT(P126,1)=\"9\"),Table1[[#This Row],[Column1]]+(ROUND(M126,3))+10+ROW()/10000,IF(AND(Q126=\"HỌC SINH GIỎI\",LEFT(P126,1)=\"8\"),Table1[[#This Row],[Column1]]+(ROUND(M126,3))+ 50+ROW()/10000,IF(AND(Q126=\"HỌC SINH GIỎI\",LEFT(P126,1)=\"7\"),Table1[[#This Row],[Column1]]+(ROUND(M126,3))+100+ROW()/10000,IF(AND(Q126=\"HỌC SINH GIỎI\",LEFT(P126,1)=\"6\"),Table1[[#This Row],[Column1]]+(ROUND(M126,3))+150+ROW()/10000,\"\"))))))))","v":284.51260000000002},{"$f":"IF(AND(Q126=\"HỌC SINH XUẤT SẮC\",LEFT(P126,1)=\"9\"),(ROUND(M126,3))+Table1[[#This Row],[Column1]]+10+ROW()/10000,IF(AND(Q126=\"HỌC SINH XUẤT SẮC\",LEFT(P126,1)=\"8\"),Table1[[#This Row],[Column1]]+(ROUND(M126,3))+50+ROW()/10000,IF(AND(Q126=\"HỌC SINH XUẤT SẮC\",LEFT(P126,1)=\"7\"),Table1[[#This Row],[Column1]]+(ROUND(M126,3))+100+ROW()/10000,IF(AND(Q126=\"HỌC SINH XUẤT SẮC\",LEFT(P126,1)=\"6\"),Table1[[#This Row],[Column1]]+(ROUND(M126,3))+150+ROW()/10000,\"\"))))","v":""},{"$f":"IF(AND(Q126=\"HỌC SINH GIỎI\",LEFT(P126,1)=\"9\"),Table1[[#This Row],[Column1]]+(ROUND(M126,3))+200+ROW()/10000,IF(AND(Q126=\"HỌC SINH GIỎI\",LEFT(P126,1)=\"8\"),Table1[[#This Row],[Column1]]+(ROUND(M126,3))+250+ROW()/10000,IF(AND(Q126=\"HỌC SINH GIỎI\",LEFT(P126,1)=\"7\"),Table1[[#This Row],[Column1]]+(ROUND(M126,3))+300+ROW()/10000,IF(AND(Q126=\"HỌC SINH GIỎI\",LEFT(P126,1)=\"6\"),Table1[[#This Row],[Column1]]+(ROUND(M126,3))+350+ROW()/10000,\"\"))))","v":484.51260000000002},"Trần Bảo","Ngọc","HỌC SINH GIỎI","6C"]
["126","Phạm Hạnh","Nguyên","15/05/2014","Phạm Văn Đình","Xóm 1","T","T",8.75,8.25,5.5,9.5,32,null,"X","6C","HỌC SINH GIỎI",{"$f":"IF(Table1[[#This Row],[STT]]=\"\",\"\",ROW()-1)","v":126},{"$f":"IF(Table1[[#This Row],[Lơp]]=\"\",\"\",VLOOKUP(Table1[[#This Row],[Lơp]],$AC$3:$AD$14,2,0))","v":100},{"$f":"IF(AND(Q127=\"HỌC SINH XUẤT SẮC\",LEFT(P127,1)=\"9\"),Table1[[#This Row],[Column1]]+(ROUND(M127,3))+400+ROW()/10000,IF(AND(Q127=\"HỌC SINH XUẤT SẮC\",LEFT(P127,1)=\"8\"),Table1[[#This Row],[Column1]]+(ROUND(M127,3))+450+ROW()/10000,IF(AND(Q127=\"HỌC SINH XUẤT SẮC\",LEFT(P127,1)=\"7\"),Table1[[#This Row],[Column1]]+(ROUND(M127,3))+500+ROW()/10000,IF(AND(Q127=\"HỌC SINH XUẤT SẮC\",LEFT(P127,1)=\"6\"),Table1[[#This Row],[Column1]]+(ROUND(M127,3))+550+ROW()/10000,IF(AND(Q127=\"HỌC SINH GIỎI\",LEFT(P127,1)=\"9\"),Table1[[#This Row],[Column1]]+(ROUND(M127,3))+10+ROW()/10000,IF(AND(Q127=\"HỌC SINH GIỎI\",LEFT(P127,1)=\"8\"),Table1[[#This Row],[Column1]]+(ROUND(M127,3))+ 50+ROW()/10000,IF(AND(Q127=\"HỌC SINH GIỎI\",LEFT(P127,1)=\"7\"),Table1[[#This Row],[Column1]]+(ROUND(M127,3))+100+ROW()/10000,IF(AND(Q127=\"HỌC SINH GIỎI\",LEFT(P127,1)=\"6\"),Table1[[#This Row],[Column1]]+(ROUND(M127,3))+150+ROW()/10000,\"\"))))))))","v":282.0127},{"$f":"IF(AND(Q127=\"HỌC SINH XUẤT SẮC\",LEFT(P127,1)=\"9\"),(ROUND(M127,3))+Table1[[#This Row],[Column1]]+10+ROW()/10000,IF(AND(Q127=\"HỌC SINH XUẤT SẮC\",LEFT(P127,1)=\"8\"),Table1[[#This Row],[Column1]]+(ROUND(M127,3))+50+ROW()/10000,IF(AND(Q127=\"HỌC SINH XUẤT SẮC\",LEFT(P127,1)=\"7\"),Table1[[#This Row],[Column1]]+(ROUND(M127,3))+100+ROW()/10000,IF(AND(Q127=\"HỌC SINH XUẤT SẮC\",LEFT(P127,1)=\"6\"),Table1[[#This Row],[Column1]]+(ROUND(M127,3))+150+ROW()/10000,\"\"))))","v":""},{"$f":"IF(AND(Q127=\"HỌC SINH GIỎI\",LEFT(P127,1)=\"9\"),Table1[[#This Row],[Column1]]+(ROUND(M127,3))+200+ROW()/10000,IF(AND(Q127=\"HỌC SINH GIỎI\",LEFT(P127,1)=\"8\"),Table1[[#This Row],[Column1]]+(ROUND(M127,3))+250+ROW()/10000,IF(AND(Q127=\"HỌC SINH GIỎI\",LEFT(P127,1)=\"7\"),Table1[[#This Row],[Column1]]+(ROUND(M127,3))+300+ROW()/10000,IF(AND(Q127=\"HỌC SINH GIỎI\",LEFT(P127,1)=\"6\"),Table1[[#This Row],[Column1]]+(ROUND(M127,3))+350+ROW()/10000,\"\"))))","v":482.0127},"Phạm Hạnh","Nguyên","HỌC SINH GIỎI","6C"]
["127","Trần Khôi","Nguyên","10/04/2014","Trần Tiến Diện","Xóm 8","T","T",9.25,9.25,8,9.25,35.75,"X",null,"6C","HỌC SINH XUẤT SẮC",{"$f":"IF(Table1[[#This Row],[STT]]=\"\",\"\",ROW()-1)","v":127},{"$f":"IF(Table1[[#This Row],[Lơp]]=\"\",\"\",VLOOKUP(Table1[[#This Row],[Lơp]],$AC$3:$AD$14,2,0))","v":100},{"$f":"IF(AND(Q128=\"HỌC SINH XUẤT SẮC\",LEFT(P128,1)=\"9\"),Table1[[#This Row],[Column1]]+(ROUND(M128,3))+400+ROW()/10000,IF(AND(Q128=\"HỌC SINH XUẤT SẮC\",LEFT(P128,1)=\"8\"),Table1[[#This Row],[Column1]]+(ROUND(M128,3))+450+ROW()/10000,IF(AND(Q128=\"HỌC SINH XUẤT SẮC\",LEFT(P128,1)=\"7\"),Table1[[#This Row],[Column1]]+(ROUND(M128,3))+500+ROW()/10000,IF(AND(Q128=\"HỌC SINH XUẤT SẮC\",LEFT(P128,1)=\"6\"),Table1[[#This Row],[Column1]]+(ROUND(M128,3))+550+ROW()/10000,IF(AND(Q128=\"HỌC SINH GIỎI\",LEFT(P128,1)=\"9\"),Table1[[#This Row],[Column1]]+(ROUND(M128,3))+10+ROW()/10000,IF(AND(Q128=\"HỌC SINH GIỎI\",LEFT(P128,1)=\"8\"),Table1[[#This Row],[Column1]]+(ROUND(M128,3))+ 50+ROW()/10000,IF(AND(Q128=\"HỌC SINH GIỎI\",LEFT(P128,1)=\"7\"),Table1[[#This Row],[Column1]]+(ROUND(M128,3))+100+ROW()/10000,IF(AND(Q128=\"HỌC SINH GIỎI\",LEFT(P128,1)=\"6\"),Table1[[#This Row],[Column1]]+(ROUND(M128,3))+150+ROW()/10000,\"\"))))))))","v":685.76279999999997},{"$f":"IF(AND(Q128=\"HỌC SINH XUẤT SẮC\",LEFT(P128,1)=\"9\"),(ROUND(M128,3))+Table1[[#This Row],[Column1]]+10+ROW()/10000,IF(AND(Q128=\"HỌC SINH XUẤT SẮC\",LEFT(P128,1)=\"8\"),Table1[[#This Row],[Column1]]+(ROUND(M128,3))+50+ROW()/10000,IF(AND(Q128=\"HỌC SINH XUẤT SẮC\",LEFT(P128,1)=\"7\"),Table1[[#This Row],[Column1]]+(ROUND(M128,3))+100+ROW()/10000,IF(AND(Q128=\"HỌC SINH XUẤT SẮC\",LEFT(P128,1)=\"6\"),Table1[[#This Row],[Column1]]+(ROUND(M128,3))+150+ROW()/10000,\"\"))))","v":285.76280000000003},{"$f":"IF(AND(Q128=\"HỌC SINH GIỎI\",LEFT(P128,1)=\"9\"),Table1[[#This Row],[Column1]]+(ROUND(M128,3))+200+ROW()/10000,IF(AND(Q128=\"HỌC SINH GIỎI\",LEFT(P128,1)=\"8\"),Table1[[#This Row],[Column1]]+(ROUND(M128,3))+250+ROW()/10000,IF(AND(Q128=\"HỌC SINH GIỎI\",LEFT(P128,1)=\"7\"),Table1[[#This Row],[Column1]]+(ROUND(M128,3))+300+ROW()/10000,IF(AND(Q128=\"HỌC SINH GIỎI\",LEFT(P128,1)=\"6\"),Table1[[#This Row],[Column1]]+(ROUND(M128,3))+350+ROW()/10000,\"\"))))","v":""},"Trần Khôi","Nguyên","HỌC SINH XUẤT SẮC","6C"]
["128","Đặng Quỳnh","Như","03/11/2014","Đặng Văn Tiệp","Xóm 1","T","T",9.25,9.25,7,8.75,34.25,"X",null,"6C","HỌC SINH XUẤT SẮC",{"$f":"IF(Table1[[#This Row],[STT]]=\"\",\"\",ROW()-1)","v":128},{"$f":"IF(Table1[[#This Row],[Lơp]]=\"\",\"\",VLOOKUP(Table1[[#This Row],[Lơp]],$AC$3:$AD$14,2,0))","v":100},{"$f":"IF(AND(Q129=\"HỌC SINH XUẤT SẮC\",LEFT(P129,1)=\"9\"),Table1[[#This Row],[Column1]]+(ROUND(M129,3))+400+ROW()/10000,IF(AND(Q129=\"HỌC SINH XUẤT SẮC\",LEFT(P129,1)=\"8\"),Table1[[#This Row],[Column1]]+(ROUND(M129,3))+450+ROW()/10000,IF(AND(Q129=\"HỌC SINH XUẤT SẮC\",LEFT(P129,1)=\"7\"),Table1[[#This Row],[Column1]]+(ROUND(M129,3))+500+ROW()/10000,IF(AND(Q129=\"HỌC SINH XUẤT SẮC\",LEFT(P129,1)=\"6\"),Table1[[#This Row],[Column1]]+(ROUND(M129,3))+550+ROW()/10000,IF(AND(Q129=\"HỌC SINH GIỎI\",LEFT(P129,1)=\"9\"),Table1[[#This Row],[Column1]]+(ROUND(M129,3))+10+ROW()/10000,IF(AND(Q129=\"HỌC SINH GIỎI\",LEFT(P129,1)=\"8\"),Table1[[#This Row],[Column1]]+(ROUND(M129,3))+ 50+ROW()/10000,IF(AND(Q129=\"HỌC SINH GIỎI\",LEFT(P129,1)=\"7\"),Table1[[#This Row],[Column1]]+(ROUND(M129,3))+100+ROW()/10000,IF(AND(Q129=\"HỌC SINH GIỎI\",LEFT(P129,1)=\"6\"),Table1[[#This Row],[Column1]]+(ROUND(M129,3))+150+ROW()/10000,\"\"))))))))","v":684.26289999999995},{"$f":"IF(AND(Q129=\"HỌC SINH XUẤT SẮC\",LEFT(P129,1)=\"9\"),(ROUND(M129,3))+Table1[[#This Row],[Column1]]+10+ROW()/10000,IF(AND(Q129=\"HỌC SINH XUẤT SẮC\",LEFT(P129,1)=\"8\"),Table1[[#This Row],[Column1]]+(ROUND(M129,3))+50+ROW()/10000,IF(AND(Q129=\"HỌC SINH XUẤT SẮC\",LEFT(P129,1)=\"7\"),Table1[[#This Row],[Column1]]+(ROUND(M129,3))+100+ROW()/10000,IF(AND(Q129=\"HỌC SINH XUẤT SẮC\",LEFT(P129,1)=\"6\"),Table1[[#This Row],[Column1]]+(ROUND(M129,3))+150+ROW()/10000,\"\"))))","v":284.2629},{"$f":"IF(AND(Q129=\"HỌC SINH GIỎI\",LEFT(P129,1)=\"9\"),Table1[[#This Row],[Column1]]+(ROUND(M129,3))+200+ROW()/10000,IF(AND(Q129=\"HỌC SINH GIỎI\",LEFT(P129,1)=\"8\"),Table1[[#This Row],[Column1]]+(ROUND(M129,3))+250+ROW()/10000,IF(AND(Q129=\"HỌC SINH GIỎI\",LEFT(P129,1)=\"7\"),Table1[[#This Row],[Column1]]+(ROUND(M129,3))+300+ROW()/10000,IF(AND(Q129=\"HỌC SINH GIỎI\",LEFT(P129,1)=\"6\"),Table1[[#This Row],[Column1]]+(ROUND(M129,3))+350+ROW()/10000,\"\"))))","v":""},"Đặng Quỳnh","Như","HỌC SINH XUẤT SẮC","6C"]
["129","Trần Gia","Phát","11/07/2014","Trần Xuân Tân","Xóm 6","T","T",8.5,8.5,7.5,9.75,34.25,null,"X","6C","HỌC SINH GIỎI",{"$f":"IF(Table1[[#This Row],[STT]]=\"\",\"\",ROW()-1)","v":129},{"$f":"IF(Table1[[#This Row],[Lơp]]=\"\",\"\",VLOOKUP(Table1[[#This Row],[Lơp]],$AC$3:$AD$14,2,0))","v":100},{"$f":"IF(AND(Q130=\"HỌC SINH XUẤT SẮC\",LEFT(P130,1)=\"9\"),Table1[[#This Row],[Column1]]+(ROUND(M130,3))+400+ROW()/10000,IF(AND(Q130=\"HỌC SINH XUẤT SẮC\",LEFT(P130,1)=\"8\"),Table1[[#This Row],[Column1]]+(ROUND(M130,3))+450+ROW()/10000,IF(AND(Q130=\"HỌC SINH XUẤT SẮC\",LEFT(P130,1)=\"7\"),Table1[[#This Row],[Column1]]+(ROUND(M130,3))+500+ROW()/10000,IF(AND(Q130=\"HỌC SINH XUẤT SẮC\",LEFT(P130,1)=\"6\"),Table1[[#This Row],[Column1]]+(ROUND(M130,3))+550+ROW()/10000,IF(AND(Q130=\"HỌC SINH GIỎI\",LEFT(P130,1)=\"9\"),Table1[[#This Row],[Column1]]+(ROUND(M130,3))+10+ROW()/10000,IF(AND(Q130=\"HỌC SINH GIỎI\",LEFT(P130,1)=\"8\"),Table1[[#This Row],[Column1]]+(ROUND(M130,3))+ 50+ROW()/10000,IF(AND(Q130=\"HỌC SINH GIỎI\",LEFT(P130,1)=\"7\"),Table1[[#This Row],[Column1]]+(ROUND(M130,3))+100+ROW()/10000,IF(AND(Q130=\"HỌC SINH GIỎI\",LEFT(P130,1)=\"6\"),Table1[[#This Row],[Column1]]+(ROUND(M130,3))+150+ROW()/10000,\"\"))))))))","v":284.26299999999998},{"$f":"IF(AND(Q130=\"HỌC SINH XUẤT SẮC\",LEFT(P130,1)=\"9\"),(ROUND(M130,3))+Table1[[#This Row],[Column1]]+10+ROW()/10000,IF(AND(Q130=\"HỌC SINH XUẤT SẮC\",LEFT(P130,1)=\"8\"),Table1[[#This Row],[Column1]]+(ROUND(M130,3))+50+ROW()/10000,IF(AND(Q130=\"HỌC SINH XUẤT SẮC\",LEFT(P130,1)=\"7\"),Table1[[#This Row],[Column1]]+(ROUND(M130,3))+100+ROW()/10000,IF(AND(Q130=\"HỌC SINH XUẤT SẮC\",LEFT(P130,1)=\"6\"),Table1[[#This Row],[Column1]]+(ROUND(M130,3))+150+ROW()/10000,\"\"))))","v":""},{"$f":"IF(AND(Q130=\"HỌC SINH GIỎI\",LEFT(P130,1)=\"9\"),Table1[[#This Row],[Column1]]+(ROUND(M130,3))+200+ROW()/10000,IF(AND(Q130=\"HỌC SINH GIỎI\",LEFT(P130,1)=\"8\"),Table1[[#This Row],[Column1]]+(ROUND(M130,3))+250+ROW()/10000,IF(AND(Q130=\"HỌC SINH GIỎI\",LEFT(P130,1)=\"7\"),Table1[[#This Row],[Column1]]+(ROUND(M130,3))+300+ROW()/10000,IF(AND(Q130=\"HỌC SINH GIỎI\",LEFT(P130,1)=\"6\"),Table1[[#This Row],[Column1]]+(ROUND(M130,3))+350+ROW()/10000,\"\"))))","v":484.26299999999998},"Trần Gia","Phát","HỌC SINH GIỎI","6C"]
["130","Lê Thục","Quyên","25/11/2014","Lê Minh Thiên","Xóm 5","T","T",9.25,7.5,8.75,8.75,34.25,null,"X","6C",{"$f":"IF(AND(N131=\"\",O131=\"\"),\"\",IF(N131=\"x\",\"HỌC SINH XUẤT SẮC\",\"HỌC SINH GIỎI\"))","v":"HỌC SINH GIỎI"},{"$f":"IF(Table1[[#This Row],[STT]]=\"\",\"\",ROW()-1)","v":130},{"$f":"IF(Table1[[#This Row],[Lơp]]=\"\",\"\",VLOOKUP(Table1[[#This Row],[Lơp]],$AC$3:$AD$14,2,0))","v":100},{"$f":"IF(AND(Q131=\"HỌC SINH XUẤT SẮC\",LEFT(P131,1)=\"9\"),Table1[[#This Row],[Column1]]+(ROUND(M131,3))+400+ROW()/10000,IF(AND(Q131=\"HỌC SINH XUẤT SẮC\",LEFT(P131,1)=\"8\"),Table1[[#This Row],[Column1]]+(ROUND(M131,3))+450+ROW()/10000,IF(AND(Q131=\"HỌC SINH XUẤT SẮC\",LEFT(P131,1)=\"7\"),Table1[[#This Row],[Column1]]+(ROUND(M131,3))+500+ROW()/10000,IF(AND(Q131=\"HỌC SINH XUẤT SẮC\",LEFT(P131,1)=\"6\"),Table1[[#This Row],[Column1]]+(ROUND(M131,3))+550+ROW()/10000,IF(AND(Q131=\"HỌC SINH GIỎI\",LEFT(P131,1)=\"9\"),Table1[[#This Row],[Column1]]+(ROUND(M131,3))+10+ROW()/10000,IF(AND(Q131=\"HỌC SINH GIỎI\",LEFT(P131,1)=\"8\"),Table1[[#This Row],[Column1]]+(ROUND(M131,3))+ 50+ROW()/10000,IF(AND(Q131=\"HỌC SINH GIỎI\",LEFT(P131,1)=\"7\"),Table1[[#This Row],[Column1]]+(ROUND(M131,3))+100+ROW()/10000,IF(AND(Q131=\"HỌC SINH GIỎI\",LEFT(P131,1)=\"6\"),Table1[[#This Row],[Column1]]+(ROUND(M131,3))+150+ROW()/10000,\"\"))))))))","v":284.26310000000001},{"$f":"IF(AND(Q131=\"HỌC SINH XUẤT SẮC\",LEFT(P131,1)=\"9\"),(ROUND(M131,3))+Table1[[#This Row],[Column1]]+10+ROW()/10000,IF(AND(Q131=\"HỌC SINH XUẤT SẮC\",LEFT(P131,1)=\"8\"),Table1[[#This Row],[Column1]]+(ROUND(M131,3))+50+ROW()/10000,IF(AND(Q131=\"HỌC SINH XUẤT SẮC\",LEFT(P131,1)=\"7\"),Table1[[#This Row],[Column1]]+(ROUND(M131,3))+100+ROW()/10000,IF(AND(Q131=\"HỌC SINH XUẤT SẮC\",LEFT(P131,1)=\"6\"),Table1[[#This Row],[Column1]]+(ROUND(M131,3))+150+ROW()/10000,\"\"))))","v":""},{"$f":"IF(AND(Q131=\"HỌC SINH GIỎI\",LEFT(P131,1)=\"9\"),Table1[[#This Row],[Column1]]+(ROUND(M131,3))+200+ROW()/10000,IF(AND(Q131=\"HỌC SINH GIỎI\",LEFT(P131,1)=\"8\"),Table1[[#This Row],[Column1]]+(ROUND(M131,3))+250+ROW()/10000,IF(AND(Q131=\"HỌC SINH GIỎI\",LEFT(P131,1)=\"7\"),Table1[[#This Row],[Column1]]+(ROUND(M131,3))+300+ROW()/10000,IF(AND(Q131=\"HỌC SINH GIỎI\",LEFT(P131,1)=\"6\"),Table1[[#This Row],[Column1]]+(ROUND(M131,3))+350+ROW()/10000,\"\"))))","v":484.26310000000001},{"$f":"IF(AND(V131=\"\",U131=\"\"),\"\",B131)","v":"Lê Thục"},"Quyên","HỌC SINH GIỎI","6C"]
["131","Lê Đại Chiến","Thắng","12/03/2014","Lê Quang Sáng","Xóm 5","T","T",9.25,9.25,6.75,9.25,34.5,null,"X","6C","HỌC SINH GIỎI",{"$f":"IF(Table1[[#This Row],[STT]]=\"\",\"\",ROW()-1)","v":131},{"$f":"IF(Table1[[#This Row],[Lơp]]=\"\",\"\",VLOOKUP(Table1[[#This Row],[Lơp]],$AC$3:$AD$14,2,0))","v":100},{"$f":"IF(AND(Q132=\"HỌC SINH XUẤT SẮC\",LEFT(P132,1)=\"9\"),Table1[[#This Row],[Column1]]+(ROUND(M132,3))+400+ROW()/10000,IF(AND(Q132=\"HỌC SINH XUẤT SẮC\",LEFT(P132,1)=\"8\"),Table1[[#This Row],[Column1]]+(ROUND(M132,3))+450+ROW()/10000,IF(AND(Q132=\"HỌC SINH XUẤT SẮC\",LEFT(P132,1)=\"7\"),Table1[[#This Row],[Column1]]+(ROUND(M132,3))+500+ROW()/10000,IF(AND(Q132=\"HỌC SINH XUẤT SẮC\",LEFT(P132,1)=\"6\"),Table1[[#This Row],[Column1]]+(ROUND(M132,3))+550+ROW()/10000,IF(AND(Q132=\"HỌC SINH GIỎI\",LEFT(P132,1)=\"9\"),Table1[[#This Row],[Column1]]+(ROUND(M132,3))+10+ROW()/10000,IF(AND(Q132=\"HỌC SINH GIỎI\",LEFT(P132,1)=\"8\"),Table1[[#This Row],[Column1]]+(ROUND(M132,3))+ 50+ROW()/10000,IF(AND(Q132=\"HỌC SINH GIỎI\",LEFT(P132,1)=\"7\"),Table1[[#This Row],[Column1]]+(ROUND(M132,3))+100+ROW()/10000,IF(AND(Q132=\"HỌC SINH GIỎI\",LEFT(P132,1)=\"6\"),Table1[[#This Row],[Column1]]+(ROUND(M132,3))+150+ROW()/10000,\"\"))))))))","v":284.51319999999998},{"$f":"IF(AND(Q132=\"HỌC SINH XUẤT SẮC\",LEFT(P132,1)=\"9\"),(ROUND(M132,3))+Table1[[#This Row],[Column1]]+10+ROW()/10000,IF(AND(Q132=\"HỌC SINH XUẤT SẮC\",LEFT(P132,1)=\"8\"),Table1[[#This Row],[Column1]]+(ROUND(M132,3))+50+ROW()/10000,IF(AND(Q132=\"HỌC SINH XUẤT SẮC\",LEFT(P132,1)=\"7\"),Table1[[#This Row],[Column1]]+(ROUND(M132,3))+100+ROW()/10000,IF(AND(Q132=\"HỌC SINH XUẤT SẮC\",LEFT(P132,1)=\"6\"),Table1[[#This Row],[Column1]]+(ROUND(M132,3))+150+ROW()/10000,\"\"))))","v":""},{"$f":"IF(AND(Q132=\"HỌC SINH GIỎI\",LEFT(P132,1)=\"9\"),Table1[[#This Row],[Column1]]+(ROUND(M132,3))+200+ROW()/10000,IF(AND(Q132=\"HỌC SINH GIỎI\",LEFT(P132,1)=\"8\"),Table1[[#This Row],[Column1]]+(ROUND(M132,3))+250+ROW()/10000,IF(AND(Q132=\"HỌC SINH GIỎI\",LEFT(P132,1)=\"7\"),Table1[[#This Row],[Column1]]+(ROUND(M132,3))+300+ROW()/10000,IF(AND(Q132=\"HỌC SINH GIỎI\",LEFT(P132,1)=\"6\"),Table1[[#This Row],[Column1]]+(ROUND(M132,3))+350+ROW()/10000,\"\"))))","v":484.51319999999998},"Lê Đại Chiến","Thắng","HỌC SINH GIỎI","6C"]
["132","Bùi Thanh","Vân","16/04/2014","Bùi Văn Tú","Xóm 1","T","T",7.5,9,7.5,9.25,33.25,null,"X","6C","HỌC SINH GIỎI",{"$f":"IF(Table1[[#This Row],[STT]]=\"\",\"\",ROW()-1)","v":132},{"$f":"IF(Table1[[#This Row],[Lơp]]=\"\",\"\",VLOOKUP(Table1[[#This Row],[Lơp]],$AC$3:$AD$14,2,0))","v":100},{"$f":"IF(AND(Q133=\"HỌC SINH XUẤT SẮC\",LEFT(P133,1)=\"9\"),Table1[[#This Row],[Column1]]+(ROUND(M133,3))+400+ROW()/10000,IF(AND(Q133=\"HỌC SINH XUẤT SẮC\",LEFT(P133,1)=\"8\"),Table1[[#This Row],[Column1]]+(ROUND(M133,3))+450+ROW()/10000,IF(AND(Q133=\"HỌC SINH XUẤT SẮC\",LEFT(P133,1)=\"7\"),Table1[[#This Row],[Column1]]+(ROUND(M133,3))+500+ROW()/10000,IF(AND(Q133=\"HỌC SINH XUẤT SẮC\",LEFT(P133,1)=\"6\"),Table1[[#This Row],[Column1]]+(ROUND(M133,3))+550+ROW()/10000,IF(AND(Q133=\"HỌC SINH GIỎI\",LEFT(P133,1)=\"9\"),Table1[[#This Row],[Column1]]+(ROUND(M133,3))+10+ROW()/10000,IF(AND(Q133=\"HỌC SINH GIỎI\",LEFT(P133,1)=\"8\"),Table1[[#This Row],[Column1]]+(ROUND(M133,3))+ 50+ROW()/10000,IF(AND(Q133=\"HỌC SINH GIỎI\",LEFT(P133,1)=\"7\"),Table1[[#This Row],[Column1]]+(ROUND(M133,3))+100+ROW()/10000,IF(AND(Q133=\"HỌC SINH GIỎI\",LEFT(P133,1)=\"6\"),Table1[[#This Row],[Column1]]+(ROUND(M133,3))+150+ROW()/10000,\"\"))))))))","v":283.26330000000002},{"$f":"IF(AND(Q133=\"HỌC SINH XUẤT SẮC\",LEFT(P133,1)=\"9\"),(ROUND(M133,3))+Table1[[#This Row],[Column1]]+10+ROW()/10000,IF(AND(Q133=\"HỌC SINH XUẤT SẮC\",LEFT(P133,1)=\"8\"),Table1[[#This Row],[Column1]]+(ROUND(M133,3))+50+ROW()/10000,IF(AND(Q133=\"HỌC SINH XUẤT SẮC\",LEFT(P133,1)=\"7\"),Table1[[#This Row],[Column1]]+(ROUND(M133,3))+100+ROW()/10000,IF(AND(Q133=\"HỌC SINH XUẤT SẮC\",LEFT(P133,1)=\"6\"),Table1[[#This Row],[Column1]]+(ROUND(M133,3))+150+ROW()/10000,\"\"))))","v":""},{"$f":"IF(AND(Q133=\"HỌC SINH GIỎI\",LEFT(P133,1)=\"9\"),Table1[[#This Row],[Column1]]+(ROUND(M133,3))+200+ROW()/10000,IF(AND(Q133=\"HỌC SINH GIỎI\",LEFT(P133,1)=\"8\"),Table1[[#This Row],[Column1]]+(ROUND(M133,3))+250+ROW()/10000,IF(AND(Q133=\"HỌC SINH GIỎI\",LEFT(P133,1)=\"7\"),Table1[[#This Row],[Column1]]+(ROUND(M133,3))+300+ROW()/10000,IF(AND(Q133=\"HỌC SINH GIỎI\",LEFT(P133,1)=\"6\"),Table1[[#This Row],[Column1]]+(ROUND(M133,3))+350+ROW()/10000,\"\"))))","v":483.26330000000002},"Bùi Thanh","Vân","HỌC SINH GIỎI","6C"]
["133","Tống Nguyễn Thanh","Huyền","27/11/2011","Tống Văn Hữu","Xóm 3","T","T",8,7.75,5.9,null,21.65,null,"x","9B","HỌC SINH GIỎI",{"$f":"IF(Table1[[#This Row],[STT]]=\"\",\"\",ROW()-1)","v":133},{"$f":"IF(Table1[[#This Row],[Lơp]]=\"\",\"\",VLOOKUP(Table1[[#This Row],[Lơp]],$AC$3:$AD$14,2,0))","v":20},{"$f":"IF(AND(Q134=\"HỌC SINH XUẤT SẮC\",LEFT(P134,1)=\"9\"),Table1[[#This Row],[Column1]]+(ROUND(M134,3))+400+ROW()/10000,IF(AND(Q134=\"HỌC SINH XUẤT SẮC\",LEFT(P134,1)=\"8\"),Table1[[#This Row],[Column1]]+(ROUND(M134,3))+450+ROW()/10000,IF(AND(Q134=\"HỌC SINH XUẤT SẮC\",LEFT(P134,1)=\"7\"),Table1[[#This Row],[Column1]]+(ROUND(M134,3))+500+ROW()/10000,IF(AND(Q134=\"HỌC SINH XUẤT SẮC\",LEFT(P134,1)=\"6\"),Table1[[#This Row],[Column1]]+(ROUND(M134,3))+550+ROW()/10000,IF(AND(Q134=\"HỌC SINH GIỎI\",LEFT(P134,1)=\"9\"),Table1[[#This Row],[Column1]]+(ROUND(M134,3))+10+ROW()/10000,IF(AND(Q134=\"HỌC SINH GIỎI\",LEFT(P134,1)=\"8\"),Table1[[#This Row],[Column1]]+(ROUND(M134,3))+ 50+ROW()/10000,IF(AND(Q134=\"HỌC SINH GIỎI\",LEFT(P134,1)=\"7\"),Table1[[#This Row],[Column1]]+(ROUND(M134,3))+100+ROW()/10000,IF(AND(Q134=\"HỌC SINH GIỎI\",LEFT(P134,1)=\"6\"),Table1[[#This Row],[Column1]]+(ROUND(M134,3))+150+ROW()/10000,\"\"))))))))","v":51.663399999999996},{"$f":"IF(AND(Q134=\"HỌC SINH XUẤT SẮC\",LEFT(P134,1)=\"9\"),(ROUND(M134,3))+Table1[[#This Row],[Column1]]+10+ROW()/10000,IF(AND(Q134=\"HỌC SINH XUẤT SẮC\",LEFT(P134,1)=\"8\"),Table1[[#This Row],[Column1]]+(ROUND(M134,3))+50+ROW()/10000,IF(AND(Q134=\"HỌC SINH XUẤT SẮC\",LEFT(P134,1)=\"7\"),Table1[[#This Row],[Column1]]+(ROUND(M134,3))+100+ROW()/10000,IF(AND(Q134=\"HỌC SINH XUẤT SẮC\",LEFT(P134,1)=\"6\"),Table1[[#This Row],[Column1]]+(ROUND(M134,3))+150+ROW()/10000,\"\"))))","v":""},{"$f":"IF(AND(Q134=\"HỌC SINH GIỎI\",LEFT(P134,1)=\"9\"),Table1[[#This Row],[Column1]]+(ROUND(M134,3))+200+ROW()/10000,IF(AND(Q134=\"HỌC SINH GIỎI\",LEFT(P134,1)=\"8\"),Table1[[#This Row],[Column1]]+(ROUND(M134,3))+250+ROW()/10000,IF(AND(Q134=\"HỌC SINH GIỎI\",LEFT(P134,1)=\"7\"),Table1[[#This Row],[Column1]]+(ROUND(M134,3))+300+ROW()/10000,IF(AND(Q134=\"HỌC SINH GIỎI\",LEFT(P134,1)=\"6\"),Table1[[#This Row],[Column1]]+(ROUND(M134,3))+350+ROW()/10000,\"\"))))","v":241.6634},"Tống Nguyễn Thanh","Huyền","HỌC SINH GIỎI","9B"]
["134","Lê Phương ","Nga","06/07/2011","Trần Thị Phượng","Xóm 6","T","T",6.5,7,6.5,null,20,null,"x","9B","HỌC SINH GIỎI",{"$f":"IF(Table1[[#This Row],[STT]]=\"\",\"\",ROW()-1)","v":134},{"$f":"IF(Table1[[#This Row],[Lơp]]=\"\",\"\",VLOOKUP(Table1[[#This Row],[Lơp]],$AC$3:$AD$14,2,0))","v":20},{"$f":"IF(AND(Q135=\"HỌC SINH XUẤT SẮC\",LEFT(P135,1)=\"9\"),Table1[[#This Row],[Column1]]+(ROUND(M135,3))+400+ROW()/10000,IF(AND(Q135=\"HỌC SINH XUẤT SẮC\",LEFT(P135,1)=\"8\"),Table1[[#This Row],[Column1]]+(ROUND(M135,3))+450+ROW()/10000,IF(AND(Q135=\"HỌC SINH XUẤT SẮC\",LEFT(P135,1)=\"7\"),Table1[[#This Row],[Column1]]+(ROUND(M135,3))+500+ROW()/10000,IF(AND(Q135=\"HỌC SINH XUẤT SẮC\",LEFT(P135,1)=\"6\"),Table1[[#This Row],[Column1]]+(ROUND(M135,3))+550+ROW()/10000,IF(AND(Q135=\"HỌC SINH GIỎI\",LEFT(P135,1)=\"9\"),Table1[[#This Row],[Column1]]+(ROUND(M135,3))+10+ROW()/10000,IF(AND(Q135=\"HỌC SINH GIỎI\",LEFT(P135,1)=\"8\"),Table1[[#This Row],[Column1]]+(ROUND(M135,3))+ 50+ROW()/10000,IF(AND(Q135=\"HỌC SINH GIỎI\",LEFT(P135,1)=\"7\"),Table1[[#This Row],[Column1]]+(ROUND(M135,3))+100+ROW()/10000,IF(AND(Q135=\"HỌC SINH GIỎI\",LEFT(P135,1)=\"6\"),Table1[[#This Row],[Column1]]+(ROUND(M135,3))+150+ROW()/10000,\"\"))))))))","v":50.013500000000001},{"$f":"IF(AND(Q135=\"HỌC SINH XUẤT SẮC\",LEFT(P135,1)=\"9\"),(ROUND(M135,3))+Table1[[#This Row],[Column1]]+10+ROW()/10000,IF(AND(Q135=\"HỌC SINH XUẤT SẮC\",LEFT(P135,1)=\"8\"),Table1[[#This Row],[Column1]]+(ROUND(M135,3))+50+ROW()/10000,IF(AND(Q135=\"HỌC SINH XUẤT SẮC\",LEFT(P135,1)=\"7\"),Table1[[#This Row],[Column1]]+(ROUND(M135,3))+100+ROW()/10000,IF(AND(Q135=\"HỌC SINH XUẤT SẮC\",LEFT(P135,1)=\"6\"),Table1[[#This Row],[Column1]]+(ROUND(M135,3))+150+ROW()/10000,\"\"))))","v":""},{"$f":"IF(AND(Q135=\"HỌC SINH GIỎI\",LEFT(P135,1)=\"9\"),Table1[[#This Row],[Column1]]+(ROUND(M135,3))+200+ROW()/10000,IF(AND(Q135=\"HỌC SINH GIỎI\",LEFT(P135,1)=\"8\"),Table1[[#This Row],[Column1]]+(ROUND(M135,3))+250+ROW()/10000,IF(AND(Q135=\"HỌC SINH GIỎI\",LEFT(P135,1)=\"7\"),Table1[[#This Row],[Column1]]+(ROUND(M135,3))+300+ROW()/10000,IF(AND(Q135=\"HỌC SINH GIỎI\",LEFT(P135,1)=\"6\"),Table1[[#This Row],[Column1]]+(ROUND(M135,3))+350+ROW()/10000,\"\"))))","v":240.01349999999999},"Lê Phương ","Nga","HỌC SINH GIỎI","9B"]
["135","Nguyễn Mai Minh","Ngọc","22/09/2011","Nguyễn Văn Linh","Xóm 3","T","T",8,7,5.65,null,20.65,null,"x","9B","HỌC SINH GIỎI",{"$f":"IF(Table1[[#This Row],[STT]]=\"\",\"\",ROW()-1)","v":135},{"$f":"IF(Table1[[#This Row],[Lơp]]=\"\",\"\",VLOOKUP(Table1[[#This Row],[Lơp]],$AC$3:$AD$14,2,0))","v":20},{"$f":"IF(AND(Q136=\"HỌC SINH XUẤT SẮC\",LEFT(P136,1)=\"9\"),Table1[[#This Row],[Column1]]+(ROUND(M136,3))+400+ROW()/10000,IF(AND(Q136=\"HỌC SINH XUẤT SẮC\",LEFT(P136,1)=\"8\"),Table1[[#This Row],[Column1]]+(ROUND(M136,3))+450+ROW()/10000,IF(AND(Q136=\"HỌC SINH XUẤT SẮC\",LEFT(P136,1)=\"7\"),Table1[[#This Row],[Column1]]+(ROUND(M136,3))+500+ROW()/10000,IF(AND(Q136=\"HỌC SINH XUẤT SẮC\",LEFT(P136,1)=\"6\"),Table1[[#This Row],[Column1]]+(ROUND(M136,3))+550+ROW()/10000,IF(AND(Q136=\"HỌC SINH GIỎI\",LEFT(P136,1)=\"9\"),Table1[[#This Row],[Column1]]+(ROUND(M136,3))+10+ROW()/10000,IF(AND(Q136=\"HỌC SINH GIỎI\",LEFT(P136,1)=\"8\"),Table1[[#This Row],[Column1]]+(ROUND(M136,3))+ 50+ROW()/10000,IF(AND(Q136=\"HỌC SINH GIỎI\",LEFT(P136,1)=\"7\"),Table1[[#This Row],[Column1]]+(ROUND(M136,3))+100+ROW()/10000,IF(AND(Q136=\"HỌC SINH GIỎI\",LEFT(P136,1)=\"6\"),Table1[[#This Row],[Column1]]+(ROUND(M136,3))+150+ROW()/10000,\"\"))))))))","v":50.663599999999995},{"$f":"IF(AND(Q136=\"HỌC SINH XUẤT SẮC\",LEFT(P136,1)=\"9\"),(ROUND(M136,3))+Table1[[#This Row],[Column1]]+10+ROW()/10000,IF(AND(Q136=\"HỌC SINH XUẤT SẮC\",LEFT(P136,1)=\"8\"),Table1[[#This Row],[Column1]]+(ROUND(M136,3))+50+ROW()/10000,IF(AND(Q136=\"HỌC SINH XUẤT SẮC\",LEFT(P136,1)=\"7\"),Table1[[#This Row],[Column1]]+(ROUND(M136,3))+100+ROW()/10000,IF(AND(Q136=\"HỌC SINH XUẤT SẮC\",LEFT(P136,1)=\"6\"),Table1[[#This Row],[Column1]]+(ROUND(M136,3))+150+ROW()/10000,\"\"))))","v":""},{"$f":"IF(AND(Q136=\"HỌC SINH GIỎI\",LEFT(P136,1)=\"9\"),Table1[[#This Row],[Column1]]+(ROUND(M136,3))+200+ROW()/10000,IF(AND(Q136=\"HỌC SINH GIỎI\",LEFT(P136,1)=\"8\"),Table1[[#This Row],[Column1]]+(ROUND(M136,3))+250+ROW()/10000,IF(AND(Q136=\"HỌC SINH GIỎI\",LEFT(P136,1)=\"7\"),Table1[[#This Row],[Column1]]+(ROUND(M136,3))+300+ROW()/10000,IF(AND(Q136=\"HỌC SINH GIỎI\",LEFT(P136,1)=\"6\"),Table1[[#This Row],[Column1]]+(ROUND(M136,3))+350+ROW()/10000,\"\"))))","v":240.6636},"Nguyễn Mai Minh","Ngọc","HỌC SINH GIỎI","9B"]
["136","Bùi Tấn","Phát","01/09/2011","Bùi Văn Chuẩn","Xóm 7","T","T",8,6.5,8,null,{"$f":"IF(AND(I137=\"\",J137=\"\",K137=\"\",L137=\"\"),\"\",SUM(I137:L137))","v":22.5},null,"x","9B","HỌC SINH GIỎI",{"$f":"IF(Table1[[#This Row],[STT]]=\"\",\"\",ROW()-1)","v":136},{"$f":"IF(Table1[[#This Row],[Lơp]]=\"\",\"\",VLOOKUP(Table1[[#This Row],[Lơp]],$AC$3:$AD$14,2,0))","v":20},{"$f":"IF(AND(Q137=\"HỌC SINH XUẤT SẮC\",LEFT(P137,1)=\"9\"),Table1[[#This Row],[Column1]]+(ROUND(M137,3))+400+ROW()/10000,IF(AND(Q137=\"HỌC SINH XUẤT SẮC\",LEFT(P137,1)=\"8\"),Table1[[#This Row],[Column1]]+(ROUND(M137,3))+450+ROW()/10000,IF(AND(Q137=\"HỌC SINH XUẤT SẮC\",LEFT(P137,1)=\"7\"),Table1[[#This Row],[Column1]]+(ROUND(M137,3))+500+ROW()/10000,IF(AND(Q137=\"HỌC SINH XUẤT SẮC\",LEFT(P137,1)=\"6\"),Table1[[#This Row],[Column1]]+(ROUND(M137,3))+550+ROW()/10000,IF(AND(Q137=\"HỌC SINH GIỎI\",LEFT(P137,1)=\"9\"),Table1[[#This Row],[Column1]]+(ROUND(M137,3))+10+ROW()/10000,IF(AND(Q137=\"HỌC SINH GIỎI\",LEFT(P137,1)=\"8\"),Table1[[#This Row],[Column1]]+(ROUND(M137,3))+ 50+ROW()/10000,IF(AND(Q137=\"HỌC SINH GIỎI\",LEFT(P137,1)=\"7\"),Table1[[#This Row],[Column1]]+(ROUND(M137,3))+100+ROW()/10000,IF(AND(Q137=\"HỌC SINH GIỎI\",LEFT(P137,1)=\"6\"),Table1[[#This Row],[Column1]]+(ROUND(M137,3))+150+ROW()/10000,\"\"))))))))","v":52.5137},{"$f":"IF(AND(Q137=\"HỌC SINH XUẤT SẮC\",LEFT(P137,1)=\"9\"),(ROUND(M137,3))+Table1[[#This Row],[Column1]]+10+ROW()/10000,IF(AND(Q137=\"HỌC SINH XUẤT SẮC\",LEFT(P137,1)=\"8\"),Table1[[#This Row],[Column1]]+(ROUND(M137,3))+50+ROW()/10000,IF(AND(Q137=\"HỌC SINH XUẤT SẮC\",LEFT(P137,1)=\"7\"),Table1[[#This Row],[Column1]]+(ROUND(M137,3))+100+ROW()/10000,IF(AND(Q137=\"HỌC SINH XUẤT SẮC\",LEFT(P137,1)=\"6\"),Table1[[#This Row],[Column1]]+(ROUND(M137,3))+150+ROW()/10000,\"\"))))","v":""},{"$f":"IF(AND(Q137=\"HỌC SINH GIỎI\",LEFT(P137,1)=\"9\"),Table1[[#This Row],[Column1]]+(ROUND(M137,3))+200+ROW()/10000,IF(AND(Q137=\"HỌC SINH GIỎI\",LEFT(P137,1)=\"8\"),Table1[[#This Row],[Column1]]+(ROUND(M137,3))+250+ROW()/10000,IF(AND(Q137=\"HỌC SINH GIỎI\",LEFT(P137,1)=\"7\"),Table1[[#This Row],[Column1]]+(ROUND(M137,3))+300+ROW()/10000,IF(AND(Q137=\"HỌC SINH GIỎI\",LEFT(P137,1)=\"6\"),Table1[[#This Row],[Column1]]+(ROUND(M137,3))+350+ROW()/10000,\"\"))))","v":242.5137},"Bùi Tấn","Phát","HỌC SINH GIỎI","9B"]
["137","Lê Minh","Thư","05/12/2011","Lê Tiến Tạo","Xóm 6","T","T",7,8.25,5.75,null,{"$f":"IF(AND(I138=\"\",J138=\"\",K138=\"\",L138=\"\"),\"\",SUM(I138:L138))","v":21},null,"x","9B","HỌC SINH GIỎI",{"$f":"IF(Table1[[#This Row],[STT]]=\"\",\"\",ROW()-1)","v":137},{"$f":"IF(Table1[[#This Row],[Lơp]]=\"\",\"\",VLOOKUP(Table1[[#This Row],[Lơp]],$AC$3:$AD$14,2,0))","v":20},{"$f":"IF(AND(Q138=\"HỌC SINH XUẤT SẮC\",LEFT(P138,1)=\"9\"),Table1[[#This Row],[Column1]]+(ROUND(M138,3))+400+ROW()/10000,IF(AND(Q138=\"HỌC SINH XUẤT SẮC\",LEFT(P138,1)=\"8\"),Table1[[#This Row],[Column1]]+(ROUND(M138,3))+450+ROW()/10000,IF(AND(Q138=\"HỌC SINH XUẤT SẮC\",LEFT(P138,1)=\"7\"),Table1[[#This Row],[Column1]]+(ROUND(M138,3))+500+ROW()/10000,IF(AND(Q138=\"HỌC SINH XUẤT SẮC\",LEFT(P138,1)=\"6\"),Table1[[#This Row],[Column1]]+(ROUND(M138,3))+550+ROW()/10000,IF(AND(Q138=\"HỌC SINH GIỎI\",LEFT(P138,1)=\"9\"),Table1[[#This Row],[Column1]]+(ROUND(M138,3))+10+ROW()/10000,IF(AND(Q138=\"HỌC SINH GIỎI\",LEFT(P138,1)=\"8\"),Table1[[#This Row],[Column1]]+(ROUND(M138,3))+ 50+ROW()/10000,IF(AND(Q138=\"HỌC SINH GIỎI\",LEFT(P138,1)=\"7\"),Table1[[#This Row],[Column1]]+(ROUND(M138,3))+100+ROW()/10000,IF(AND(Q138=\"HỌC SINH GIỎI\",LEFT(P138,1)=\"6\"),Table1[[#This Row],[Column1]]+(ROUND(M138,3))+150+ROW()/10000,\"\"))))))))","v":51.013800000000003},{"$f":"IF(AND(Q138=\"HỌC SINH XUẤT SẮC\",LEFT(P138,1)=\"9\"),(ROUND(M138,3))+Table1[[#This Row],[Column1]]+10+ROW()/10000,IF(AND(Q138=\"HỌC SINH XUẤT SẮC\",LEFT(P138,1)=\"8\"),Table1[[#This Row],[Column1]]+(ROUND(M138,3))+50+ROW()/10000,IF(AND(Q138=\"HỌC SINH XUẤT SẮC\",LEFT(P138,1)=\"7\"),Table1[[#This Row],[Column1]]+(ROUND(M138,3))+100+ROW()/10000,IF(AND(Q138=\"HỌC SINH XUẤT SẮC\",LEFT(P138,1)=\"6\"),Table1[[#This Row],[Column1]]+(ROUND(M138,3))+150+ROW()/10000,\"\"))))","v":""},{"$f":"IF(AND(Q138=\"HỌC SINH GIỎI\",LEFT(P138,1)=\"9\"),Table1[[#This Row],[Column1]]+(ROUND(M138,3))+200+ROW()/10000,IF(AND(Q138=\"HỌC SINH GIỎI\",LEFT(P138,1)=\"8\"),Table1[[#This Row],[Column1]]+(ROUND(M138,3))+250+ROW()/10000,IF(AND(Q138=\"HỌC SINH GIỎI\",LEFT(P138,1)=\"7\"),Table1[[#This Row],[Column1]]+(ROUND(M138,3))+300+ROW()/10000,IF(AND(Q138=\"HỌC SINH GIỎI\",LEFT(P138,1)=\"6\"),Table1[[#This Row],[Column1]]+(ROUND(M138,3))+350+ROW()/10000,\"\"))))","v":241.0138},"Lê Minh","Thư","HỌC SINH GIỎI","9B"]
["138","Hoàng Thiên  ","Bảo","2012-10-13","Hoàng Văn Phú","Xóm 3","T","T",8.25,9.5,9.75,9,{"$f":"IF(AND(I139=\"\",J139=\"\",K139=\"\",L139=\"\"),\"\",SUM(I139:L139))","v":36.5},"x",null,"8C","HỌC SINH XUẤT SẮC",{"$f":"IF(Table1[[#This Row],[STT]]=\"\",\"\",ROW()-1)","v":138},{"$f":"IF(Table1[[#This Row],[Lơp]]=\"\",\"\",VLOOKUP(Table1[[#This Row],[Lơp]],$AC$3:$AD$14,2,0))","v":40},{"$f":"IF(AND(Q139=\"HỌC SINH XUẤT SẮC\",LEFT(P139,1)=\"9\"),Table1[[#This Row],[Column1]]+(ROUND(M139,3))+400+ROW()/10000,IF(AND(Q139=\"HỌC SINH XUẤT SẮC\",LEFT(P139,1)=\"8\"),Table1[[#This Row],[Column1]]+(ROUND(M139,3))+450+ROW()/10000,IF(AND(Q139=\"HỌC SINH XUẤT SẮC\",LEFT(P139,1)=\"7\"),Table1[[#This Row],[Column1]]+(ROUND(M139,3))+500+ROW()/10000,IF(AND(Q139=\"HỌC SINH XUẤT SẮC\",LEFT(P139,1)=\"6\"),Table1[[#This Row],[Column1]]+(ROUND(M139,3))+550+ROW()/10000,IF(AND(Q139=\"HỌC SINH GIỎI\",LEFT(P139,1)=\"9\"),Table1[[#This Row],[Column1]]+(ROUND(M139,3))+10+ROW()/10000,IF(AND(Q139=\"HỌC SINH GIỎI\",LEFT(P139,1)=\"8\"),Table1[[#This Row],[Column1]]+(ROUND(M139,3))+ 50+ROW()/10000,IF(AND(Q139=\"HỌC SINH GIỎI\",LEFT(P139,1)=\"7\"),Table1[[#This Row],[Column1]]+(ROUND(M139,3))+100+ROW()/10000,IF(AND(Q139=\"HỌC SINH GIỎI\",LEFT(P139,1)=\"6\"),Table1[[#This Row],[Column1]]+(ROUND(M139,3))+150+ROW()/10000,\"\"))))))))","v":526.51390000000004},{"$f":"IF(AND(Q139=\"HỌC SINH XUẤT SẮC\",LEFT(P139,1)=\"9\"),(ROUND(M139,3))+Table1[[#This Row],[Column1]]+10+ROW()/10000,IF(AND(Q139=\"HỌC SINH XUẤT SẮC\",LEFT(P139,1)=\"8\"),Table1[[#This Row],[Column1]]+(ROUND(M139,3))+50+ROW()/10000,IF(AND(Q139=\"HỌC SINH XUẤT SẮC\",LEFT(P139,1)=\"7\"),Table1[[#This Row],[Column1]]+(ROUND(M139,3))+100+ROW()/10000,IF(AND(Q139=\"HỌC SINH XUẤT SẮC\",LEFT(P139,1)=\"6\"),Table1[[#This Row],[Column1]]+(ROUND(M139,3))+150+ROW()/10000,\"\"))))","v":126.51390000000001},{"$f":"IF(AND(Q139=\"HỌC SINH GIỎI\",LEFT(P139,1)=\"9\"),Table1[[#This Row],[Column1]]+(ROUND(M139,3))+200+ROW()/10000,IF(AND(Q139=\"HỌC SINH GIỎI\",LEFT(P139,1)=\"8\"),Table1[[#This Row],[Column1]]+(ROUND(M139,3))+250+ROW()/10000,IF(AND(Q139=\"HỌC SINH GIỎI\",LEFT(P139,1)=\"7\"),Table1[[#This Row],[Column1]]+(ROUND(M139,3))+300+ROW()/10000,IF(AND(Q139=\"HỌC SINH GIỎI\",LEFT(P139,1)=\"6\"),Table1[[#This Row],[Column1]]+(ROUND(M139,3))+350+ROW()/10000,\"\"))))","v":""},"Hoàng Thiên  ","Bảo","HỌC SINH XUẤT SẮC","8C"]
["139","Phạm Gia  ","Bảo","2012-12-14","Phạm Văn Học","Xóm 3","T","T",8,9.5,9.25,8.25,{"$f":"IF(AND(I140=\"\",J140=\"\",K140=\"\",L140=\"\"),\"\",SUM(I140:L140))","v":35},"x",null,"8C","HỌC SINH XUẤT SẮC",{"$f":"IF(Table1[[#This Row],[STT]]=\"\",\"\",ROW()-1)","v":139},{"$f":"IF(Table1[[#This Row],[Lơp]]=\"\",\"\",VLOOKUP(Table1[[#This Row],[Lơp]],$AC$3:$AD$14,2,0))","v":40},{"$f":"IF(AND(Q140=\"HỌC SINH XUẤT SẮC\",LEFT(P140,1)=\"9\"),Table1[[#This Row],[Column1]]+(ROUND(M140,3))+400+ROW()/10000,IF(AND(Q140=\"HỌC SINH XUẤT SẮC\",LEFT(P140,1)=\"8\"),Table1[[#This Row],[Column1]]+(ROUND(M140,3))+450+ROW()/10000,IF(AND(Q140=\"HỌC SINH XUẤT SẮC\",LEFT(P140,1)=\"7\"),Table1[[#This Row],[Column1]]+(ROUND(M140,3))+500+ROW()/10000,IF(AND(Q140=\"HỌC SINH XUẤT SẮC\",LEFT(P140,1)=\"6\"),Table1[[#This Row],[Column1]]+(ROUND(M140,3))+550+ROW()/10000,IF(AND(Q140=\"HỌC SINH GIỎI\",LEFT(P140,1)=\"9\"),Table1[[#This Row],[Column1]]+(ROUND(M140,3))+10+ROW()/10000,IF(AND(Q140=\"HỌC SINH GIỎI\",LEFT(P140,1)=\"8\"),Table1[[#This Row],[Column1]]+(ROUND(M140,3))+ 50+ROW()/10000,IF(AND(Q140=\"HỌC SINH GIỎI\",LEFT(P140,1)=\"7\"),Table1[[#This Row],[Column1]]+(ROUND(M140,3))+100+ROW()/10000,IF(AND(Q140=\"HỌC SINH GIỎI\",LEFT(P140,1)=\"6\"),Table1[[#This Row],[Column1]]+(ROUND(M140,3))+150+ROW()/10000,\"\"))))))))","v":525.01400000000001},{"$f":"IF(AND(Q140=\"HỌC SINH XUẤT SẮC\",LEFT(P140,1)=\"9\"),(ROUND(M140,3))+Table1[[#This Row],[Column1]]+10+ROW()/10000,IF(AND(Q140=\"HỌC SINH XUẤT SẮC\",LEFT(P140,1)=\"8\"),Table1[[#This Row],[Column1]]+(ROUND(M140,3))+50+ROW()/10000,IF(AND(Q140=\"HỌC SINH XUẤT SẮC\",LEFT(P140,1)=\"7\"),Table1[[#This Row],[Column1]]+(ROUND(M140,3))+100+ROW()/10000,IF(AND(Q140=\"HỌC SINH XUẤT SẮC\",LEFT(P140,1)=\"6\"),Table1[[#This Row],[Column1]]+(ROUND(M140,3))+150+ROW()/10000,\"\"))))","v":125.014},{"$f":"IF(AND(Q140=\"HỌC SINH GIỎI\",LEFT(P140,1)=\"9\"),Table1[[#This Row],[Column1]]+(ROUND(M140,3))+200+ROW()/10000,IF(AND(Q140=\"HỌC SINH GIỎI\",LEFT(P140,1)=\"8\"),Table1[[#This Row],[Column1]]+(ROUND(M140,3))+250+ROW()/10000,IF(AND(Q140=\"HỌC SINH GIỎI\",LEFT(P140,1)=\"7\"),Table1[[#This Row],[Column1]]+(ROUND(M140,3))+300+ROW()/10000,IF(AND(Q140=\"HỌC SINH GIỎI\",LEFT(P140,1)=\"6\"),Table1[[#This Row],[Column1]]+(ROUND(M140,3))+350+ROW()/10000,\"\"))))","v":""},"Phạm Gia  ","Bảo","HỌC SINH XUẤT SẮC","8C"]
["140","Trần Thanh","Bình","2012-01-30","Trần Thanh Danh","Xóm 7","T","T",8.75,9.5,9.25,8.75,36.25,"x",null,"8C","HỌC SINH XUẤT SẮC",{"$f":"IF(Table1[[#This Row],[STT]]=\"\",\"\",ROW()-1)","v":140},{"$f":"IF(Table1[[#This Row],[Lơp]]=\"\",\"\",VLOOKUP(Table1[[#This Row],[Lơp]],$AC$3:$AD$14,2,0))","v":40},{"$f":"IF(AND(Q141=\"HỌC SINH XUẤT SẮC\",LEFT(P141,1)=\"9\"),Table1[[#This Row],[Column1]]+(ROUND(M141,3))+400+ROW()/10000,IF(AND(Q141=\"HỌC SINH XUẤT SẮC\",LEFT(P141,1)=\"8\"),Table1[[#This Row],[Column1]]+(ROUND(M141,3))+450+ROW()/10000,IF(AND(Q141=\"HỌC SINH XUẤT SẮC\",LEFT(P141,1)=\"7\"),Table1[[#This Row],[Column1]]+(ROUND(M141,3))+500+ROW()/10000,IF(AND(Q141=\"HỌC SINH XUẤT SẮC\",LEFT(P141,1)=\"6\"),Table1[[#This Row],[Column1]]+(ROUND(M141,3))+550+ROW()/10000,IF(AND(Q141=\"HỌC SINH GIỎI\",LEFT(P141,1)=\"9\"),Table1[[#This Row],[Column1]]+(ROUND(M141,3))+10+ROW()/10000,IF(AND(Q141=\"HỌC SINH GIỎI\",LEFT(P141,1)=\"8\"),Table1[[#This Row],[Column1]]+(ROUND(M141,3))+ 50+ROW()/10000,IF(AND(Q141=\"HỌC SINH GIỎI\",LEFT(P141,1)=\"7\"),Table1[[#This Row],[Column1]]+(ROUND(M141,3))+100+ROW()/10000,IF(AND(Q141=\"HỌC SINH GIỎI\",LEFT(P141,1)=\"6\"),Table1[[#This Row],[Column1]]+(ROUND(M141,3))+150+ROW()/10000,\"\"))))))))","v":526.26409999999998},{"$f":"IF(AND(Q141=\"HỌC SINH XUẤT SẮC\",LEFT(P141,1)=\"9\"),(ROUND(M141,3))+Table1[[#This Row],[Column1]]+10+ROW()/10000,IF(AND(Q141=\"HỌC SINH XUẤT SẮC\",LEFT(P141,1)=\"8\"),Table1[[#This Row],[Column1]]+(ROUND(M141,3))+50+ROW()/10000,IF(AND(Q141=\"HỌC SINH XUẤT SẮC\",LEFT(P141,1)=\"7\"),Table1[[#This Row],[Column1]]+(ROUND(M141,3))+100+ROW()/10000,IF(AND(Q141=\"HỌC SINH XUẤT SẮC\",LEFT(P141,1)=\"6\"),Table1[[#This Row],[Column1]]+(ROUND(M141,3))+150+ROW()/10000,\"\"))))","v":126.2641},{"$f":"IF(AND(Q141=\"HỌC SINH GIỎI\",LEFT(P141,1)=\"9\"),Table1[[#This Row],[Column1]]+(ROUND(M141,3))+200+ROW()/10000,IF(AND(Q141=\"HỌC SINH GIỎI\",LEFT(P141,1)=\"8\"),Table1[[#This Row],[Column1]]+(ROUND(M141,3))+250+ROW()/10000,IF(AND(Q141=\"HỌC SINH GIỎI\",LEFT(P141,1)=\"7\"),Table1[[#This Row],[Column1]]+(ROUND(M141,3))+300+ROW()/10000,IF(AND(Q141=\"HỌC SINH GIỎI\",LEFT(P141,1)=\"6\"),Table1[[#This Row],[Column1]]+(ROUND(M141,3))+350+ROW()/10000,\"\"))))","v":""},"Trần Thanh","Bình","HỌC SINH XUẤT SẮC","8C"]
["141","Vũ Thị Thanh","Bình","2012-07-13","Vũ Văn Khuông","Xóm 4","T","T",9,9.5,9.75,9.25,37.5,"x",null,"8C","HỌC SINH XUẤT SẮC",{"$f":"IF(Table1[[#This Row],[STT]]=\"\",\"\",ROW()-1)","v":141},{"$f":"IF(Table1[[#This Row],[Lơp]]=\"\",\"\",VLOOKUP(Table1[[#This Row],[Lơp]],$AC$3:$AD$14,2,0))","v":40},{"$f":"IF(AND(Q142=\"HỌC SINH XUẤT SẮC\",LEFT(P142,1)=\"9\"),Table1[[#This Row],[Column1]]+(ROUND(M142,3))+400+ROW()/10000,IF(AND(Q142=\"HỌC SINH XUẤT SẮC\",LEFT(P142,1)=\"8\"),Table1[[#This Row],[Column1]]+(ROUND(M142,3))+450+ROW()/10000,IF(AND(Q142=\"HỌC SINH XUẤT SẮC\",LEFT(P142,1)=\"7\"),Table1[[#This Row],[Column1]]+(ROUND(M142,3))+500+ROW()/10000,IF(AND(Q142=\"HỌC SINH XUẤT SẮC\",LEFT(P142,1)=\"6\"),Table1[[#This Row],[Column1]]+(ROUND(M142,3))+550+ROW()/10000,IF(AND(Q142=\"HỌC SINH GIỎI\",LEFT(P142,1)=\"9\"),Table1[[#This Row],[Column1]]+(ROUND(M142,3))+10+ROW()/10000,IF(AND(Q142=\"HỌC SINH GIỎI\",LEFT(P142,1)=\"8\"),Table1[[#This Row],[Column1]]+(ROUND(M142,3))+ 50+ROW()/10000,IF(AND(Q142=\"HỌC SINH GIỎI\",LEFT(P142,1)=\"7\"),Table1[[#This Row],[Column1]]+(ROUND(M142,3))+100+ROW()/10000,IF(AND(Q142=\"HỌC SINH GIỎI\",LEFT(P142,1)=\"6\"),Table1[[#This Row],[Column1]]+(ROUND(M142,3))+150+ROW()/10000,\"\"))))))))","v":527.51419999999996},{"$f":"IF(AND(Q142=\"HỌC SINH XUẤT SẮC\",LEFT(P142,1)=\"9\"),(ROUND(M142,3))+Table1[[#This Row],[Column1]]+10+ROW()/10000,IF(AND(Q142=\"HỌC SINH XUẤT SẮC\",LEFT(P142,1)=\"8\"),Table1[[#This Row],[Column1]]+(ROUND(M142,3))+50+ROW()/10000,IF(AND(Q142=\"HỌC SINH XUẤT SẮC\",LEFT(P142,1)=\"7\"),Table1[[#This Row],[Column1]]+(ROUND(M142,3))+100+ROW()/10000,IF(AND(Q142=\"HỌC SINH XUẤT SẮC\",LEFT(P142,1)=\"6\"),Table1[[#This Row],[Column1]]+(ROUND(M142,3))+150+ROW()/10000,\"\"))))","v":127.5142},{"$f":"IF(AND(Q142=\"HỌC SINH GIỎI\",LEFT(P142,1)=\"9\"),Table1[[#This Row],[Column1]]+(ROUND(M142,3))+200+ROW()/10000,IF(AND(Q142=\"HỌC SINH GIỎI\",LEFT(P142,1)=\"8\"),Table1[[#This Row],[Column1]]+(ROUND(M142,3))+250+ROW()/10000,IF(AND(Q142=\"HỌC SINH GIỎI\",LEFT(P142,1)=\"7\"),Table1[[#This Row],[Column1]]+(ROUND(M142,3))+300+ROW()/10000,IF(AND(Q142=\"HỌC SINH GIỎI\",LEFT(P142,1)=\"6\"),Table1[[#This Row],[Column1]]+(ROUND(M142,3))+350+ROW()/10000,\"\"))))","v":""},"Vũ Thị Thanh","Bình","HỌC SINH XUẤT SẮC","8C"]
["142","Vũ Ánh Thùy ","Dương","2012-05-24","Vũ Thanh Ngọc","Xóm 4","T","T",9,9.25,8.25,7.25,33.75,"x",null,"8C","HỌC SINH XUẤT SẮC",{"$f":"IF(Table1[[#This Row],[STT]]=\"\",\"\",ROW()-1)","v":142},{"$f":"IF(Table1[[#This Row],[Lơp]]=\"\",\"\",VLOOKUP(Table1[[#This Row],[Lơp]],$AC$3:$AD$14,2,0))","v":40},{"$f":"IF(AND(Q143=\"HỌC SINH XUẤT SẮC\",LEFT(P143,1)=\"9\"),Table1[[#This Row],[Column1]]+(ROUND(M143,3))+400+ROW()/10000,IF(AND(Q143=\"HỌC SINH XUẤT SẮC\",LEFT(P143,1)=\"8\"),Table1[[#This Row],[Column1]]+(ROUND(M143,3))+450+ROW()/10000,IF(AND(Q143=\"HỌC SINH XUẤT SẮC\",LEFT(P143,1)=\"7\"),Table1[[#This Row],[Column1]]+(ROUND(M143,3))+500+ROW()/10000,IF(AND(Q143=\"HỌC SINH XUẤT SẮC\",LEFT(P143,1)=\"6\"),Table1[[#This Row],[Column1]]+(ROUND(M143,3))+550+ROW()/10000,IF(AND(Q143=\"HỌC SINH GIỎI\",LEFT(P143,1)=\"9\"),Table1[[#This Row],[Column1]]+(ROUND(M143,3))+10+ROW()/10000,IF(AND(Q143=\"HỌC SINH GIỎI\",LEFT(P143,1)=\"8\"),Table1[[#This Row],[Column1]]+(ROUND(M143,3))+ 50+ROW()/10000,IF(AND(Q143=\"HỌC SINH GIỎI\",LEFT(P143,1)=\"7\"),Table1[[#This Row],[Column1]]+(ROUND(M143,3))+100+ROW()/10000,IF(AND(Q143=\"HỌC SINH GIỎI\",LEFT(P143,1)=\"6\"),Table1[[#This Row],[Column1]]+(ROUND(M143,3))+150+ROW()/10000,\"\"))))))))","v":523.76430000000005},{"$f":"IF(AND(Q143=\"HỌC SINH XUẤT SẮC\",LEFT(P143,1)=\"9\"),(ROUND(M143,3))+Table1[[#This Row],[Column1]]+10+ROW()/10000,IF(AND(Q143=\"HỌC SINH XUẤT SẮC\",LEFT(P143,1)=\"8\"),Table1[[#This Row],[Column1]]+(ROUND(M143,3))+50+ROW()/10000,IF(AND(Q143=\"HỌC SINH XUẤT SẮC\",LEFT(P143,1)=\"7\"),Table1[[#This Row],[Column1]]+(ROUND(M143,3))+100+ROW()/10000,IF(AND(Q143=\"HỌC SINH XUẤT SẮC\",LEFT(P143,1)=\"6\"),Table1[[#This Row],[Column1]]+(ROUND(M143,3))+150+ROW()/10000,\"\"))))","v":123.76430000000001},{"$f":"IF(AND(Q143=\"HỌC SINH GIỎI\",LEFT(P143,1)=\"9\"),Table1[[#This Row],[Column1]]+(ROUND(M143,3))+200+ROW()/10000,IF(AND(Q143=\"HỌC SINH GIỎI\",LEFT(P143,1)=\"8\"),Table1[[#This Row],[Column1]]+(ROUND(M143,3))+250+ROW()/10000,IF(AND(Q143=\"HỌC SINH GIỎI\",LEFT(P143,1)=\"7\"),Table1[[#This Row],[Column1]]+(ROUND(M143,3))+300+ROW()/10000,IF(AND(Q143=\"HỌC SINH GIỎI\",LEFT(P143,1)=\"6\"),Table1[[#This Row],[Column1]]+(ROUND(M143,3))+350+ROW()/10000,\"\"))))","v":""},"Vũ Ánh Thùy ","Dương","HỌC SINH XUẤT SẮC","8C"]
["143","Lã Diệu","Linh","2012-10-29","Lã Đức Hải","Xóm 4","T","T",8.25,9,8.25,9,34.5,"x",null,"8C","HỌC SINH XUẤT SẮC",{"$f":"IF(Table1[[#This Row],[STT]]=\"\",\"\",ROW()-1)","v":143},{"$f":"IF(Table1[[#This Row],[Lơp]]=\"\",\"\",VLOOKUP(Table1[[#This Row],[Lơp]],$AC$3:$AD$14,2,0))","v":40},{"$f":"IF(AND(Q144=\"HỌC SINH XUẤT SẮC\",LEFT(P144,1)=\"9\"),Table1[[#This Row],[Column1]]+(ROUND(M144,3))+400+ROW()/10000,IF(AND(Q144=\"HỌC SINH XUẤT SẮC\",LEFT(P144,1)=\"8\"),Table1[[#This Row],[Column1]]+(ROUND(M144,3))+450+ROW()/10000,IF(AND(Q144=\"HỌC SINH XUẤT SẮC\",LEFT(P144,1)=\"7\"),Table1[[#This Row],[Column1]]+(ROUND(M144,3))+500+ROW()/10000,IF(AND(Q144=\"HỌC SINH XUẤT SẮC\",LEFT(P144,1)=\"6\"),Table1[[#This Row],[Column1]]+(ROUND(M144,3))+550+ROW()/10000,IF(AND(Q144=\"HỌC SINH GIỎI\",LEFT(P144,1)=\"9\"),Table1[[#This Row],[Column1]]+(ROUND(M144,3))+10+ROW()/10000,IF(AND(Q144=\"HỌC SINH GIỎI\",LEFT(P144,1)=\"8\"),Table1[[#This Row],[Column1]]+(ROUND(M144,3))+ 50+ROW()/10000,IF(AND(Q144=\"HỌC SINH GIỎI\",LEFT(P144,1)=\"7\"),Table1[[#This Row],[Column1]]+(ROUND(M144,3))+100+ROW()/10000,IF(AND(Q144=\"HỌC SINH GIỎI\",LEFT(P144,1)=\"6\"),Table1[[#This Row],[Column1]]+(ROUND(M144,3))+150+ROW()/10000,\"\"))))))))","v":524.51440000000002},{"$f":"IF(AND(Q144=\"HỌC SINH XUẤT SẮC\",LEFT(P144,1)=\"9\"),(ROUND(M144,3))+Table1[[#This Row],[Column1]]+10+ROW()/10000,IF(AND(Q144=\"HỌC SINH XUẤT SẮC\",LEFT(P144,1)=\"8\"),Table1[[#This Row],[Column1]]+(ROUND(M144,3))+50+ROW()/10000,IF(AND(Q144=\"HỌC SINH XUẤT SẮC\",LEFT(P144,1)=\"7\"),Table1[[#This Row],[Column1]]+(ROUND(M144,3))+100+ROW()/10000,IF(AND(Q144=\"HỌC SINH XUẤT SẮC\",LEFT(P144,1)=\"6\"),Table1[[#This Row],[Column1]]+(ROUND(M144,3))+150+ROW()/10000,\"\"))))","v":124.51439999999999},{"$f":"IF(AND(Q144=\"HỌC SINH GIỎI\",LEFT(P144,1)=\"9\"),Table1[[#This Row],[Column1]]+(ROUND(M144,3))+200+ROW()/10000,IF(AND(Q144=\"HỌC SINH GIỎI\",LEFT(P144,1)=\"8\"),Table1[[#This Row],[Column1]]+(ROUND(M144,3))+250+ROW()/10000,IF(AND(Q144=\"HỌC SINH GIỎI\",LEFT(P144,1)=\"7\"),Table1[[#This Row],[Column1]]+(ROUND(M144,3))+300+ROW()/10000,IF(AND(Q144=\"HỌC SINH GIỎI\",LEFT(P144,1)=\"6\"),Table1[[#This Row],[Column1]]+(ROUND(M144,3))+350+ROW()/10000,\"\"))))","v":""},"Lã Diệu","Linh","HỌC SINH XUẤT SẮC","8C"]
["144","Trần Tiến ","Đạt","2012-04-07","Trần Văn Tư","Xóm 9","T","T",8.25,9.5,7.5,9,34.25,"x",null,"8C","HỌC SINH XUẤT SẮC",{"$f":"IF(Table1[[#This Row],[STT]]=\"\",\"\",ROW()-1)","v":144},{"$f":"IF(Table1[[#This Row],[Lơp]]=\"\",\"\",VLOOKUP(Table1[[#This Row],[Lơp]],$AC$3:$AD$14,2,0))","v":40},{"$f":"IF(AND(Q145=\"HỌC SINH XUẤT SẮC\",LEFT(P145,1)=\"9\"),Table1[[#This Row],[Column1]]+(ROUND(M145,3))+400+ROW()/10000,IF(AND(Q145=\"HỌC SINH XUẤT SẮC\",LEFT(P145,1)=\"8\"),Table1[[#This Row],[Column1]]+(ROUND(M145,3))+450+ROW()/10000,IF(AND(Q145=\"HỌC SINH XUẤT SẮC\",LEFT(P145,1)=\"7\"),Table1[[#This Row],[Column1]]+(ROUND(M145,3))+500+ROW()/10000,IF(AND(Q145=\"HỌC SINH XUẤT SẮC\",LEFT(P145,1)=\"6\"),Table1[[#This Row],[Column1]]+(ROUND(M145,3))+550+ROW()/10000,IF(AND(Q145=\"HỌC SINH GIỎI\",LEFT(P145,1)=\"9\"),Table1[[#This Row],[Column1]]+(ROUND(M145,3))+10+ROW()/10000,IF(AND(Q145=\"HỌC SINH GIỎI\",LEFT(P145,1)=\"8\"),Table1[[#This Row],[Column1]]+(ROUND(M145,3))+ 50+ROW()/10000,IF(AND(Q145=\"HỌC SINH GIỎI\",LEFT(P145,1)=\"7\"),Table1[[#This Row],[Column1]]+(ROUND(M145,3))+100+ROW()/10000,IF(AND(Q145=\"HỌC SINH GIỎI\",LEFT(P145,1)=\"6\"),Table1[[#This Row],[Column1]]+(ROUND(M145,3))+150+ROW()/10000,\"\"))))))))","v":524.2645},{"$f":"IF(AND(Q145=\"HỌC SINH XUẤT SẮC\",LEFT(P145,1)=\"9\"),(ROUND(M145,3))+Table1[[#This Row],[Column1]]+10+ROW()/10000,IF(AND(Q145=\"HỌC SINH XUẤT SẮC\",LEFT(P145,1)=\"8\"),Table1[[#This Row],[Column1]]+(ROUND(M145,3))+50+ROW()/10000,IF(AND(Q145=\"HỌC SINH XUẤT SẮC\",LEFT(P145,1)=\"7\"),Table1[[#This Row],[Column1]]+(ROUND(M145,3))+100+ROW()/10000,IF(AND(Q145=\"HỌC SINH XUẤT SẮC\",LEFT(P145,1)=\"6\"),Table1[[#This Row],[Column1]]+(ROUND(M145,3))+150+ROW()/10000,\"\"))))","v":124.2645},{"$f":"IF(AND(Q145=\"HỌC SINH GIỎI\",LEFT(P145,1)=\"9\"),Table1[[#This Row],[Column1]]+(ROUND(M145,3))+200+ROW()/10000,IF(AND(Q145=\"HỌC SINH GIỎI\",LEFT(P145,1)=\"8\"),Table1[[#This Row],[Column1]]+(ROUND(M145,3))+250+ROW()/10000,IF(AND(Q145=\"HỌC SINH GIỎI\",LEFT(P145,1)=\"7\"),Table1[[#This Row],[Column1]]+(ROUND(M145,3))+300+ROW()/10000,IF(AND(Q145=\"HỌC SINH GIỎI\",LEFT(P145,1)=\"6\"),Table1[[#This Row],[Column1]]+(ROUND(M145,3))+350+ROW()/10000,\"\"))))","v":""},"Trần Tiến ","Đạt","HỌC SINH XUẤT SẮC","8C"]
["145","Lê Phương","Tuyến","2012-02-08","Lê Văn Bốn","Xóm 4","T","T",8.75,9,8.75,8,34.5,"x",null,"8C","HỌC SINH XUẤT SẮC",{"$f":"IF(Table1[[#This Row],[STT]]=\"\",\"\",ROW()-1)","v":145},{"$f":"IF(Table1[[#This Row],[Lơp]]=\"\",\"\",VLOOKUP(Table1[[#This Row],[Lơp]],$AC$3:$AD$14,2,0))","v":40},{"$f":"IF(AND(Q146=\"HỌC SINH XUẤT SẮC\",LEFT(P146,1)=\"9\"),Table1[[#This Row],[Column1]]+(ROUND(M146,3))+400+ROW()/10000,IF(AND(Q146=\"HỌC SINH XUẤT SẮC\",LEFT(P146,1)=\"8\"),Table1[[#This Row],[Column1]]+(ROUND(M146,3))+450+ROW()/10000,IF(AND(Q146=\"HỌC SINH XUẤT SẮC\",LEFT(P146,1)=\"7\"),Table1[[#This Row],[Column1]]+(ROUND(M146,3))+500+ROW()/10000,IF(AND(Q146=\"HỌC SINH XUẤT SẮC\",LEFT(P146,1)=\"6\"),Table1[[#This Row],[Column1]]+(ROUND(M146,3))+550+ROW()/10000,IF(AND(Q146=\"HỌC SINH GIỎI\",LEFT(P146,1)=\"9\"),Table1[[#This Row],[Column1]]+(ROUND(M146,3))+10+ROW()/10000,IF(AND(Q146=\"HỌC SINH GIỎI\",LEFT(P146,1)=\"8\"),Table1[[#This Row],[Column1]]+(ROUND(M146,3))+ 50+ROW()/10000,IF(AND(Q146=\"HỌC SINH GIỎI\",LEFT(P146,1)=\"7\"),Table1[[#This Row],[Column1]]+(ROUND(M146,3))+100+ROW()/10000,IF(AND(Q146=\"HỌC SINH GIỎI\",LEFT(P146,1)=\"6\"),Table1[[#This Row],[Column1]]+(ROUND(M146,3))+150+ROW()/10000,\"\"))))))))","v":524.51459999999997},{"$f":"IF(AND(Q146=\"HỌC SINH XUẤT SẮC\",LEFT(P146,1)=\"9\"),(ROUND(M146,3))+Table1[[#This Row],[Column1]]+10+ROW()/10000,IF(AND(Q146=\"HỌC SINH XUẤT SẮC\",LEFT(P146,1)=\"8\"),Table1[[#This Row],[Column1]]+(ROUND(M146,3))+50+ROW()/10000,IF(AND(Q146=\"HỌC SINH XUẤT SẮC\",LEFT(P146,1)=\"7\"),Table1[[#This Row],[Column1]]+(ROUND(M146,3))+100+ROW()/10000,IF(AND(Q146=\"HỌC SINH XUẤT SẮC\",LEFT(P146,1)=\"6\"),Table1[[#This Row],[Column1]]+(ROUND(M146,3))+150+ROW()/10000,\"\"))))","v":124.5146},{"$f":"IF(AND(Q146=\"HỌC SINH GIỎI\",LEFT(P146,1)=\"9\"),Table1[[#This Row],[Column1]]+(ROUND(M146,3))+200+ROW()/10000,IF(AND(Q146=\"HỌC SINH GIỎI\",LEFT(P146,1)=\"8\"),Table1[[#This Row],[Column1]]+(ROUND(M146,3))+250+ROW()/10000,IF(AND(Q146=\"HỌC SINH GIỎI\",LEFT(P146,1)=\"7\"),Table1[[#This Row],[Column1]]+(ROUND(M146,3))+300+ROW()/10000,IF(AND(Q146=\"HỌC SINH GIỎI\",LEFT(P146,1)=\"6\"),Table1[[#This Row],[Column1]]+(ROUND(M146,3))+350+ROW()/10000,\"\"))))","v":""},"Lê Phương","Tuyến","HỌC SINH XUẤT SẮC","8C"]
["146","Phạm Thị Lan ","Anh","2012-10-24","Phạm Văn Định","Xóm 2","T","T",8.25,9,7.75,8.5,33.5,null,"x","8C","HỌC SINH GIỎI",{"$f":"IF(Table1[[#This Row],[STT]]=\"\",\"\",ROW()-1)","v":146},{"$f":"IF(Table1[[#This Row],[Lơp]]=\"\",\"\",VLOOKUP(Table1[[#This Row],[Lơp]],$AC$3:$AD$14,2,0))","v":40},{"$f":"IF(AND(Q147=\"HỌC SINH XUẤT SẮC\",LEFT(P147,1)=\"9\"),Table1[[#This Row],[Column1]]+(ROUND(M147,3))+400+ROW()/10000,IF(AND(Q147=\"HỌC SINH XUẤT SẮC\",LEFT(P147,1)=\"8\"),Table1[[#This Row],[Column1]]+(ROUND(M147,3))+450+ROW()/10000,IF(AND(Q147=\"HỌC SINH XUẤT SẮC\",LEFT(P147,1)=\"7\"),Table1[[#This Row],[Column1]]+(ROUND(M147,3))+500+ROW()/10000,IF(AND(Q147=\"HỌC SINH XUẤT SẮC\",LEFT(P147,1)=\"6\"),Table1[[#This Row],[Column1]]+(ROUND(M147,3))+550+ROW()/10000,IF(AND(Q147=\"HỌC SINH GIỎI\",LEFT(P147,1)=\"9\"),Table1[[#This Row],[Column1]]+(ROUND(M147,3))+10+ROW()/10000,IF(AND(Q147=\"HỌC SINH GIỎI\",LEFT(P147,1)=\"8\"),Table1[[#This Row],[Column1]]+(ROUND(M147,3))+ 50+ROW()/10000,IF(AND(Q147=\"HỌC SINH GIỎI\",LEFT(P147,1)=\"7\"),Table1[[#This Row],[Column1]]+(ROUND(M147,3))+100+ROW()/10000,IF(AND(Q147=\"HỌC SINH GIỎI\",LEFT(P147,1)=\"6\"),Table1[[#This Row],[Column1]]+(ROUND(M147,3))+150+ROW()/10000,\"\"))))))))","v":123.5147},{"$f":"IF(AND(Q147=\"HỌC SINH XUẤT SẮC\",LEFT(P147,1)=\"9\"),(ROUND(M147,3))+Table1[[#This Row],[Column1]]+10+ROW()/10000,IF(AND(Q147=\"HỌC SINH XUẤT SẮC\",LEFT(P147,1)=\"8\"),Table1[[#This Row],[Column1]]+(ROUND(M147,3))+50+ROW()/10000,IF(AND(Q147=\"HỌC SINH XUẤT SẮC\",LEFT(P147,1)=\"7\"),Table1[[#This Row],[Column1]]+(ROUND(M147,3))+100+ROW()/10000,IF(AND(Q147=\"HỌC SINH XUẤT SẮC\",LEFT(P147,1)=\"6\"),Table1[[#This Row],[Column1]]+(ROUND(M147,3))+150+ROW()/10000,\"\"))))","v":""},{"$f":"IF(AND(Q147=\"HỌC SINH GIỎI\",LEFT(P147,1)=\"9\"),Table1[[#This Row],[Column1]]+(ROUND(M147,3))+200+ROW()/10000,IF(AND(Q147=\"HỌC SINH GIỎI\",LEFT(P147,1)=\"8\"),Table1[[#This Row],[Column1]]+(ROUND(M147,3))+250+ROW()/10000,IF(AND(Q147=\"HỌC SINH GIỎI\",LEFT(P147,1)=\"7\"),Table1[[#This Row],[Column1]]+(ROUND(M147,3))+300+ROW()/10000,IF(AND(Q147=\"HỌC SINH GIỎI\",LEFT(P147,1)=\"6\"),Table1[[#This Row],[Column1]]+(ROUND(M147,3))+350+ROW()/10000,\"\"))))","v":323.5147},"Phạm Thị Lan ","Anh","HỌC SINH GIỎI","8C"]
["147","Lê Kiều ","Anh","2012-07-20","Lê Văn Phương","Xóm 7","T","T",8,7,8,9.25,32.25,null,"x","8C","HỌC SINH GIỎI",{"$f":"IF(Table1[[#This Row],[STT]]=\"\",\"\",ROW()-1)","v":147},{"$f":"IF(Table1[[#This Row],[Lơp]]=\"\",\"\",VLOOKUP(Table1[[#This Row],[Lơp]],$AC$3:$AD$14,2,0))","v":40},{"$f":"IF(AND(Q148=\"HỌC SINH XUẤT SẮC\",LEFT(P148,1)=\"9\"),Table1[[#This Row],[Column1]]+(ROUND(M148,3))+400+ROW()/10000,IF(AND(Q148=\"HỌC SINH XUẤT SẮC\",LEFT(P148,1)=\"8\"),Table1[[#This Row],[Column1]]+(ROUND(M148,3))+450+ROW()/10000,IF(AND(Q148=\"HỌC SINH XUẤT SẮC\",LEFT(P148,1)=\"7\"),Table1[[#This Row],[Column1]]+(ROUND(M148,3))+500+ROW()/10000,IF(AND(Q148=\"HỌC SINH XUẤT SẮC\",LEFT(P148,1)=\"6\"),Table1[[#This Row],[Column1]]+(ROUND(M148,3))+550+ROW()/10000,IF(AND(Q148=\"HỌC SINH GIỎI\",LEFT(P148,1)=\"9\"),Table1[[#This Row],[Column1]]+(ROUND(M148,3))+10+ROW()/10000,IF(AND(Q148=\"HỌC SINH GIỎI\",LEFT(P148,1)=\"8\"),Table1[[#This Row],[Column1]]+(ROUND(M148,3))+ 50+ROW()/10000,IF(AND(Q148=\"HỌC SINH GIỎI\",LEFT(P148,1)=\"7\"),Table1[[#This Row],[Column1]]+(ROUND(M148,3))+100+ROW()/10000,IF(AND(Q148=\"HỌC SINH GIỎI\",LEFT(P148,1)=\"6\"),Table1[[#This Row],[Column1]]+(ROUND(M148,3))+150+ROW()/10000,\"\"))))))))","v":122.26479999999999},{"$f":"IF(AND(Q148=\"HỌC SINH XUẤT SẮC\",LEFT(P148,1)=\"9\"),(ROUND(M148,3))+Table1[[#This Row],[Column1]]+10+ROW()/10000,IF(AND(Q148=\"HỌC SINH XUẤT SẮC\",LEFT(P148,1)=\"8\"),Table1[[#This Row],[Column1]]+(ROUND(M148,3))+50+ROW()/10000,IF(AND(Q148=\"HỌC SINH XUẤT SẮC\",LEFT(P148,1)=\"7\"),Table1[[#This Row],[Column1]]+(ROUND(M148,3))+100+ROW()/10000,IF(AND(Q148=\"HỌC SINH XUẤT SẮC\",LEFT(P148,1)=\"6\"),Table1[[#This Row],[Column1]]+(ROUND(M148,3))+150+ROW()/10000,\"\"))))","v":""},{"$f":"IF(AND(Q148=\"HỌC SINH GIỎI\",LEFT(P148,1)=\"9\"),Table1[[#This Row],[Column1]]+(ROUND(M148,3))+200+ROW()/10000,IF(AND(Q148=\"HỌC SINH GIỎI\",LEFT(P148,1)=\"8\"),Table1[[#This Row],[Column1]]+(ROUND(M148,3))+250+ROW()/10000,IF(AND(Q148=\"HỌC SINH GIỎI\",LEFT(P148,1)=\"7\"),Table1[[#This Row],[Column1]]+(ROUND(M148,3))+300+ROW()/10000,IF(AND(Q148=\"HỌC SINH GIỎI\",LEFT(P148,1)=\"6\"),Table1[[#This Row],[Column1]]+(ROUND(M148,3))+350+ROW()/10000,\"\"))))","v":322.26479999999998},"Lê Kiều ","Anh","HỌC SINH GIỎI","8C"]
["148","Trần Đức ","Anh","2012-07-22","Trần Văn Bắc","Xóm 9","T","T",7.5,8.75,6.25,8.25,30.75,null,"x","8C","HỌC SINH GIỎI",{"$f":"IF(Table1[[#This Row],[STT]]=\"\",\"\",ROW()-1)","v":148},{"$f":"IF(Table1[[#This Row],[Lơp]]=\"\",\"\",VLOOKUP(Table1[[#This Row],[Lơp]],$AC$3:$AD$14,2,0))","v":40},{"$f":"IF(AND(Q149=\"HỌC SINH XUẤT SẮC\",LEFT(P149,1)=\"9\"),Table1[[#This Row],[Column1]]+(ROUND(M149,3))+400+ROW()/10000,IF(AND(Q149=\"HỌC SINH XUẤT SẮC\",LEFT(P149,1)=\"8\"),Table1[[#This Row],[Column1]]+(ROUND(M149,3))+450+ROW()/10000,IF(AND(Q149=\"HỌC SINH XUẤT SẮC\",LEFT(P149,1)=\"7\"),Table1[[#This Row],[Column1]]+(ROUND(M149,3))+500+ROW()/10000,IF(AND(Q149=\"HỌC SINH XUẤT SẮC\",LEFT(P149,1)=\"6\"),Table1[[#This Row],[Column1]]+(ROUND(M149,3))+550+ROW()/10000,IF(AND(Q149=\"HỌC SINH GIỎI\",LEFT(P149,1)=\"9\"),Table1[[#This Row],[Column1]]+(ROUND(M149,3))+10+ROW()/10000,IF(AND(Q149=\"HỌC SINH GIỎI\",LEFT(P149,1)=\"8\"),Table1[[#This Row],[Column1]]+(ROUND(M149,3))+ 50+ROW()/10000,IF(AND(Q149=\"HỌC SINH GIỎI\",LEFT(P149,1)=\"7\"),Table1[[#This Row],[Column1]]+(ROUND(M149,3))+100+ROW()/10000,IF(AND(Q149=\"HỌC SINH GIỎI\",LEFT(P149,1)=\"6\"),Table1[[#This Row],[Column1]]+(ROUND(M149,3))+150+ROW()/10000,\"\"))))))))","v":120.7649},{"$f":"IF(AND(Q149=\"HỌC SINH XUẤT SẮC\",LEFT(P149,1)=\"9\"),(ROUND(M149,3))+Table1[[#This Row],[Column1]]+10+ROW()/10000,IF(AND(Q149=\"HỌC SINH XUẤT SẮC\",LEFT(P149,1)=\"8\"),Table1[[#This Row],[Column1]]+(ROUND(M149,3))+50+ROW()/10000,IF(AND(Q149=\"HỌC SINH XUẤT SẮC\",LEFT(P149,1)=\"7\"),Table1[[#This Row],[Column1]]+(ROUND(M149,3))+100+ROW()/10000,IF(AND(Q149=\"HỌC SINH XUẤT SẮC\",LEFT(P149,1)=\"6\"),Table1[[#This Row],[Column1]]+(ROUND(M149,3))+150+ROW()/10000,\"\"))))","v":""},{"$f":"IF(AND(Q149=\"HỌC SINH GIỎI\",LEFT(P149,1)=\"9\"),Table1[[#This Row],[Column1]]+(ROUND(M149,3))+200+ROW()/10000,IF(AND(Q149=\"HỌC SINH GIỎI\",LEFT(P149,1)=\"8\"),Table1[[#This Row],[Column1]]+(ROUND(M149,3))+250+ROW()/10000,IF(AND(Q149=\"HỌC SINH GIỎI\",LEFT(P149,1)=\"7\"),Table1[[#This Row],[Column1]]+(ROUND(M149,3))+300+ROW()/10000,IF(AND(Q149=\"HỌC SINH GIỎI\",LEFT(P149,1)=\"6\"),Table1[[#This Row],[Column1]]+(ROUND(M149,3))+350+ROW()/10000,\"\"))))","v":320.76490000000001},"Trần Đức ","Anh","HỌC SINH GIỎI","8C"]
["149","Lê Trần Phương","Anh","2012-03-23","Lê Đức Thiện ","Xóm 5","T","T",8,9,8.5,8.25,33.75,null,"x","8C","HỌC SINH GIỎI",{"$f":"IF(Table1[[#This Row],[STT]]=\"\",\"\",ROW()-1)","v":149},{"$f":"IF(Table1[[#This Row],[Lơp]]=\"\",\"\",VLOOKUP(Table1[[#This Row],[Lơp]],$AC$3:$AD$14,2,0))","v":40},{"$f":"IF(AND(Q150=\"HỌC SINH XUẤT SẮC\",LEFT(P150,1)=\"9\"),Table1[[#This Row],[Column1]]+(ROUND(M150,3))+400+ROW()/10000,IF(AND(Q150=\"HỌC SINH XUẤT SẮC\",LEFT(P150,1)=\"8\"),Table1[[#This Row],[Column1]]+(ROUND(M150,3))+450+ROW()/10000,IF(AND(Q150=\"HỌC SINH XUẤT SẮC\",LEFT(P150,1)=\"7\"),Table1[[#This Row],[Column1]]+(ROUND(M150,3))+500+ROW()/10000,IF(AND(Q150=\"HỌC SINH XUẤT SẮC\",LEFT(P150,1)=\"6\"),Table1[[#This Row],[Column1]]+(ROUND(M150,3))+550+ROW()/10000,IF(AND(Q150=\"HỌC SINH GIỎI\",LEFT(P150,1)=\"9\"),Table1[[#This Row],[Column1]]+(ROUND(M150,3))+10+ROW()/10000,IF(AND(Q150=\"HỌC SINH GIỎI\",LEFT(P150,1)=\"8\"),Table1[[#This Row],[Column1]]+(ROUND(M150,3))+ 50+ROW()/10000,IF(AND(Q150=\"HỌC SINH GIỎI\",LEFT(P150,1)=\"7\"),Table1[[#This Row],[Column1]]+(ROUND(M150,3))+100+ROW()/10000,IF(AND(Q150=\"HỌC SINH GIỎI\",LEFT(P150,1)=\"6\"),Table1[[#This Row],[Column1]]+(ROUND(M150,3))+150+ROW()/10000,\"\"))))))))","v":123.765},{"$f":"IF(AND(Q150=\"HỌC SINH XUẤT SẮC\",LEFT(P150,1)=\"9\"),(ROUND(M150,3))+Table1[[#This Row],[Column1]]+10+ROW()/10000,IF(AND(Q150=\"HỌC SINH XUẤT SẮC\",LEFT(P150,1)=\"8\"),Table1[[#This Row],[Column1]]+(ROUND(M150,3))+50+ROW()/10000,IF(AND(Q150=\"HỌC SINH XUẤT SẮC\",LEFT(P150,1)=\"7\"),Table1[[#This Row],[Column1]]+(ROUND(M150,3))+100+ROW()/10000,IF(AND(Q150=\"HỌC SINH XUẤT SẮC\",LEFT(P150,1)=\"6\"),Table1[[#This Row],[Column1]]+(ROUND(M150,3))+150+ROW()/10000,\"\"))))","v":""},{"$f":"IF(AND(Q150=\"HỌC SINH GIỎI\",LEFT(P150,1)=\"9\"),Table1[[#This Row],[Column1]]+(ROUND(M150,3))+200+ROW()/10000,IF(AND(Q150=\"HỌC SINH GIỎI\",LEFT(P150,1)=\"8\"),Table1[[#This Row],[Column1]]+(ROUND(M150,3))+250+ROW()/10000,IF(AND(Q150=\"HỌC SINH GIỎI\",LEFT(P150,1)=\"7\"),Table1[[#This Row],[Column1]]+(ROUND(M150,3))+300+ROW()/10000,IF(AND(Q150=\"HỌC SINH GIỎI\",LEFT(P150,1)=\"6\"),Table1[[#This Row],[Column1]]+(ROUND(M150,3))+350+ROW()/10000,\"\"))))","v":323.76499999999999},"Lê Trần Phương","Anh","HỌC SINH GIỎI","8C"]
["150","Lê Thùy  ","Dung","2012-01-30","Lê Tiến Tới","Xóm 6","T","T",8.5,7.75,6.75,7.25,30.25,null,"x","8C","HỌC SINH GIỎI",{"$f":"IF(Table1[[#This Row],[STT]]=\"\",\"\",ROW()-1)","v":150},{"$f":"IF(Table1[[#This Row],[Lơp]]=\"\",\"\",VLOOKUP(Table1[[#This Row],[Lơp]],$AC$3:$AD$14,2,0))","v":40},{"$f":"IF(AND(Q151=\"HỌC SINH XUẤT SẮC\",LEFT(P151,1)=\"9\"),Table1[[#This Row],[Column1]]+(ROUND(M151,3))+400+ROW()/10000,IF(AND(Q151=\"HỌC SINH XUẤT SẮC\",LEFT(P151,1)=\"8\"),Table1[[#This Row],[Column1]]+(ROUND(M151,3))+450+ROW()/10000,IF(AND(Q151=\"HỌC SINH XUẤT SẮC\",LEFT(P151,1)=\"7\"),Table1[[#This Row],[Column1]]+(ROUND(M151,3))+500+ROW()/10000,IF(AND(Q151=\"HỌC SINH XUẤT SẮC\",LEFT(P151,1)=\"6\"),Table1[[#This Row],[Column1]]+(ROUND(M151,3))+550+ROW()/10000,IF(AND(Q151=\"HỌC SINH GIỎI\",LEFT(P151,1)=\"9\"),Table1[[#This Row],[Column1]]+(ROUND(M151,3))+10+ROW()/10000,IF(AND(Q151=\"HỌC SINH GIỎI\",LEFT(P151,1)=\"8\"),Table1[[#This Row],[Column1]]+(ROUND(M151,3))+ 50+ROW()/10000,IF(AND(Q151=\"HỌC SINH GIỎI\",LEFT(P151,1)=\"7\"),Table1[[#This Row],[Column1]]+(ROUND(M151,3))+100+ROW()/10000,IF(AND(Q151=\"HỌC SINH GIỎI\",LEFT(P151,1)=\"6\"),Table1[[#This Row],[Column1]]+(ROUND(M151,3))+150+ROW()/10000,\"\"))))))))","v":120.2651},{"$f":"IF(AND(Q151=\"HỌC SINH XUẤT SẮC\",LEFT(P151,1)=\"9\"),(ROUND(M151,3))+Table1[[#This Row],[Column1]]+10+ROW()/10000,IF(AND(Q151=\"HỌC SINH XUẤT SẮC\",LEFT(P151,1)=\"8\"),Table1[[#This Row],[Column1]]+(ROUND(M151,3))+50+ROW()/10000,IF(AND(Q151=\"HỌC SINH XUẤT SẮC\",LEFT(P151,1)=\"7\"),Table1[[#This Row],[Column1]]+(ROUND(M151,3))+100+ROW()/10000,IF(AND(Q151=\"HỌC SINH XUẤT SẮC\",LEFT(P151,1)=\"6\"),Table1[[#This Row],[Column1]]+(ROUND(M151,3))+150+ROW()/10000,\"\"))))","v":""},{"$f":"IF(AND(Q151=\"HỌC SINH GIỎI\",LEFT(P151,1)=\"9\"),Table1[[#This Row],[Column1]]+(ROUND(M151,3))+200+ROW()/10000,IF(AND(Q151=\"HỌC SINH GIỎI\",LEFT(P151,1)=\"8\"),Table1[[#This Row],[Column1]]+(ROUND(M151,3))+250+ROW()/10000,IF(AND(Q151=\"HỌC SINH GIỎI\",LEFT(P151,1)=\"7\"),Table1[[#This Row],[Column1]]+(ROUND(M151,3))+300+ROW()/10000,IF(AND(Q151=\"HỌC SINH GIỎI\",LEFT(P151,1)=\"6\"),Table1[[#This Row],[Column1]]+(ROUND(M151,3))+350+ROW()/10000,\"\"))))","v":320.26510000000002},"Lê Thùy  ","Dung","HỌC SINH GIỎI","8C"]
["151","Mai Ngọc","Hằng","2012-06-08","Mai Song Toàn","Xóm 3","T","T",7.5,8.25,6.5,6.75,29,null,"x","8C","HỌC SINH GIỎI",{"$f":"IF(Table1[[#This Row],[STT]]=\"\",\"\",ROW()-1)","v":151},{"$f":"IF(Table1[[#This Row],[Lơp]]=\"\",\"\",VLOOKUP(Table1[[#This Row],[Lơp]],$AC$3:$AD$14,2,0))","v":40},{"$f":"IF(AND(Q152=\"HỌC SINH XUẤT SẮC\",LEFT(P152,1)=\"9\"),Table1[[#This Row],[Column1]]+(ROUND(M152,3))+400+ROW()/10000,IF(AND(Q152=\"HỌC SINH XUẤT SẮC\",LEFT(P152,1)=\"8\"),Table1[[#This Row],[Column1]]+(ROUND(M152,3))+450+ROW()/10000,IF(AND(Q152=\"HỌC SINH XUẤT SẮC\",LEFT(P152,1)=\"7\"),Table1[[#This Row],[Column1]]+(ROUND(M152,3))+500+ROW()/10000,IF(AND(Q152=\"HỌC SINH XUẤT SẮC\",LEFT(P152,1)=\"6\"),Table1[[#This Row],[Column1]]+(ROUND(M152,3))+550+ROW()/10000,IF(AND(Q152=\"HỌC SINH GIỎI\",LEFT(P152,1)=\"9\"),Table1[[#This Row],[Column1]]+(ROUND(M152,3))+10+ROW()/10000,IF(AND(Q152=\"HỌC SINH GIỎI\",LEFT(P152,1)=\"8\"),Table1[[#This Row],[Column1]]+(ROUND(M152,3))+ 50+ROW()/10000,IF(AND(Q152=\"HỌC SINH GIỎI\",LEFT(P152,1)=\"7\"),Table1[[#This Row],[Column1]]+(ROUND(M152,3))+100+ROW()/10000,IF(AND(Q152=\"HỌC SINH GIỎI\",LEFT(P152,1)=\"6\"),Table1[[#This Row],[Column1]]+(ROUND(M152,3))+150+ROW()/10000,\"\"))))))))","v":119.01519999999999},{"$f":"IF(AND(Q152=\"HỌC SINH XUẤT SẮC\",LEFT(P152,1)=\"9\"),(ROUND(M152,3))+Table1[[#This Row],[Column1]]+10+ROW()/10000,IF(AND(Q152=\"HỌC SINH XUẤT SẮC\",LEFT(P152,1)=\"8\"),Table1[[#This Row],[Column1]]+(ROUND(M152,3))+50+ROW()/10000,IF(AND(Q152=\"HỌC SINH XUẤT SẮC\",LEFT(P152,1)=\"7\"),Table1[[#This Row],[Column1]]+(ROUND(M152,3))+100+ROW()/10000,IF(AND(Q152=\"HỌC SINH XUẤT SẮC\",LEFT(P152,1)=\"6\"),Table1[[#This Row],[Column1]]+(ROUND(M152,3))+150+ROW()/10000,\"\"))))","v":""},{"$f":"IF(AND(Q152=\"HỌC SINH GIỎI\",LEFT(P152,1)=\"9\"),Table1[[#This Row],[Column1]]+(ROUND(M152,3))+200+ROW()/10000,IF(AND(Q152=\"HỌC SINH GIỎI\",LEFT(P152,1)=\"8\"),Table1[[#This Row],[Column1]]+(ROUND(M152,3))+250+ROW()/10000,IF(AND(Q152=\"HỌC SINH GIỎI\",LEFT(P152,1)=\"7\"),Table1[[#This Row],[Column1]]+(ROUND(M152,3))+300+ROW()/10000,IF(AND(Q152=\"HỌC SINH GIỎI\",LEFT(P152,1)=\"6\"),Table1[[#This Row],[Column1]]+(ROUND(M152,3))+350+ROW()/10000,\"\"))))","v":319.01519999999999},"Mai Ngọc","Hằng","HỌC SINH GIỎI","8C"]
["152","Tống Ngọc","Hân","2012-02-04","Tống Văn Thắng","Xóm 6","T","T",8.25,8,7.25,7.75,31.25,null,"x","8C","HỌC SINH GIỎI",{"$f":"IF(Table1[[#This Row],[STT]]=\"\",\"\",ROW()-1)","v":152},{"$f":"IF(Table1[[#This Row],[Lơp]]=\"\",\"\",VLOOKUP(Table1[[#This Row],[Lơp]],$AC$3:$AD$14,2,0))","v":40},{"$f":"IF(AND(Q153=\"HỌC SINH XUẤT SẮC\",LEFT(P153,1)=\"9\"),Table1[[#This Row],[Column1]]+(ROUND(M153,3))+400+ROW()/10000,IF(AND(Q153=\"HỌC SINH XUẤT SẮC\",LEFT(P153,1)=\"8\"),Table1[[#This Row],[Column1]]+(ROUND(M153,3))+450+ROW()/10000,IF(AND(Q153=\"HỌC SINH XUẤT SẮC\",LEFT(P153,1)=\"7\"),Table1[[#This Row],[Column1]]+(ROUND(M153,3))+500+ROW()/10000,IF(AND(Q153=\"HỌC SINH XUẤT SẮC\",LEFT(P153,1)=\"6\"),Table1[[#This Row],[Column1]]+(ROUND(M153,3))+550+ROW()/10000,IF(AND(Q153=\"HỌC SINH GIỎI\",LEFT(P153,1)=\"9\"),Table1[[#This Row],[Column1]]+(ROUND(M153,3))+10+ROW()/10000,IF(AND(Q153=\"HỌC SINH GIỎI\",LEFT(P153,1)=\"8\"),Table1[[#This Row],[Column1]]+(ROUND(M153,3))+ 50+ROW()/10000,IF(AND(Q153=\"HỌC SINH GIỎI\",LEFT(P153,1)=\"7\"),Table1[[#This Row],[Column1]]+(ROUND(M153,3))+100+ROW()/10000,IF(AND(Q153=\"HỌC SINH GIỎI\",LEFT(P153,1)=\"6\"),Table1[[#This Row],[Column1]]+(ROUND(M153,3))+150+ROW()/10000,\"\"))))))))","v":121.2653},{"$f":"IF(AND(Q153=\"HỌC SINH XUẤT SẮC\",LEFT(P153,1)=\"9\"),(ROUND(M153,3))+Table1[[#This Row],[Column1]]+10+ROW()/10000,IF(AND(Q153=\"HỌC SINH XUẤT SẮC\",LEFT(P153,1)=\"8\"),Table1[[#This Row],[Column1]]+(ROUND(M153,3))+50+ROW()/10000,IF(AND(Q153=\"HỌC SINH XUẤT SẮC\",LEFT(P153,1)=\"7\"),Table1[[#This Row],[Column1]]+(ROUND(M153,3))+100+ROW()/10000,IF(AND(Q153=\"HỌC SINH XUẤT SẮC\",LEFT(P153,1)=\"6\"),Table1[[#This Row],[Column1]]+(ROUND(M153,3))+150+ROW()/10000,\"\"))))","v":""},{"$f":"IF(AND(Q153=\"HỌC SINH GIỎI\",LEFT(P153,1)=\"9\"),Table1[[#This Row],[Column1]]+(ROUND(M153,3))+200+ROW()/10000,IF(AND(Q153=\"HỌC SINH GIỎI\",LEFT(P153,1)=\"8\"),Table1[[#This Row],[Column1]]+(ROUND(M153,3))+250+ROW()/10000,IF(AND(Q153=\"HỌC SINH GIỎI\",LEFT(P153,1)=\"7\"),Table1[[#This Row],[Column1]]+(ROUND(M153,3))+300+ROW()/10000,IF(AND(Q153=\"HỌC SINH GIỎI\",LEFT(P153,1)=\"6\"),Table1[[#This Row],[Column1]]+(ROUND(M153,3))+350+ROW()/10000,\"\"))))","v":321.26530000000002},"Tống Ngọc","Hân","HỌC SINH GIỎI","8C"]
["153","Trần Trung ","Hiếu","2012-05-15","Trần Thanh Vệ","Xóm 3","T","T",8,7.25,6,7.5,28.75,null,"x","8C","HỌC SINH GIỎI",{"$f":"IF(Table1[[#This Row],[STT]]=\"\",\"\",ROW()-1)","v":153},{"$f":"IF(Table1[[#This Row],[Lơp]]=\"\",\"\",VLOOKUP(Table1[[#This Row],[Lơp]],$AC$3:$AD$14,2,0))","v":40},{"$f":"IF(AND(Q154=\"HỌC SINH XUẤT SẮC\",LEFT(P154,1)=\"9\"),Table1[[#This Row],[Column1]]+(ROUND(M154,3))+400+ROW()/10000,IF(AND(Q154=\"HỌC SINH XUẤT SẮC\",LEFT(P154,1)=\"8\"),Table1[[#This Row],[Column1]]+(ROUND(M154,3))+450+ROW()/10000,IF(AND(Q154=\"HỌC SINH XUẤT SẮC\",LEFT(P154,1)=\"7\"),Table1[[#This Row],[Column1]]+(ROUND(M154,3))+500+ROW()/10000,IF(AND(Q154=\"HỌC SINH XUẤT SẮC\",LEFT(P154,1)=\"6\"),Table1[[#This Row],[Column1]]+(ROUND(M154,3))+550+ROW()/10000,IF(AND(Q154=\"HỌC SINH GIỎI\",LEFT(P154,1)=\"9\"),Table1[[#This Row],[Column1]]+(ROUND(M154,3))+10+ROW()/10000,IF(AND(Q154=\"HỌC SINH GIỎI\",LEFT(P154,1)=\"8\"),Table1[[#This Row],[Column1]]+(ROUND(M154,3))+ 50+ROW()/10000,IF(AND(Q154=\"HỌC SINH GIỎI\",LEFT(P154,1)=\"7\"),Table1[[#This Row],[Column1]]+(ROUND(M154,3))+100+ROW()/10000,IF(AND(Q154=\"HỌC SINH GIỎI\",LEFT(P154,1)=\"6\"),Table1[[#This Row],[Column1]]+(ROUND(M154,3))+150+ROW()/10000,\"\"))))))))","v":118.7654},{"$f":"IF(AND(Q154=\"HỌC SINH XUẤT SẮC\",LEFT(P154,1)=\"9\"),(ROUND(M154,3))+Table1[[#This Row],[Column1]]+10+ROW()/10000,IF(AND(Q154=\"HỌC SINH XUẤT SẮC\",LEFT(P154,1)=\"8\"),Table1[[#This Row],[Column1]]+(ROUND(M154,3))+50+ROW()/10000,IF(AND(Q154=\"HỌC SINH XUẤT SẮC\",LEFT(P154,1)=\"7\"),Table1[[#This Row],[Column1]]+(ROUND(M154,3))+100+ROW()/10000,IF(AND(Q154=\"HỌC SINH XUẤT SẮC\",LEFT(P154,1)=\"6\"),Table1[[#This Row],[Column1]]+(ROUND(M154,3))+150+ROW()/10000,\"\"))))","v":""},{"$f":"IF(AND(Q154=\"HỌC SINH GIỎI\",LEFT(P154,1)=\"9\"),Table1[[#This Row],[Column1]]+(ROUND(M154,3))+200+ROW()/10000,IF(AND(Q154=\"HỌC SINH GIỎI\",LEFT(P154,1)=\"8\"),Table1[[#This Row],[Column1]]+(ROUND(M154,3))+250+ROW()/10000,IF(AND(Q154=\"HỌC SINH GIỎI\",LEFT(P154,1)=\"7\"),Table1[[#This Row],[Column1]]+(ROUND(M154,3))+300+ROW()/10000,IF(AND(Q154=\"HỌC SINH GIỎI\",LEFT(P154,1)=\"6\"),Table1[[#This Row],[Column1]]+(ROUND(M154,3))+350+ROW()/10000,\"\"))))","v":318.7654},"Trần Trung ","Hiếu","HỌC SINH GIỎI","8C"]
["154","Lê Thị Kim","Hoa","2012-05-30","Lê Văn Tình","Xóm 5","T","T",8.5,9,5.25,8,30.75,null,"x","8C","HỌC SINH GIỎI",{"$f":"IF(Table1[[#This Row],[STT]]=\"\",\"\",ROW()-1)","v":154},{"$f":"IF(Table1[[#This Row],[Lơp]]=\"\",\"\",VLOOKUP(Table1[[#This Row],[Lơp]],$AC$3:$AD$14,2,0))","v":40},{"$f":"IF(AND(Q155=\"HỌC SINH XUẤT SẮC\",LEFT(P155,1)=\"9\"),Table1[[#This Row],[Column1]]+(ROUND(M155,3))+400+ROW()/10000,IF(AND(Q155=\"HỌC SINH XUẤT SẮC\",LEFT(P155,1)=\"8\"),Table1[[#This Row],[Column1]]+(ROUND(M155,3))+450+ROW()/10000,IF(AND(Q155=\"HỌC SINH XUẤT SẮC\",LEFT(P155,1)=\"7\"),Table1[[#This Row],[Column1]]+(ROUND(M155,3))+500+ROW()/10000,IF(AND(Q155=\"HỌC SINH XUẤT SẮC\",LEFT(P155,1)=\"6\"),Table1[[#This Row],[Column1]]+(ROUND(M155,3))+550+ROW()/10000,IF(AND(Q155=\"HỌC SINH GIỎI\",LEFT(P155,1)=\"9\"),Table1[[#This Row],[Column1]]+(ROUND(M155,3))+10+ROW()/10000,IF(AND(Q155=\"HỌC SINH GIỎI\",LEFT(P155,1)=\"8\"),Table1[[#This Row],[Column1]]+(ROUND(M155,3))+ 50+ROW()/10000,IF(AND(Q155=\"HỌC SINH GIỎI\",LEFT(P155,1)=\"7\"),Table1[[#This Row],[Column1]]+(ROUND(M155,3))+100+ROW()/10000,IF(AND(Q155=\"HỌC SINH GIỎI\",LEFT(P155,1)=\"6\"),Table1[[#This Row],[Column1]]+(ROUND(M155,3))+150+ROW()/10000,\"\"))))))))","v":120.7655},{"$f":"IF(AND(Q155=\"HỌC SINH XUẤT SẮC\",LEFT(P155,1)=\"9\"),(ROUND(M155,3))+Table1[[#This Row],[Column1]]+10+ROW()/10000,IF(AND(Q155=\"HỌC SINH XUẤT SẮC\",LEFT(P155,1)=\"8\"),Table1[[#This Row],[Column1]]+(ROUND(M155,3))+50+ROW()/10000,IF(AND(Q155=\"HỌC SINH XUẤT SẮC\",LEFT(P155,1)=\"7\"),Table1[[#This Row],[Column1]]+(ROUND(M155,3))+100+ROW()/10000,IF(AND(Q155=\"HỌC SINH XUẤT SẮC\",LEFT(P155,1)=\"6\"),Table1[[#This Row],[Column1]]+(ROUND(M155,3))+150+ROW()/10000,\"\"))))","v":""},{"$f":"IF(AND(Q155=\"HỌC SINH GIỎI\",LEFT(P155,1)=\"9\"),Table1[[#This Row],[Column1]]+(ROUND(M155,3))+200+ROW()/10000,IF(AND(Q155=\"HỌC SINH GIỎI\",LEFT(P155,1)=\"8\"),Table1[[#This Row],[Column1]]+(ROUND(M155,3))+250+ROW()/10000,IF(AND(Q155=\"HỌC SINH GIỎI\",LEFT(P155,1)=\"7\"),Table1[[#This Row],[Column1]]+(ROUND(M155,3))+300+ROW()/10000,IF(AND(Q155=\"HỌC SINH GIỎI\",LEFT(P155,1)=\"6\"),Table1[[#This Row],[Column1]]+(ROUND(M155,3))+350+ROW()/10000,\"\"))))","v":320.76549999999997},"Lê Thị Kim","Hoa","HỌC SINH GIỎI","8C"]
["155","Bùi Huy  ","Hoàng","2012-04-10","Bùi Văn Vĩnh","Xóm 11","T","T",7,8.5,7,8,30.5,null,"x","8C","HỌC SINH GIỎI",{"$f":"IF(Table1[[#This Row],[STT]]=\"\",\"\",ROW()-1)","v":155},{"$f":"IF(Table1[[#This Row],[Lơp]]=\"\",\"\",VLOOKUP(Table1[[#This Row],[Lơp]],$AC$3:$AD$14,2,0))","v":40},{"$f":"IF(AND(Q156=\"HỌC SINH XUẤT SẮC\",LEFT(P156,1)=\"9\"),Table1[[#This Row],[Column1]]+(ROUND(M156,3))+400+ROW()/10000,IF(AND(Q156=\"HỌC SINH XUẤT SẮC\",LEFT(P156,1)=\"8\"),Table1[[#This Row],[Column1]]+(ROUND(M156,3))+450+ROW()/10000,IF(AND(Q156=\"HỌC SINH XUẤT SẮC\",LEFT(P156,1)=\"7\"),Table1[[#This Row],[Column1]]+(ROUND(M156,3))+500+ROW()/10000,IF(AND(Q156=\"HỌC SINH XUẤT SẮC\",LEFT(P156,1)=\"6\"),Table1[[#This Row],[Column1]]+(ROUND(M156,3))+550+ROW()/10000,IF(AND(Q156=\"HỌC SINH GIỎI\",LEFT(P156,1)=\"9\"),Table1[[#This Row],[Column1]]+(ROUND(M156,3))+10+ROW()/10000,IF(AND(Q156=\"HỌC SINH GIỎI\",LEFT(P156,1)=\"8\"),Table1[[#This Row],[Column1]]+(ROUND(M156,3))+ 50+ROW()/10000,IF(AND(Q156=\"HỌC SINH GIỎI\",LEFT(P156,1)=\"7\"),Table1[[#This Row],[Column1]]+(ROUND(M156,3))+100+ROW()/10000,IF(AND(Q156=\"HỌC SINH GIỎI\",LEFT(P156,1)=\"6\"),Table1[[#This Row],[Column1]]+(ROUND(M156,3))+150+ROW()/10000,\"\"))))))))","v":120.51560000000001},{"$f":"IF(AND(Q156=\"HỌC SINH XUẤT SẮC\",LEFT(P156,1)=\"9\"),(ROUND(M156,3))+Table1[[#This Row],[Column1]]+10+ROW()/10000,IF(AND(Q156=\"HỌC SINH XUẤT SẮC\",LEFT(P156,1)=\"8\"),Table1[[#This Row],[Column1]]+(ROUND(M156,3))+50+ROW()/10000,IF(AND(Q156=\"HỌC SINH XUẤT SẮC\",LEFT(P156,1)=\"7\"),Table1[[#This Row],[Column1]]+(ROUND(M156,3))+100+ROW()/10000,IF(AND(Q156=\"HỌC SINH XUẤT SẮC\",LEFT(P156,1)=\"6\"),Table1[[#This Row],[Column1]]+(ROUND(M156,3))+150+ROW()/10000,\"\"))))","v":""},{"$f":"IF(AND(Q156=\"HỌC SINH GIỎI\",LEFT(P156,1)=\"9\"),Table1[[#This Row],[Column1]]+(ROUND(M156,3))+200+ROW()/10000,IF(AND(Q156=\"HỌC SINH GIỎI\",LEFT(P156,1)=\"8\"),Table1[[#This Row],[Column1]]+(ROUND(M156,3))+250+ROW()/10000,IF(AND(Q156=\"HỌC SINH GIỎI\",LEFT(P156,1)=\"7\"),Table1[[#This Row],[Column1]]+(ROUND(M156,3))+300+ROW()/10000,IF(AND(Q156=\"HỌC SINH GIỎI\",LEFT(P156,1)=\"6\"),Table1[[#This Row],[Column1]]+(ROUND(M156,3))+350+ROW()/10000,\"\"))))","v":320.51560000000001},"Bùi Huy  ","Hoàng","HỌC SINH GIỎI","8C"]
["156","Trần Thanh ","Hoàng","2012-09-20","Trần Thanh Hưởng","Xóm 9","T","T",8,8,6.25,7,29.25,null,"x","8C","HỌC SINH GIỎI",{"$f":"IF(Table1[[#This Row],[STT]]=\"\",\"\",ROW()-1)","v":156},{"$f":"IF(Table1[[#This Row],[Lơp]]=\"\",\"\",VLOOKUP(Table1[[#This Row],[Lơp]],$AC$3:$AD$14,2,0))","v":40},{"$f":"IF(AND(Q157=\"HỌC SINH XUẤT SẮC\",LEFT(P157,1)=\"9\"),Table1[[#This Row],[Column1]]+(ROUND(M157,3))+400+ROW()/10000,IF(AND(Q157=\"HỌC SINH XUẤT SẮC\",LEFT(P157,1)=\"8\"),Table1[[#This Row],[Column1]]+(ROUND(M157,3))+450+ROW()/10000,IF(AND(Q157=\"HỌC SINH XUẤT SẮC\",LEFT(P157,1)=\"7\"),Table1[[#This Row],[Column1]]+(ROUND(M157,3))+500+ROW()/10000,IF(AND(Q157=\"HỌC SINH XUẤT SẮC\",LEFT(P157,1)=\"6\"),Table1[[#This Row],[Column1]]+(ROUND(M157,3))+550+ROW()/10000,IF(AND(Q157=\"HỌC SINH GIỎI\",LEFT(P157,1)=\"9\"),Table1[[#This Row],[Column1]]+(ROUND(M157,3))+10+ROW()/10000,IF(AND(Q157=\"HỌC SINH GIỎI\",LEFT(P157,1)=\"8\"),Table1[[#This Row],[Column1]]+(ROUND(M157,3))+ 50+ROW()/10000,IF(AND(Q157=\"HỌC SINH GIỎI\",LEFT(P157,1)=\"7\"),Table1[[#This Row],[Column1]]+(ROUND(M157,3))+100+ROW()/10000,IF(AND(Q157=\"HỌC SINH GIỎI\",LEFT(P157,1)=\"6\"),Table1[[#This Row],[Column1]]+(ROUND(M157,3))+150+ROW()/10000,\"\"))))))))","v":119.2657},{"$f":"IF(AND(Q157=\"HỌC SINH XUẤT SẮC\",LEFT(P157,1)=\"9\"),(ROUND(M157,3))+Table1[[#This Row],[Column1]]+10+ROW()/10000,IF(AND(Q157=\"HỌC SINH XUẤT SẮC\",LEFT(P157,1)=\"8\"),Table1[[#This Row],[Column1]]+(ROUND(M157,3))+50+ROW()/10000,IF(AND(Q157=\"HỌC SINH XUẤT SẮC\",LEFT(P157,1)=\"7\"),Table1[[#This Row],[Column1]]+(ROUND(M157,3))+100+ROW()/10000,IF(AND(Q157=\"HỌC SINH XUẤT SẮC\",LEFT(P157,1)=\"6\"),Table1[[#This Row],[Column1]]+(ROUND(M157,3))+150+ROW()/10000,\"\"))))","v":""},{"$f":"IF(AND(Q157=\"HỌC SINH GIỎI\",LEFT(P157,1)=\"9\"),Table1[[#This Row],[Column1]]+(ROUND(M157,3))+200+ROW()/10000,IF(AND(Q157=\"HỌC SINH GIỎI\",LEFT(P157,1)=\"8\"),Table1[[#This Row],[Column1]]+(ROUND(M157,3))+250+ROW()/10000,IF(AND(Q157=\"HỌC SINH GIỎI\",LEFT(P157,1)=\"7\"),Table1[[#This Row],[Column1]]+(ROUND(M157,3))+300+ROW()/10000,IF(AND(Q157=\"HỌC SINH GIỎI\",LEFT(P157,1)=\"6\"),Table1[[#This Row],[Column1]]+(ROUND(M157,3))+350+ROW()/10000,\"\"))))","v":319.26569999999998},"Trần Thanh ","Hoàng","HỌC SINH GIỎI","8C"]
["157","Lê Khánh","Huyền","2012-07-02","Lê Thành Nam","Xóm 5","T","T",8,7.75,8.75,8.25,32.75,null,"x","8C","HỌC SINH GIỎI",{"$f":"IF(Table1[[#This Row],[STT]]=\"\",\"\",ROW()-1)","v":157},{"$f":"IF(Table1[[#This Row],[Lơp]]=\"\",\"\",VLOOKUP(Table1[[#This Row],[Lơp]],$AC$3:$AD$14,2,0))","v":40},{"$f":"IF(AND(Q158=\"HỌC SINH XUẤT SẮC\",LEFT(P158,1)=\"9\"),Table1[[#This Row],[Column1]]+(ROUND(M158,3))+400+ROW()/10000,IF(AND(Q158=\"HỌC SINH XUẤT SẮC\",LEFT(P158,1)=\"8\"),Table1[[#This Row],[Column1]]+(ROUND(M158,3))+450+ROW()/10000,IF(AND(Q158=\"HỌC SINH XUẤT SẮC\",LEFT(P158,1)=\"7\"),Table1[[#This Row],[Column1]]+(ROUND(M158,3))+500+ROW()/10000,IF(AND(Q158=\"HỌC SINH XUẤT SẮC\",LEFT(P158,1)=\"6\"),Table1[[#This Row],[Column1]]+(ROUND(M158,3))+550+ROW()/10000,IF(AND(Q158=\"HỌC SINH GIỎI\",LEFT(P158,1)=\"9\"),Table1[[#This Row],[Column1]]+(ROUND(M158,3))+10+ROW()/10000,IF(AND(Q158=\"HỌC SINH GIỎI\",LEFT(P158,1)=\"8\"),Table1[[#This Row],[Column1]]+(ROUND(M158,3))+ 50+ROW()/10000,IF(AND(Q158=\"HỌC SINH GIỎI\",LEFT(P158,1)=\"7\"),Table1[[#This Row],[Column1]]+(ROUND(M158,3))+100+ROW()/10000,IF(AND(Q158=\"HỌC SINH GIỎI\",LEFT(P158,1)=\"6\"),Table1[[#This Row],[Column1]]+(ROUND(M158,3))+150+ROW()/10000,\"\"))))))))","v":122.7658},{"$f":"IF(AND(Q158=\"HỌC SINH XUẤT SẮC\",LEFT(P158,1)=\"9\"),(ROUND(M158,3))+Table1[[#This Row],[Column1]]+10+ROW()/10000,IF(AND(Q158=\"HỌC SINH XUẤT SẮC\",LEFT(P158,1)=\"8\"),Table1[[#This Row],[Column1]]+(ROUND(M158,3))+50+ROW()/10000,IF(AND(Q158=\"HỌC SINH XUẤT SẮC\",LEFT(P158,1)=\"7\"),Table1[[#This Row],[Column1]]+(ROUND(M158,3))+100+ROW()/10000,IF(AND(Q158=\"HỌC SINH XUẤT SẮC\",LEFT(P158,1)=\"6\"),Table1[[#This Row],[Column1]]+(ROUND(M158,3))+150+ROW()/10000,\"\"))))","v":""},{"$f":"IF(AND(Q158=\"HỌC SINH GIỎI\",LEFT(P158,1)=\"9\"),Table1[[#This Row],[Column1]]+(ROUND(M158,3))+200+ROW()/10000,IF(AND(Q158=\"HỌC SINH GIỎI\",LEFT(P158,1)=\"8\"),Table1[[#This Row],[Column1]]+(ROUND(M158,3))+250+ROW()/10000,IF(AND(Q158=\"HỌC SINH GIỎI\",LEFT(P158,1)=\"7\"),Table1[[#This Row],[Column1]]+(ROUND(M158,3))+300+ROW()/10000,IF(AND(Q158=\"HỌC SINH GIỎI\",LEFT(P158,1)=\"6\"),Table1[[#This Row],[Column1]]+(ROUND(M158,3))+350+ROW()/10000,\"\"))))","v":322.76580000000001},"Lê Khánh","Huyền","HỌC SINH GIỎI","8C"]
["158","Phạm Khánh ","Huyền","2012-10-05","Phạm Đăng Quỳ","Xóm 2","T","T",7.75,7.5,6.75,6.25,28.25,null,"x","8C","HỌC SINH GIỎI",{"$f":"IF(Table1[[#This Row],[STT]]=\"\",\"\",ROW()-1)","v":158},{"$f":"IF(Table1[[#This Row],[Lơp]]=\"\",\"\",VLOOKUP(Table1[[#This Row],[Lơp]],$AC$3:$AD$14,2,0))","v":40},{"$f":"IF(AND(Q159=\"HỌC SINH XUẤT SẮC\",LEFT(P159,1)=\"9\"),Table1[[#This Row],[Column1]]+(ROUND(M159,3))+400+ROW()/10000,IF(AND(Q159=\"HỌC SINH XUẤT SẮC\",LEFT(P159,1)=\"8\"),Table1[[#This Row],[Column1]]+(ROUND(M159,3))+450+ROW()/10000,IF(AND(Q159=\"HỌC SINH XUẤT SẮC\",LEFT(P159,1)=\"7\"),Table1[[#This Row],[Column1]]+(ROUND(M159,3))+500+ROW()/10000,IF(AND(Q159=\"HỌC SINH XUẤT SẮC\",LEFT(P159,1)=\"6\"),Table1[[#This Row],[Column1]]+(ROUND(M159,3))+550+ROW()/10000,IF(AND(Q159=\"HỌC SINH GIỎI\",LEFT(P159,1)=\"9\"),Table1[[#This Row],[Column1]]+(ROUND(M159,3))+10+ROW()/10000,IF(AND(Q159=\"HỌC SINH GIỎI\",LEFT(P159,1)=\"8\"),Table1[[#This Row],[Column1]]+(ROUND(M159,3))+ 50+ROW()/10000,IF(AND(Q159=\"HỌC SINH GIỎI\",LEFT(P159,1)=\"7\"),Table1[[#This Row],[Column1]]+(ROUND(M159,3))+100+ROW()/10000,IF(AND(Q159=\"HỌC SINH GIỎI\",LEFT(P159,1)=\"6\"),Table1[[#This Row],[Column1]]+(ROUND(M159,3))+150+ROW()/10000,\"\"))))))))","v":118.2659},{"$f":"IF(AND(Q159=\"HỌC SINH XUẤT SẮC\",LEFT(P159,1)=\"9\"),(ROUND(M159,3))+Table1[[#This Row],[Column1]]+10+ROW()/10000,IF(AND(Q159=\"HỌC SINH XUẤT SẮC\",LEFT(P159,1)=\"8\"),Table1[[#This Row],[Column1]]+(ROUND(M159,3))+50+ROW()/10000,IF(AND(Q159=\"HỌC SINH XUẤT SẮC\",LEFT(P159,1)=\"7\"),Table1[[#This Row],[Column1]]+(ROUND(M159,3))+100+ROW()/10000,IF(AND(Q159=\"HỌC SINH XUẤT SẮC\",LEFT(P159,1)=\"6\"),Table1[[#This Row],[Column1]]+(ROUND(M159,3))+150+ROW()/10000,\"\"))))","v":""},{"$f":"IF(AND(Q159=\"HỌC SINH GIỎI\",LEFT(P159,1)=\"9\"),Table1[[#This Row],[Column1]]+(ROUND(M159,3))+200+ROW()/10000,IF(AND(Q159=\"HỌC SINH GIỎI\",LEFT(P159,1)=\"8\"),Table1[[#This Row],[Column1]]+(ROUND(M159,3))+250+ROW()/10000,IF(AND(Q159=\"HỌC SINH GIỎI\",LEFT(P159,1)=\"7\"),Table1[[#This Row],[Column1]]+(ROUND(M159,3))+300+ROW()/10000,IF(AND(Q159=\"HỌC SINH GIỎI\",LEFT(P159,1)=\"6\"),Table1[[#This Row],[Column1]]+(ROUND(M159,3))+350+ROW()/10000,\"\"))))","v":318.26589999999999},"Phạm Khánh ","Huyền","HỌC SINH GIỎI","8C"]
["159","Trần Khánh","Huyền","2012-06-17","Trần Văn Thiện ","Xóm 11","T","T",7.25,8.75,8.5,8.25,32.75,null,"x","8C","HỌC SINH GIỎI",{"$f":"IF(Table1[[#This Row],[STT]]=\"\",\"\",ROW()-1)","v":159},{"$f":"IF(Table1[[#This Row],[Lơp]]=\"\",\"\",VLOOKUP(Table1[[#This Row],[Lơp]],$AC$3:$AD$14,2,0))","v":40},{"$f":"IF(AND(Q160=\"HỌC SINH XUẤT SẮC\",LEFT(P160,1)=\"9\"),Table1[[#This Row],[Column1]]+(ROUND(M160,3))+400+ROW()/10000,IF(AND(Q160=\"HỌC SINH XUẤT SẮC\",LEFT(P160,1)=\"8\"),Table1[[#This Row],[Column1]]+(ROUND(M160,3))+450+ROW()/10000,IF(AND(Q160=\"HỌC SINH XUẤT SẮC\",LEFT(P160,1)=\"7\"),Table1[[#This Row],[Column1]]+(ROUND(M160,3))+500+ROW()/10000,IF(AND(Q160=\"HỌC SINH XUẤT SẮC\",LEFT(P160,1)=\"6\"),Table1[[#This Row],[Column1]]+(ROUND(M160,3))+550+ROW()/10000,IF(AND(Q160=\"HỌC SINH GIỎI\",LEFT(P160,1)=\"9\"),Table1[[#This Row],[Column1]]+(ROUND(M160,3))+10+ROW()/10000,IF(AND(Q160=\"HỌC SINH GIỎI\",LEFT(P160,1)=\"8\"),Table1[[#This Row],[Column1]]+(ROUND(M160,3))+ 50+ROW()/10000,IF(AND(Q160=\"HỌC SINH GIỎI\",LEFT(P160,1)=\"7\"),Table1[[#This Row],[Column1]]+(ROUND(M160,3))+100+ROW()/10000,IF(AND(Q160=\"HỌC SINH GIỎI\",LEFT(P160,1)=\"6\"),Table1[[#This Row],[Column1]]+(ROUND(M160,3))+150+ROW()/10000,\"\"))))))))","v":122.76600000000001},{"$f":"IF(AND(Q160=\"HỌC SINH XUẤT SẮC\",LEFT(P160,1)=\"9\"),(ROUND(M160,3))+Table1[[#This Row],[Column1]]+10+ROW()/10000,IF(AND(Q160=\"HỌC SINH XUẤT SẮC\",LEFT(P160,1)=\"8\"),Table1[[#This Row],[Column1]]+(ROUND(M160,3))+50+ROW()/10000,IF(AND(Q160=\"HỌC SINH XUẤT SẮC\",LEFT(P160,1)=\"7\"),Table1[[#This Row],[Column1]]+(ROUND(M160,3))+100+ROW()/10000,IF(AND(Q160=\"HỌC SINH XUẤT SẮC\",LEFT(P160,1)=\"6\"),Table1[[#This Row],[Column1]]+(ROUND(M160,3))+150+ROW()/10000,\"\"))))","v":""},{"$f":"IF(AND(Q160=\"HỌC SINH GIỎI\",LEFT(P160,1)=\"9\"),Table1[[#This Row],[Column1]]+(ROUND(M160,3))+200+ROW()/10000,IF(AND(Q160=\"HỌC SINH GIỎI\",LEFT(P160,1)=\"8\"),Table1[[#This Row],[Column1]]+(ROUND(M160,3))+250+ROW()/10000,IF(AND(Q160=\"HỌC SINH GIỎI\",LEFT(P160,1)=\"7\"),Table1[[#This Row],[Column1]]+(ROUND(M160,3))+300+ROW()/10000,IF(AND(Q160=\"HỌC SINH GIỎI\",LEFT(P160,1)=\"6\"),Table1[[#This Row],[Column1]]+(ROUND(M160,3))+350+ROW()/10000,\"\"))))","v":322.76600000000002},"Trần Khánh","Huyền","HỌC SINH GIỎI","8C"]
["160","Trần Thu","Huyền","2012-08-24","Trần Đức Cảnh","Xóm 3","T","T",8.5,8,6.5,7.75,30.75,null,"x","8C","HỌC SINH GIỎI",{"$f":"IF(Table1[[#This Row],[STT]]=\"\",\"\",ROW()-1)","v":160},{"$f":"IF(Table1[[#This Row],[Lơp]]=\"\",\"\",VLOOKUP(Table1[[#This Row],[Lơp]],$AC$3:$AD$14,2,0))","v":40},{"$f":"IF(AND(Q161=\"HỌC SINH XUẤT SẮC\",LEFT(P161,1)=\"9\"),Table1[[#This Row],[Column1]]+(ROUND(M161,3))+400+ROW()/10000,IF(AND(Q161=\"HỌC SINH XUẤT SẮC\",LEFT(P161,1)=\"8\"),Table1[[#This Row],[Column1]]+(ROUND(M161,3))+450+ROW()/10000,IF(AND(Q161=\"HỌC SINH XUẤT SẮC\",LEFT(P161,1)=\"7\"),Table1[[#This Row],[Column1]]+(ROUND(M161,3))+500+ROW()/10000,IF(AND(Q161=\"HỌC SINH XUẤT SẮC\",LEFT(P161,1)=\"6\"),Table1[[#This Row],[Column1]]+(ROUND(M161,3))+550+ROW()/10000,IF(AND(Q161=\"HỌC SINH GIỎI\",LEFT(P161,1)=\"9\"),Table1[[#This Row],[Column1]]+(ROUND(M161,3))+10+ROW()/10000,IF(AND(Q161=\"HỌC SINH GIỎI\",LEFT(P161,1)=\"8\"),Table1[[#This Row],[Column1]]+(ROUND(M161,3))+ 50+ROW()/10000,IF(AND(Q161=\"HỌC SINH GIỎI\",LEFT(P161,1)=\"7\"),Table1[[#This Row],[Column1]]+(ROUND(M161,3))+100+ROW()/10000,IF(AND(Q161=\"HỌC SINH GIỎI\",LEFT(P161,1)=\"6\"),Table1[[#This Row],[Column1]]+(ROUND(M161,3))+150+ROW()/10000,\"\"))))))))","v":120.76609999999999},{"$f":"IF(AND(Q161=\"HỌC SINH XUẤT SẮC\",LEFT(P161,1)=\"9\"),(ROUND(M161,3))+Table1[[#This Row],[Column1]]+10+ROW()/10000,IF(AND(Q161=\"HỌC SINH XUẤT SẮC\",LEFT(P161,1)=\"8\"),Table1[[#This Row],[Column1]]+(ROUND(M161,3))+50+ROW()/10000,IF(AND(Q161=\"HỌC SINH XUẤT SẮC\",LEFT(P161,1)=\"7\"),Table1[[#This Row],[Column1]]+(ROUND(M161,3))+100+ROW()/10000,IF(AND(Q161=\"HỌC SINH XUẤT SẮC\",LEFT(P161,1)=\"6\"),Table1[[#This Row],[Column1]]+(ROUND(M161,3))+150+ROW()/10000,\"\"))))","v":""},{"$f":"IF(AND(Q161=\"HỌC SINH GIỎI\",LEFT(P161,1)=\"9\"),Table1[[#This Row],[Column1]]+(ROUND(M161,3))+200+ROW()/10000,IF(AND(Q161=\"HỌC SINH GIỎI\",LEFT(P161,1)=\"8\"),Table1[[#This Row],[Column1]]+(ROUND(M161,3))+250+ROW()/10000,IF(AND(Q161=\"HỌC SINH GIỎI\",LEFT(P161,1)=\"7\"),Table1[[#This Row],[Column1]]+(ROUND(M161,3))+300+ROW()/10000,IF(AND(Q161=\"HỌC SINH GIỎI\",LEFT(P161,1)=\"6\"),Table1[[#This Row],[Column1]]+(ROUND(M161,3))+350+ROW()/10000,\"\"))))","v":320.76609999999999},"Trần Thu","Huyền","HỌC SINH GIỎI","8C"]
["161","Nịnh Thị Ngân","Khánh","2012-07-19","Nịnh Văn Thiệu","Xóm 3","T","T",8,7,7.75,5.25,28,null,"x","8C","HỌC SINH GIỎI",{"$f":"IF(Table1[[#This Row],[STT]]=\"\",\"\",ROW()-1)","v":161},{"$f":"IF(Table1[[#This Row],[Lơp]]=\"\",\"\",VLOOKUP(Table1[[#This Row],[Lơp]],$AC$3:$AD$14,2,0))","v":40},{"$f":"IF(AND(Q162=\"HỌC SINH XUẤT SẮC\",LEFT(P162,1)=\"9\"),Table1[[#This Row],[Column1]]+(ROUND(M162,3))+400+ROW()/10000,IF(AND(Q162=\"HỌC SINH XUẤT SẮC\",LEFT(P162,1)=\"8\"),Table1[[#This Row],[Column1]]+(ROUND(M162,3))+450+ROW()/10000,IF(AND(Q162=\"HỌC SINH XUẤT SẮC\",LEFT(P162,1)=\"7\"),Table1[[#This Row],[Column1]]+(ROUND(M162,3))+500+ROW()/10000,IF(AND(Q162=\"HỌC SINH XUẤT SẮC\",LEFT(P162,1)=\"6\"),Table1[[#This Row],[Column1]]+(ROUND(M162,3))+550+ROW()/10000,IF(AND(Q162=\"HỌC SINH GIỎI\",LEFT(P162,1)=\"9\"),Table1[[#This Row],[Column1]]+(ROUND(M162,3))+10+ROW()/10000,IF(AND(Q162=\"HỌC SINH GIỎI\",LEFT(P162,1)=\"8\"),Table1[[#This Row],[Column1]]+(ROUND(M162,3))+ 50+ROW()/10000,IF(AND(Q162=\"HỌC SINH GIỎI\",LEFT(P162,1)=\"7\"),Table1[[#This Row],[Column1]]+(ROUND(M162,3))+100+ROW()/10000,IF(AND(Q162=\"HỌC SINH GIỎI\",LEFT(P162,1)=\"6\"),Table1[[#This Row],[Column1]]+(ROUND(M162,3))+150+ROW()/10000,\"\"))))))))","v":118.0162},{"$f":"IF(AND(Q162=\"HỌC SINH XUẤT SẮC\",LEFT(P162,1)=\"9\"),(ROUND(M162,3))+Table1[[#This Row],[Column1]]+10+ROW()/10000,IF(AND(Q162=\"HỌC SINH XUẤT SẮC\",LEFT(P162,1)=\"8\"),Table1[[#This Row],[Column1]]+(ROUND(M162,3))+50+ROW()/10000,IF(AND(Q162=\"HỌC SINH XUẤT SẮC\",LEFT(P162,1)=\"7\"),Table1[[#This Row],[Column1]]+(ROUND(M162,3))+100+ROW()/10000,IF(AND(Q162=\"HỌC SINH XUẤT SẮC\",LEFT(P162,1)=\"6\"),Table1[[#This Row],[Column1]]+(ROUND(M162,3))+150+ROW()/10000,\"\"))))","v":""},{"$f":"IF(AND(Q162=\"HỌC SINH GIỎI\",LEFT(P162,1)=\"9\"),Table1[[#This Row],[Column1]]+(ROUND(M162,3))+200+ROW()/10000,IF(AND(Q162=\"HỌC SINH GIỎI\",LEFT(P162,1)=\"8\"),Table1[[#This Row],[Column1]]+(ROUND(M162,3))+250+ROW()/10000,IF(AND(Q162=\"HỌC SINH GIỎI\",LEFT(P162,1)=\"7\"),Table1[[#This Row],[Column1]]+(ROUND(M162,3))+300+ROW()/10000,IF(AND(Q162=\"HỌC SINH GIỎI\",LEFT(P162,1)=\"6\"),Table1[[#This Row],[Column1]]+(ROUND(M162,3))+350+ROW()/10000,\"\"))))","v":318.01620000000003},"Nịnh Thị Ngân","Khánh","HỌC SINH GIỎI","8C"]
["162","Phạm Thảo","Nguyên","2012-04-10","Phạm văn Đình","Xóm1","T","T",8.25,8.25,5.25,6,27.75,null,"x","8C","HỌC SINH GIỎI",{"$f":"IF(Table1[[#This Row],[STT]]=\"\",\"\",ROW()-1)","v":162},{"$f":"IF(Table1[[#This Row],[Lơp]]=\"\",\"\",VLOOKUP(Table1[[#This Row],[Lơp]],$AC$3:$AD$14,2,0))","v":40},{"$f":"IF(AND(Q163=\"HỌC SINH XUẤT SẮC\",LEFT(P163,1)=\"9\"),Table1[[#This Row],[Column1]]+(ROUND(M163,3))+400+ROW()/10000,IF(AND(Q163=\"HỌC SINH XUẤT SẮC\",LEFT(P163,1)=\"8\"),Table1[[#This Row],[Column1]]+(ROUND(M163,3))+450+ROW()/10000,IF(AND(Q163=\"HỌC SINH XUẤT SẮC\",LEFT(P163,1)=\"7\"),Table1[[#This Row],[Column1]]+(ROUND(M163,3))+500+ROW()/10000,IF(AND(Q163=\"HỌC SINH XUẤT SẮC\",LEFT(P163,1)=\"6\"),Table1[[#This Row],[Column1]]+(ROUND(M163,3))+550+ROW()/10000,IF(AND(Q163=\"HỌC SINH GIỎI\",LEFT(P163,1)=\"9\"),Table1[[#This Row],[Column1]]+(ROUND(M163,3))+10+ROW()/10000,IF(AND(Q163=\"HỌC SINH GIỎI\",LEFT(P163,1)=\"8\"),Table1[[#This Row],[Column1]]+(ROUND(M163,3))+ 50+ROW()/10000,IF(AND(Q163=\"HỌC SINH GIỎI\",LEFT(P163,1)=\"7\"),Table1[[#This Row],[Column1]]+(ROUND(M163,3))+100+ROW()/10000,IF(AND(Q163=\"HỌC SINH GIỎI\",LEFT(P163,1)=\"6\"),Table1[[#This Row],[Column1]]+(ROUND(M163,3))+150+ROW()/10000,\"\"))))))))","v":117.7663},{"$f":"IF(AND(Q163=\"HỌC SINH XUẤT SẮC\",LEFT(P163,1)=\"9\"),(ROUND(M163,3))+Table1[[#This Row],[Column1]]+10+ROW()/10000,IF(AND(Q163=\"HỌC SINH XUẤT SẮC\",LEFT(P163,1)=\"8\"),Table1[[#This Row],[Column1]]+(ROUND(M163,3))+50+ROW()/10000,IF(AND(Q163=\"HỌC SINH XUẤT SẮC\",LEFT(P163,1)=\"7\"),Table1[[#This Row],[Column1]]+(ROUND(M163,3))+100+ROW()/10000,IF(AND(Q163=\"HỌC SINH XUẤT SẮC\",LEFT(P163,1)=\"6\"),Table1[[#This Row],[Column1]]+(ROUND(M163,3))+150+ROW()/10000,\"\"))))","v":""},{"$f":"IF(AND(Q163=\"HỌC SINH GIỎI\",LEFT(P163,1)=\"9\"),Table1[[#This Row],[Column1]]+(ROUND(M163,3))+200+ROW()/10000,IF(AND(Q163=\"HỌC SINH GIỎI\",LEFT(P163,1)=\"8\"),Table1[[#This Row],[Column1]]+(ROUND(M163,3))+250+ROW()/10000,IF(AND(Q163=\"HỌC SINH GIỎI\",LEFT(P163,1)=\"7\"),Table1[[#This Row],[Column1]]+(ROUND(M163,3))+300+ROW()/10000,IF(AND(Q163=\"HỌC SINH GIỎI\",LEFT(P163,1)=\"6\"),Table1[[#This Row],[Column1]]+(ROUND(M163,3))+350+ROW()/10000,\"\"))))","v":317.7663},"Phạm Thảo","Nguyên","HỌC SINH GIỎI","8C"]
["163","Trần Yến ","Nhi","2012-10-13","Trần Thị Nhài","Xóm 7","T","T",7.25,6.75,7,7.75,28.75,null,"x","8C","HỌC SINH GIỎI",{"$f":"IF(Table1[[#This Row],[STT]]=\"\",\"\",ROW()-1)","v":163},{"$f":"IF(Table1[[#This Row],[Lơp]]=\"\",\"\",VLOOKUP(Table1[[#This Row],[Lơp]],$AC$3:$AD$14,2,0))","v":40},{"$f":"IF(AND(Q164=\"HỌC SINH XUẤT SẮC\",LEFT(P164,1)=\"9\"),Table1[[#This Row],[Column1]]+(ROUND(M164,3))+400+ROW()/10000,IF(AND(Q164=\"HỌC SINH XUẤT SẮC\",LEFT(P164,1)=\"8\"),Table1[[#This Row],[Column1]]+(ROUND(M164,3))+450+ROW()/10000,IF(AND(Q164=\"HỌC SINH XUẤT SẮC\",LEFT(P164,1)=\"7\"),Table1[[#This Row],[Column1]]+(ROUND(M164,3))+500+ROW()/10000,IF(AND(Q164=\"HỌC SINH XUẤT SẮC\",LEFT(P164,1)=\"6\"),Table1[[#This Row],[Column1]]+(ROUND(M164,3))+550+ROW()/10000,IF(AND(Q164=\"HỌC SINH GIỎI\",LEFT(P164,1)=\"9\"),Table1[[#This Row],[Column1]]+(ROUND(M164,3))+10+ROW()/10000,IF(AND(Q164=\"HỌC SINH GIỎI\",LEFT(P164,1)=\"8\"),Table1[[#This Row],[Column1]]+(ROUND(M164,3))+ 50+ROW()/10000,IF(AND(Q164=\"HỌC SINH GIỎI\",LEFT(P164,1)=\"7\"),Table1[[#This Row],[Column1]]+(ROUND(M164,3))+100+ROW()/10000,IF(AND(Q164=\"HỌC SINH GIỎI\",LEFT(P164,1)=\"6\"),Table1[[#This Row],[Column1]]+(ROUND(M164,3))+150+ROW()/10000,\"\"))))))))","v":118.7664},{"$f":"IF(AND(Q164=\"HỌC SINH XUẤT SẮC\",LEFT(P164,1)=\"9\"),(ROUND(M164,3))+Table1[[#This Row],[Column1]]+10+ROW()/10000,IF(AND(Q164=\"HỌC SINH XUẤT SẮC\",LEFT(P164,1)=\"8\"),Table1[[#This Row],[Column1]]+(ROUND(M164,3))+50+ROW()/10000,IF(AND(Q164=\"HỌC SINH XUẤT SẮC\",LEFT(P164,1)=\"7\"),Table1[[#This Row],[Column1]]+(ROUND(M164,3))+100+ROW()/10000,IF(AND(Q164=\"HỌC SINH XUẤT SẮC\",LEFT(P164,1)=\"6\"),Table1[[#This Row],[Column1]]+(ROUND(M164,3))+150+ROW()/10000,\"\"))))","v":""},{"$f":"IF(AND(Q164=\"HỌC SINH GIỎI\",LEFT(P164,1)=\"9\"),Table1[[#This Row],[Column1]]+(ROUND(M164,3))+200+ROW()/10000,IF(AND(Q164=\"HỌC SINH GIỎI\",LEFT(P164,1)=\"8\"),Table1[[#This Row],[Column1]]+(ROUND(M164,3))+250+ROW()/10000,IF(AND(Q164=\"HỌC SINH GIỎI\",LEFT(P164,1)=\"7\"),Table1[[#This Row],[Column1]]+(ROUND(M164,3))+300+ROW()/10000,IF(AND(Q164=\"HỌC SINH GIỎI\",LEFT(P164,1)=\"6\"),Table1[[#This Row],[Column1]]+(ROUND(M164,3))+350+ROW()/10000,\"\"))))","v":318.76639999999998},"Trần Yến ","Nhi","HỌC SINH GIỎI","8C"]
["164","Mai Thảo","Quyên","2012-05-02","Mai Ngọc Hoài","Xóm  1","T","T",8.25,7.25,7.75,6.75,30,null,"x","8C","HỌC SINH GIỎI",{"$f":"IF(Table1[[#This Row],[STT]]=\"\",\"\",ROW()-1)","v":164},{"$f":"IF(Table1[[#This Row],[Lơp]]=\"\",\"\",VLOOKUP(Table1[[#This Row],[Lơp]],$AC$3:$AD$14,2,0))","v":40},{"$f":"IF(AND(Q165=\"HỌC SINH XUẤT SẮC\",LEFT(P165,1)=\"9\"),Table1[[#This Row],[Column1]]+(ROUND(M165,3))+400+ROW()/10000,IF(AND(Q165=\"HỌC SINH XUẤT SẮC\",LEFT(P165,1)=\"8\"),Table1[[#This Row],[Column1]]+(ROUND(M165,3))+450+ROW()/10000,IF(AND(Q165=\"HỌC SINH XUẤT SẮC\",LEFT(P165,1)=\"7\"),Table1[[#This Row],[Column1]]+(ROUND(M165,3))+500+ROW()/10000,IF(AND(Q165=\"HỌC SINH XUẤT SẮC\",LEFT(P165,1)=\"6\"),Table1[[#This Row],[Column1]]+(ROUND(M165,3))+550+ROW()/10000,IF(AND(Q165=\"HỌC SINH GIỎI\",LEFT(P165,1)=\"9\"),Table1[[#This Row],[Column1]]+(ROUND(M165,3))+10+ROW()/10000,IF(AND(Q165=\"HỌC SINH GIỎI\",LEFT(P165,1)=\"8\"),Table1[[#This Row],[Column1]]+(ROUND(M165,3))+ 50+ROW()/10000,IF(AND(Q165=\"HỌC SINH GIỎI\",LEFT(P165,1)=\"7\"),Table1[[#This Row],[Column1]]+(ROUND(M165,3))+100+ROW()/10000,IF(AND(Q165=\"HỌC SINH GIỎI\",LEFT(P165,1)=\"6\"),Table1[[#This Row],[Column1]]+(ROUND(M165,3))+150+ROW()/10000,\"\"))))))))","v":120.01649999999999},{"$f":"IF(AND(Q165=\"HỌC SINH XUẤT SẮC\",LEFT(P165,1)=\"9\"),(ROUND(M165,3))+Table1[[#This Row],[Column1]]+10+ROW()/10000,IF(AND(Q165=\"HỌC SINH XUẤT SẮC\",LEFT(P165,1)=\"8\"),Table1[[#This Row],[Column1]]+(ROUND(M165,3))+50+ROW()/10000,IF(AND(Q165=\"HỌC SINH XUẤT SẮC\",LEFT(P165,1)=\"7\"),Table1[[#This Row],[Column1]]+(ROUND(M165,3))+100+ROW()/10000,IF(AND(Q165=\"HỌC SINH XUẤT SẮC\",LEFT(P165,1)=\"6\"),Table1[[#This Row],[Column1]]+(ROUND(M165,3))+150+ROW()/10000,\"\"))))","v":""},{"$f":"IF(AND(Q165=\"HỌC SINH GIỎI\",LEFT(P165,1)=\"9\"),Table1[[#This Row],[Column1]]+(ROUND(M165,3))+200+ROW()/10000,IF(AND(Q165=\"HỌC SINH GIỎI\",LEFT(P165,1)=\"8\"),Table1[[#This Row],[Column1]]+(ROUND(M165,3))+250+ROW()/10000,IF(AND(Q165=\"HỌC SINH GIỎI\",LEFT(P165,1)=\"7\"),Table1[[#This Row],[Column1]]+(ROUND(M165,3))+300+ROW()/10000,IF(AND(Q165=\"HỌC SINH GIỎI\",LEFT(P165,1)=\"6\"),Table1[[#This Row],[Column1]]+(ROUND(M165,3))+350+ROW()/10000,\"\"))))","v":320.01650000000001},"Mai Thảo","Quyên","HỌC SINH GIỎI","8C"]
["165","Trần Diệu ","Quỳnh","2012-10-19","Trần Văn Trường ","Xóm 9","T","T",7,7.25,7.25,6,27.5,null,"x","8C","HỌC SINH GIỎI",{"$f":"IF(Table1[[#This Row],[STT]]=\"\",\"\",ROW()-1)","v":165},{"$f":"IF(Table1[[#This Row],[Lơp]]=\"\",\"\",VLOOKUP(Table1[[#This Row],[Lơp]],$AC$3:$AD$14,2,0))","v":40},{"$f":"IF(AND(Q166=\"HỌC SINH XUẤT SẮC\",LEFT(P166,1)=\"9\"),Table1[[#This Row],[Column1]]+(ROUND(M166,3))+400+ROW()/10000,IF(AND(Q166=\"HỌC SINH XUẤT SẮC\",LEFT(P166,1)=\"8\"),Table1[[#This Row],[Column1]]+(ROUND(M166,3))+450+ROW()/10000,IF(AND(Q166=\"HỌC SINH XUẤT SẮC\",LEFT(P166,1)=\"7\"),Table1[[#This Row],[Column1]]+(ROUND(M166,3))+500+ROW()/10000,IF(AND(Q166=\"HỌC SINH XUẤT SẮC\",LEFT(P166,1)=\"6\"),Table1[[#This Row],[Column1]]+(ROUND(M166,3))+550+ROW()/10000,IF(AND(Q166=\"HỌC SINH GIỎI\",LEFT(P166,1)=\"9\"),Table1[[#This Row],[Column1]]+(ROUND(M166,3))+10+ROW()/10000,IF(AND(Q166=\"HỌC SINH GIỎI\",LEFT(P166,1)=\"8\"),Table1[[#This Row],[Column1]]+(ROUND(M166,3))+ 50+ROW()/10000,IF(AND(Q166=\"HỌC SINH GIỎI\",LEFT(P166,1)=\"7\"),Table1[[#This Row],[Column1]]+(ROUND(M166,3))+100+ROW()/10000,IF(AND(Q166=\"HỌC SINH GIỎI\",LEFT(P166,1)=\"6\"),Table1[[#This Row],[Column1]]+(ROUND(M166,3))+150+ROW()/10000,\"\"))))))))","v":117.5166},{"$f":"IF(AND(Q166=\"HỌC SINH XUẤT SẮC\",LEFT(P166,1)=\"9\"),(ROUND(M166,3))+Table1[[#This Row],[Column1]]+10+ROW()/10000,IF(AND(Q166=\"HỌC SINH XUẤT SẮC\",LEFT(P166,1)=\"8\"),Table1[[#This Row],[Column1]]+(ROUND(M166,3))+50+ROW()/10000,IF(AND(Q166=\"HỌC SINH XUẤT SẮC\",LEFT(P166,1)=\"7\"),Table1[[#This Row],[Column1]]+(ROUND(M166,3))+100+ROW()/10000,IF(AND(Q166=\"HỌC SINH XUẤT SẮC\",LEFT(P166,1)=\"6\"),Table1[[#This Row],[Column1]]+(ROUND(M166,3))+150+ROW()/10000,\"\"))))","v":""},{"$f":"IF(AND(Q166=\"HỌC SINH GIỎI\",LEFT(P166,1)=\"9\"),Table1[[#This Row],[Column1]]+(ROUND(M166,3))+200+ROW()/10000,IF(AND(Q166=\"HỌC SINH GIỎI\",LEFT(P166,1)=\"8\"),Table1[[#This Row],[Column1]]+(ROUND(M166,3))+250+ROW()/10000,IF(AND(Q166=\"HỌC SINH GIỎI\",LEFT(P166,1)=\"7\"),Table1[[#This Row],[Column1]]+(ROUND(M166,3))+300+ROW()/10000,IF(AND(Q166=\"HỌC SINH GIỎI\",LEFT(P166,1)=\"6\"),Table1[[#This Row],[Column1]]+(ROUND(M166,3))+350+ROW()/10000,\"\"))))","v":317.51659999999998},"Trần Diệu ","Quỳnh","HỌC SINH GIỎI","8C"]
["166","Nguyễn Thị Phương ","Thảo","2012-11-12","Nguyễn Văn Luyến","Xóm 6","T","T",7.25,6.75,7.25,7,28.25,null,"x","8C","HỌC SINH GIỎI",{"$f":"IF(Table1[[#This Row],[STT]]=\"\",\"\",ROW()-1)","v":166},{"$f":"IF(Table1[[#This Row],[Lơp]]=\"\",\"\",VLOOKUP(Table1[[#This Row],[Lơp]],$AC$3:$AD$14,2,0))","v":40},{"$f":"IF(AND(Q167=\"HỌC SINH XUẤT SẮC\",LEFT(P167,1)=\"9\"),Table1[[#This Row],[Column1]]+(ROUND(M167,3))+400+ROW()/10000,IF(AND(Q167=\"HỌC SINH XUẤT SẮC\",LEFT(P167,1)=\"8\"),Table1[[#This Row],[Column1]]+(ROUND(M167,3))+450+ROW()/10000,IF(AND(Q167=\"HỌC SINH XUẤT SẮC\",LEFT(P167,1)=\"7\"),Table1[[#This Row],[Column1]]+(ROUND(M167,3))+500+ROW()/10000,IF(AND(Q167=\"HỌC SINH XUẤT SẮC\",LEFT(P167,1)=\"6\"),Table1[[#This Row],[Column1]]+(ROUND(M167,3))+550+ROW()/10000,IF(AND(Q167=\"HỌC SINH GIỎI\",LEFT(P167,1)=\"9\"),Table1[[#This Row],[Column1]]+(ROUND(M167,3))+10+ROW()/10000,IF(AND(Q167=\"HỌC SINH GIỎI\",LEFT(P167,1)=\"8\"),Table1[[#This Row],[Column1]]+(ROUND(M167,3))+ 50+ROW()/10000,IF(AND(Q167=\"HỌC SINH GIỎI\",LEFT(P167,1)=\"7\"),Table1[[#This Row],[Column1]]+(ROUND(M167,3))+100+ROW()/10000,IF(AND(Q167=\"HỌC SINH GIỎI\",LEFT(P167,1)=\"6\"),Table1[[#This Row],[Column1]]+(ROUND(M167,3))+150+ROW()/10000,\"\"))))))))","v":118.2667},{"$f":"IF(AND(Q167=\"HỌC SINH XUẤT SẮC\",LEFT(P167,1)=\"9\"),(ROUND(M167,3))+Table1[[#This Row],[Column1]]+10+ROW()/10000,IF(AND(Q167=\"HỌC SINH XUẤT SẮC\",LEFT(P167,1)=\"8\"),Table1[[#This Row],[Column1]]+(ROUND(M167,3))+50+ROW()/10000,IF(AND(Q167=\"HỌC SINH XUẤT SẮC\",LEFT(P167,1)=\"7\"),Table1[[#This Row],[Column1]]+(ROUND(M167,3))+100+ROW()/10000,IF(AND(Q167=\"HỌC SINH XUẤT SẮC\",LEFT(P167,1)=\"6\"),Table1[[#This Row],[Column1]]+(ROUND(M167,3))+150+ROW()/10000,\"\"))))","v":""},{"$f":"IF(AND(Q167=\"HỌC SINH GIỎI\",LEFT(P167,1)=\"9\"),Table1[[#This Row],[Column1]]+(ROUND(M167,3))+200+ROW()/10000,IF(AND(Q167=\"HỌC SINH GIỎI\",LEFT(P167,1)=\"8\"),Table1[[#This Row],[Column1]]+(ROUND(M167,3))+250+ROW()/10000,IF(AND(Q167=\"HỌC SINH GIỎI\",LEFT(P167,1)=\"7\"),Table1[[#This Row],[Column1]]+(ROUND(M167,3))+300+ROW()/10000,IF(AND(Q167=\"HỌC SINH GIỎI\",LEFT(P167,1)=\"6\"),Table1[[#This Row],[Column1]]+(ROUND(M167,3))+350+ROW()/10000,\"\"))))","v":318.26670000000001},"Nguyễn Thị Phương ","Thảo","HỌC SINH GIỎI","8C"]
["167","Nguyễn Thị Thanh","Thảo","2012-03-14","Nguyễn Văn Ba","Xóm 8","T","T",8.75,8.5,6.75,7.5,31.5,null,"x","8C","HỌC SINH GIỎI",{"$f":"IF(Table1[[#This Row],[STT]]=\"\",\"\",ROW()-1)","v":167},{"$f":"IF(Table1[[#This Row],[Lơp]]=\"\",\"\",VLOOKUP(Table1[[#This Row],[Lơp]],$AC$3:$AD$14,2,0))","v":40},{"$f":"IF(AND(Q168=\"HỌC SINH XUẤT SẮC\",LEFT(P168,1)=\"9\"),Table1[[#This Row],[Column1]]+(ROUND(M168,3))+400+ROW()/10000,IF(AND(Q168=\"HỌC SINH XUẤT SẮC\",LEFT(P168,1)=\"8\"),Table1[[#This Row],[Column1]]+(ROUND(M168,3))+450+ROW()/10000,IF(AND(Q168=\"HỌC SINH XUẤT SẮC\",LEFT(P168,1)=\"7\"),Table1[[#This Row],[Column1]]+(ROUND(M168,3))+500+ROW()/10000,IF(AND(Q168=\"HỌC SINH XUẤT SẮC\",LEFT(P168,1)=\"6\"),Table1[[#This Row],[Column1]]+(ROUND(M168,3))+550+ROW()/10000,IF(AND(Q168=\"HỌC SINH GIỎI\",LEFT(P168,1)=\"9\"),Table1[[#This Row],[Column1]]+(ROUND(M168,3))+10+ROW()/10000,IF(AND(Q168=\"HỌC SINH GIỎI\",LEFT(P168,1)=\"8\"),Table1[[#This Row],[Column1]]+(ROUND(M168,3))+ 50+ROW()/10000,IF(AND(Q168=\"HỌC SINH GIỎI\",LEFT(P168,1)=\"7\"),Table1[[#This Row],[Column1]]+(ROUND(M168,3))+100+ROW()/10000,IF(AND(Q168=\"HỌC SINH GIỎI\",LEFT(P168,1)=\"6\"),Table1[[#This Row],[Column1]]+(ROUND(M168,3))+150+ROW()/10000,\"\"))))))))","v":121.5168},{"$f":"IF(AND(Q168=\"HỌC SINH XUẤT SẮC\",LEFT(P168,1)=\"9\"),(ROUND(M168,3))+Table1[[#This Row],[Column1]]+10+ROW()/10000,IF(AND(Q168=\"HỌC SINH XUẤT SẮC\",LEFT(P168,1)=\"8\"),Table1[[#This Row],[Column1]]+(ROUND(M168,3))+50+ROW()/10000,IF(AND(Q168=\"HỌC SINH XUẤT SẮC\",LEFT(P168,1)=\"7\"),Table1[[#This Row],[Column1]]+(ROUND(M168,3))+100+ROW()/10000,IF(AND(Q168=\"HỌC SINH XUẤT SẮC\",LEFT(P168,1)=\"6\"),Table1[[#This Row],[Column1]]+(ROUND(M168,3))+150+ROW()/10000,\"\"))))","v":""},{"$f":"IF(AND(Q168=\"HỌC SINH GIỎI\",LEFT(P168,1)=\"9\"),Table1[[#This Row],[Column1]]+(ROUND(M168,3))+200+ROW()/10000,IF(AND(Q168=\"HỌC SINH GIỎI\",LEFT(P168,1)=\"8\"),Table1[[#This Row],[Column1]]+(ROUND(M168,3))+250+ROW()/10000,IF(AND(Q168=\"HỌC SINH GIỎI\",LEFT(P168,1)=\"7\"),Table1[[#This Row],[Column1]]+(ROUND(M168,3))+300+ROW()/10000,IF(AND(Q168=\"HỌC SINH GIỎI\",LEFT(P168,1)=\"6\"),Table1[[#This Row],[Column1]]+(ROUND(M168,3))+350+ROW()/10000,\"\"))))","v":321.51679999999999},"Nguyễn Thị Thanh","Thảo","HỌC SINH GIỎI","8C"]
["168","Phạm Trần Khánh","Thư","2012-10-09","Phạm Khánh Toàn","Xóm 3","T","T",8.75,8.5,6.25,7.5,31,null,"x","8C","HỌC SINH GIỎI",{"$f":"IF(Table1[[#This Row],[STT]]=\"\",\"\",ROW()-1)","v":168},{"$f":"IF(Table1[[#This Row],[Lơp]]=\"\",\"\",VLOOKUP(Table1[[#This Row],[Lơp]],$AC$3:$AD$14,2,0))","v":40},{"$f":"IF(AND(Q169=\"HỌC SINH XUẤT SẮC\",LEFT(P169,1)=\"9\"),Table1[[#This Row],[Column1]]+(ROUND(M169,3))+400+ROW()/10000,IF(AND(Q169=\"HỌC SINH XUẤT SẮC\",LEFT(P169,1)=\"8\"),Table1[[#This Row],[Column1]]+(ROUND(M169,3))+450+ROW()/10000,IF(AND(Q169=\"HỌC SINH XUẤT SẮC\",LEFT(P169,1)=\"7\"),Table1[[#This Row],[Column1]]+(ROUND(M169,3))+500+ROW()/10000,IF(AND(Q169=\"HỌC SINH XUẤT SẮC\",LEFT(P169,1)=\"6\"),Table1[[#This Row],[Column1]]+(ROUND(M169,3))+550+ROW()/10000,IF(AND(Q169=\"HỌC SINH GIỎI\",LEFT(P169,1)=\"9\"),Table1[[#This Row],[Column1]]+(ROUND(M169,3))+10+ROW()/10000,IF(AND(Q169=\"HỌC SINH GIỎI\",LEFT(P169,1)=\"8\"),Table1[[#This Row],[Column1]]+(ROUND(M169,3))+ 50+ROW()/10000,IF(AND(Q169=\"HỌC SINH GIỎI\",LEFT(P169,1)=\"7\"),Table1[[#This Row],[Column1]]+(ROUND(M169,3))+100+ROW()/10000,IF(AND(Q169=\"HỌC SINH GIỎI\",LEFT(P169,1)=\"6\"),Table1[[#This Row],[Column1]]+(ROUND(M169,3))+150+ROW()/10000,\"\"))))))))","v":121.01690000000001},{"$f":"IF(AND(Q169=\"HỌC SINH XUẤT SẮC\",LEFT(P169,1)=\"9\"),(ROUND(M169,3))+Table1[[#This Row],[Column1]]+10+ROW()/10000,IF(AND(Q169=\"HỌC SINH XUẤT SẮC\",LEFT(P169,1)=\"8\"),Table1[[#This Row],[Column1]]+(ROUND(M169,3))+50+ROW()/10000,IF(AND(Q169=\"HỌC SINH XUẤT SẮC\",LEFT(P169,1)=\"7\"),Table1[[#This Row],[Column1]]+(ROUND(M169,3))+100+ROW()/10000,IF(AND(Q169=\"HỌC SINH XUẤT SẮC\",LEFT(P169,1)=\"6\"),Table1[[#This Row],[Column1]]+(ROUND(M169,3))+150+ROW()/10000,\"\"))))","v":""},{"$f":"IF(AND(Q169=\"HỌC SINH GIỎI\",LEFT(P169,1)=\"9\"),Table1[[#This Row],[Column1]]+(ROUND(M169,3))+200+ROW()/10000,IF(AND(Q169=\"HỌC SINH GIỎI\",LEFT(P169,1)=\"8\"),Table1[[#This Row],[Column1]]+(ROUND(M169,3))+250+ROW()/10000,IF(AND(Q169=\"HỌC SINH GIỎI\",LEFT(P169,1)=\"7\"),Table1[[#This Row],[Column1]]+(ROUND(M169,3))+300+ROW()/10000,IF(AND(Q169=\"HỌC SINH GIỎI\",LEFT(P169,1)=\"6\"),Table1[[#This Row],[Column1]]+(ROUND(M169,3))+350+ROW()/10000,\"\"))))","v":321.01690000000002},"Phạm Trần Khánh","Thư","HỌC SINH GIỎI","8C"]
["169","Vũ Anh ","Thư","2012-05-17","Vũ Cao Tuyên","Xóm 9","T","T",7.5,9,7.5,8.25,32.25,null,"x","8C","HỌC SINH GIỎI",{"$f":"IF(Table1[[#This Row],[STT]]=\"\",\"\",ROW()-1)","v":169},{"$f":"IF(Table1[[#This Row],[Lơp]]=\"\",\"\",VLOOKUP(Table1[[#This Row],[Lơp]],$AC$3:$AD$14,2,0))","v":40},{"$f":"IF(AND(Q170=\"HỌC SINH XUẤT SẮC\",LEFT(P170,1)=\"9\"),Table1[[#This Row],[Column1]]+(ROUND(M170,3))+400+ROW()/10000,IF(AND(Q170=\"HỌC SINH XUẤT SẮC\",LEFT(P170,1)=\"8\"),Table1[[#This Row],[Column1]]+(ROUND(M170,3))+450+ROW()/10000,IF(AND(Q170=\"HỌC SINH XUẤT SẮC\",LEFT(P170,1)=\"7\"),Table1[[#This Row],[Column1]]+(ROUND(M170,3))+500+ROW()/10000,IF(AND(Q170=\"HỌC SINH XUẤT SẮC\",LEFT(P170,1)=\"6\"),Table1[[#This Row],[Column1]]+(ROUND(M170,3))+550+ROW()/10000,IF(AND(Q170=\"HỌC SINH GIỎI\",LEFT(P170,1)=\"9\"),Table1[[#This Row],[Column1]]+(ROUND(M170,3))+10+ROW()/10000,IF(AND(Q170=\"HỌC SINH GIỎI\",LEFT(P170,1)=\"8\"),Table1[[#This Row],[Column1]]+(ROUND(M170,3))+ 50+ROW()/10000,IF(AND(Q170=\"HỌC SINH GIỎI\",LEFT(P170,1)=\"7\"),Table1[[#This Row],[Column1]]+(ROUND(M170,3))+100+ROW()/10000,IF(AND(Q170=\"HỌC SINH GIỎI\",LEFT(P170,1)=\"6\"),Table1[[#This Row],[Column1]]+(ROUND(M170,3))+150+ROW()/10000,\"\"))))))))","v":122.267},{"$f":"IF(AND(Q170=\"HỌC SINH XUẤT SẮC\",LEFT(P170,1)=\"9\"),(ROUND(M170,3))+Table1[[#This Row],[Column1]]+10+ROW()/10000,IF(AND(Q170=\"HỌC SINH XUẤT SẮC\",LEFT(P170,1)=\"8\"),Table1[[#This Row],[Column1]]+(ROUND(M170,3))+50+ROW()/10000,IF(AND(Q170=\"HỌC SINH XUẤT SẮC\",LEFT(P170,1)=\"7\"),Table1[[#This Row],[Column1]]+(ROUND(M170,3))+100+ROW()/10000,IF(AND(Q170=\"HỌC SINH XUẤT SẮC\",LEFT(P170,1)=\"6\"),Table1[[#This Row],[Column1]]+(ROUND(M170,3))+150+ROW()/10000,\"\"))))","v":""},{"$f":"IF(AND(Q170=\"HỌC SINH GIỎI\",LEFT(P170,1)=\"9\"),Table1[[#This Row],[Column1]]+(ROUND(M170,3))+200+ROW()/10000,IF(AND(Q170=\"HỌC SINH GIỎI\",LEFT(P170,1)=\"8\"),Table1[[#This Row],[Column1]]+(ROUND(M170,3))+250+ROW()/10000,IF(AND(Q170=\"HỌC SINH GIỎI\",LEFT(P170,1)=\"7\"),Table1[[#This Row],[Column1]]+(ROUND(M170,3))+300+ROW()/10000,IF(AND(Q170=\"HỌC SINH GIỎI\",LEFT(P170,1)=\"6\"),Table1[[#This Row],[Column1]]+(ROUND(M170,3))+350+ROW()/10000,\"\"))))","v":322.267},"Vũ Anh ","Thư","HỌC SINH GIỎI","8C"]
["170","Lê Bảo","Trâm","2012-09-24","Lê Văn Toàn","Xóm 5","T","T",8.5,8,8.75,8,33.25,null,"x","8C","HỌC SINH GIỎI",{"$f":"IF(Table1[[#This Row],[STT]]=\"\",\"\",ROW()-1)","v":170},{"$f":"IF(Table1[[#This Row],[Lơp]]=\"\",\"\",VLOOKUP(Table1[[#This Row],[Lơp]],$AC$3:$AD$14,2,0))","v":40},{"$f":"IF(AND(Q171=\"HỌC SINH XUẤT SẮC\",LEFT(P171,1)=\"9\"),Table1[[#This Row],[Column1]]+(ROUND(M171,3))+400+ROW()/10000,IF(AND(Q171=\"HỌC SINH XUẤT SẮC\",LEFT(P171,1)=\"8\"),Table1[[#This Row],[Column1]]+(ROUND(M171,3))+450+ROW()/10000,IF(AND(Q171=\"HỌC SINH XUẤT SẮC\",LEFT(P171,1)=\"7\"),Table1[[#This Row],[Column1]]+(ROUND(M171,3))+500+ROW()/10000,IF(AND(Q171=\"HỌC SINH XUẤT SẮC\",LEFT(P171,1)=\"6\"),Table1[[#This Row],[Column1]]+(ROUND(M171,3))+550+ROW()/10000,IF(AND(Q171=\"HỌC SINH GIỎI\",LEFT(P171,1)=\"9\"),Table1[[#This Row],[Column1]]+(ROUND(M171,3))+10+ROW()/10000,IF(AND(Q171=\"HỌC SINH GIỎI\",LEFT(P171,1)=\"8\"),Table1[[#This Row],[Column1]]+(ROUND(M171,3))+ 50+ROW()/10000,IF(AND(Q171=\"HỌC SINH GIỎI\",LEFT(P171,1)=\"7\"),Table1[[#This Row],[Column1]]+(ROUND(M171,3))+100+ROW()/10000,IF(AND(Q171=\"HỌC SINH GIỎI\",LEFT(P171,1)=\"6\"),Table1[[#This Row],[Column1]]+(ROUND(M171,3))+150+ROW()/10000,\"\"))))))))","v":123.2671},{"$f":"IF(AND(Q171=\"HỌC SINH XUẤT SẮC\",LEFT(P171,1)=\"9\"),(ROUND(M171,3))+Table1[[#This Row],[Column1]]+10+ROW()/10000,IF(AND(Q171=\"HỌC SINH XUẤT SẮC\",LEFT(P171,1)=\"8\"),Table1[[#This Row],[Column1]]+(ROUND(M171,3))+50+ROW()/10000,IF(AND(Q171=\"HỌC SINH XUẤT SẮC\",LEFT(P171,1)=\"7\"),Table1[[#This Row],[Column1]]+(ROUND(M171,3))+100+ROW()/10000,IF(AND(Q171=\"HỌC SINH XUẤT SẮC\",LEFT(P171,1)=\"6\"),Table1[[#This Row],[Column1]]+(ROUND(M171,3))+150+ROW()/10000,\"\"))))","v":""},{"$f":"IF(AND(Q171=\"HỌC SINH GIỎI\",LEFT(P171,1)=\"9\"),Table1[[#This Row],[Column1]]+(ROUND(M171,3))+200+ROW()/10000,IF(AND(Q171=\"HỌC SINH GIỎI\",LEFT(P171,1)=\"8\"),Table1[[#This Row],[Column1]]+(ROUND(M171,3))+250+ROW()/10000,IF(AND(Q171=\"HỌC SINH GIỎI\",LEFT(P171,1)=\"7\"),Table1[[#This Row],[Column1]]+(ROUND(M171,3))+300+ROW()/10000,IF(AND(Q171=\"HỌC SINH GIỎI\",LEFT(P171,1)=\"6\"),Table1[[#This Row],[Column1]]+(ROUND(M171,3))+350+ROW()/10000,\"\"))))","v":323.26710000000003},"Lê Bảo","Trâm","HỌC SINH GIỎI","8C"]
["171","Lê Anh","Tú","2012-11-05","Lê Quốc Đạt","Xóm 4","T","T",7,8,5.25,7.5,27.75,null,"x","8C","HỌC SINH GIỎI",{"$f":"IF(Table1[[#This Row],[STT]]=\"\",\"\",ROW()-1)","v":171},{"$f":"IF(Table1[[#This Row],[Lơp]]=\"\",\"\",VLOOKUP(Table1[[#This Row],[Lơp]],$AC$3:$AD$14,2,0))","v":40},{"$f":"IF(AND(Q172=\"HỌC SINH XUẤT SẮC\",LEFT(P172,1)=\"9\"),Table1[[#This Row],[Column1]]+(ROUND(M172,3))+400+ROW()/10000,IF(AND(Q172=\"HỌC SINH XUẤT SẮC\",LEFT(P172,1)=\"8\"),Table1[[#This Row],[Column1]]+(ROUND(M172,3))+450+ROW()/10000,IF(AND(Q172=\"HỌC SINH XUẤT SẮC\",LEFT(P172,1)=\"7\"),Table1[[#This Row],[Column1]]+(ROUND(M172,3))+500+ROW()/10000,IF(AND(Q172=\"HỌC SINH XUẤT SẮC\",LEFT(P172,1)=\"6\"),Table1[[#This Row],[Column1]]+(ROUND(M172,3))+550+ROW()/10000,IF(AND(Q172=\"HỌC SINH GIỎI\",LEFT(P172,1)=\"9\"),Table1[[#This Row],[Column1]]+(ROUND(M172,3))+10+ROW()/10000,IF(AND(Q172=\"HỌC SINH GIỎI\",LEFT(P172,1)=\"8\"),Table1[[#This Row],[Column1]]+(ROUND(M172,3))+ 50+ROW()/10000,IF(AND(Q172=\"HỌC SINH GIỎI\",LEFT(P172,1)=\"7\"),Table1[[#This Row],[Column1]]+(ROUND(M172,3))+100+ROW()/10000,IF(AND(Q172=\"HỌC SINH GIỎI\",LEFT(P172,1)=\"6\"),Table1[[#This Row],[Column1]]+(ROUND(M172,3))+150+ROW()/10000,\"\"))))))))","v":117.7672},{"$f":"IF(AND(Q172=\"HỌC SINH XUẤT SẮC\",LEFT(P172,1)=\"9\"),(ROUND(M172,3))+Table1[[#This Row],[Column1]]+10+ROW()/10000,IF(AND(Q172=\"HỌC SINH XUẤT SẮC\",LEFT(P172,1)=\"8\"),Table1[[#This Row],[Column1]]+(ROUND(M172,3))+50+ROW()/10000,IF(AND(Q172=\"HỌC SINH XUẤT SẮC\",LEFT(P172,1)=\"7\"),Table1[[#This Row],[Column1]]+(ROUND(M172,3))+100+ROW()/10000,IF(AND(Q172=\"HỌC SINH XUẤT SẮC\",LEFT(P172,1)=\"6\"),Table1[[#This Row],[Column1]]+(ROUND(M172,3))+150+ROW()/10000,\"\"))))","v":""},{"$f":"IF(AND(Q172=\"HỌC SINH GIỎI\",LEFT(P172,1)=\"9\"),Table1[[#This Row],[Column1]]+(ROUND(M172,3))+200+ROW()/10000,IF(AND(Q172=\"HỌC SINH GIỎI\",LEFT(P172,1)=\"8\"),Table1[[#This Row],[Column1]]+(ROUND(M172,3))+250+ROW()/10000,IF(AND(Q172=\"HỌC SINH GIỎI\",LEFT(P172,1)=\"7\"),Table1[[#This Row],[Column1]]+(ROUND(M172,3))+300+ROW()/10000,IF(AND(Q172=\"HỌC SINH GIỎI\",LEFT(P172,1)=\"6\"),Table1[[#This Row],[Column1]]+(ROUND(M172,3))+350+ROW()/10000,\"\"))))","v":317.7672},"Lê Anh","Tú","HỌC SINH GIỎI","8C"]
["172","Phạm Thị Tố ","Uyên","2012-12-25","Phạm Đình Tuyển","Xóm3","T","T",8.5,8.75,7.75,8,33,null,"x","8C","HỌC SINH GIỎI",{"$f":"IF(Table1[[#This Row],[STT]]=\"\",\"\",ROW()-1)","v":172},{"$f":"IF(Table1[[#This Row],[Lơp]]=\"\",\"\",VLOOKUP(Table1[[#This Row],[Lơp]],$AC$3:$AD$14,2,0))","v":40},{"$f":"IF(AND(Q173=\"HỌC SINH XUẤT SẮC\",LEFT(P173,1)=\"9\"),Table1[[#This Row],[Column1]]+(ROUND(M173,3))+400+ROW()/10000,IF(AND(Q173=\"HỌC SINH XUẤT SẮC\",LEFT(P173,1)=\"8\"),Table1[[#This Row],[Column1]]+(ROUND(M173,3))+450+ROW()/10000,IF(AND(Q173=\"HỌC SINH XUẤT SẮC\",LEFT(P173,1)=\"7\"),Table1[[#This Row],[Column1]]+(ROUND(M173,3))+500+ROW()/10000,IF(AND(Q173=\"HỌC SINH XUẤT SẮC\",LEFT(P173,1)=\"6\"),Table1[[#This Row],[Column1]]+(ROUND(M173,3))+550+ROW()/10000,IF(AND(Q173=\"HỌC SINH GIỎI\",LEFT(P173,1)=\"9\"),Table1[[#This Row],[Column1]]+(ROUND(M173,3))+10+ROW()/10000,IF(AND(Q173=\"HỌC SINH GIỎI\",LEFT(P173,1)=\"8\"),Table1[[#This Row],[Column1]]+(ROUND(M173,3))+ 50+ROW()/10000,IF(AND(Q173=\"HỌC SINH GIỎI\",LEFT(P173,1)=\"7\"),Table1[[#This Row],[Column1]]+(ROUND(M173,3))+100+ROW()/10000,IF(AND(Q173=\"HỌC SINH GIỎI\",LEFT(P173,1)=\"6\"),Table1[[#This Row],[Column1]]+(ROUND(M173,3))+150+ROW()/10000,\"\"))))))))","v":123.01730000000001},{"$f":"IF(AND(Q173=\"HỌC SINH XUẤT SẮC\",LEFT(P173,1)=\"9\"),(ROUND(M173,3))+Table1[[#This Row],[Column1]]+10+ROW()/10000,IF(AND(Q173=\"HỌC SINH XUẤT SẮC\",LEFT(P173,1)=\"8\"),Table1[[#This Row],[Column1]]+(ROUND(M173,3))+50+ROW()/10000,IF(AND(Q173=\"HỌC SINH XUẤT SẮC\",LEFT(P173,1)=\"7\"),Table1[[#This Row],[Column1]]+(ROUND(M173,3))+100+ROW()/10000,IF(AND(Q173=\"HỌC SINH XUẤT SẮC\",LEFT(P173,1)=\"6\"),Table1[[#This Row],[Column1]]+(ROUND(M173,3))+150+ROW()/10000,\"\"))))","v":""},{"$f":"IF(AND(Q173=\"HỌC SINH GIỎI\",LEFT(P173,1)=\"9\"),Table1[[#This Row],[Column1]]+(ROUND(M173,3))+200+ROW()/10000,IF(AND(Q173=\"HỌC SINH GIỎI\",LEFT(P173,1)=\"8\"),Table1[[#This Row],[Column1]]+(ROUND(M173,3))+250+ROW()/10000,IF(AND(Q173=\"HỌC SINH GIỎI\",LEFT(P173,1)=\"7\"),Table1[[#This Row],[Column1]]+(ROUND(M173,3))+300+ROW()/10000,IF(AND(Q173=\"HỌC SINH GIỎI\",LEFT(P173,1)=\"6\"),Table1[[#This Row],[Column1]]+(ROUND(M173,3))+350+ROW()/10000,\"\"))))","v":323.01729999999998},"Phạm Thị Tố ","Uyên","HỌC SINH GIỎI","8C"]
["173","Tống Khánh","Vy","2012-02-10","Tống Đức Xuân","Xóm 3","T","T",5.75,8.5,7.25,6.25,27.75,null,"x","8C","HỌC SINH GIỎI",{"$f":"IF(Table1[[#This Row],[STT]]=\"\",\"\",ROW()-1)","v":173},{"$f":"IF(Table1[[#This Row],[Lơp]]=\"\",\"\",VLOOKUP(Table1[[#This Row],[Lơp]],$AC$3:$AD$14,2,0))","v":40},{"$f":"IF(AND(Q174=\"HỌC SINH XUẤT SẮC\",LEFT(P174,1)=\"9\"),Table1[[#This Row],[Column1]]+(ROUND(M174,3))+400+ROW()/10000,IF(AND(Q174=\"HỌC SINH XUẤT SẮC\",LEFT(P174,1)=\"8\"),Table1[[#This Row],[Column1]]+(ROUND(M174,3))+450+ROW()/10000,IF(AND(Q174=\"HỌC SINH XUẤT SẮC\",LEFT(P174,1)=\"7\"),Table1[[#This Row],[Column1]]+(ROUND(M174,3))+500+ROW()/10000,IF(AND(Q174=\"HỌC SINH XUẤT SẮC\",LEFT(P174,1)=\"6\"),Table1[[#This Row],[Column1]]+(ROUND(M174,3))+550+ROW()/10000,IF(AND(Q174=\"HỌC SINH GIỎI\",LEFT(P174,1)=\"9\"),Table1[[#This Row],[Column1]]+(ROUND(M174,3))+10+ROW()/10000,IF(AND(Q174=\"HỌC SINH GIỎI\",LEFT(P174,1)=\"8\"),Table1[[#This Row],[Column1]]+(ROUND(M174,3))+ 50+ROW()/10000,IF(AND(Q174=\"HỌC SINH GIỎI\",LEFT(P174,1)=\"7\"),Table1[[#This Row],[Column1]]+(ROUND(M174,3))+100+ROW()/10000,IF(AND(Q174=\"HỌC SINH GIỎI\",LEFT(P174,1)=\"6\"),Table1[[#This Row],[Column1]]+(ROUND(M174,3))+150+ROW()/10000,\"\"))))))))","v":117.76739999999999},{"$f":"IF(AND(Q174=\"HỌC SINH XUẤT SẮC\",LEFT(P174,1)=\"9\"),(ROUND(M174,3))+Table1[[#This Row],[Column1]]+10+ROW()/10000,IF(AND(Q174=\"HỌC SINH XUẤT SẮC\",LEFT(P174,1)=\"8\"),Table1[[#This Row],[Column1]]+(ROUND(M174,3))+50+ROW()/10000,IF(AND(Q174=\"HỌC SINH XUẤT SẮC\",LEFT(P174,1)=\"7\"),Table1[[#This Row],[Column1]]+(ROUND(M174,3))+100+ROW()/10000,IF(AND(Q174=\"HỌC SINH XUẤT SẮC\",LEFT(P174,1)=\"6\"),Table1[[#This Row],[Column1]]+(ROUND(M174,3))+150+ROW()/10000,\"\"))))","v":""},{"$f":"IF(AND(Q174=\"HỌC SINH GIỎI\",LEFT(P174,1)=\"9\"),Table1[[#This Row],[Column1]]+(ROUND(M174,3))+200+ROW()/10000,IF(AND(Q174=\"HỌC SINH GIỎI\",LEFT(P174,1)=\"8\"),Table1[[#This Row],[Column1]]+(ROUND(M174,3))+250+ROW()/10000,IF(AND(Q174=\"HỌC SINH GIỎI\",LEFT(P174,1)=\"7\"),Table1[[#This Row],[Column1]]+(ROUND(M174,3))+300+ROW()/10000,IF(AND(Q174=\"HỌC SINH GIỎI\",LEFT(P174,1)=\"6\"),Table1[[#This Row],[Column1]]+(ROUND(M174,3))+350+ROW()/10000,\"\"))))","v":317.76740000000001},"Tống Khánh","Vy","HỌC SINH GIỎI","8C"]
[null,null,null,null,null,null,null,null,null,null,null,null,{"$f":"IF(AND(I175=\"\",J175=\"\",K175=\"\",L175=\"\"),\"\",SUM(I175:L175))","v":""},null,null,null,"",{"$f":"IF(Table1[[#This Row],[STT]]=\"\",\"\",ROW()-1)","v":""},{"$f":"IF(Table1[[#This Row],[Lơp]]=\"\",\"\",VLOOKUP(Table1[[#This Row],[Lơp]],$AC$3:$AD$14,2,0))","v":""},{"$f":"IF(AND(Q175=\"HỌC SINH XUẤT SẮC\",LEFT(P175,1)=\"9\"),Table1[[#This Row],[Column1]]+(ROUND(M175,3))+400+ROW()/10000,IF(AND(Q175=\"HỌC SINH XUẤT SẮC\",LEFT(P175,1)=\"8\"),Table1[[#This Row],[Column1]]+(ROUND(M175,3))+450+ROW()/10000,IF(AND(Q175=\"HỌC SINH XUẤT SẮC\",LEFT(P175,1)=\"7\"),Table1[[#This Row],[Column1]]+(ROUND(M175,3))+500+ROW()/10000,IF(AND(Q175=\"HỌC SINH XUẤT SẮC\",LEFT(P175,1)=\"6\"),Table1[[#This Row],[Column1]]+(ROUND(M175,3))+550+ROW()/10000,IF(AND(Q175=\"HỌC SINH GIỎI\",LEFT(P175,1)=\"9\"),Table1[[#This Row],[Column1]]+(ROUND(M175,3))+10+ROW()/10000,IF(AND(Q175=\"HỌC SINH GIỎI\",LEFT(P175,1)=\"8\"),Table1[[#This Row],[Column1]]+(ROUND(M175,3))+ 50+ROW()/10000,IF(AND(Q175=\"HỌC SINH GIỎI\",LEFT(P175,1)=\"7\"),Table1[[#This Row],[Column1]]+(ROUND(M175,3))+100+ROW()/10000,IF(AND(Q175=\"HỌC SINH GIỎI\",LEFT(P175,1)=\"6\"),Table1[[#This Row],[Column1]]+(ROUND(M175,3))+150+ROW()/10000,\"\"))))))))","v":""},{"$f":"IF(AND(Q175=\"HỌC SINH XUẤT SẮC\",LEFT(P175,1)=\"9\"),(ROUND(M175,3))+Table1[[#This Row],[Column1]]+10+ROW()/10000,IF(AND(Q175=\"HỌC SINH XUẤT SẮC\",LEFT(P175,1)=\"8\"),Table1[[#This Row],[Column1]]+(ROUND(M175,3))+50+ROW()/10000,IF(AND(Q175=\"HỌC SINH XUẤT SẮC\",LEFT(P175,1)=\"7\"),Table1[[#This Row],[Column1]]+(ROUND(M175,3))+100+ROW()/10000,IF(AND(Q175=\"HỌC SINH XUẤT SẮC\",LEFT(P175,1)=\"6\"),Table1[[#This Row],[Column1]]+(ROUND(M175,3))+150+ROW()/10000,\"\"))))","v":""},{"$f":"IF(AND(Q175=\"HỌC SINH GIỎI\",LEFT(P175,1)=\"9\"),Table1[[#This Row],[Column1]]+(ROUND(M175,3))+200+ROW()/10000,IF(AND(Q175=\"HỌC SINH GIỎI\",LEFT(P175,1)=\"8\"),Table1[[#This Row],[Column1]]+(ROUND(M175,3))+250+ROW()/10000,IF(AND(Q175=\"HỌC SINH GIỎI\",LEFT(P175,1)=\"7\"),Table1[[#This Row],[Column1]]+(ROUND(M175,3))+300+ROW()/10000,IF(AND(Q175=\"HỌC SINH GIỎI\",LEFT(P175,1)=\"6\"),Table1[[#This Row],[Column1]]+(ROUND(M175,3))+350+ROW()/10000,\"\"))))","v":""},"","","",""]
[null,null,null,null,null,null,null,null,null,null,null,null,"",null,null,null,"",{"$f":"IF(Table1[[#This Row],[STT]]=\"\",\"\",ROW()-1)","v":""},{"$f":"IF(Table1[[#This Row],[Lơp]]=\"\",\"\",VLOOKUP(Table1[[#This Row],[Lơp]],$AC$3:$AD$14,2,0))","v":""},{"$f":"IF(AND(Q176=\"HỌC SINH XUẤT SẮC\",LEFT(P176,1)=\"9\"),Table1[[#This Row],[Column1]]+(ROUND(M176,3))+400+ROW()/10000,IF(AND(Q176=\"HỌC SINH XUẤT SẮC\",LEFT(P176,1)=\"8\"),Table1[[#This Row],[Column1]]+(ROUND(M176,3))+450+ROW()/10000,IF(AND(Q176=\"HỌC SINH XUẤT SẮC\",LEFT(P176,1)=\"7\"),Table1[[#This Row],[Column1]]+(ROUND(M176,3))+500+ROW()/10000,IF(AND(Q176=\"HỌC SINH XUẤT SẮC\",LEFT(P176,1)=\"6\"),Table1[[#This Row],[Column1]]+(ROUND(M176,3))+550+ROW()/10000,IF(AND(Q176=\"HỌC SINH GIỎI\",LEFT(P176,1)=\"9\"),Table1[[#This Row],[Column1]]+(ROUND(M176,3))+10+ROW()/10000,IF(AND(Q176=\"HỌC SINH GIỎI\",LEFT(P176,1)=\"8\"),Table1[[#This Row],[Column1]]+(ROUND(M176,3))+ 50+ROW()/10000,IF(AND(Q176=\"HỌC SINH GIỎI\",LEFT(P176,1)=\"7\"),Table1[[#This Row],[Column1]]+(ROUND(M176,3))+100+ROW()/10000,IF(AND(Q176=\"HỌC SINH GIỎI\",LEFT(P176,1)=\"6\"),Table1[[#This Row],[Column1]]+(ROUND(M176,3))+150+ROW()/10000,\"\"))))))))","v":""},{"$f":"IF(AND(Q176=\"HỌC SINH XUẤT SẮC\",LEFT(P176,1)=\"9\"),(ROUND(M176,3))+Table1[[#This Row],[Column1]]+10+ROW()/10000,IF(AND(Q176=\"HỌC SINH XUẤT SẮC\",LEFT(P176,1)=\"8\"),Table1[[#This Row],[Column1]]+(ROUND(M176,3))+50+ROW()/10000,IF(AND(Q176=\"HỌC SINH XUẤT SẮC\",LEFT(P176,1)=\"7\"),Table1[[#This Row],[Column1]]+(ROUND(M176,3))+100+ROW()/10000,IF(AND(Q176=\"HỌC SINH XUẤT SẮC\",LEFT(P176,1)=\"6\"),Table1[[#This Row],[Column1]]+(ROUND(M176,3))+150+ROW()/10000,\"\"))))","v":""},{"$f":"IF(AND(Q176=\"HỌC SINH GIỎI\",LEFT(P176,1)=\"9\"),Table1[[#This Row],[Column1]]+(ROUND(M176,3))+200+ROW()/10000,IF(AND(Q176=\"HỌC SINH GIỎI\",LEFT(P176,1)=\"8\"),Table1[[#This Row],[Column1]]+(ROUND(M176,3))+250+ROW()/10000,IF(AND(Q176=\"HỌC SINH GIỎI\",LEFT(P176,1)=\"7\"),Table1[[#This Row],[Column1]]+(ROUND(M176,3))+300+ROW()/10000,IF(AND(Q176=\"HỌC SINH GIỎI\",LEFT(P176,1)=\"6\"),Table1[[#This Row],[Column1]]+(ROUND(M176,3))+350+ROW()/10000,\"\"))))","v":""},"","","",""]
[null,null,null,null,null,null,null,null,null,null,null,null,"",null,null,null,"",{"$f":"IF(Table1[[#This Row],[STT]]=\"\",\"\",ROW()-1)","v":""},{"$f":"IF(Table1[[#This Row],[Lơp]]=\"\",\"\",VLOOKUP(Table1[[#This Row],[Lơp]],$AC$3:$AD$14,2,0))","v":""},{"$f":"IF(AND(Q177=\"HỌC SINH XUẤT SẮC\",LEFT(P177,1)=\"9\"),Table1[[#This Row],[Column1]]+(ROUND(M177,3))+400+ROW()/10000,IF(AND(Q177=\"HỌC SINH XUẤT SẮC\",LEFT(P177,1)=\"8\"),Table1[[#This Row],[Column1]]+(ROUND(M177,3))+450+ROW()/10000,IF(AND(Q177=\"HỌC SINH XUẤT SẮC\",LEFT(P177,1)=\"7\"),Table1[[#This Row],[Column1]]+(ROUND(M177,3))+500+ROW()/10000,IF(AND(Q177=\"HỌC SINH XUẤT SẮC\",LEFT(P177,1)=\"6\"),Table1[[#This Row],[Column1]]+(ROUND(M177,3))+550+ROW()/10000,IF(AND(Q177=\"HỌC SINH GIỎI\",LEFT(P177,1)=\"9\"),Table1[[#This Row],[Column1]]+(ROUND(M177,3))+10+ROW()/10000,IF(AND(Q177=\"HỌC SINH GIỎI\",LEFT(P177,1)=\"8\"),Table1[[#This Row],[Column1]]+(ROUND(M177,3))+ 50+ROW()/10000,IF(AND(Q177=\"HỌC SINH GIỎI\",LEFT(P177,1)=\"7\"),Table1[[#This Row],[Column1]]+(ROUND(M177,3))+100+ROW()/10000,IF(AND(Q177=\"HỌC SINH GIỎI\",LEFT(P177,1)=\"6\"),Table1[[#This Row],[Column1]]+(ROUND(M177,3))+150+ROW()/10000,\"\"))))))))","v":""},{"$f":"IF(AND(Q177=\"HỌC SINH XUẤT SẮC\",LEFT(P177,1)=\"9\"),(ROUND(M177,3))+Table1[[#This Row],[Column1]]+10+ROW()/10000,IF(AND(Q177=\"HỌC SINH XUẤT SẮC\",LEFT(P177,1)=\"8\"),Table1[[#This Row],[Column1]]+(ROUND(M177,3))+50+ROW()/10000,IF(AND(Q177=\"HỌC SINH XUẤT SẮC\",LEFT(P177,1)=\"7\"),Table1[[#This Row],[Column1]]+(ROUND(M177,3))+100+ROW()/10000,IF(AND(Q177=\"HỌC SINH XUẤT SẮC\",LEFT(P177,1)=\"6\"),Table1[[#This Row],[Column1]]+(ROUND(M177,3))+150+ROW()/10000,\"\"))))","v":""},{"$f":"IF(AND(Q177=\"HỌC SINH GIỎI\",LEFT(P177,1)=\"9\"),Table1[[#This Row],[Column1]]+(ROUND(M177,3))+200+ROW()/10000,IF(AND(Q177=\"HỌC SINH GIỎI\",LEFT(P177,1)=\"8\"),Table1[[#This Row],[Column1]]+(ROUND(M177,3))+250+ROW()/10000,IF(AND(Q177=\"HỌC SINH GIỎI\",LEFT(P177,1)=\"7\"),Table1[[#This Row],[Column1]]+(ROUND(M177,3))+300+ROW()/10000,IF(AND(Q177=\"HỌC SINH GIỎI\",LEFT(P177,1)=\"6\"),Table1[[#This Row],[Column1]]+(ROUND(M177,3))+350+ROW()/10000,\"\"))))","v":""},"","","",""]
[null,null,null,null,null,null,null,null,null,null,null,null,"",null,null,null,"",{"$f":"IF(Table1[[#This Row],[STT]]=\"\",\"\",ROW()-1)","v":""},{"$f":"IF(Table1[[#This Row],[Lơp]]=\"\",\"\",VLOOKUP(Table1[[#This Row],[Lơp]],$AC$3:$AD$14,2,0))","v":""},{"$f":"IF(AND(Q178=\"HỌC SINH XUẤT SẮC\",LEFT(P178,1)=\"9\"),Table1[[#This Row],[Column1]]+(ROUND(M178,3))+400+ROW()/10000,IF(AND(Q178=\"HỌC SINH XUẤT SẮC\",LEFT(P178,1)=\"8\"),Table1[[#This Row],[Column1]]+(ROUND(M178,3))+450+ROW()/10000,IF(AND(Q178=\"HỌC SINH XUẤT SẮC\",LEFT(P178,1)=\"7\"),Table1[[#This Row],[Column1]]+(ROUND(M178,3))+500+ROW()/10000,IF(AND(Q178=\"HỌC SINH XUẤT SẮC\",LEFT(P178,1)=\"6\"),Table1[[#This Row],[Column1]]+(ROUND(M178,3))+550+ROW()/10000,IF(AND(Q178=\"HỌC SINH GIỎI\",LEFT(P178,1)=\"9\"),Table1[[#This Row],[Column1]]+(ROUND(M178,3))+10+ROW()/10000,IF(AND(Q178=\"HỌC SINH GIỎI\",LEFT(P178,1)=\"8\"),Table1[[#This Row],[Column1]]+(ROUND(M178,3))+ 50+ROW()/10000,IF(AND(Q178=\"HỌC SINH GIỎI\",LEFT(P178,1)=\"7\"),Table1[[#This Row],[Column1]]+(ROUND(M178,3))+100+ROW()/10000,IF(AND(Q178=\"HỌC SINH GIỎI\",LEFT(P178,1)=\"6\"),Table1[[#This Row],[Column1]]+(ROUND(M178,3))+150+ROW()/10000,\"\"))))))))","v":""},{"$f":"IF(AND(Q178=\"HỌC SINH XUẤT SẮC\",LEFT(P178,1)=\"9\"),(ROUND(M178,3))+Table1[[#This Row],[Column1]]+10+ROW()/10000,IF(AND(Q178=\"HỌC SINH XUẤT SẮC\",LEFT(P178,1)=\"8\"),Table1[[#This Row],[Column1]]+(ROUND(M178,3))+50+ROW()/10000,IF(AND(Q178=\"HỌC SINH XUẤT SẮC\",LEFT(P178,1)=\"7\"),Table1[[#This Row],[Column1]]+(ROUND(M178,3))+100+ROW()/10000,IF(AND(Q178=\"HỌC SINH XUẤT SẮC\",LEFT(P178,1)=\"6\"),Table1[[#This Row],[Column1]]+(ROUND(M178,3))+150+ROW()/10000,\"\"))))","v":""},{"$f":"IF(AND(Q178=\"HỌC SINH GIỎI\",LEFT(P178,1)=\"9\"),Table1[[#This Row],[Column1]]+(ROUND(M178,3))+200+ROW()/10000,IF(AND(Q178=\"HỌC SINH GIỎI\",LEFT(P178,1)=\"8\"),Table1[[#This Row],[Column1]]+(ROUND(M178,3))+250+ROW()/10000,IF(AND(Q178=\"HỌC SINH GIỎI\",LEFT(P178,1)=\"7\"),Table1[[#This Row],[Column1]]+(ROUND(M178,3))+300+ROW()/10000,IF(AND(Q178=\"HỌC SINH GIỎI\",LEFT(P178,1)=\"6\"),Table1[[#This Row],[Column1]]+(ROUND(M178,3))+350+ROW()/10000,\"\"))))","v":""},"","","",""]
[null,null,null,null,null,null,null,null,null,null,null,null,"",null,null,null,"",{"$f":"IF(Table1[[#This Row],[STT]]=\"\",\"\",ROW()-1)","v":""},{"$f":"IF(Table1[[#This Row],[Lơp]]=\"\",\"\",VLOOKUP(Table1[[#This Row],[Lơp]],$AC$3:$AD$14,2,0))","v":""},{"$f":"IF(AND(Q179=\"HỌC SINH XUẤT SẮC\",LEFT(P179,1)=\"9\"),Table1[[#This Row],[Column1]]+(ROUND(M179,3))+400+ROW()/10000,IF(AND(Q179=\"HỌC SINH XUẤT SẮC\",LEFT(P179,1)=\"8\"),Table1[[#This Row],[Column1]]+(ROUND(M179,3))+450+ROW()/10000,IF(AND(Q179=\"HỌC SINH XUẤT SẮC\",LEFT(P179,1)=\"7\"),Table1[[#This Row],[Column1]]+(ROUND(M179,3))+500+ROW()/10000,IF(AND(Q179=\"HỌC SINH XUẤT SẮC\",LEFT(P179,1)=\"6\"),Table1[[#This Row],[Column1]]+(ROUND(M179,3))+550+ROW()/10000,IF(AND(Q179=\"HỌC SINH GIỎI\",LEFT(P179,1)=\"9\"),Table1[[#This Row],[Column1]]+(ROUND(M179,3))+10+ROW()/10000,IF(AND(Q179=\"HỌC SINH GIỎI\",LEFT(P179,1)=\"8\"),Table1[[#This Row],[Column1]]+(ROUND(M179,3))+ 50+ROW()/10000,IF(AND(Q179=\"HỌC SINH GIỎI\",LEFT(P179,1)=\"7\"),Table1[[#This Row],[Column1]]+(ROUND(M179,3))+100+ROW()/10000,IF(AND(Q179=\"HỌC SINH GIỎI\",LEFT(P179,1)=\"6\"),Table1[[#This Row],[Column1]]+(ROUND(M179,3))+150+ROW()/10000,\"\"))))))))","v":""},{"$f":"IF(AND(Q179=\"HỌC SINH XUẤT SẮC\",LEFT(P179,1)=\"9\"),(ROUND(M179,3))+Table1[[#This Row],[Column1]]+10+ROW()/10000,IF(AND(Q179=\"HỌC SINH XUẤT SẮC\",LEFT(P179,1)=\"8\"),Table1[[#This Row],[Column1]]+(ROUND(M179,3))+50+ROW()/10000,IF(AND(Q179=\"HỌC SINH XUẤT SẮC\",LEFT(P179,1)=\"7\"),Table1[[#This Row],[Column1]]+(ROUND(M179,3))+100+ROW()/10000,IF(AND(Q179=\"HỌC SINH XUẤT SẮC\",LEFT(P179,1)=\"6\"),Table1[[#This Row],[Column1]]+(ROUND(M179,3))+150+ROW()/10000,\"\"))))","v":""},{"$f":"IF(AND(Q179=\"HỌC SINH GIỎI\",LEFT(P179,1)=\"9\"),Table1[[#This Row],[Column1]]+(ROUND(M179,3))+200+ROW()/10000,IF(AND(Q179=\"HỌC SINH GIỎI\",LEFT(P179,1)=\"8\"),Table1[[#This Row],[Column1]]+(ROUND(M179,3))+250+ROW()/10000,IF(AND(Q179=\"HỌC SINH GIỎI\",LEFT(P179,1)=\"7\"),Table1[[#This Row],[Column1]]+(ROUND(M179,3))+300+ROW()/10000,IF(AND(Q179=\"HỌC SINH GIỎI\",LEFT(P179,1)=\"6\"),Table1[[#This Row],[Column1]]+(ROUND(M179,3))+350+ROW()/10000,\"\"))))","v":""},"","","",""]
[null,null,null,null,null,null,null,null,null,null,null,null,"",null,null,null,"",{"$f":"IF(Table1[[#This Row],[STT]]=\"\",\"\",ROW()-1)","v":""},{"$f":"IF(Table1[[#This Row],[Lơp]]=\"\",\"\",VLOOKUP(Table1[[#This Row],[Lơp]],$AC$3:$AD$14,2,0))","v":""},{"$f":"IF(AND(Q180=\"HỌC SINH XUẤT SẮC\",LEFT(P180,1)=\"9\"),Table1[[#This Row],[Column1]]+(ROUND(M180,3))+400+ROW()/10000,IF(AND(Q180=\"HỌC SINH XUẤT SẮC\",LEFT(P180,1)=\"8\"),Table1[[#This Row],[Column1]]+(ROUND(M180,3))+450+ROW()/10000,IF(AND(Q180=\"HỌC SINH XUẤT SẮC\",LEFT(P180,1)=\"7\"),Table1[[#This Row],[Column1]]+(ROUND(M180,3))+500+ROW()/10000,IF(AND(Q180=\"HỌC SINH XUẤT SẮC\",LEFT(P180,1)=\"6\"),Table1[[#This Row],[Column1]]+(ROUND(M180,3))+550+ROW()/10000,IF(AND(Q180=\"HỌC SINH GIỎI\",LEFT(P180,1)=\"9\"),Table1[[#This Row],[Column1]]+(ROUND(M180,3))+10+ROW()/10000,IF(AND(Q180=\"HỌC SINH GIỎI\",LEFT(P180,1)=\"8\"),Table1[[#This Row],[Column1]]+(ROUND(M180,3))+ 50+ROW()/10000,IF(AND(Q180=\"HỌC SINH GIỎI\",LEFT(P180,1)=\"7\"),Table1[[#This Row],[Column1]]+(ROUND(M180,3))+100+ROW()/10000,IF(AND(Q180=\"HỌC SINH GIỎI\",LEFT(P180,1)=\"6\"),Table1[[#This Row],[Column1]]+(ROUND(M180,3))+150+ROW()/10000,\"\"))))))))","v":""},{"$f":"IF(AND(Q180=\"HỌC SINH XUẤT SẮC\",LEFT(P180,1)=\"9\"),(ROUND(M180,3))+Table1[[#This Row],[Column1]]+10+ROW()/10000,IF(AND(Q180=\"HỌC SINH XUẤT SẮC\",LEFT(P180,1)=\"8\"),Table1[[#This Row],[Column1]]+(ROUND(M180,3))+50+ROW()/10000,IF(AND(Q180=\"HỌC SINH XUẤT SẮC\",LEFT(P180,1)=\"7\"),Table1[[#This Row],[Column1]]+(ROUND(M180,3))+100+ROW()/10000,IF(AND(Q180=\"HỌC SINH XUẤT SẮC\",LEFT(P180,1)=\"6\"),Table1[[#This Row],[Column1]]+(ROUND(M180,3))+150+ROW()/10000,\"\"))))","v":""},{"$f":"IF(AND(Q180=\"HỌC SINH GIỎI\",LEFT(P180,1)=\"9\"),Table1[[#This Row],[Column1]]+(ROUND(M180,3))+200+ROW()/10000,IF(AND(Q180=\"HỌC SINH GIỎI\",LEFT(P180,1)=\"8\"),Table1[[#This Row],[Column1]]+(ROUND(M180,3))+250+ROW()/10000,IF(AND(Q180=\"HỌC SINH GIỎI\",LEFT(P180,1)=\"7\"),Table1[[#This Row],[Column1]]+(ROUND(M180,3))+300+ROW()/10000,IF(AND(Q180=\"HỌC SINH GIỎI\",LEFT(P180,1)=\"6\"),Table1[[#This Row],[Column1]]+(ROUND(M180,3))+350+ROW()/10000,\"\"))))","v":""},"","","",""]
[null,null,null,null,null,null,null,null,null,null,null,null,"",null,null,null,"",{"$f":"IF(Table1[[#This Row],[STT]]=\"\",\"\",ROW()-1)","v":""},{"$f":"IF(Table1[[#This Row],[Lơp]]=\"\",\"\",VLOOKUP(Table1[[#This Row],[Lơp]],$AC$3:$AD$14,2,0))","v":""},{"$f":"IF(AND(Q181=\"HỌC SINH XUẤT SẮC\",LEFT(P181,1)=\"9\"),Table1[[#This Row],[Column1]]+(ROUND(M181,3))+400+ROW()/10000,IF(AND(Q181=\"HỌC SINH XUẤT SẮC\",LEFT(P181,1)=\"8\"),Table1[[#This Row],[Column1]]+(ROUND(M181,3))+450+ROW()/10000,IF(AND(Q181=\"HỌC SINH XUẤT SẮC\",LEFT(P181,1)=\"7\"),Table1[[#This Row],[Column1]]+(ROUND(M181,3))+500+ROW()/10000,IF(AND(Q181=\"HỌC SINH XUẤT SẮC\",LEFT(P181,1)=\"6\"),Table1[[#This Row],[Column1]]+(ROUND(M181,3))+550+ROW()/10000,IF(AND(Q181=\"HỌC SINH GIỎI\",LEFT(P181,1)=\"9\"),Table1[[#This Row],[Column1]]+(ROUND(M181,3))+10+ROW()/10000,IF(AND(Q181=\"HỌC SINH GIỎI\",LEFT(P181,1)=\"8\"),Table1[[#This Row],[Column1]]+(ROUND(M181,3))+ 50+ROW()/10000,IF(AND(Q181=\"HỌC SINH GIỎI\",LEFT(P181,1)=\"7\"),Table1[[#This Row],[Column1]]+(ROUND(M181,3))+100+ROW()/10000,IF(AND(Q181=\"HỌC SINH GIỎI\",LEFT(P181,1)=\"6\"),Table1[[#This Row],[Column1]]+(ROUND(M181,3))+150+ROW()/10000,\"\"))))))))","v":""},{"$f":"IF(AND(Q181=\"HỌC SINH XUẤT SẮC\",LEFT(P181,1)=\"9\"),(ROUND(M181,3))+Table1[[#This Row],[Column1]]+10+ROW()/10000,IF(AND(Q181=\"HỌC SINH XUẤT SẮC\",LEFT(P181,1)=\"8\"),Table1[[#This Row],[Column1]]+(ROUND(M181,3))+50+ROW()/10000,IF(AND(Q181=\"HỌC SINH XUẤT SẮC\",LEFT(P181,1)=\"7\"),Table1[[#This Row],[Column1]]+(ROUND(M181,3))+100+ROW()/10000,IF(AND(Q181=\"HỌC SINH XUẤT SẮC\",LEFT(P181,1)=\"6\"),Table1[[#This Row],[Column1]]+(ROUND(M181,3))+150+ROW()/10000,\"\"))))","v":""},{"$f":"IF(AND(Q181=\"HỌC SINH GIỎI\",LEFT(P181,1)=\"9\"),Table1[[#This Row],[Column1]]+(ROUND(M181,3))+200+ROW()/10000,IF(AND(Q181=\"HỌC SINH GIỎI\",LEFT(P181,1)=\"8\"),Table1[[#This Row],[Column1]]+(ROUND(M181,3))+250+ROW()/10000,IF(AND(Q181=\"HỌC SINH GIỎI\",LEFT(P181,1)=\"7\"),Table1[[#This Row],[Column1]]+(ROUND(M181,3))+300+ROW()/10000,IF(AND(Q181=\"HỌC SINH GIỎI\",LEFT(P181,1)=\"6\"),Table1[[#This Row],[Column1]]+(ROUND(M181,3))+350+ROW()/10000,\"\"))))","v":""},"","","",""]
[null,null,null,null,null,null,null,null,null,null,null,null,"",null,null,null,"",{"$f":"IF(Table1[[#This Row],[STT]]=\"\",\"\",ROW()-1)","v":""},{"$f":"IF(Table1[[#This Row],[Lơp]]=\"\",\"\",VLOOKUP(Table1[[#This Row],[Lơp]],$AC$3:$AD$14,2,0))","v":""},{"$f":"IF(AND(Q182=\"HỌC SINH XUẤT SẮC\",LEFT(P182,1)=\"9\"),Table1[[#This Row],[Column1]]+(ROUND(M182,3))+400+ROW()/10000,IF(AND(Q182=\"HỌC SINH XUẤT SẮC\",LEFT(P182,1)=\"8\"),Table1[[#This Row],[Column1]]+(ROUND(M182,3))+450+ROW()/10000,IF(AND(Q182=\"HỌC SINH XUẤT SẮC\",LEFT(P182,1)=\"7\"),Table1[[#This Row],[Column1]]+(ROUND(M182,3))+500+ROW()/10000,IF(AND(Q182=\"HỌC SINH XUẤT SẮC\",LEFT(P182,1)=\"6\"),Table1[[#This Row],[Column1]]+(ROUND(M182,3))+550+ROW()/10000,IF(AND(Q182=\"HỌC SINH GIỎI\",LEFT(P182,1)=\"9\"),Table1[[#This Row],[Column1]]+(ROUND(M182,3))+10+ROW()/10000,IF(AND(Q182=\"HỌC SINH GIỎI\",LEFT(P182,1)=\"8\"),Table1[[#This Row],[Column1]]+(ROUND(M182,3))+ 50+ROW()/10000,IF(AND(Q182=\"HỌC SINH GIỎI\",LEFT(P182,1)=\"7\"),Table1[[#This Row],[Column1]]+(ROUND(M182,3))+100+ROW()/10000,IF(AND(Q182=\"HỌC SINH GIỎI\",LEFT(P182,1)=\"6\"),Table1[[#This Row],[Column1]]+(ROUND(M182,3))+150+ROW()/10000,\"\"))))))))","v":""},{"$f":"IF(AND(Q182=\"HỌC SINH XUẤT SẮC\",LEFT(P182,1)=\"9\"),(ROUND(M182,3))+Table1[[#This Row],[Column1]]+10+ROW()/10000,IF(AND(Q182=\"HỌC SINH XUẤT SẮC\",LEFT(P182,1)=\"8\"),Table1[[#This Row],[Column1]]+(ROUND(M182,3))+50+ROW()/10000,IF(AND(Q182=\"HỌC SINH XUẤT SẮC\",LEFT(P182,1)=\"7\"),Table1[[#This Row],[Column1]]+(ROUND(M182,3))+100+ROW()/10000,IF(AND(Q182=\"HỌC SINH XUẤT SẮC\",LEFT(P182,1)=\"6\"),Table1[[#This Row],[Column1]]+(ROUND(M182,3))+150+ROW()/10000,\"\"))))","v":""},{"$f":"IF(AND(Q182=\"HỌC SINH GIỎI\",LEFT(P182,1)=\"9\"),Table1[[#This Row],[Column1]]+(ROUND(M182,3))+200+ROW()/10000,IF(AND(Q182=\"HỌC SINH GIỎI\",LEFT(P182,1)=\"8\"),Table1[[#This Row],[Column1]]+(ROUND(M182,3))+250+ROW()/10000,IF(AND(Q182=\"HỌC SINH GIỎI\",LEFT(P182,1)=\"7\"),Table1[[#This Row],[Column1]]+(ROUND(M182,3))+300+ROW()/10000,IF(AND(Q182=\"HỌC SINH GIỎI\",LEFT(P182,1)=\"6\"),Table1[[#This Row],[Column1]]+(ROUND(M182,3))+350+ROW()/10000,\"\"))))","v":""},"","","",""]
[null,null,null,null,null,null,null,null,null,null,null,null,"",null,null,null,"",{"$f":"IF(Table1[[#This Row],[STT]]=\"\",\"\",ROW()-1)","v":""},{"$f":"IF(Table1[[#This Row],[Lơp]]=\"\",\"\",VLOOKUP(Table1[[#This Row],[Lơp]],$AC$3:$AD$14,2,0))","v":""},{"$f":"IF(AND(Q183=\"HỌC SINH XUẤT SẮC\",LEFT(P183,1)=\"9\"),Table1[[#This Row],[Column1]]+(ROUND(M183,3))+400+ROW()/10000,IF(AND(Q183=\"HỌC SINH XUẤT SẮC\",LEFT(P183,1)=\"8\"),Table1[[#This Row],[Column1]]+(ROUND(M183,3))+450+ROW()/10000,IF(AND(Q183=\"HỌC SINH XUẤT SẮC\",LEFT(P183,1)=\"7\"),Table1[[#This Row],[Column1]]+(ROUND(M183,3))+500+ROW()/10000,IF(AND(Q183=\"HỌC SINH XUẤT SẮC\",LEFT(P183,1)=\"6\"),Table1[[#This Row],[Column1]]+(ROUND(M183,3))+550+ROW()/10000,IF(AND(Q183=\"HỌC SINH GIỎI\",LEFT(P183,1)=\"9\"),Table1[[#This Row],[Column1]]+(ROUND(M183,3))+10+ROW()/10000,IF(AND(Q183=\"HỌC SINH GIỎI\",LEFT(P183,1)=\"8\"),Table1[[#This Row],[Column1]]+(ROUND(M183,3))+ 50+ROW()/10000,IF(AND(Q183=\"HỌC SINH GIỎI\",LEFT(P183,1)=\"7\"),Table1[[#This Row],[Column1]]+(ROUND(M183,3))+100+ROW()/10000,IF(AND(Q183=\"HỌC SINH GIỎI\",LEFT(P183,1)=\"6\"),Table1[[#This Row],[Column1]]+(ROUND(M183,3))+150+ROW()/10000,\"\"))))))))","v":""},{"$f":"IF(AND(Q183=\"HỌC SINH XUẤT SẮC\",LEFT(P183,1)=\"9\"),(ROUND(M183,3))+Table1[[#This Row],[Column1]]+10+ROW()/10000,IF(AND(Q183=\"HỌC SINH XUẤT SẮC\",LEFT(P183,1)=\"8\"),Table1[[#This Row],[Column1]]+(ROUND(M183,3))+50+ROW()/10000,IF(AND(Q183=\"HỌC SINH XUẤT SẮC\",LEFT(P183,1)=\"7\"),Table1[[#This Row],[Column1]]+(ROUND(M183,3))+100+ROW()/10000,IF(AND(Q183=\"HỌC SINH XUẤT SẮC\",LEFT(P183,1)=\"6\"),Table1[[#This Row],[Column1]]+(ROUND(M183,3))+150+ROW()/10000,\"\"))))","v":""},{"$f":"IF(AND(Q183=\"HỌC SINH GIỎI\",LEFT(P183,1)=\"9\"),Table1[[#This Row],[Column1]]+(ROUND(M183,3))+200+ROW()/10000,IF(AND(Q183=\"HỌC SINH GIỎI\",LEFT(P183,1)=\"8\"),Table1[[#This Row],[Column1]]+(ROUND(M183,3))+250+ROW()/10000,IF(AND(Q183=\"HỌC SINH GIỎI\",LEFT(P183,1)=\"7\"),Table1[[#This Row],[Column1]]+(ROUND(M183,3))+300+ROW()/10000,IF(AND(Q183=\"HỌC SINH GIỎI\",LEFT(P183,1)=\"6\"),Table1[[#This Row],[Column1]]+(ROUND(M183,3))+350+ROW()/10000,\"\"))))","v":""},"","","",""]
[null,null,null,null,null,null,null,null,null,null,null,null,{"$f":"IF(AND(I184=\"\",J184=\"\",K184=\"\",L184=\"\"),\"\",SUM(I184:L184))","v":""},null,null,null,"",{"$f":"IF(Table1[[#This Row],[STT]]=\"\",\"\",ROW()-1)","v":""},{"$f":"IF(Table1[[#This Row],[Lơp]]=\"\",\"\",VLOOKUP(Table1[[#This Row],[Lơp]],$AC$3:$AD$14,2,0))","v":""},{"$f":"IF(AND(Q184=\"HỌC SINH XUẤT SẮC\",LEFT(P184,1)=\"9\"),Table1[[#This Row],[Column1]]+(ROUND(M184,3))+400+ROW()/10000,IF(AND(Q184=\"HỌC SINH XUẤT SẮC\",LEFT(P184,1)=\"8\"),Table1[[#This Row],[Column1]]+(ROUND(M184,3))+450+ROW()/10000,IF(AND(Q184=\"HỌC SINH XUẤT SẮC\",LEFT(P184,1)=\"7\"),Table1[[#This Row],[Column1]]+(ROUND(M184,3))+500+ROW()/10000,IF(AND(Q184=\"HỌC SINH XUẤT SẮC\",LEFT(P184,1)=\"6\"),Table1[[#This Row],[Column1]]+(ROUND(M184,3))+550+ROW()/10000,IF(AND(Q184=\"HỌC SINH GIỎI\",LEFT(P184,1)=\"9\"),Table1[[#This Row],[Column1]]+(ROUND(M184,3))+10+ROW()/10000,IF(AND(Q184=\"HỌC SINH GIỎI\",LEFT(P184,1)=\"8\"),Table1[[#This Row],[Column1]]+(ROUND(M184,3))+ 50+ROW()/10000,IF(AND(Q184=\"HỌC SINH GIỎI\",LEFT(P184,1)=\"7\"),Table1[[#This Row],[Column1]]+(ROUND(M184,3))+100+ROW()/10000,IF(AND(Q184=\"HỌC SINH GIỎI\",LEFT(P184,1)=\"6\"),Table1[[#This Row],[Column1]]+(ROUND(M184,3))+150+ROW()/10000,\"\"))))))))","v":""},{"$f":"IF(AND(Q184=\"HỌC SINH XUẤT SẮC\",LEFT(P184,1)=\"9\"),(ROUND(M184,3))+Table1[[#This Row],[Column1]]+10+ROW()/10000,IF(AND(Q184=\"HỌC SINH XUẤT SẮC\",LEFT(P184,1)=\"8\"),Table1[[#This Row],[Column1]]+(ROUND(M184,3))+50+ROW()/10000,IF(AND(Q184=\"HỌC SINH XUẤT SẮC\",LEFT(P184,1)=\"7\"),Table1[[#This Row],[Column1]]+(ROUND(M184,3))+100+ROW()/10000,IF(AND(Q184=\"HỌC SINH XUẤT SẮC\",LEFT(P184,1)=\"6\"),Table1[[#This Row],[Column1]]+(ROUND(M184,3))+150+ROW()/10000,\"\"))))","v":""},{"$f":"IF(AND(Q184=\"HỌC SINH GIỎI\",LEFT(P184,1)=\"9\"),Table1[[#This Row],[Column1]]+(ROUND(M184,3))+200+ROW()/10000,IF(AND(Q184=\"HỌC SINH GIỎI\",LEFT(P184,1)=\"8\"),Table1[[#This Row],[Column1]]+(ROUND(M184,3))+250+ROW()/10000,IF(AND(Q184=\"HỌC SINH GIỎI\",LEFT(P184,1)=\"7\"),Table1[[#This Row],[Column1]]+(ROUND(M184,3))+300+ROW()/10000,IF(AND(Q184=\"HỌC SINH GIỎI\",LEFT(P184,1)=\"6\"),Table1[[#This Row],[Column1]]+(ROUND(M184,3))+350+ROW()/10000,\"\"))))","v":""},"","","",""]
[null,null,null,null,null,null,null,null,null,null,null,null,"",null,null,null,"",{"$f":"IF(Table1[[#This Row],[STT]]=\"\",\"\",ROW()-1)","v":""},{"$f":"IF(Table1[[#This Row],[Lơp]]=\"\",\"\",VLOOKUP(Table1[[#This Row],[Lơp]],$AC$3:$AD$14,2,0))","v":""},{"$f":"IF(AND(Q185=\"HỌC SINH XUẤT SẮC\",LEFT(P185,1)=\"9\"),Table1[[#This Row],[Column1]]+(ROUND(M185,3))+400+ROW()/10000,IF(AND(Q185=\"HỌC SINH XUẤT SẮC\",LEFT(P185,1)=\"8\"),Table1[[#This Row],[Column1]]+(ROUND(M185,3))+450+ROW()/10000,IF(AND(Q185=\"HỌC SINH XUẤT SẮC\",LEFT(P185,1)=\"7\"),Table1[[#This Row],[Column1]]+(ROUND(M185,3))+500+ROW()/10000,IF(AND(Q185=\"HỌC SINH XUẤT SẮC\",LEFT(P185,1)=\"6\"),Table1[[#This Row],[Column1]]+(ROUND(M185,3))+550+ROW()/10000,IF(AND(Q185=\"HỌC SINH GIỎI\",LEFT(P185,1)=\"9\"),Table1[[#This Row],[Column1]]+(ROUND(M185,3))+10+ROW()/10000,IF(AND(Q185=\"HỌC SINH GIỎI\",LEFT(P185,1)=\"8\"),Table1[[#This Row],[Column1]]+(ROUND(M185,3))+ 50+ROW()/10000,IF(AND(Q185=\"HỌC SINH GIỎI\",LEFT(P185,1)=\"7\"),Table1[[#This Row],[Column1]]+(ROUND(M185,3))+100+ROW()/10000,IF(AND(Q185=\"HỌC SINH GIỎI\",LEFT(P185,1)=\"6\"),Table1[[#This Row],[Column1]]+(ROUND(M185,3))+150+ROW()/10000,\"\"))))))))","v":""},{"$f":"IF(AND(Q185=\"HỌC SINH XUẤT SẮC\",LEFT(P185,1)=\"9\"),(ROUND(M185,3))+Table1[[#This Row],[Column1]]+10+ROW()/10000,IF(AND(Q185=\"HỌC SINH XUẤT SẮC\",LEFT(P185,1)=\"8\"),Table1[[#This Row],[Column1]]+(ROUND(M185,3))+50+ROW()/10000,IF(AND(Q185=\"HỌC SINH XUẤT SẮC\",LEFT(P185,1)=\"7\"),Table1[[#This Row],[Column1]]+(ROUND(M185,3))+100+ROW()/10000,IF(AND(Q185=\"HỌC SINH XUẤT SẮC\",LEFT(P185,1)=\"6\"),Table1[[#This Row],[Column1]]+(ROUND(M185,3))+150+ROW()/10000,\"\"))))","v":""},{"$f":"IF(AND(Q185=\"HỌC SINH GIỎI\",LEFT(P185,1)=\"9\"),Table1[[#This Row],[Column1]]+(ROUND(M185,3))+200+ROW()/10000,IF(AND(Q185=\"HỌC SINH GIỎI\",LEFT(P185,1)=\"8\"),Table1[[#This Row],[Column1]]+(ROUND(M185,3))+250+ROW()/10000,IF(AND(Q185=\"HỌC SINH GIỎI\",LEFT(P185,1)=\"7\"),Table1[[#This Row],[Column1]]+(ROUND(M185,3))+300+ROW()/10000,IF(AND(Q185=\"HỌC SINH GIỎI\",LEFT(P185,1)=\"6\"),Table1[[#This Row],[Column1]]+(ROUND(M185,3))+350+ROW()/10000,\"\"))))","v":""},"","","",""]
[null,null,null,null,null,null,null,null,null,null,null,null,"",null,null,null,"",{"$f":"IF(Table1[[#This Row],[STT]]=\"\",\"\",ROW()-1)","v":""},{"$f":"IF(Table1[[#This Row],[Lơp]]=\"\",\"\",VLOOKUP(Table1[[#This Row],[Lơp]],$AC$3:$AD$14,2,0))","v":""},{"$f":"IF(AND(Q186=\"HỌC SINH XUẤT SẮC\",LEFT(P186,1)=\"9\"),Table1[[#This Row],[Column1]]+(ROUND(M186,3))+400+ROW()/10000,IF(AND(Q186=\"HỌC SINH XUẤT SẮC\",LEFT(P186,1)=\"8\"),Table1[[#This Row],[Column1]]+(ROUND(M186,3))+450+ROW()/10000,IF(AND(Q186=\"HỌC SINH XUẤT SẮC\",LEFT(P186,1)=\"7\"),Table1[[#This Row],[Column1]]+(ROUND(M186,3))+500+ROW()/10000,IF(AND(Q186=\"HỌC SINH XUẤT SẮC\",LEFT(P186,1)=\"6\"),Table1[[#This Row],[Column1]]+(ROUND(M186,3))+550+ROW()/10000,IF(AND(Q186=\"HỌC SINH GIỎI\",LEFT(P186,1)=\"9\"),Table1[[#This Row],[Column1]]+(ROUND(M186,3))+10+ROW()/10000,IF(AND(Q186=\"HỌC SINH GIỎI\",LEFT(P186,1)=\"8\"),Table1[[#This Row],[Column1]]+(ROUND(M186,3))+ 50+ROW()/10000,IF(AND(Q186=\"HỌC SINH GIỎI\",LEFT(P186,1)=\"7\"),Table1[[#This Row],[Column1]]+(ROUND(M186,3))+100+ROW()/10000,IF(AND(Q186=\"HỌC SINH GIỎI\",LEFT(P186,1)=\"6\"),Table1[[#This Row],[Column1]]+(ROUND(M186,3))+150+ROW()/10000,\"\"))))))))","v":""},{"$f":"IF(AND(Q186=\"HỌC SINH XUẤT SẮC\",LEFT(P186,1)=\"9\"),(ROUND(M186,3))+Table1[[#This Row],[Column1]]+10+ROW()/10000,IF(AND(Q186=\"HỌC SINH XUẤT SẮC\",LEFT(P186,1)=\"8\"),Table1[[#This Row],[Column1]]+(ROUND(M186,3))+50+ROW()/10000,IF(AND(Q186=\"HỌC SINH XUẤT SẮC\",LEFT(P186,1)=\"7\"),Table1[[#This Row],[Column1]]+(ROUND(M186,3))+100+ROW()/10000,IF(AND(Q186=\"HỌC SINH XUẤT SẮC\",LEFT(P186,1)=\"6\"),Table1[[#This Row],[Column1]]+(ROUND(M186,3))+150+ROW()/10000,\"\"))))","v":""},{"$f":"IF(AND(Q186=\"HỌC SINH GIỎI\",LEFT(P186,1)=\"9\"),Table1[[#This Row],[Column1]]+(ROUND(M186,3))+200+ROW()/10000,IF(AND(Q186=\"HỌC SINH GIỎI\",LEFT(P186,1)=\"8\"),Table1[[#This Row],[Column1]]+(ROUND(M186,3))+250+ROW()/10000,IF(AND(Q186=\"HỌC SINH GIỎI\",LEFT(P186,1)=\"7\"),Table1[[#This Row],[Column1]]+(ROUND(M186,3))+300+ROW()/10000,IF(AND(Q186=\"HỌC SINH GIỎI\",LEFT(P186,1)=\"6\"),Table1[[#This Row],[Column1]]+(ROUND(M186,3))+350+ROW()/10000,\"\"))))","v":""},"",{"$f":"IF(W186=\"\",\"\",C186)","v":""},{"$f":"IF(X186=\"\",\"\",Q186)","v":""},{"$f":"IF(Y186=\"\",\"\",P186)","v":""}]
[null,null,null,null,null,null,null,null,null,null,null,null,"",null,null,null,"",{"$f":"IF(Table1[[#This Row],[STT]]=\"\",\"\",ROW()-1)","v":""},{"$f":"IF(Table1[[#This Row],[Lơp]]=\"\",\"\",VLOOKUP(Table1[[#This Row],[Lơp]],$AC$3:$AD$14,2,0))","v":""},{"$f":"IF(AND(Q187=\"HỌC SINH XUẤT SẮC\",LEFT(P187,1)=\"9\"),Table1[[#This Row],[Column1]]+(ROUND(M187,3))+400+ROW()/10000,IF(AND(Q187=\"HỌC SINH XUẤT SẮC\",LEFT(P187,1)=\"8\"),Table1[[#This Row],[Column1]]+(ROUND(M187,3))+450+ROW()/10000,IF(AND(Q187=\"HỌC SINH XUẤT SẮC\",LEFT(P187,1)=\"7\"),Table1[[#This Row],[Column1]]+(ROUND(M187,3))+500+ROW()/10000,IF(AND(Q187=\"HỌC SINH XUẤT SẮC\",LEFT(P187,1)=\"6\"),Table1[[#This Row],[Column1]]+(ROUND(M187,3))+550+ROW()/10000,IF(AND(Q187=\"HỌC SINH GIỎI\",LEFT(P187,1)=\"9\"),Table1[[#This Row],[Column1]]+(ROUND(M187,3))+10+ROW()/10000,IF(AND(Q187=\"HỌC SINH GIỎI\",LEFT(P187,1)=\"8\"),Table1[[#This Row],[Column1]]+(ROUND(M187,3))+ 50+ROW()/10000,IF(AND(Q187=\"HỌC SINH GIỎI\",LEFT(P187,1)=\"7\"),Table1[[#This Row],[Column1]]+(ROUND(M187,3))+100+ROW()/10000,IF(AND(Q187=\"HỌC SINH GIỎI\",LEFT(P187,1)=\"6\"),Table1[[#This Row],[Column1]]+(ROUND(M187,3))+150+ROW()/10000,\"\"))))))))","v":""},{"$f":"IF(AND(Q187=\"HỌC SINH XUẤT SẮC\",LEFT(P187,1)=\"9\"),(ROUND(M187,3))+Table1[[#This Row],[Column1]]+10+ROW()/10000,IF(AND(Q187=\"HỌC SINH XUẤT SẮC\",LEFT(P187,1)=\"8\"),Table1[[#This Row],[Column1]]+(ROUND(M187,3))+50+ROW()/10000,IF(AND(Q187=\"HỌC SINH XUẤT SẮC\",LEFT(P187,1)=\"7\"),Table1[[#This Row],[Column1]]+(ROUND(M187,3))+100+ROW()/10000,IF(AND(Q187=\"HỌC SINH XUẤT SẮC\",LEFT(P187,1)=\"6\"),Table1[[#This Row],[Column1]]+(ROUND(M187,3))+150+ROW()/10000,\"\"))))","v":""},{"$f":"IF(AND(Q187=\"HỌC SINH GIỎI\",LEFT(P187,1)=\"9\"),Table1[[#This Row],[Column1]]+(ROUND(M187,3))+200+ROW()/10000,IF(AND(Q187=\"HỌC SINH GIỎI\",LEFT(P187,1)=\"8\"),Table1[[#This Row],[Column1]]+(ROUND(M187,3))+250+ROW()/10000,IF(AND(Q187=\"HỌC SINH GIỎI\",LEFT(P187,1)=\"7\"),Table1[[#This Row],[Column1]]+(ROUND(M187,3))+300+ROW()/10000,IF(AND(Q187=\"HỌC SINH GIỎI\",LEFT(P187,1)=\"6\"),Table1[[#This Row],[Column1]]+(ROUND(M187,3))+350+ROW()/10000,\"\"))))","v":""},"","","",""]
[null,null,null,null,null,null,null,null,null,null,null,null,"",null,null,null,"",{"$f":"IF(Table1[[#This Row],[STT]]=\"\",\"\",ROW()-1)","v":""},{"$f":"IF(Table1[[#This Row],[Lơp]]=\"\",\"\",VLOOKUP(Table1[[#This Row],[Lơp]],$AC$3:$AD$14,2,0))","v":""},{"$f":"IF(AND(Q188=\"HỌC SINH XUẤT SẮC\",LEFT(P188,1)=\"9\"),Table1[[#This Row],[Column1]]+(ROUND(M188,3))+400+ROW()/10000,IF(AND(Q188=\"HỌC SINH XUẤT SẮC\",LEFT(P188,1)=\"8\"),Table1[[#This Row],[Column1]]+(ROUND(M188,3))+450+ROW()/10000,IF(AND(Q188=\"HỌC SINH XUẤT SẮC\",LEFT(P188,1)=\"7\"),Table1[[#This Row],[Column1]]+(ROUND(M188,3))+500+ROW()/10000,IF(AND(Q188=\"HỌC SINH XUẤT SẮC\",LEFT(P188,1)=\"6\"),Table1[[#This Row],[Column1]]+(ROUND(M188,3))+550+ROW()/10000,IF(AND(Q188=\"HỌC SINH GIỎI\",LEFT(P188,1)=\"9\"),Table1[[#This Row],[Column1]]+(ROUND(M188,3))+10+ROW()/10000,IF(AND(Q188=\"HỌC SINH GIỎI\",LEFT(P188,1)=\"8\"),Table1[[#This Row],[Column1]]+(ROUND(M188,3))+ 50+ROW()/10000,IF(AND(Q188=\"HỌC SINH GIỎI\",LEFT(P188,1)=\"7\"),Table1[[#This Row],[Column1]]+(ROUND(M188,3))+100+ROW()/10000,IF(AND(Q188=\"HỌC SINH GIỎI\",LEFT(P188,1)=\"6\"),Table1[[#This Row],[Column1]]+(ROUND(M188,3))+150+ROW()/10000,\"\"))))))))","v":""},{"$f":"IF(AND(Q188=\"HỌC SINH XUẤT SẮC\",LEFT(P188,1)=\"9\"),(ROUND(M188,3))+Table1[[#This Row],[Column1]]+10+ROW()/10000,IF(AND(Q188=\"HỌC SINH XUẤT SẮC\",LEFT(P188,1)=\"8\"),Table1[[#This Row],[Column1]]+(ROUND(M188,3))+50+ROW()/10000,IF(AND(Q188=\"HỌC SINH XUẤT SẮC\",LEFT(P188,1)=\"7\"),Table1[[#This Row],[Column1]]+(ROUND(M188,3))+100+ROW()/10000,IF(AND(Q188=\"HỌC SINH XUẤT SẮC\",LEFT(P188,1)=\"6\"),Table1[[#This Row],[Column1]]+(ROUND(M188,3))+150+ROW()/10000,\"\"))))","v":""},{"$f":"IF(AND(Q188=\"HỌC SINH GIỎI\",LEFT(P188,1)=\"9\"),Table1[[#This Row],[Column1]]+(ROUND(M188,3))+200+ROW()/10000,IF(AND(Q188=\"HỌC SINH GIỎI\",LEFT(P188,1)=\"8\"),Table1[[#This Row],[Column1]]+(ROUND(M188,3))+250+ROW()/10000,IF(AND(Q188=\"HỌC SINH GIỎI\",LEFT(P188,1)=\"7\"),Table1[[#This Row],[Column1]]+(ROUND(M188,3))+300+ROW()/10000,IF(AND(Q188=\"HỌC SINH GIỎI\",LEFT(P188,1)=\"6\"),Table1[[#This Row],[Column1]]+(ROUND(M188,3))+350+ROW()/10000,\"\"))))","v":""},"","","",""]
[null,null,null,null,null,null,null,null,null,null,null,null,"",null,null,null,"",{"$f":"IF(Table1[[#This Row],[STT]]=\"\",\"\",ROW()-1)","v":""},{"$f":"IF(Table1[[#This Row],[Lơp]]=\"\",\"\",VLOOKUP(Table1[[#This Row],[Lơp]],$AC$3:$AD$14,2,0))","v":""},{"$f":"IF(AND(Q189=\"HỌC SINH XUẤT SẮC\",LEFT(P189,1)=\"9\"),Table1[[#This Row],[Column1]]+(ROUND(M189,3))+400+ROW()/10000,IF(AND(Q189=\"HỌC SINH XUẤT SẮC\",LEFT(P189,1)=\"8\"),Table1[[#This Row],[Column1]]+(ROUND(M189,3))+450+ROW()/10000,IF(AND(Q189=\"HỌC SINH XUẤT SẮC\",LEFT(P189,1)=\"7\"),Table1[[#This Row],[Column1]]+(ROUND(M189,3))+500+ROW()/10000,IF(AND(Q189=\"HỌC SINH XUẤT SẮC\",LEFT(P189,1)=\"6\"),Table1[[#This Row],[Column1]]+(ROUND(M189,3))+550+ROW()/10000,IF(AND(Q189=\"HỌC SINH GIỎI\",LEFT(P189,1)=\"9\"),Table1[[#This Row],[Column1]]+(ROUND(M189,3))+10+ROW()/10000,IF(AND(Q189=\"HỌC SINH GIỎI\",LEFT(P189,1)=\"8\"),Table1[[#This Row],[Column1]]+(ROUND(M189,3))+ 50+ROW()/10000,IF(AND(Q189=\"HỌC SINH GIỎI\",LEFT(P189,1)=\"7\"),Table1[[#This Row],[Column1]]+(ROUND(M189,3))+100+ROW()/10000,IF(AND(Q189=\"HỌC SINH GIỎI\",LEFT(P189,1)=\"6\"),Table1[[#This Row],[Column1]]+(ROUND(M189,3))+150+ROW()/10000,\"\"))))))))","v":""},{"$f":"IF(AND(Q189=\"HỌC SINH XUẤT SẮC\",LEFT(P189,1)=\"9\"),(ROUND(M189,3))+Table1[[#This Row],[Column1]]+10+ROW()/10000,IF(AND(Q189=\"HỌC SINH XUẤT SẮC\",LEFT(P189,1)=\"8\"),Table1[[#This Row],[Column1]]+(ROUND(M189,3))+50+ROW()/10000,IF(AND(Q189=\"HỌC SINH XUẤT SẮC\",LEFT(P189,1)=\"7\"),Table1[[#This Row],[Column1]]+(ROUND(M189,3))+100+ROW()/10000,IF(AND(Q189=\"HỌC SINH XUẤT SẮC\",LEFT(P189,1)=\"6\"),Table1[[#This Row],[Column1]]+(ROUND(M189,3))+150+ROW()/10000,\"\"))))","v":""},{"$f":"IF(AND(Q189=\"HỌC SINH GIỎI\",LEFT(P189,1)=\"9\"),Table1[[#This Row],[Column1]]+(ROUND(M189,3))+200+ROW()/10000,IF(AND(Q189=\"HỌC SINH GIỎI\",LEFT(P189,1)=\"8\"),Table1[[#This Row],[Column1]]+(ROUND(M189,3))+250+ROW()/10000,IF(AND(Q189=\"HỌC SINH GIỎI\",LEFT(P189,1)=\"7\"),Table1[[#This Row],[Column1]]+(ROUND(M189,3))+300+ROW()/10000,IF(AND(Q189=\"HỌC SINH GIỎI\",LEFT(P189,1)=\"6\"),Table1[[#This Row],[Column1]]+(ROUND(M189,3))+350+ROW()/10000,\"\"))))","v":""},"","","",""]
[null,null,null,null,null,null,null,null,null,null,null,null,"",null,null,null,"",{"$f":"IF(Table1[[#This Row],[STT]]=\"\",\"\",ROW()-1)","v":""},{"$f":"IF(Table1[[#This Row],[Lơp]]=\"\",\"\",VLOOKUP(Table1[[#This Row],[Lơp]],$AC$3:$AD$14,2,0))","v":""},{"$f":"IF(AND(Q190=\"HỌC SINH XUẤT SẮC\",LEFT(P190,1)=\"9\"),Table1[[#This Row],[Column1]]+(ROUND(M190,3))+400+ROW()/10000,IF(AND(Q190=\"HỌC SINH XUẤT SẮC\",LEFT(P190,1)=\"8\"),Table1[[#This Row],[Column1]]+(ROUND(M190,3))+450+ROW()/10000,IF(AND(Q190=\"HỌC SINH XUẤT SẮC\",LEFT(P190,1)=\"7\"),Table1[[#This Row],[Column1]]+(ROUND(M190,3))+500+ROW()/10000,IF(AND(Q190=\"HỌC SINH XUẤT SẮC\",LEFT(P190,1)=\"6\"),Table1[[#This Row],[Column1]]+(ROUND(M190,3))+550+ROW()/10000,IF(AND(Q190=\"HỌC SINH GIỎI\",LEFT(P190,1)=\"9\"),Table1[[#This Row],[Column1]]+(ROUND(M190,3))+10+ROW()/10000,IF(AND(Q190=\"HỌC SINH GIỎI\",LEFT(P190,1)=\"8\"),Table1[[#This Row],[Column1]]+(ROUND(M190,3))+ 50+ROW()/10000,IF(AND(Q190=\"HỌC SINH GIỎI\",LEFT(P190,1)=\"7\"),Table1[[#This Row],[Column1]]+(ROUND(M190,3))+100+ROW()/10000,IF(AND(Q190=\"HỌC SINH GIỎI\",LEFT(P190,1)=\"6\"),Table1[[#This Row],[Column1]]+(ROUND(M190,3))+150+ROW()/10000,\"\"))))))))","v":""},{"$f":"IF(AND(Q190=\"HỌC SINH XUẤT SẮC\",LEFT(P190,1)=\"9\"),(ROUND(M190,3))+Table1[[#This Row],[Column1]]+10+ROW()/10000,IF(AND(Q190=\"HỌC SINH XUẤT SẮC\",LEFT(P190,1)=\"8\"),Table1[[#This Row],[Column1]]+(ROUND(M190,3))+50+ROW()/10000,IF(AND(Q190=\"HỌC SINH XUẤT SẮC\",LEFT(P190,1)=\"7\"),Table1[[#This Row],[Column1]]+(ROUND(M190,3))+100+ROW()/10000,IF(AND(Q190=\"HỌC SINH XUẤT SẮC\",LEFT(P190,1)=\"6\"),Table1[[#This Row],[Column1]]+(ROUND(M190,3))+150+ROW()/10000,\"\"))))","v":""},{"$f":"IF(AND(Q190=\"HỌC SINH GIỎI\",LEFT(P190,1)=\"9\"),Table1[[#This Row],[Column1]]+(ROUND(M190,3))+200+ROW()/10000,IF(AND(Q190=\"HỌC SINH GIỎI\",LEFT(P190,1)=\"8\"),Table1[[#This Row],[Column1]]+(ROUND(M190,3))+250+ROW()/10000,IF(AND(Q190=\"HỌC SINH GIỎI\",LEFT(P190,1)=\"7\"),Table1[[#This Row],[Column1]]+(ROUND(M190,3))+300+ROW()/10000,IF(AND(Q190=\"HỌC SINH GIỎI\",LEFT(P190,1)=\"6\"),Table1[[#This Row],[Column1]]+(ROUND(M190,3))+350+ROW()/10000,\"\"))))","v":""},"","","",""]
[null,null,null,null,null,null,null,null,null,null,null,null,"",null,null,null,"",{"$f":"IF(Table1[[#This Row],[STT]]=\"\",\"\",ROW()-1)","v":""},{"$f":"IF(Table1[[#This Row],[Lơp]]=\"\",\"\",VLOOKUP(Table1[[#This Row],[Lơp]],$AC$3:$AD$14,2,0))","v":""},{"$f":"IF(AND(Q191=\"HỌC SINH XUẤT SẮC\",LEFT(P191,1)=\"9\"),Table1[[#This Row],[Column1]]+(ROUND(M191,3))+400+ROW()/10000,IF(AND(Q191=\"HỌC SINH XUẤT SẮC\",LEFT(P191,1)=\"8\"),Table1[[#This Row],[Column1]]+(ROUND(M191,3))+450+ROW()/10000,IF(AND(Q191=\"HỌC SINH XUẤT SẮC\",LEFT(P191,1)=\"7\"),Table1[[#This Row],[Column1]]+(ROUND(M191,3))+500+ROW()/10000,IF(AND(Q191=\"HỌC SINH XUẤT SẮC\",LEFT(P191,1)=\"6\"),Table1[[#This Row],[Column1]]+(ROUND(M191,3))+550+ROW()/10000,IF(AND(Q191=\"HỌC SINH GIỎI\",LEFT(P191,1)=\"9\"),Table1[[#This Row],[Column1]]+(ROUND(M191,3))+10+ROW()/10000,IF(AND(Q191=\"HỌC SINH GIỎI\",LEFT(P191,1)=\"8\"),Table1[[#This Row],[Column1]]+(ROUND(M191,3))+ 50+ROW()/10000,IF(AND(Q191=\"HỌC SINH GIỎI\",LEFT(P191,1)=\"7\"),Table1[[#This Row],[Column1]]+(ROUND(M191,3))+100+ROW()/10000,IF(AND(Q191=\"HỌC SINH GIỎI\",LEFT(P191,1)=\"6\"),Table1[[#This Row],[Column1]]+(ROUND(M191,3))+150+ROW()/10000,\"\"))))))))","v":""},{"$f":"IF(AND(Q191=\"HỌC SINH XUẤT SẮC\",LEFT(P191,1)=\"9\"),(ROUND(M191,3))+Table1[[#This Row],[Column1]]+10+ROW()/10000,IF(AND(Q191=\"HỌC SINH XUẤT SẮC\",LEFT(P191,1)=\"8\"),Table1[[#This Row],[Column1]]+(ROUND(M191,3))+50+ROW()/10000,IF(AND(Q191=\"HỌC SINH XUẤT SẮC\",LEFT(P191,1)=\"7\"),Table1[[#This Row],[Column1]]+(ROUND(M191,3))+100+ROW()/10000,IF(AND(Q191=\"HỌC SINH XUẤT SẮC\",LEFT(P191,1)=\"6\"),Table1[[#This Row],[Column1]]+(ROUND(M191,3))+150+ROW()/10000,\"\"))))","v":""},{"$f":"IF(AND(Q191=\"HỌC SINH GIỎI\",LEFT(P191,1)=\"9\"),Table1[[#This Row],[Column1]]+(ROUND(M191,3))+200+ROW()/10000,IF(AND(Q191=\"HỌC SINH GIỎI\",LEFT(P191,1)=\"8\"),Table1[[#This Row],[Column1]]+(ROUND(M191,3))+250+ROW()/10000,IF(AND(Q191=\"HỌC SINH GIỎI\",LEFT(P191,1)=\"7\"),Table1[[#This Row],[Column1]]+(ROUND(M191,3))+300+ROW()/10000,IF(AND(Q191=\"HỌC SINH GIỎI\",LEFT(P191,1)=\"6\"),Table1[[#This Row],[Column1]]+(ROUND(M191,3))+350+ROW()/10000,\"\"))))","v":""},"","","",""]
[null,null,null,null,null,null,null,null,null,null,null,null,"",null,null,null,"",{"$f":"IF(Table1[[#This Row],[STT]]=\"\",\"\",ROW()-1)","v":""},{"$f":"IF(Table1[[#This Row],[Lơp]]=\"\",\"\",VLOOKUP(Table1[[#This Row],[Lơp]],$AC$3:$AD$14,2,0))","v":""},{"$f":"IF(AND(Q192=\"HỌC SINH XUẤT SẮC\",LEFT(P192,1)=\"9\"),Table1[[#This Row],[Column1]]+(ROUND(M192,3))+400+ROW()/10000,IF(AND(Q192=\"HỌC SINH XUẤT SẮC\",LEFT(P192,1)=\"8\"),Table1[[#This Row],[Column1]]+(ROUND(M192,3))+450+ROW()/10000,IF(AND(Q192=\"HỌC SINH XUẤT SẮC\",LEFT(P192,1)=\"7\"),Table1[[#This Row],[Column1]]+(ROUND(M192,3))+500+ROW()/10000,IF(AND(Q192=\"HỌC SINH XUẤT SẮC\",LEFT(P192,1)=\"6\"),Table1[[#This Row],[Column1]]+(ROUND(M192,3))+550+ROW()/10000,IF(AND(Q192=\"HỌC SINH GIỎI\",LEFT(P192,1)=\"9\"),Table1[[#This Row],[Column1]]+(ROUND(M192,3))+10+ROW()/10000,IF(AND(Q192=\"HỌC SINH GIỎI\",LEFT(P192,1)=\"8\"),Table1[[#This Row],[Column1]]+(ROUND(M192,3))+ 50+ROW()/10000,IF(AND(Q192=\"HỌC SINH GIỎI\",LEFT(P192,1)=\"7\"),Table1[[#This Row],[Column1]]+(ROUND(M192,3))+100+ROW()/10000,IF(AND(Q192=\"HỌC SINH GIỎI\",LEFT(P192,1)=\"6\"),Table1[[#This Row],[Column1]]+(ROUND(M192,3))+150+ROW()/10000,\"\"))))))))","v":""},{"$f":"IF(AND(Q192=\"HỌC SINH XUẤT SẮC\",LEFT(P192,1)=\"9\"),(ROUND(M192,3))+Table1[[#This Row],[Column1]]+10+ROW()/10000,IF(AND(Q192=\"HỌC SINH XUẤT SẮC\",LEFT(P192,1)=\"8\"),Table1[[#This Row],[Column1]]+(ROUND(M192,3))+50+ROW()/10000,IF(AND(Q192=\"HỌC SINH XUẤT SẮC\",LEFT(P192,1)=\"7\"),Table1[[#This Row],[Column1]]+(ROUND(M192,3))+100+ROW()/10000,IF(AND(Q192=\"HỌC SINH XUẤT SẮC\",LEFT(P192,1)=\"6\"),Table1[[#This Row],[Column1]]+(ROUND(M192,3))+150+ROW()/10000,\"\"))))","v":""},{"$f":"IF(AND(Q192=\"HỌC SINH GIỎI\",LEFT(P192,1)=\"9\"),Table1[[#This Row],[Column1]]+(ROUND(M192,3))+200+ROW()/10000,IF(AND(Q192=\"HỌC SINH GIỎI\",LEFT(P192,1)=\"8\"),Table1[[#This Row],[Column1]]+(ROUND(M192,3))+250+ROW()/10000,IF(AND(Q192=\"HỌC SINH GIỎI\",LEFT(P192,1)=\"7\"),Table1[[#This Row],[Column1]]+(ROUND(M192,3))+300+ROW()/10000,IF(AND(Q192=\"HỌC SINH GIỎI\",LEFT(P192,1)=\"6\"),Table1[[#This Row],[Column1]]+(ROUND(M192,3))+350+ROW()/10000,\"\"))))","v":""},"","","",""]
[null,null,null,null,null,null,null,null,null,null,null,null,"",null,null,null,"",{"$f":"IF(Table1[[#This Row],[STT]]=\"\",\"\",ROW()-1)","v":""},{"$f":"IF(Table1[[#This Row],[Lơp]]=\"\",\"\",VLOOKUP(Table1[[#This Row],[Lơp]],$AC$3:$AD$14,2,0))","v":""},{"$f":"IF(AND(Q193=\"HỌC SINH XUẤT SẮC\",LEFT(P193,1)=\"9\"),Table1[[#This Row],[Column1]]+(ROUND(M193,3))+400+ROW()/10000,IF(AND(Q193=\"HỌC SINH XUẤT SẮC\",LEFT(P193,1)=\"8\"),Table1[[#This Row],[Column1]]+(ROUND(M193,3))+450+ROW()/10000,IF(AND(Q193=\"HỌC SINH XUẤT SẮC\",LEFT(P193,1)=\"7\"),Table1[[#This Row],[Column1]]+(ROUND(M193,3))+500+ROW()/10000,IF(AND(Q193=\"HỌC SINH XUẤT SẮC\",LEFT(P193,1)=\"6\"),Table1[[#This Row],[Column1]]+(ROUND(M193,3))+550+ROW()/10000,IF(AND(Q193=\"HỌC SINH GIỎI\",LEFT(P193,1)=\"9\"),Table1[[#This Row],[Column1]]+(ROUND(M193,3))+10+ROW()/10000,IF(AND(Q193=\"HỌC SINH GIỎI\",LEFT(P193,1)=\"8\"),Table1[[#This Row],[Column1]]+(ROUND(M193,3))+ 50+ROW()/10000,IF(AND(Q193=\"HỌC SINH GIỎI\",LEFT(P193,1)=\"7\"),Table1[[#This Row],[Column1]]+(ROUND(M193,3))+100+ROW()/10000,IF(AND(Q193=\"HỌC SINH GIỎI\",LEFT(P193,1)=\"6\"),Table1[[#This Row],[Column1]]+(ROUND(M193,3))+150+ROW()/10000,\"\"))))))))","v":""},{"$f":"IF(AND(Q193=\"HỌC SINH XUẤT SẮC\",LEFT(P193,1)=\"9\"),(ROUND(M193,3))+Table1[[#This Row],[Column1]]+10+ROW()/10000,IF(AND(Q193=\"HỌC SINH XUẤT SẮC\",LEFT(P193,1)=\"8\"),Table1[[#This Row],[Column1]]+(ROUND(M193,3))+50+ROW()/10000,IF(AND(Q193=\"HỌC SINH XUẤT SẮC\",LEFT(P193,1)=\"7\"),Table1[[#This Row],[Column1]]+(ROUND(M193,3))+100+ROW()/10000,IF(AND(Q193=\"HỌC SINH XUẤT SẮC\",LEFT(P193,1)=\"6\"),Table1[[#This Row],[Column1]]+(ROUND(M193,3))+150+ROW()/10000,\"\"))))","v":""},{"$f":"IF(AND(Q193=\"HỌC SINH GIỎI\",LEFT(P193,1)=\"9\"),Table1[[#This Row],[Column1]]+(ROUND(M193,3))+200+ROW()/10000,IF(AND(Q193=\"HỌC SINH GIỎI\",LEFT(P193,1)=\"8\"),Table1[[#This Row],[Column1]]+(ROUND(M193,3))+250+ROW()/10000,IF(AND(Q193=\"HỌC SINH GIỎI\",LEFT(P193,1)=\"7\"),Table1[[#This Row],[Column1]]+(ROUND(M193,3))+300+ROW()/10000,IF(AND(Q193=\"HỌC SINH GIỎI\",LEFT(P193,1)=\"6\"),Table1[[#This Row],[Column1]]+(ROUND(M193,3))+350+ROW()/10000,\"\"))))","v":""},"","","",""]
[null,null,null,null,null,null,null,null,null,null,null,null,"",null,null,null,"",{"$f":"IF(Table1[[#This Row],[STT]]=\"\",\"\",ROW()-1)","v":""},{"$f":"IF(Table1[[#This Row],[Lơp]]=\"\",\"\",VLOOKUP(Table1[[#This Row],[Lơp]],$AC$3:$AD$14,2,0))","v":""},{"$f":"IF(AND(Q194=\"HỌC SINH XUẤT SẮC\",LEFT(P194,1)=\"9\"),Table1[[#This Row],[Column1]]+(ROUND(M194,3))+400+ROW()/10000,IF(AND(Q194=\"HỌC SINH XUẤT SẮC\",LEFT(P194,1)=\"8\"),Table1[[#This Row],[Column1]]+(ROUND(M194,3))+450+ROW()/10000,IF(AND(Q194=\"HỌC SINH XUẤT SẮC\",LEFT(P194,1)=\"7\"),Table1[[#This Row],[Column1]]+(ROUND(M194,3))+500+ROW()/10000,IF(AND(Q194=\"HỌC SINH XUẤT SẮC\",LEFT(P194,1)=\"6\"),Table1[[#This Row],[Column1]]+(ROUND(M194,3))+550+ROW()/10000,IF(AND(Q194=\"HỌC SINH GIỎI\",LEFT(P194,1)=\"9\"),Table1[[#This Row],[Column1]]+(ROUND(M194,3))+10+ROW()/10000,IF(AND(Q194=\"HỌC SINH GIỎI\",LEFT(P194,1)=\"8\"),Table1[[#This Row],[Column1]]+(ROUND(M194,3))+ 50+ROW()/10000,IF(AND(Q194=\"HỌC SINH GIỎI\",LEFT(P194,1)=\"7\"),Table1[[#This Row],[Column1]]+(ROUND(M194,3))+100+ROW()/10000,IF(AND(Q194=\"HỌC SINH GIỎI\",LEFT(P194,1)=\"6\"),Table1[[#This Row],[Column1]]+(ROUND(M194,3))+150+ROW()/10000,\"\"))))))))","v":""},{"$f":"IF(AND(Q194=\"HỌC SINH XUẤT SẮC\",LEFT(P194,1)=\"9\"),(ROUND(M194,3))+Table1[[#This Row],[Column1]]+10+ROW()/10000,IF(AND(Q194=\"HỌC SINH XUẤT SẮC\",LEFT(P194,1)=\"8\"),Table1[[#This Row],[Column1]]+(ROUND(M194,3))+50+ROW()/10000,IF(AND(Q194=\"HỌC SINH XUẤT SẮC\",LEFT(P194,1)=\"7\"),Table1[[#This Row],[Column1]]+(ROUND(M194,3))+100+ROW()/10000,IF(AND(Q194=\"HỌC SINH XUẤT SẮC\",LEFT(P194,1)=\"6\"),Table1[[#This Row],[Column1]]+(ROUND(M194,3))+150+ROW()/10000,\"\"))))","v":""},{"$f":"IF(AND(Q194=\"HỌC SINH GIỎI\",LEFT(P194,1)=\"9\"),Table1[[#This Row],[Column1]]+(ROUND(M194,3))+200+ROW()/10000,IF(AND(Q194=\"HỌC SINH GIỎI\",LEFT(P194,1)=\"8\"),Table1[[#This Row],[Column1]]+(ROUND(M194,3))+250+ROW()/10000,IF(AND(Q194=\"HỌC SINH GIỎI\",LEFT(P194,1)=\"7\"),Table1[[#This Row],[Column1]]+(ROUND(M194,3))+300+ROW()/10000,IF(AND(Q194=\"HỌC SINH GIỎI\",LEFT(P194,1)=\"6\"),Table1[[#This Row],[Column1]]+(ROUND(M194,3))+350+ROW()/10000,\"\"))))","v":""},"","","",""]
[null,null,null,null,null,null,null,null,null,null,null,null,"",null,null,null,{"$f":"IF(AND(N195=\"\",O195=\"\"),\"\",IF(N195=\"x\",\"HỌC SINH XUẤT SẮC\",\"HỌC SINH GIỎI\"))","v":""},{"$f":"IF(Table1[[#This Row],[STT]]=\"\",\"\",ROW()-1)","v":""},{"$f":"IF(Table1[[#This Row],[Lơp]]=\"\",\"\",VLOOKUP(Table1[[#This Row],[Lơp]],$AC$3:$AD$14,2,0))","v":""},{"$f":"IF(AND(Q195=\"HỌC SINH XUẤT SẮC\",LEFT(P195,1)=\"9\"),Table1[[#This Row],[Column1]]+(ROUND(M195,3))+400+ROW()/10000,IF(AND(Q195=\"HỌC SINH XUẤT SẮC\",LEFT(P195,1)=\"8\"),Table1[[#This Row],[Column1]]+(ROUND(M195,3))+450+ROW()/10000,IF(AND(Q195=\"HỌC SINH XUẤT SẮC\",LEFT(P195,1)=\"7\"),Table1[[#This Row],[Column1]]+(ROUND(M195,3))+500+ROW()/10000,IF(AND(Q195=\"HỌC SINH XUẤT SẮC\",LEFT(P195,1)=\"6\"),Table1[[#This Row],[Column1]]+(ROUND(M195,3))+550+ROW()/10000,IF(AND(Q195=\"HỌC SINH GIỎI\",LEFT(P195,1)=\"9\"),Table1[[#This Row],[Column1]]+(ROUND(M195,3))+10+ROW()/10000,IF(AND(Q195=\"HỌC SINH GIỎI\",LEFT(P195,1)=\"8\"),Table1[[#This Row],[Column1]]+(ROUND(M195,3))+ 50+ROW()/10000,IF(AND(Q195=\"HỌC SINH GIỎI\",LEFT(P195,1)=\"7\"),Table1[[#This Row],[Column1]]+(ROUND(M195,3))+100+ROW()/10000,IF(AND(Q195=\"HỌC SINH GIỎI\",LEFT(P195,1)=\"6\"),Table1[[#This Row],[Column1]]+(ROUND(M195,3))+150+ROW()/10000,\"\"))))))))","v":""},{"$f":"IF(AND(Q195=\"HỌC SINH XUẤT SẮC\",LEFT(P195,1)=\"9\"),(ROUND(M195,3))+Table1[[#This Row],[Column1]]+10+ROW()/10000,IF(AND(Q195=\"HỌC SINH XUẤT SẮC\",LEFT(P195,1)=\"8\"),Table1[[#This Row],[Column1]]+(ROUND(M195,3))+50+ROW()/10000,IF(AND(Q195=\"HỌC SINH XUẤT SẮC\",LEFT(P195,1)=\"7\"),Table1[[#This Row],[Column1]]+(ROUND(M195,3))+100+ROW()/10000,IF(AND(Q195=\"HỌC SINH XUẤT SẮC\",LEFT(P195,1)=\"6\"),Table1[[#This Row],[Column1]]+(ROUND(M195,3))+150+ROW()/10000,\"\"))))","v":""},{"$f":"IF(AND(Q195=\"HỌC SINH GIỎI\",LEFT(P195,1)=\"9\"),Table1[[#This Row],[Column1]]+(ROUND(M195,3))+200+ROW()/10000,IF(AND(Q195=\"HỌC SINH GIỎI\",LEFT(P195,1)=\"8\"),Table1[[#This Row],[Column1]]+(ROUND(M195,3))+250+ROW()/10000,IF(AND(Q195=\"HỌC SINH GIỎI\",LEFT(P195,1)=\"7\"),Table1[[#This Row],[Column1]]+(ROUND(M195,3))+300+ROW()/10000,IF(AND(Q195=\"HỌC SINH GIỎI\",LEFT(P195,1)=\"6\"),Table1[[#This Row],[Column1]]+(ROUND(M195,3))+350+ROW()/10000,\"\"))))","v":""},{"$f":"IF(AND(V195=\"\",U195=\"\"),\"\",B195)","v":""},"","",""]
[null,null,null,null,null,null,null,null,null,null,null,null,"",null,null,null,"",{"$f":"IF(Table1[[#This Row],[STT]]=\"\",\"\",ROW()-1)","v":""},{"$f":"IF(Table1[[#This Row],[Lơp]]=\"\",\"\",VLOOKUP(Table1[[#This Row],[Lơp]],$AC$3:$AD$14,2,0))","v":""},{"$f":"IF(AND(Q196=\"HỌC SINH XUẤT SẮC\",LEFT(P196,1)=\"9\"),Table1[[#This Row],[Column1]]+(ROUND(M196,3))+400+ROW()/10000,IF(AND(Q196=\"HỌC SINH XUẤT SẮC\",LEFT(P196,1)=\"8\"),Table1[[#This Row],[Column1]]+(ROUND(M196,3))+450+ROW()/10000,IF(AND(Q196=\"HỌC SINH XUẤT SẮC\",LEFT(P196,1)=\"7\"),Table1[[#This Row],[Column1]]+(ROUND(M196,3))+500+ROW()/10000,IF(AND(Q196=\"HỌC SINH XUẤT SẮC\",LEFT(P196,1)=\"6\"),Table1[[#This Row],[Column1]]+(ROUND(M196,3))+550+ROW()/10000,IF(AND(Q196=\"HỌC SINH GIỎI\",LEFT(P196,1)=\"9\"),Table1[[#This Row],[Column1]]+(ROUND(M196,3))+10+ROW()/10000,IF(AND(Q196=\"HỌC SINH GIỎI\",LEFT(P196,1)=\"8\"),Table1[[#This Row],[Column1]]+(ROUND(M196,3))+ 50+ROW()/10000,IF(AND(Q196=\"HỌC SINH GIỎI\",LEFT(P196,1)=\"7\"),Table1[[#This Row],[Column1]]+(ROUND(M196,3))+100+ROW()/10000,IF(AND(Q196=\"HỌC SINH GIỎI\",LEFT(P196,1)=\"6\"),Table1[[#This Row],[Column1]]+(ROUND(M196,3))+150+ROW()/10000,\"\"))))))))","v":""},{"$f":"IF(AND(Q196=\"HỌC SINH XUẤT SẮC\",LEFT(P196,1)=\"9\"),(ROUND(M196,3))+Table1[[#This Row],[Column1]]+10+ROW()/10000,IF(AND(Q196=\"HỌC SINH XUẤT SẮC\",LEFT(P196,1)=\"8\"),Table1[[#This Row],[Column1]]+(ROUND(M196,3))+50+ROW()/10000,IF(AND(Q196=\"HỌC SINH XUẤT SẮC\",LEFT(P196,1)=\"7\"),Table1[[#This Row],[Column1]]+(ROUND(M196,3))+100+ROW()/10000,IF(AND(Q196=\"HỌC SINH XUẤT SẮC\",LEFT(P196,1)=\"6\"),Table1[[#This Row],[Column1]]+(ROUND(M196,3))+150+ROW()/10000,\"\"))))","v":""},{"$f":"IF(AND(Q196=\"HỌC SINH GIỎI\",LEFT(P196,1)=\"9\"),Table1[[#This Row],[Column1]]+(ROUND(M196,3))+200+ROW()/10000,IF(AND(Q196=\"HỌC SINH GIỎI\",LEFT(P196,1)=\"8\"),Table1[[#This Row],[Column1]]+(ROUND(M196,3))+250+ROW()/10000,IF(AND(Q196=\"HỌC SINH GIỎI\",LEFT(P196,1)=\"7\"),Table1[[#This Row],[Column1]]+(ROUND(M196,3))+300+ROW()/10000,IF(AND(Q196=\"HỌC SINH GIỎI\",LEFT(P196,1)=\"6\"),Table1[[#This Row],[Column1]]+(ROUND(M196,3))+350+ROW()/10000,\"\"))))","v":""},"","","",""]
[null,null,null,null,null,null,null,null,null,null,null,null,"",null,null,null,"",{"$f":"IF(Table1[[#This Row],[STT]]=\"\",\"\",ROW()-1)","v":""},{"$f":"IF(Table1[[#This Row],[Lơp]]=\"\",\"\",VLOOKUP(Table1[[#This Row],[Lơp]],$AC$3:$AD$14,2,0))","v":""},{"$f":"IF(AND(Q197=\"HỌC SINH XUẤT SẮC\",LEFT(P197,1)=\"9\"),Table1[[#This Row],[Column1]]+(ROUND(M197,3))+400+ROW()/10000,IF(AND(Q197=\"HỌC SINH XUẤT SẮC\",LEFT(P197,1)=\"8\"),Table1[[#This Row],[Column1]]+(ROUND(M197,3))+450+ROW()/10000,IF(AND(Q197=\"HỌC SINH XUẤT SẮC\",LEFT(P197,1)=\"7\"),Table1[[#This Row],[Column1]]+(ROUND(M197,3))+500+ROW()/10000,IF(AND(Q197=\"HỌC SINH XUẤT SẮC\",LEFT(P197,1)=\"6\"),Table1[[#This Row],[Column1]]+(ROUND(M197,3))+550+ROW()/10000,IF(AND(Q197=\"HỌC SINH GIỎI\",LEFT(P197,1)=\"9\"),Table1[[#This Row],[Column1]]+(ROUND(M197,3))+10+ROW()/10000,IF(AND(Q197=\"HỌC SINH GIỎI\",LEFT(P197,1)=\"8\"),Table1[[#This Row],[Column1]]+(ROUND(M197,3))+ 50+ROW()/10000,IF(AND(Q197=\"HỌC SINH GIỎI\",LEFT(P197,1)=\"7\"),Table1[[#This Row],[Column1]]+(ROUND(M197,3))+100+ROW()/10000,IF(AND(Q197=\"HỌC SINH GIỎI\",LEFT(P197,1)=\"6\"),Table1[[#This Row],[Column1]]+(ROUND(M197,3))+150+ROW()/10000,\"\"))))))))","v":""},{"$f":"IF(AND(Q197=\"HỌC SINH XUẤT SẮC\",LEFT(P197,1)=\"9\"),(ROUND(M197,3))+Table1[[#This Row],[Column1]]+10+ROW()/10000,IF(AND(Q197=\"HỌC SINH XUẤT SẮC\",LEFT(P197,1)=\"8\"),Table1[[#This Row],[Column1]]+(ROUND(M197,3))+50+ROW()/10000,IF(AND(Q197=\"HỌC SINH XUẤT SẮC\",LEFT(P197,1)=\"7\"),Table1[[#This Row],[Column1]]+(ROUND(M197,3))+100+ROW()/10000,IF(AND(Q197=\"HỌC SINH XUẤT SẮC\",LEFT(P197,1)=\"6\"),Table1[[#This Row],[Column1]]+(ROUND(M197,3))+150+ROW()/10000,\"\"))))","v":""},{"$f":"IF(AND(Q197=\"HỌC SINH GIỎI\",LEFT(P197,1)=\"9\"),Table1[[#This Row],[Column1]]+(ROUND(M197,3))+200+ROW()/10000,IF(AND(Q197=\"HỌC SINH GIỎI\",LEFT(P197,1)=\"8\"),Table1[[#This Row],[Column1]]+(ROUND(M197,3))+250+ROW()/10000,IF(AND(Q197=\"HỌC SINH GIỎI\",LEFT(P197,1)=\"7\"),Table1[[#This Row],[Column1]]+(ROUND(M197,3))+300+ROW()/10000,IF(AND(Q197=\"HỌC SINH GIỎI\",LEFT(P197,1)=\"6\"),Table1[[#This Row],[Column1]]+(ROUND(M197,3))+350+ROW()/10000,\"\"))))","v":""},"","","",""]
[null,null,null,null,null,null,null,null,null,null,null,null,"",null,null,null,"",{"$f":"IF(Table1[[#This Row],[STT]]=\"\",\"\",ROW()-1)","v":""},{"$f":"IF(Table1[[#This Row],[Lơp]]=\"\",\"\",VLOOKUP(Table1[[#This Row],[Lơp]],$AC$3:$AD$14,2,0))","v":""},{"$f":"IF(AND(Q198=\"HỌC SINH XUẤT SẮC\",LEFT(P198,1)=\"9\"),Table1[[#This Row],[Column1]]+(ROUND(M198,3))+400+ROW()/10000,IF(AND(Q198=\"HỌC SINH XUẤT SẮC\",LEFT(P198,1)=\"8\"),Table1[[#This Row],[Column1]]+(ROUND(M198,3))+450+ROW()/10000,IF(AND(Q198=\"HỌC SINH XUẤT SẮC\",LEFT(P198,1)=\"7\"),Table1[[#This Row],[Column1]]+(ROUND(M198,3))+500+ROW()/10000,IF(AND(Q198=\"HỌC SINH XUẤT SẮC\",LEFT(P198,1)=\"6\"),Table1[[#This Row],[Column1]]+(ROUND(M198,3))+550+ROW()/10000,IF(AND(Q198=\"HỌC SINH GIỎI\",LEFT(P198,1)=\"9\"),Table1[[#This Row],[Column1]]+(ROUND(M198,3))+10+ROW()/10000,IF(AND(Q198=\"HỌC SINH GIỎI\",LEFT(P198,1)=\"8\"),Table1[[#This Row],[Column1]]+(ROUND(M198,3))+ 50+ROW()/10000,IF(AND(Q198=\"HỌC SINH GIỎI\",LEFT(P198,1)=\"7\"),Table1[[#This Row],[Column1]]+(ROUND(M198,3))+100+ROW()/10000,IF(AND(Q198=\"HỌC SINH GIỎI\",LEFT(P198,1)=\"6\"),Table1[[#This Row],[Column1]]+(ROUND(M198,3))+150+ROW()/10000,\"\"))))))))","v":""},{"$f":"IF(AND(Q198=\"HỌC SINH XUẤT SẮC\",LEFT(P198,1)=\"9\"),(ROUND(M198,3))+Table1[[#This Row],[Column1]]+10+ROW()/10000,IF(AND(Q198=\"HỌC SINH XUẤT SẮC\",LEFT(P198,1)=\"8\"),Table1[[#This Row],[Column1]]+(ROUND(M198,3))+50+ROW()/10000,IF(AND(Q198=\"HỌC SINH XUẤT SẮC\",LEFT(P198,1)=\"7\"),Table1[[#This Row],[Column1]]+(ROUND(M198,3))+100+ROW()/10000,IF(AND(Q198=\"HỌC SINH XUẤT SẮC\",LEFT(P198,1)=\"6\"),Table1[[#This Row],[Column1]]+(ROUND(M198,3))+150+ROW()/10000,\"\"))))","v":""},{"$f":"IF(AND(Q198=\"HỌC SINH GIỎI\",LEFT(P198,1)=\"9\"),Table1[[#This Row],[Column1]]+(ROUND(M198,3))+200+ROW()/10000,IF(AND(Q198=\"HỌC SINH GIỎI\",LEFT(P198,1)=\"8\"),Table1[[#This Row],[Column1]]+(ROUND(M198,3))+250+ROW()/10000,IF(AND(Q198=\"HỌC SINH GIỎI\",LEFT(P198,1)=\"7\"),Table1[[#This Row],[Column1]]+(ROUND(M198,3))+300+ROW()/10000,IF(AND(Q198=\"HỌC SINH GIỎI\",LEFT(P198,1)=\"6\"),Table1[[#This Row],[Column1]]+(ROUND(M198,3))+350+ROW()/10000,\"\"))))","v":""},"","","",""]
[null,null,null,null,null,null,null,null,null,null,null,null,"",null,null,null,"",{"$f":"IF(Table1[[#This Row],[STT]]=\"\",\"\",ROW()-1)","v":""},{"$f":"IF(Table1[[#This Row],[Lơp]]=\"\",\"\",VLOOKUP(Table1[[#This Row],[Lơp]],$AC$3:$AD$14,2,0))","v":""},{"$f":"IF(AND(Q199=\"HỌC SINH XUẤT SẮC\",LEFT(P199,1)=\"9\"),Table1[[#This Row],[Column1]]+(ROUND(M199,3))+400+ROW()/10000,IF(AND(Q199=\"HỌC SINH XUẤT SẮC\",LEFT(P199,1)=\"8\"),Table1[[#This Row],[Column1]]+(ROUND(M199,3))+450+ROW()/10000,IF(AND(Q199=\"HỌC SINH XUẤT SẮC\",LEFT(P199,1)=\"7\"),Table1[[#This Row],[Column1]]+(ROUND(M199,3))+500+ROW()/10000,IF(AND(Q199=\"HỌC SINH XUẤT SẮC\",LEFT(P199,1)=\"6\"),Table1[[#This Row],[Column1]]+(ROUND(M199,3))+550+ROW()/10000,IF(AND(Q199=\"HỌC SINH GIỎI\",LEFT(P199,1)=\"9\"),Table1[[#This Row],[Column1]]+(ROUND(M199,3))+10+ROW()/10000,IF(AND(Q199=\"HỌC SINH GIỎI\",LEFT(P199,1)=\"8\"),Table1[[#This Row],[Column1]]+(ROUND(M199,3))+ 50+ROW()/10000,IF(AND(Q199=\"HỌC SINH GIỎI\",LEFT(P199,1)=\"7\"),Table1[[#This Row],[Column1]]+(ROUND(M199,3))+100+ROW()/10000,IF(AND(Q199=\"HỌC SINH GIỎI\",LEFT(P199,1)=\"6\"),Table1[[#This Row],[Column1]]+(ROUND(M199,3))+150+ROW()/10000,\"\"))))))))","v":""},{"$f":"IF(AND(Q199=\"HỌC SINH XUẤT SẮC\",LEFT(P199,1)=\"9\"),(ROUND(M199,3))+Table1[[#This Row],[Column1]]+10+ROW()/10000,IF(AND(Q199=\"HỌC SINH XUẤT SẮC\",LEFT(P199,1)=\"8\"),Table1[[#This Row],[Column1]]+(ROUND(M199,3))+50+ROW()/10000,IF(AND(Q199=\"HỌC SINH XUẤT SẮC\",LEFT(P199,1)=\"7\"),Table1[[#This Row],[Column1]]+(ROUND(M199,3))+100+ROW()/10000,IF(AND(Q199=\"HỌC SINH XUẤT SẮC\",LEFT(P199,1)=\"6\"),Table1[[#This Row],[Column1]]+(ROUND(M199,3))+150+ROW()/10000,\"\"))))","v":""},{"$f":"IF(AND(Q199=\"HỌC SINH GIỎI\",LEFT(P199,1)=\"9\"),Table1[[#This Row],[Column1]]+(ROUND(M199,3))+200+ROW()/10000,IF(AND(Q199=\"HỌC SINH GIỎI\",LEFT(P199,1)=\"8\"),Table1[[#This Row],[Column1]]+(ROUND(M199,3))+250+ROW()/10000,IF(AND(Q199=\"HỌC SINH GIỎI\",LEFT(P199,1)=\"7\"),Table1[[#This Row],[Column1]]+(ROUND(M199,3))+300+ROW()/10000,IF(AND(Q199=\"HỌC SINH GIỎI\",LEFT(P199,1)=\"6\"),Table1[[#This Row],[Column1]]+(ROUND(M199,3))+350+ROW()/10000,\"\"))))","v":""},"","","",""]
[null,null,null,null,null,null,null,null,null,null,null,null,"",null,null,null,"",{"$f":"IF(Table1[[#This Row],[STT]]=\"\",\"\",ROW()-1)","v":""},{"$f":"IF(Table1[[#This Row],[Lơp]]=\"\",\"\",VLOOKUP(Table1[[#This Row],[Lơp]],$AC$3:$AD$14,2,0))","v":""},{"$f":"IF(AND(Q200=\"HỌC SINH XUẤT SẮC\",LEFT(P200,1)=\"9\"),Table1[[#This Row],[Column1]]+(ROUND(M200,3))+400+ROW()/10000,IF(AND(Q200=\"HỌC SINH XUẤT SẮC\",LEFT(P200,1)=\"8\"),Table1[[#This Row],[Column1]]+(ROUND(M200,3))+450+ROW()/10000,IF(AND(Q200=\"HỌC SINH XUẤT SẮC\",LEFT(P200,1)=\"7\"),Table1[[#This Row],[Column1]]+(ROUND(M200,3))+500+ROW()/10000,IF(AND(Q200=\"HỌC SINH XUẤT SẮC\",LEFT(P200,1)=\"6\"),Table1[[#This Row],[Column1]]+(ROUND(M200,3))+550+ROW()/10000,IF(AND(Q200=\"HỌC SINH GIỎI\",LEFT(P200,1)=\"9\"),Table1[[#This Row],[Column1]]+(ROUND(M200,3))+10+ROW()/10000,IF(AND(Q200=\"HỌC SINH GIỎI\",LEFT(P200,1)=\"8\"),Table1[[#This Row],[Column1]]+(ROUND(M200,3))+ 50+ROW()/10000,IF(AND(Q200=\"HỌC SINH GIỎI\",LEFT(P200,1)=\"7\"),Table1[[#This Row],[Column1]]+(ROUND(M200,3))+100+ROW()/10000,IF(AND(Q200=\"HỌC SINH GIỎI\",LEFT(P200,1)=\"6\"),Table1[[#This Row],[Column1]]+(ROUND(M200,3))+150+ROW()/10000,\"\"))))))))","v":""},{"$f":"IF(AND(Q200=\"HỌC SINH XUẤT SẮC\",LEFT(P200,1)=\"9\"),(ROUND(M200,3))+Table1[[#This Row],[Column1]]+10+ROW()/10000,IF(AND(Q200=\"HỌC SINH XUẤT SẮC\",LEFT(P200,1)=\"8\"),Table1[[#This Row],[Column1]]+(ROUND(M200,3))+50+ROW()/10000,IF(AND(Q200=\"HỌC SINH XUẤT SẮC\",LEFT(P200,1)=\"7\"),Table1[[#This Row],[Column1]]+(ROUND(M200,3))+100+ROW()/10000,IF(AND(Q200=\"HỌC SINH XUẤT SẮC\",LEFT(P200,1)=\"6\"),Table1[[#This Row],[Column1]]+(ROUND(M200,3))+150+ROW()/10000,\"\"))))","v":""},{"$f":"IF(AND(Q200=\"HỌC SINH GIỎI\",LEFT(P200,1)=\"9\"),Table1[[#This Row],[Column1]]+(ROUND(M200,3))+200+ROW()/10000,IF(AND(Q200=\"HỌC SINH GIỎI\",LEFT(P200,1)=\"8\"),Table1[[#This Row],[Column1]]+(ROUND(M200,3))+250+ROW()/10000,IF(AND(Q200=\"HỌC SINH GIỎI\",LEFT(P200,1)=\"7\"),Table1[[#This Row],[Column1]]+(ROUND(M200,3))+300+ROW()/10000,IF(AND(Q200=\"HỌC SINH GIỎI\",LEFT(P200,1)=\"6\"),Table1[[#This Row],[Column1]]+(ROUND(M200,3))+350+ROW()/10000,\"\"))))","v":""},"","","",""]
[null,null,null,null,null,null,null,null,null,null,null,null,"",null,null,null,"",{"$f":"IF(Table1[[#This Row],[STT]]=\"\",\"\",ROW()-1)","v":""},{"$f":"IF(Table1[[#This Row],[Lơp]]=\"\",\"\",VLOOKUP(Table1[[#This Row],[Lơp]],$AC$3:$AD$14,2,0))","v":""},{"$f":"IF(AND(Q201=\"HỌC SINH XUẤT SẮC\",LEFT(P201,1)=\"9\"),Table1[[#This Row],[Column1]]+(ROUND(M201,3))+400+ROW()/10000,IF(AND(Q201=\"HỌC SINH XUẤT SẮC\",LEFT(P201,1)=\"8\"),Table1[[#This Row],[Column1]]+(ROUND(M201,3))+450+ROW()/10000,IF(AND(Q201=\"HỌC SINH XUẤT SẮC\",LEFT(P201,1)=\"7\"),Table1[[#This Row],[Column1]]+(ROUND(M201,3))+500+ROW()/10000,IF(AND(Q201=\"HỌC SINH XUẤT SẮC\",LEFT(P201,1)=\"6\"),Table1[[#This Row],[Column1]]+(ROUND(M201,3))+550+ROW()/10000,IF(AND(Q201=\"HỌC SINH GIỎI\",LEFT(P201,1)=\"9\"),Table1[[#This Row],[Column1]]+(ROUND(M201,3))+10+ROW()/10000,IF(AND(Q201=\"HỌC SINH GIỎI\",LEFT(P201,1)=\"8\"),Table1[[#This Row],[Column1]]+(ROUND(M201,3))+ 50+ROW()/10000,IF(AND(Q201=\"HỌC SINH GIỎI\",LEFT(P201,1)=\"7\"),Table1[[#This Row],[Column1]]+(ROUND(M201,3))+100+ROW()/10000,IF(AND(Q201=\"HỌC SINH GIỎI\",LEFT(P201,1)=\"6\"),Table1[[#This Row],[Column1]]+(ROUND(M201,3))+150+ROW()/10000,\"\"))))))))","v":""},{"$f":"IF(AND(Q201=\"HỌC SINH XUẤT SẮC\",LEFT(P201,1)=\"9\"),(ROUND(M201,3))+Table1[[#This Row],[Column1]]+10+ROW()/10000,IF(AND(Q201=\"HỌC SINH XUẤT SẮC\",LEFT(P201,1)=\"8\"),Table1[[#This Row],[Column1]]+(ROUND(M201,3))+50+ROW()/10000,IF(AND(Q201=\"HỌC SINH XUẤT SẮC\",LEFT(P201,1)=\"7\"),Table1[[#This Row],[Column1]]+(ROUND(M201,3))+100+ROW()/10000,IF(AND(Q201=\"HỌC SINH XUẤT SẮC\",LEFT(P201,1)=\"6\"),Table1[[#This Row],[Column1]]+(ROUND(M201,3))+150+ROW()/10000,\"\"))))","v":""},{"$f":"IF(AND(Q201=\"HỌC SINH GIỎI\",LEFT(P201,1)=\"9\"),Table1[[#This Row],[Column1]]+(ROUND(M201,3))+200+ROW()/10000,IF(AND(Q201=\"HỌC SINH GIỎI\",LEFT(P201,1)=\"8\"),Table1[[#This Row],[Column1]]+(ROUND(M201,3))+250+ROW()/10000,IF(AND(Q201=\"HỌC SINH GIỎI\",LEFT(P201,1)=\"7\"),Table1[[#This Row],[Column1]]+(ROUND(M201,3))+300+ROW()/10000,IF(AND(Q201=\"HỌC SINH GIỎI\",LEFT(P201,1)=\"6\"),Table1[[#This Row],[Column1]]+(ROUND(M201,3))+350+ROW()/10000,\"\"))))","v":""},{"$f":"IF(AND(V201=\"\",U201=\"\"),\"\",B201)","v":""},{"$f":"IF(W201=\"\",\"\",C201)","v":""},{"$f":"IF(X201=\"\",\"\",Q201)","v":""},{"$f":"IF(Y201=\"\",\"\",P201)","v":""}]
[null,null,null,null,null,null,null,null,null,null,null,null,"",null,null,null,"",{"$f":"IF(Table1[[#This Row],[STT]]=\"\",\"\",ROW()-1)","v":""},{"$f":"IF(Table1[[#This Row],[Lơp]]=\"\",\"\",VLOOKUP(Table1[[#This Row],[Lơp]],$AC$3:$AD$14,2,0))","v":""},{"$f":"IF(AND(Q202=\"HỌC SINH XUẤT SẮC\",LEFT(P202,1)=\"9\"),Table1[[#This Row],[Column1]]+(ROUND(M202,3))+400+ROW()/10000,IF(AND(Q202=\"HỌC SINH XUẤT SẮC\",LEFT(P202,1)=\"8\"),Table1[[#This Row],[Column1]]+(ROUND(M202,3))+450+ROW()/10000,IF(AND(Q202=\"HỌC SINH XUẤT SẮC\",LEFT(P202,1)=\"7\"),Table1[[#This Row],[Column1]]+(ROUND(M202,3))+500+ROW()/10000,IF(AND(Q202=\"HỌC SINH XUẤT SẮC\",LEFT(P202,1)=\"6\"),Table1[[#This Row],[Column1]]+(ROUND(M202,3))+550+ROW()/10000,IF(AND(Q202=\"HỌC SINH GIỎI\",LEFT(P202,1)=\"9\"),Table1[[#This Row],[Column1]]+(ROUND(M202,3))+10+ROW()/10000,IF(AND(Q202=\"HỌC SINH GIỎI\",LEFT(P202,1)=\"8\"),Table1[[#This Row],[Column1]]+(ROUND(M202,3))+ 50+ROW()/10000,IF(AND(Q202=\"HỌC SINH GIỎI\",LEFT(P202,1)=\"7\"),Table1[[#This Row],[Column1]]+(ROUND(M202,3))+100+ROW()/10000,IF(AND(Q202=\"HỌC SINH GIỎI\",LEFT(P202,1)=\"6\"),Table1[[#This Row],[Column1]]+(ROUND(M202,3))+150+ROW()/10000,\"\"))))))))","v":""},{"$f":"IF(AND(Q202=\"HỌC SINH XUẤT SẮC\",LEFT(P202,1)=\"9\"),(ROUND(M202,3))+Table1[[#This Row],[Column1]]+10+ROW()/10000,IF(AND(Q202=\"HỌC SINH XUẤT SẮC\",LEFT(P202,1)=\"8\"),Table1[[#This Row],[Column1]]+(ROUND(M202,3))+50+ROW()/10000,IF(AND(Q202=\"HỌC SINH XUẤT SẮC\",LEFT(P202,1)=\"7\"),Table1[[#This Row],[Column1]]+(ROUND(M202,3))+100+ROW()/10000,IF(AND(Q202=\"HỌC SINH XUẤT SẮC\",LEFT(P202,1)=\"6\"),Table1[[#This Row],[Column1]]+(ROUND(M202,3))+150+ROW()/10000,\"\"))))","v":""},{"$f":"IF(AND(Q202=\"HỌC SINH GIỎI\",LEFT(P202,1)=\"9\"),Table1[[#This Row],[Column1]]+(ROUND(M202,3))+200+ROW()/10000,IF(AND(Q202=\"HỌC SINH GIỎI\",LEFT(P202,1)=\"8\"),Table1[[#This Row],[Column1]]+(ROUND(M202,3))+250+ROW()/10000,IF(AND(Q202=\"HỌC SINH GIỎI\",LEFT(P202,1)=\"7\"),Table1[[#This Row],[Column1]]+(ROUND(M202,3))+300+ROW()/10000,IF(AND(Q202=\"HỌC SINH GIỎI\",LEFT(P202,1)=\"6\"),Table1[[#This Row],[Column1]]+(ROUND(M202,3))+350+ROW()/10000,\"\"))))","v":""},"","","",""]
[null,null,null,null,null,null,null,null,null,null,null,null,"",null,null,null,"",{"$f":"IF(Table1[[#This Row],[STT]]=\"\",\"\",ROW()-1)","v":""},{"$f":"IF(Table1[[#This Row],[Lơp]]=\"\",\"\",VLOOKUP(Table1[[#This Row],[Lơp]],$AC$3:$AD$14,2,0))","v":""},{"$f":"IF(AND(Q203=\"HỌC SINH XUẤT SẮC\",LEFT(P203,1)=\"9\"),Table1[[#This Row],[Column1]]+(ROUND(M203,3))+400+ROW()/10000,IF(AND(Q203=\"HỌC SINH XUẤT SẮC\",LEFT(P203,1)=\"8\"),Table1[[#This Row],[Column1]]+(ROUND(M203,3))+450+ROW()/10000,IF(AND(Q203=\"HỌC SINH XUẤT SẮC\",LEFT(P203,1)=\"7\"),Table1[[#This Row],[Column1]]+(ROUND(M203,3))+500+ROW()/10000,IF(AND(Q203=\"HỌC SINH XUẤT SẮC\",LEFT(P203,1)=\"6\"),Table1[[#This Row],[Column1]]+(ROUND(M203,3))+550+ROW()/10000,IF(AND(Q203=\"HỌC SINH GIỎI\",LEFT(P203,1)=\"9\"),Table1[[#This Row],[Column1]]+(ROUND(M203,3))+10+ROW()/10000,IF(AND(Q203=\"HỌC SINH GIỎI\",LEFT(P203,1)=\"8\"),Table1[[#This Row],[Column1]]+(ROUND(M203,3))+ 50+ROW()/10000,IF(AND(Q203=\"HỌC SINH GIỎI\",LEFT(P203,1)=\"7\"),Table1[[#This Row],[Column1]]+(ROUND(M203,3))+100+ROW()/10000,IF(AND(Q203=\"HỌC SINH GIỎI\",LEFT(P203,1)=\"6\"),Table1[[#This Row],[Column1]]+(ROUND(M203,3))+150+ROW()/10000,\"\"))))))))","v":""},{"$f":"IF(AND(Q203=\"HỌC SINH XUẤT SẮC\",LEFT(P203,1)=\"9\"),(ROUND(M203,3))+Table1[[#This Row],[Column1]]+10+ROW()/10000,IF(AND(Q203=\"HỌC SINH XUẤT SẮC\",LEFT(P203,1)=\"8\"),Table1[[#This Row],[Column1]]+(ROUND(M203,3))+50+ROW()/10000,IF(AND(Q203=\"HỌC SINH XUẤT SẮC\",LEFT(P203,1)=\"7\"),Table1[[#This Row],[Column1]]+(ROUND(M203,3))+100+ROW()/10000,IF(AND(Q203=\"HỌC SINH XUẤT SẮC\",LEFT(P203,1)=\"6\"),Table1[[#This Row],[Column1]]+(ROUND(M203,3))+150+ROW()/10000,\"\"))))","v":""},{"$f":"IF(AND(Q203=\"HỌC SINH GIỎI\",LEFT(P203,1)=\"9\"),Table1[[#This Row],[Column1]]+(ROUND(M203,3))+200+ROW()/10000,IF(AND(Q203=\"HỌC SINH GIỎI\",LEFT(P203,1)=\"8\"),Table1[[#This Row],[Column1]]+(ROUND(M203,3))+250+ROW()/10000,IF(AND(Q203=\"HỌC SINH GIỎI\",LEFT(P203,1)=\"7\"),Table1[[#This Row],[Column1]]+(ROUND(M203,3))+300+ROW()/10000,IF(AND(Q203=\"HỌC SINH GIỎI\",LEFT(P203,1)=\"6\"),Table1[[#This Row],[Column1]]+(ROUND(M203,3))+350+ROW()/10000,\"\"))))","v":""},"","","",""]
[null,null,null,null,null,null,null,null,null,null,null,null,"",null,null,null,"",{"$f":"IF(Table1[[#This Row],[STT]]=\"\",\"\",ROW()-1)","v":""},{"$f":"IF(Table1[[#This Row],[Lơp]]=\"\",\"\",VLOOKUP(Table1[[#This Row],[Lơp]],$AC$3:$AD$14,2,0))","v":""},{"$f":"IF(AND(Q204=\"HỌC SINH XUẤT SẮC\",LEFT(P204,1)=\"9\"),Table1[[#This Row],[Column1]]+(ROUND(M204,3))+400+ROW()/10000,IF(AND(Q204=\"HỌC SINH XUẤT SẮC\",LEFT(P204,1)=\"8\"),Table1[[#This Row],[Column1]]+(ROUND(M204,3))+450+ROW()/10000,IF(AND(Q204=\"HỌC SINH XUẤT SẮC\",LEFT(P204,1)=\"7\"),Table1[[#This Row],[Column1]]+(ROUND(M204,3))+500+ROW()/10000,IF(AND(Q204=\"HỌC SINH XUẤT SẮC\",LEFT(P204,1)=\"6\"),Table1[[#This Row],[Column1]]+(ROUND(M204,3))+550+ROW()/10000,IF(AND(Q204=\"HỌC SINH GIỎI\",LEFT(P204,1)=\"9\"),Table1[[#This Row],[Column1]]+(ROUND(M204,3))+10+ROW()/10000,IF(AND(Q204=\"HỌC SINH GIỎI\",LEFT(P204,1)=\"8\"),Table1[[#This Row],[Column1]]+(ROUND(M204,3))+ 50+ROW()/10000,IF(AND(Q204=\"HỌC SINH GIỎI\",LEFT(P204,1)=\"7\"),Table1[[#This Row],[Column1]]+(ROUND(M204,3))+100+ROW()/10000,IF(AND(Q204=\"HỌC SINH GIỎI\",LEFT(P204,1)=\"6\"),Table1[[#This Row],[Column1]]+(ROUND(M204,3))+150+ROW()/10000,\"\"))))))))","v":""},{"$f":"IF(AND(Q204=\"HỌC SINH XUẤT SẮC\",LEFT(P204,1)=\"9\"),(ROUND(M204,3))+Table1[[#This Row],[Column1]]+10+ROW()/10000,IF(AND(Q204=\"HỌC SINH XUẤT SẮC\",LEFT(P204,1)=\"8\"),Table1[[#This Row],[Column1]]+(ROUND(M204,3))+50+ROW()/10000,IF(AND(Q204=\"HỌC SINH XUẤT SẮC\",LEFT(P204,1)=\"7\"),Table1[[#This Row],[Column1]]+(ROUND(M204,3))+100+ROW()/10000,IF(AND(Q204=\"HỌC SINH XUẤT SẮC\",LEFT(P204,1)=\"6\"),Table1[[#This Row],[Column1]]+(ROUND(M204,3))+150+ROW()/10000,\"\"))))","v":""},{"$f":"IF(AND(Q204=\"HỌC SINH GIỎI\",LEFT(P204,1)=\"9\"),Table1[[#This Row],[Column1]]+(ROUND(M204,3))+200+ROW()/10000,IF(AND(Q204=\"HỌC SINH GIỎI\",LEFT(P204,1)=\"8\"),Table1[[#This Row],[Column1]]+(ROUND(M204,3))+250+ROW()/10000,IF(AND(Q204=\"HỌC SINH GIỎI\",LEFT(P204,1)=\"7\"),Table1[[#This Row],[Column1]]+(ROUND(M204,3))+300+ROW()/10000,IF(AND(Q204=\"HỌC SINH GIỎI\",LEFT(P204,1)=\"6\"),Table1[[#This Row],[Column1]]+(ROUND(M204,3))+350+ROW()/10000,\"\"))))","v":""},"","","",""]
[null,null,null,null,null,null,null,null,null,null,null,null,"",null,null,null,"",{"$f":"IF(Table1[[#This Row],[STT]]=\"\",\"\",ROW()-1)","v":""},{"$f":"IF(Table1[[#This Row],[Lơp]]=\"\",\"\",VLOOKUP(Table1[[#This Row],[Lơp]],$AC$3:$AD$14,2,0))","v":""},{"$f":"IF(AND(Q205=\"HỌC SINH XUẤT SẮC\",LEFT(P205,1)=\"9\"),Table1[[#This Row],[Column1]]+(ROUND(M205,3))+400+ROW()/10000,IF(AND(Q205=\"HỌC SINH XUẤT SẮC\",LEFT(P205,1)=\"8\"),Table1[[#This Row],[Column1]]+(ROUND(M205,3))+450+ROW()/10000,IF(AND(Q205=\"HỌC SINH XUẤT SẮC\",LEFT(P205,1)=\"7\"),Table1[[#This Row],[Column1]]+(ROUND(M205,3))+500+ROW()/10000,IF(AND(Q205=\"HỌC SINH XUẤT SẮC\",LEFT(P205,1)=\"6\"),Table1[[#This Row],[Column1]]+(ROUND(M205,3))+550+ROW()/10000,IF(AND(Q205=\"HỌC SINH GIỎI\",LEFT(P205,1)=\"9\"),Table1[[#This Row],[Column1]]+(ROUND(M205,3))+10+ROW()/10000,IF(AND(Q205=\"HỌC SINH GIỎI\",LEFT(P205,1)=\"8\"),Table1[[#This Row],[Column1]]+(ROUND(M205,3))+ 50+ROW()/10000,IF(AND(Q205=\"HỌC SINH GIỎI\",LEFT(P205,1)=\"7\"),Table1[[#This Row],[Column1]]+(ROUND(M205,3))+100+ROW()/10000,IF(AND(Q205=\"HỌC SINH GIỎI\",LEFT(P205,1)=\"6\"),Table1[[#This Row],[Column1]]+(ROUND(M205,3))+150+ROW()/10000,\"\"))))))))","v":""},{"$f":"IF(AND(Q205=\"HỌC SINH XUẤT SẮC\",LEFT(P205,1)=\"9\"),(ROUND(M205,3))+Table1[[#This Row],[Column1]]+10+ROW()/10000,IF(AND(Q205=\"HỌC SINH XUẤT SẮC\",LEFT(P205,1)=\"8\"),Table1[[#This Row],[Column1]]+(ROUND(M205,3))+50+ROW()/10000,IF(AND(Q205=\"HỌC SINH XUẤT SẮC\",LEFT(P205,1)=\"7\"),Table1[[#This Row],[Column1]]+(ROUND(M205,3))+100+ROW()/10000,IF(AND(Q205=\"HỌC SINH XUẤT SẮC\",LEFT(P205,1)=\"6\"),Table1[[#This Row],[Column1]]+(ROUND(M205,3))+150+ROW()/10000,\"\"))))","v":""},{"$f":"IF(AND(Q205=\"HỌC SINH GIỎI\",LEFT(P205,1)=\"9\"),Table1[[#This Row],[Column1]]+(ROUND(M205,3))+200+ROW()/10000,IF(AND(Q205=\"HỌC SINH GIỎI\",LEFT(P205,1)=\"8\"),Table1[[#This Row],[Column1]]+(ROUND(M205,3))+250+ROW()/10000,IF(AND(Q205=\"HỌC SINH GIỎI\",LEFT(P205,1)=\"7\"),Table1[[#This Row],[Column1]]+(ROUND(M205,3))+300+ROW()/10000,IF(AND(Q205=\"HỌC SINH GIỎI\",LEFT(P205,1)=\"6\"),Table1[[#This Row],[Column1]]+(ROUND(M205,3))+350+ROW()/10000,\"\"))))","v":""},"","","",""]
[null,null,null,null,null,null,null,null,null,null,null,null,"",null,null,null,"",{"$f":"IF(Table1[[#This Row],[STT]]=\"\",\"\",ROW()-1)","v":""},{"$f":"IF(Table1[[#This Row],[Lơp]]=\"\",\"\",VLOOKUP(Table1[[#This Row],[Lơp]],$AC$3:$AD$14,2,0))","v":""},{"$f":"IF(AND(Q206=\"HỌC SINH XUẤT SẮC\",LEFT(P206,1)=\"9\"),Table1[[#This Row],[Column1]]+(ROUND(M206,3))+400+ROW()/10000,IF(AND(Q206=\"HỌC SINH XUẤT SẮC\",LEFT(P206,1)=\"8\"),Table1[[#This Row],[Column1]]+(ROUND(M206,3))+450+ROW()/10000,IF(AND(Q206=\"HỌC SINH XUẤT SẮC\",LEFT(P206,1)=\"7\"),Table1[[#This Row],[Column1]]+(ROUND(M206,3))+500+ROW()/10000,IF(AND(Q206=\"HỌC SINH XUẤT SẮC\",LEFT(P206,1)=\"6\"),Table1[[#This Row],[Column1]]+(ROUND(M206,3))+550+ROW()/10000,IF(AND(Q206=\"HỌC SINH GIỎI\",LEFT(P206,1)=\"9\"),Table1[[#This Row],[Column1]]+(ROUND(M206,3))+10+ROW()/10000,IF(AND(Q206=\"HỌC SINH GIỎI\",LEFT(P206,1)=\"8\"),Table1[[#This Row],[Column1]]+(ROUND(M206,3))+ 50+ROW()/10000,IF(AND(Q206=\"HỌC SINH GIỎI\",LEFT(P206,1)=\"7\"),Table1[[#This Row],[Column1]]+(ROUND(M206,3))+100+ROW()/10000,IF(AND(Q206=\"HỌC SINH GIỎI\",LEFT(P206,1)=\"6\"),Table1[[#This Row],[Column1]]+(ROUND(M206,3))+150+ROW()/10000,\"\"))))))))","v":""},{"$f":"IF(AND(Q206=\"HỌC SINH XUẤT SẮC\",LEFT(P206,1)=\"9\"),(ROUND(M206,3))+Table1[[#This Row],[Column1]]+10+ROW()/10000,IF(AND(Q206=\"HỌC SINH XUẤT SẮC\",LEFT(P206,1)=\"8\"),Table1[[#This Row],[Column1]]+(ROUND(M206,3))+50+ROW()/10000,IF(AND(Q206=\"HỌC SINH XUẤT SẮC\",LEFT(P206,1)=\"7\"),Table1[[#This Row],[Column1]]+(ROUND(M206,3))+100+ROW()/10000,IF(AND(Q206=\"HỌC SINH XUẤT SẮC\",LEFT(P206,1)=\"6\"),Table1[[#This Row],[Column1]]+(ROUND(M206,3))+150+ROW()/10000,\"\"))))","v":""},{"$f":"IF(AND(Q206=\"HỌC SINH GIỎI\",LEFT(P206,1)=\"9\"),Table1[[#This Row],[Column1]]+(ROUND(M206,3))+200+ROW()/10000,IF(AND(Q206=\"HỌC SINH GIỎI\",LEFT(P206,1)=\"8\"),Table1[[#This Row],[Column1]]+(ROUND(M206,3))+250+ROW()/10000,IF(AND(Q206=\"HỌC SINH GIỎI\",LEFT(P206,1)=\"7\"),Table1[[#This Row],[Column1]]+(ROUND(M206,3))+300+ROW()/10000,IF(AND(Q206=\"HỌC SINH GIỎI\",LEFT(P206,1)=\"6\"),Table1[[#This Row],[Column1]]+(ROUND(M206,3))+350+ROW()/10000,\"\"))))","v":""},"","","",""]
[null,null,null,null,null,null,null,null,null,null,null,null,"",null,null,null,"",{"$f":"IF(Table1[[#This Row],[STT]]=\"\",\"\",ROW()-1)","v":""},{"$f":"IF(Table1[[#This Row],[Lơp]]=\"\",\"\",VLOOKUP(Table1[[#This Row],[Lơp]],$AC$3:$AD$14,2,0))","v":""},{"$f":"IF(AND(Q207=\"HỌC SINH XUẤT SẮC\",LEFT(P207,1)=\"9\"),Table1[[#This Row],[Column1]]+(ROUND(M207,3))+400+ROW()/10000,IF(AND(Q207=\"HỌC SINH XUẤT SẮC\",LEFT(P207,1)=\"8\"),Table1[[#This Row],[Column1]]+(ROUND(M207,3))+450+ROW()/10000,IF(AND(Q207=\"HỌC SINH XUẤT SẮC\",LEFT(P207,1)=\"7\"),Table1[[#This Row],[Column1]]+(ROUND(M207,3))+500+ROW()/10000,IF(AND(Q207=\"HỌC SINH XUẤT SẮC\",LEFT(P207,1)=\"6\"),Table1[[#This Row],[Column1]]+(ROUND(M207,3))+550+ROW()/10000,IF(AND(Q207=\"HỌC SINH GIỎI\",LEFT(P207,1)=\"9\"),Table1[[#This Row],[Column1]]+(ROUND(M207,3))+10+ROW()/10000,IF(AND(Q207=\"HỌC SINH GIỎI\",LEFT(P207,1)=\"8\"),Table1[[#This Row],[Column1]]+(ROUND(M207,3))+ 50+ROW()/10000,IF(AND(Q207=\"HỌC SINH GIỎI\",LEFT(P207,1)=\"7\"),Table1[[#This Row],[Column1]]+(ROUND(M207,3))+100+ROW()/10000,IF(AND(Q207=\"HỌC SINH GIỎI\",LEFT(P207,1)=\"6\"),Table1[[#This Row],[Column1]]+(ROUND(M207,3))+150+ROW()/10000,\"\"))))))))","v":""},{"$f":"IF(AND(Q207=\"HỌC SINH XUẤT SẮC\",LEFT(P207,1)=\"9\"),(ROUND(M207,3))+Table1[[#This Row],[Column1]]+10+ROW()/10000,IF(AND(Q207=\"HỌC SINH XUẤT SẮC\",LEFT(P207,1)=\"8\"),Table1[[#This Row],[Column1]]+(ROUND(M207,3))+50+ROW()/10000,IF(AND(Q207=\"HỌC SINH XUẤT SẮC\",LEFT(P207,1)=\"7\"),Table1[[#This Row],[Column1]]+(ROUND(M207,3))+100+ROW()/10000,IF(AND(Q207=\"HỌC SINH XUẤT SẮC\",LEFT(P207,1)=\"6\"),Table1[[#This Row],[Column1]]+(ROUND(M207,3))+150+ROW()/10000,\"\"))))","v":""},{"$f":"IF(AND(Q207=\"HỌC SINH GIỎI\",LEFT(P207,1)=\"9\"),Table1[[#This Row],[Column1]]+(ROUND(M207,3))+200+ROW()/10000,IF(AND(Q207=\"HỌC SINH GIỎI\",LEFT(P207,1)=\"8\"),Table1[[#This Row],[Column1]]+(ROUND(M207,3))+250+ROW()/10000,IF(AND(Q207=\"HỌC SINH GIỎI\",LEFT(P207,1)=\"7\"),Table1[[#This Row],[Column1]]+(ROUND(M207,3))+300+ROW()/10000,IF(AND(Q207=\"HỌC SINH GIỎI\",LEFT(P207,1)=\"6\"),Table1[[#This Row],[Column1]]+(ROUND(M207,3))+350+ROW()/10000,\"\"))))","v":""},"","","",""]
[null,null,null,null,null,null,null,null,null,null,null,null,"",null,null,null,"",{"$f":"IF(Table1[[#This Row],[STT]]=\"\",\"\",ROW()-1)","v":""},{"$f":"IF(Table1[[#This Row],[Lơp]]=\"\",\"\",VLOOKUP(Table1[[#This Row],[Lơp]],$AC$3:$AD$14,2,0))","v":""},{"$f":"IF(AND(Q208=\"HỌC SINH XUẤT SẮC\",LEFT(P208,1)=\"9\"),Table1[[#This Row],[Column1]]+(ROUND(M208,3))+400+ROW()/10000,IF(AND(Q208=\"HỌC SINH XUẤT SẮC\",LEFT(P208,1)=\"8\"),Table1[[#This Row],[Column1]]+(ROUND(M208,3))+450+ROW()/10000,IF(AND(Q208=\"HỌC SINH XUẤT SẮC\",LEFT(P208,1)=\"7\"),Table1[[#This Row],[Column1]]+(ROUND(M208,3))+500+ROW()/10000,IF(AND(Q208=\"HỌC SINH XUẤT SẮC\",LEFT(P208,1)=\"6\"),Table1[[#This Row],[Column1]]+(ROUND(M208,3))+550+ROW()/10000,IF(AND(Q208=\"HỌC SINH GIỎI\",LEFT(P208,1)=\"9\"),Table1[[#This Row],[Column1]]+(ROUND(M208,3))+10+ROW()/10000,IF(AND(Q208=\"HỌC SINH GIỎI\",LEFT(P208,1)=\"8\"),Table1[[#This Row],[Column1]]+(ROUND(M208,3))+ 50+ROW()/10000,IF(AND(Q208=\"HỌC SINH GIỎI\",LEFT(P208,1)=\"7\"),Table1[[#This Row],[Column1]]+(ROUND(M208,3))+100+ROW()/10000,IF(AND(Q208=\"HỌC SINH GIỎI\",LEFT(P208,1)=\"6\"),Table1[[#This Row],[Column1]]+(ROUND(M208,3))+150+ROW()/10000,\"\"))))))))","v":""},{"$f":"IF(AND(Q208=\"HỌC SINH XUẤT SẮC\",LEFT(P208,1)=\"9\"),(ROUND(M208,3))+Table1[[#This Row],[Column1]]+10+ROW()/10000,IF(AND(Q208=\"HỌC SINH XUẤT SẮC\",LEFT(P208,1)=\"8\"),Table1[[#This Row],[Column1]]+(ROUND(M208,3))+50+ROW()/10000,IF(AND(Q208=\"HỌC SINH XUẤT SẮC\",LEFT(P208,1)=\"7\"),Table1[[#This Row],[Column1]]+(ROUND(M208,3))+100+ROW()/10000,IF(AND(Q208=\"HỌC SINH XUẤT SẮC\",LEFT(P208,1)=\"6\"),Table1[[#This Row],[Column1]]+(ROUND(M208,3))+150+ROW()/10000,\"\"))))","v":""},{"$f":"IF(AND(Q208=\"HỌC SINH GIỎI\",LEFT(P208,1)=\"9\"),Table1[[#This Row],[Column1]]+(ROUND(M208,3))+200+ROW()/10000,IF(AND(Q208=\"HỌC SINH GIỎI\",LEFT(P208,1)=\"8\"),Table1[[#This Row],[Column1]]+(ROUND(M208,3))+250+ROW()/10000,IF(AND(Q208=\"HỌC SINH GIỎI\",LEFT(P208,1)=\"7\"),Table1[[#This Row],[Column1]]+(ROUND(M208,3))+300+ROW()/10000,IF(AND(Q208=\"HỌC SINH GIỎI\",LEFT(P208,1)=\"6\"),Table1[[#This Row],[Column1]]+(ROUND(M208,3))+350+ROW()/10000,\"\"))))","v":""},"","","",""]
[null,null,null,null,null,null,null,null,null,null,null,null,"",null,null,null,"",{"$f":"IF(Table1[[#This Row],[STT]]=\"\",\"\",ROW()-1)","v":""},{"$f":"IF(Table1[[#This Row],[Lơp]]=\"\",\"\",VLOOKUP(Table1[[#This Row],[Lơp]],$AC$3:$AD$14,2,0))","v":""},{"$f":"IF(AND(Q209=\"HỌC SINH XUẤT SẮC\",LEFT(P209,1)=\"9\"),Table1[[#This Row],[Column1]]+(ROUND(M209,3))+400+ROW()/10000,IF(AND(Q209=\"HỌC SINH XUẤT SẮC\",LEFT(P209,1)=\"8\"),Table1[[#This Row],[Column1]]+(ROUND(M209,3))+450+ROW()/10000,IF(AND(Q209=\"HỌC SINH XUẤT SẮC\",LEFT(P209,1)=\"7\"),Table1[[#This Row],[Column1]]+(ROUND(M209,3))+500+ROW()/10000,IF(AND(Q209=\"HỌC SINH XUẤT SẮC\",LEFT(P209,1)=\"6\"),Table1[[#This Row],[Column1]]+(ROUND(M209,3))+550+ROW()/10000,IF(AND(Q209=\"HỌC SINH GIỎI\",LEFT(P209,1)=\"9\"),Table1[[#This Row],[Column1]]+(ROUND(M209,3))+10+ROW()/10000,IF(AND(Q209=\"HỌC SINH GIỎI\",LEFT(P209,1)=\"8\"),Table1[[#This Row],[Column1]]+(ROUND(M209,3))+ 50+ROW()/10000,IF(AND(Q209=\"HỌC SINH GIỎI\",LEFT(P209,1)=\"7\"),Table1[[#This Row],[Column1]]+(ROUND(M209,3))+100+ROW()/10000,IF(AND(Q209=\"HỌC SINH GIỎI\",LEFT(P209,1)=\"6\"),Table1[[#This Row],[Column1]]+(ROUND(M209,3))+150+ROW()/10000,\"\"))))))))","v":""},{"$f":"IF(AND(Q209=\"HỌC SINH XUẤT SẮC\",LEFT(P209,1)=\"9\"),(ROUND(M209,3))+Table1[[#This Row],[Column1]]+10+ROW()/10000,IF(AND(Q209=\"HỌC SINH XUẤT SẮC\",LEFT(P209,1)=\"8\"),Table1[[#This Row],[Column1]]+(ROUND(M209,3))+50+ROW()/10000,IF(AND(Q209=\"HỌC SINH XUẤT SẮC\",LEFT(P209,1)=\"7\"),Table1[[#This Row],[Column1]]+(ROUND(M209,3))+100+ROW()/10000,IF(AND(Q209=\"HỌC SINH XUẤT SẮC\",LEFT(P209,1)=\"6\"),Table1[[#This Row],[Column1]]+(ROUND(M209,3))+150+ROW()/10000,\"\"))))","v":""},{"$f":"IF(AND(Q209=\"HỌC SINH GIỎI\",LEFT(P209,1)=\"9\"),Table1[[#This Row],[Column1]]+(ROUND(M209,3))+200+ROW()/10000,IF(AND(Q209=\"HỌC SINH GIỎI\",LEFT(P209,1)=\"8\"),Table1[[#This Row],[Column1]]+(ROUND(M209,3))+250+ROW()/10000,IF(AND(Q209=\"HỌC SINH GIỎI\",LEFT(P209,1)=\"7\"),Table1[[#This Row],[Column1]]+(ROUND(M209,3))+300+ROW()/10000,IF(AND(Q209=\"HỌC SINH GIỎI\",LEFT(P209,1)=\"6\"),Table1[[#This Row],[Column1]]+(ROUND(M209,3))+350+ROW()/10000,\"\"))))","v":""},"","","",""]
[null,null,null,null,null,null,null,null,null,null,null,null,"",null,null,null,"",{"$f":"IF(Table1[[#This Row],[STT]]=\"\",\"\",ROW()-1)","v":""},{"$f":"IF(Table1[[#This Row],[Lơp]]=\"\",\"\",VLOOKUP(Table1[[#This Row],[Lơp]],$AC$3:$AD$14,2,0))","v":""},{"$f":"IF(AND(Q210=\"HỌC SINH XUẤT SẮC\",LEFT(P210,1)=\"9\"),Table1[[#This Row],[Column1]]+(ROUND(M210,3))+400+ROW()/10000,IF(AND(Q210=\"HỌC SINH XUẤT SẮC\",LEFT(P210,1)=\"8\"),Table1[[#This Row],[Column1]]+(ROUND(M210,3))+450+ROW()/10000,IF(AND(Q210=\"HỌC SINH XUẤT SẮC\",LEFT(P210,1)=\"7\"),Table1[[#This Row],[Column1]]+(ROUND(M210,3))+500+ROW()/10000,IF(AND(Q210=\"HỌC SINH XUẤT SẮC\",LEFT(P210,1)=\"6\"),Table1[[#This Row],[Column1]]+(ROUND(M210,3))+550+ROW()/10000,IF(AND(Q210=\"HỌC SINH GIỎI\",LEFT(P210,1)=\"9\"),Table1[[#This Row],[Column1]]+(ROUND(M210,3))+10+ROW()/10000,IF(AND(Q210=\"HỌC SINH GIỎI\",LEFT(P210,1)=\"8\"),Table1[[#This Row],[Column1]]+(ROUND(M210,3))+ 50+ROW()/10000,IF(AND(Q210=\"HỌC SINH GIỎI\",LEFT(P210,1)=\"7\"),Table1[[#This Row],[Column1]]+(ROUND(M210,3))+100+ROW()/10000,IF(AND(Q210=\"HỌC SINH GIỎI\",LEFT(P210,1)=\"6\"),Table1[[#This Row],[Column1]]+(ROUND(M210,3))+150+ROW()/10000,\"\"))))))))","v":""},{"$f":"IF(AND(Q210=\"HỌC SINH XUẤT SẮC\",LEFT(P210,1)=\"9\"),(ROUND(M210,3))+Table1[[#This Row],[Column1]]+10+ROW()/10000,IF(AND(Q210=\"HỌC SINH XUẤT SẮC\",LEFT(P210,1)=\"8\"),Table1[[#This Row],[Column1]]+(ROUND(M210,3))+50+ROW()/10000,IF(AND(Q210=\"HỌC SINH XUẤT SẮC\",LEFT(P210,1)=\"7\"),Table1[[#This Row],[Column1]]+(ROUND(M210,3))+100+ROW()/10000,IF(AND(Q210=\"HỌC SINH XUẤT SẮC\",LEFT(P210,1)=\"6\"),Table1[[#This Row],[Column1]]+(ROUND(M210,3))+150+ROW()/10000,\"\"))))","v":""},{"$f":"IF(AND(Q210=\"HỌC SINH GIỎI\",LEFT(P210,1)=\"9\"),Table1[[#This Row],[Column1]]+(ROUND(M210,3))+200+ROW()/10000,IF(AND(Q210=\"HỌC SINH GIỎI\",LEFT(P210,1)=\"8\"),Table1[[#This Row],[Column1]]+(ROUND(M210,3))+250+ROW()/10000,IF(AND(Q210=\"HỌC SINH GIỎI\",LEFT(P210,1)=\"7\"),Table1[[#This Row],[Column1]]+(ROUND(M210,3))+300+ROW()/10000,IF(AND(Q210=\"HỌC SINH GIỎI\",LEFT(P210,1)=\"6\"),Table1[[#This Row],[Column1]]+(ROUND(M210,3))+350+ROW()/10000,\"\"))))","v":""},"","","",""]
[null,null,null,null,null,null,null,null,null,null,null,null,"",null,null,null,"",{"$f":"IF(Table1[[#This Row],[STT]]=\"\",\"\",ROW()-1)","v":""},{"$f":"IF(Table1[[#This Row],[Lơp]]=\"\",\"\",VLOOKUP(Table1[[#This Row],[Lơp]],$AC$3:$AD$14,2,0))","v":""},{"$f":"IF(AND(Q211=\"HỌC SINH XUẤT SẮC\",LEFT(P211,1)=\"9\"),Table1[[#This Row],[Column1]]+(ROUND(M211,3))+400+ROW()/10000,IF(AND(Q211=\"HỌC SINH XUẤT SẮC\",LEFT(P211,1)=\"8\"),Table1[[#This Row],[Column1]]+(ROUND(M211,3))+450+ROW()/10000,IF(AND(Q211=\"HỌC SINH XUẤT SẮC\",LEFT(P211,1)=\"7\"),Table1[[#This Row],[Column1]]+(ROUND(M211,3))+500+ROW()/10000,IF(AND(Q211=\"HỌC SINH XUẤT SẮC\",LEFT(P211,1)=\"6\"),Table1[[#This Row],[Column1]]+(ROUND(M211,3))+550+ROW()/10000,IF(AND(Q211=\"HỌC SINH GIỎI\",LEFT(P211,1)=\"9\"),Table1[[#This Row],[Column1]]+(ROUND(M211,3))+10+ROW()/10000,IF(AND(Q211=\"HỌC SINH GIỎI\",LEFT(P211,1)=\"8\"),Table1[[#This Row],[Column1]]+(ROUND(M211,3))+ 50+ROW()/10000,IF(AND(Q211=\"HỌC SINH GIỎI\",LEFT(P211,1)=\"7\"),Table1[[#This Row],[Column1]]+(ROUND(M211,3))+100+ROW()/10000,IF(AND(Q211=\"HỌC SINH GIỎI\",LEFT(P211,1)=\"6\"),Table1[[#This Row],[Column1]]+(ROUND(M211,3))+150+ROW()/10000,\"\"))))))))","v":""},{"$f":"IF(AND(Q211=\"HỌC SINH XUẤT SẮC\",LEFT(P211,1)=\"9\"),(ROUND(M211,3))+Table1[[#This Row],[Column1]]+10+ROW()/10000,IF(AND(Q211=\"HỌC SINH XUẤT SẮC\",LEFT(P211,1)=\"8\"),Table1[[#This Row],[Column1]]+(ROUND(M211,3))+50+ROW()/10000,IF(AND(Q211=\"HỌC SINH XUẤT SẮC\",LEFT(P211,1)=\"7\"),Table1[[#This Row],[Column1]]+(ROUND(M211,3))+100+ROW()/10000,IF(AND(Q211=\"HỌC SINH XUẤT SẮC\",LEFT(P211,1)=\"6\"),Table1[[#This Row],[Column1]]+(ROUND(M211,3))+150+ROW()/10000,\"\"))))","v":""},{"$f":"IF(AND(Q211=\"HỌC SINH GIỎI\",LEFT(P211,1)=\"9\"),Table1[[#This Row],[Column1]]+(ROUND(M211,3))+200+ROW()/10000,IF(AND(Q211=\"HỌC SINH GIỎI\",LEFT(P211,1)=\"8\"),Table1[[#This Row],[Column1]]+(ROUND(M211,3))+250+ROW()/10000,IF(AND(Q211=\"HỌC SINH GIỎI\",LEFT(P211,1)=\"7\"),Table1[[#This Row],[Column1]]+(ROUND(M211,3))+300+ROW()/10000,IF(AND(Q211=\"HỌC SINH GIỎI\",LEFT(P211,1)=\"6\"),Table1[[#This Row],[Column1]]+(ROUND(M211,3))+350+ROW()/10000,\"\"))))","v":""},"","","",""]
[null,null,null,null,null,null,null,null,null,null,null,null,"",null,null,null,"",{"$f":"IF(Table1[[#This Row],[STT]]=\"\",\"\",ROW()-1)","v":""},{"$f":"IF(Table1[[#This Row],[Lơp]]=\"\",\"\",VLOOKUP(Table1[[#This Row],[Lơp]],$AC$3:$AD$14,2,0))","v":""},{"$f":"IF(AND(Q212=\"HỌC SINH XUẤT SẮC\",LEFT(P212,1)=\"9\"),Table1[[#This Row],[Column1]]+(ROUND(M212,3))+400+ROW()/10000,IF(AND(Q212=\"HỌC SINH XUẤT SẮC\",LEFT(P212,1)=\"8\"),Table1[[#This Row],[Column1]]+(ROUND(M212,3))+450+ROW()/10000,IF(AND(Q212=\"HỌC SINH XUẤT SẮC\",LEFT(P212,1)=\"7\"),Table1[[#This Row],[Column1]]+(ROUND(M212,3))+500+ROW()/10000,IF(AND(Q212=\"HỌC SINH XUẤT SẮC\",LEFT(P212,1)=\"6\"),Table1[[#This Row],[Column1]]+(ROUND(M212,3))+550+ROW()/10000,IF(AND(Q212=\"HỌC SINH GIỎI\",LEFT(P212,1)=\"9\"),Table1[[#This Row],[Column1]]+(ROUND(M212,3))+10+ROW()/10000,IF(AND(Q212=\"HỌC SINH GIỎI\",LEFT(P212,1)=\"8\"),Table1[[#This Row],[Column1]]+(ROUND(M212,3))+ 50+ROW()/10000,IF(AND(Q212=\"HỌC SINH GIỎI\",LEFT(P212,1)=\"7\"),Table1[[#This Row],[Column1]]+(ROUND(M212,3))+100+ROW()/10000,IF(AND(Q212=\"HỌC SINH GIỎI\",LEFT(P212,1)=\"6\"),Table1[[#This Row],[Column1]]+(ROUND(M212,3))+150+ROW()/10000,\"\"))))))))","v":""},{"$f":"IF(AND(Q212=\"HỌC SINH XUẤT SẮC\",LEFT(P212,1)=\"9\"),(ROUND(M212,3))+Table1[[#This Row],[Column1]]+10+ROW()/10000,IF(AND(Q212=\"HỌC SINH XUẤT SẮC\",LEFT(P212,1)=\"8\"),Table1[[#This Row],[Column1]]+(ROUND(M212,3))+50+ROW()/10000,IF(AND(Q212=\"HỌC SINH XUẤT SẮC\",LEFT(P212,1)=\"7\"),Table1[[#This Row],[Column1]]+(ROUND(M212,3))+100+ROW()/10000,IF(AND(Q212=\"HỌC SINH XUẤT SẮC\",LEFT(P212,1)=\"6\"),Table1[[#This Row],[Column1]]+(ROUND(M212,3))+150+ROW()/10000,\"\"))))","v":""},{"$f":"IF(AND(Q212=\"HỌC SINH GIỎI\",LEFT(P212,1)=\"9\"),Table1[[#This Row],[Column1]]+(ROUND(M212,3))+200+ROW()/10000,IF(AND(Q212=\"HỌC SINH GIỎI\",LEFT(P212,1)=\"8\"),Table1[[#This Row],[Column1]]+(ROUND(M212,3))+250+ROW()/10000,IF(AND(Q212=\"HỌC SINH GIỎI\",LEFT(P212,1)=\"7\"),Table1[[#This Row],[Column1]]+(ROUND(M212,3))+300+ROW()/10000,IF(AND(Q212=\"HỌC SINH GIỎI\",LEFT(P212,1)=\"6\"),Table1[[#This Row],[Column1]]+(ROUND(M212,3))+350+ROW()/10000,\"\"))))","v":""},"","","",""]
[null,null,null,null,null,null,null,null,null,null,null,null,"",null,null,null,"",{"$f":"IF(Table1[[#This Row],[STT]]=\"\",\"\",ROW()-1)","v":""},{"$f":"IF(Table1[[#This Row],[Lơp]]=\"\",\"\",VLOOKUP(Table1[[#This Row],[Lơp]],$AC$3:$AD$14,2,0))","v":""},{"$f":"IF(AND(Q213=\"HỌC SINH XUẤT SẮC\",LEFT(P213,1)=\"9\"),Table1[[#This Row],[Column1]]+(ROUND(M213,3))+400+ROW()/10000,IF(AND(Q213=\"HỌC SINH XUẤT SẮC\",LEFT(P213,1)=\"8\"),Table1[[#This Row],[Column1]]+(ROUND(M213,3))+450+ROW()/10000,IF(AND(Q213=\"HỌC SINH XUẤT SẮC\",LEFT(P213,1)=\"7\"),Table1[[#This Row],[Column1]]+(ROUND(M213,3))+500+ROW()/10000,IF(AND(Q213=\"HỌC SINH XUẤT SẮC\",LEFT(P213,1)=\"6\"),Table1[[#This Row],[Column1]]+(ROUND(M213,3))+550+ROW()/10000,IF(AND(Q213=\"HỌC SINH GIỎI\",LEFT(P213,1)=\"9\"),Table1[[#This Row],[Column1]]+(ROUND(M213,3))+10+ROW()/10000,IF(AND(Q213=\"HỌC SINH GIỎI\",LEFT(P213,1)=\"8\"),Table1[[#This Row],[Column1]]+(ROUND(M213,3))+ 50+ROW()/10000,IF(AND(Q213=\"HỌC SINH GIỎI\",LEFT(P213,1)=\"7\"),Table1[[#This Row],[Column1]]+(ROUND(M213,3))+100+ROW()/10000,IF(AND(Q213=\"HỌC SINH GIỎI\",LEFT(P213,1)=\"6\"),Table1[[#This Row],[Column1]]+(ROUND(M213,3))+150+ROW()/10000,\"\"))))))))","v":""},{"$f":"IF(AND(Q213=\"HỌC SINH XUẤT SẮC\",LEFT(P213,1)=\"9\"),(ROUND(M213,3))+Table1[[#This Row],[Column1]]+10+ROW()/10000,IF(AND(Q213=\"HỌC SINH XUẤT SẮC\",LEFT(P213,1)=\"8\"),Table1[[#This Row],[Column1]]+(ROUND(M213,3))+50+ROW()/10000,IF(AND(Q213=\"HỌC SINH XUẤT SẮC\",LEFT(P213,1)=\"7\"),Table1[[#This Row],[Column1]]+(ROUND(M213,3))+100+ROW()/10000,IF(AND(Q213=\"HỌC SINH XUẤT SẮC\",LEFT(P213,1)=\"6\"),Table1[[#This Row],[Column1]]+(ROUND(M213,3))+150+ROW()/10000,\"\"))))","v":""},{"$f":"IF(AND(Q213=\"HỌC SINH GIỎI\",LEFT(P213,1)=\"9\"),Table1[[#This Row],[Column1]]+(ROUND(M213,3))+200+ROW()/10000,IF(AND(Q213=\"HỌC SINH GIỎI\",LEFT(P213,1)=\"8\"),Table1[[#This Row],[Column1]]+(ROUND(M213,3))+250+ROW()/10000,IF(AND(Q213=\"HỌC SINH GIỎI\",LEFT(P213,1)=\"7\"),Table1[[#This Row],[Column1]]+(ROUND(M213,3))+300+ROW()/10000,IF(AND(Q213=\"HỌC SINH GIỎI\",LEFT(P213,1)=\"6\"),Table1[[#This Row],[Column1]]+(ROUND(M213,3))+350+ROW()/10000,\"\"))))","v":""},"","","",""]
[null,null,null,null,null,null,null,null,null,null,null,null,"",null,null,null,"",{"$f":"IF(Table1[[#This Row],[STT]]=\"\",\"\",ROW()-1)","v":""},{"$f":"IF(Table1[[#This Row],[Lơp]]=\"\",\"\",VLOOKUP(Table1[[#This Row],[Lơp]],$AC$3:$AD$14,2,0))","v":""},{"$f":"IF(AND(Q214=\"HỌC SINH XUẤT SẮC\",LEFT(P214,1)=\"9\"),Table1[[#This Row],[Column1]]+(ROUND(M214,3))+400+ROW()/10000,IF(AND(Q214=\"HỌC SINH XUẤT SẮC\",LEFT(P214,1)=\"8\"),Table1[[#This Row],[Column1]]+(ROUND(M214,3))+450+ROW()/10000,IF(AND(Q214=\"HỌC SINH XUẤT SẮC\",LEFT(P214,1)=\"7\"),Table1[[#This Row],[Column1]]+(ROUND(M214,3))+500+ROW()/10000,IF(AND(Q214=\"HỌC SINH XUẤT SẮC\",LEFT(P214,1)=\"6\"),Table1[[#This Row],[Column1]]+(ROUND(M214,3))+550+ROW()/10000,IF(AND(Q214=\"HỌC SINH GIỎI\",LEFT(P214,1)=\"9\"),Table1[[#This Row],[Column1]]+(ROUND(M214,3))+10+ROW()/10000,IF(AND(Q214=\"HỌC SINH GIỎI\",LEFT(P214,1)=\"8\"),Table1[[#This Row],[Column1]]+(ROUND(M214,3))+ 50+ROW()/10000,IF(AND(Q214=\"HỌC SINH GIỎI\",LEFT(P214,1)=\"7\"),Table1[[#This Row],[Column1]]+(ROUND(M214,3))+100+ROW()/10000,IF(AND(Q214=\"HỌC SINH GIỎI\",LEFT(P214,1)=\"6\"),Table1[[#This Row],[Column1]]+(ROUND(M214,3))+150+ROW()/10000,\"\"))))))))","v":""},{"$f":"IF(AND(Q214=\"HỌC SINH XUẤT SẮC\",LEFT(P214,1)=\"9\"),(ROUND(M214,3))+Table1[[#This Row],[Column1]]+10+ROW()/10000,IF(AND(Q214=\"HỌC SINH XUẤT SẮC\",LEFT(P214,1)=\"8\"),Table1[[#This Row],[Column1]]+(ROUND(M214,3))+50+ROW()/10000,IF(AND(Q214=\"HỌC SINH XUẤT SẮC\",LEFT(P214,1)=\"7\"),Table1[[#This Row],[Column1]]+(ROUND(M214,3))+100+ROW()/10000,IF(AND(Q214=\"HỌC SINH XUẤT SẮC\",LEFT(P214,1)=\"6\"),Table1[[#This Row],[Column1]]+(ROUND(M214,3))+150+ROW()/10000,\"\"))))","v":""},{"$f":"IF(AND(Q214=\"HỌC SINH GIỎI\",LEFT(P214,1)=\"9\"),Table1[[#This Row],[Column1]]+(ROUND(M214,3))+200+ROW()/10000,IF(AND(Q214=\"HỌC SINH GIỎI\",LEFT(P214,1)=\"8\"),Table1[[#This Row],[Column1]]+(ROUND(M214,3))+250+ROW()/10000,IF(AND(Q214=\"HỌC SINH GIỎI\",LEFT(P214,1)=\"7\"),Table1[[#This Row],[Column1]]+(ROUND(M214,3))+300+ROW()/10000,IF(AND(Q214=\"HỌC SINH GIỎI\",LEFT(P214,1)=\"6\"),Table1[[#This Row],[Column1]]+(ROUND(M214,3))+350+ROW()/10000,\"\"))))","v":""},"","","",""]
[null,null,null,null,null,null,null,null,null,null,null,null,"",null,null,null,"",{"$f":"IF(Table1[[#This Row],[STT]]=\"\",\"\",ROW()-1)","v":""},{"$f":"IF(Table1[[#This Row],[Lơp]]=\"\",\"\",VLOOKUP(Table1[[#This Row],[Lơp]],$AC$3:$AD$14,2,0))","v":""},{"$f":"IF(AND(Q215=\"HỌC SINH XUẤT SẮC\",LEFT(P215,1)=\"9\"),Table1[[#This Row],[Column1]]+(ROUND(M215,3))+400+ROW()/10000,IF(AND(Q215=\"HỌC SINH XUẤT SẮC\",LEFT(P215,1)=\"8\"),Table1[[#This Row],[Column1]]+(ROUND(M215,3))+450+ROW()/10000,IF(AND(Q215=\"HỌC SINH XUẤT SẮC\",LEFT(P215,1)=\"7\"),Table1[[#This Row],[Column1]]+(ROUND(M215,3))+500+ROW()/10000,IF(AND(Q215=\"HỌC SINH XUẤT SẮC\",LEFT(P215,1)=\"6\"),Table1[[#This Row],[Column1]]+(ROUND(M215,3))+550+ROW()/10000,IF(AND(Q215=\"HỌC SINH GIỎI\",LEFT(P215,1)=\"9\"),Table1[[#This Row],[Column1]]+(ROUND(M215,3))+10+ROW()/10000,IF(AND(Q215=\"HỌC SINH GIỎI\",LEFT(P215,1)=\"8\"),Table1[[#This Row],[Column1]]+(ROUND(M215,3))+ 50+ROW()/10000,IF(AND(Q215=\"HỌC SINH GIỎI\",LEFT(P215,1)=\"7\"),Table1[[#This Row],[Column1]]+(ROUND(M215,3))+100+ROW()/10000,IF(AND(Q215=\"HỌC SINH GIỎI\",LEFT(P215,1)=\"6\"),Table1[[#This Row],[Column1]]+(ROUND(M215,3))+150+ROW()/10000,\"\"))))))))","v":""},{"$f":"IF(AND(Q215=\"HỌC SINH XUẤT SẮC\",LEFT(P215,1)=\"9\"),(ROUND(M215,3))+Table1[[#This Row],[Column1]]+10+ROW()/10000,IF(AND(Q215=\"HỌC SINH XUẤT SẮC\",LEFT(P215,1)=\"8\"),Table1[[#This Row],[Column1]]+(ROUND(M215,3))+50+ROW()/10000,IF(AND(Q215=\"HỌC SINH XUẤT SẮC\",LEFT(P215,1)=\"7\"),Table1[[#This Row],[Column1]]+(ROUND(M215,3))+100+ROW()/10000,IF(AND(Q215=\"HỌC SINH XUẤT SẮC\",LEFT(P215,1)=\"6\"),Table1[[#This Row],[Column1]]+(ROUND(M215,3))+150+ROW()/10000,\"\"))))","v":""},{"$f":"IF(AND(Q215=\"HỌC SINH GIỎI\",LEFT(P215,1)=\"9\"),Table1[[#This Row],[Column1]]+(ROUND(M215,3))+200+ROW()/10000,IF(AND(Q215=\"HỌC SINH GIỎI\",LEFT(P215,1)=\"8\"),Table1[[#This Row],[Column1]]+(ROUND(M215,3))+250+ROW()/10000,IF(AND(Q215=\"HỌC SINH GIỎI\",LEFT(P215,1)=\"7\"),Table1[[#This Row],[Column1]]+(ROUND(M215,3))+300+ROW()/10000,IF(AND(Q215=\"HỌC SINH GIỎI\",LEFT(P215,1)=\"6\"),Table1[[#This Row],[Column1]]+(ROUND(M215,3))+350+ROW()/10000,\"\"))))","v":""},"","","",""]
[null,null,null,null,null,null,null,null,null,null,null,null,"",null,null,null,"",{"$f":"IF(Table1[[#This Row],[STT]]=\"\",\"\",ROW()-1)","v":""},{"$f":"IF(Table1[[#This Row],[Lơp]]=\"\",\"\",VLOOKUP(Table1[[#This Row],[Lơp]],$AC$3:$AD$14,2,0))","v":""},{"$f":"IF(AND(Q216=\"HỌC SINH XUẤT SẮC\",LEFT(P216,1)=\"9\"),Table1[[#This Row],[Column1]]+(ROUND(M216,3))+400+ROW()/10000,IF(AND(Q216=\"HỌC SINH XUẤT SẮC\",LEFT(P216,1)=\"8\"),Table1[[#This Row],[Column1]]+(ROUND(M216,3))+450+ROW()/10000,IF(AND(Q216=\"HỌC SINH XUẤT SẮC\",LEFT(P216,1)=\"7\"),Table1[[#This Row],[Column1]]+(ROUND(M216,3))+500+ROW()/10000,IF(AND(Q216=\"HỌC SINH XUẤT SẮC\",LEFT(P216,1)=\"6\"),Table1[[#This Row],[Column1]]+(ROUND(M216,3))+550+ROW()/10000,IF(AND(Q216=\"HỌC SINH GIỎI\",LEFT(P216,1)=\"9\"),Table1[[#This Row],[Column1]]+(ROUND(M216,3))+10+ROW()/10000,IF(AND(Q216=\"HỌC SINH GIỎI\",LEFT(P216,1)=\"8\"),Table1[[#This Row],[Column1]]+(ROUND(M216,3))+ 50+ROW()/10000,IF(AND(Q216=\"HỌC SINH GIỎI\",LEFT(P216,1)=\"7\"),Table1[[#This Row],[Column1]]+(ROUND(M216,3))+100+ROW()/10000,IF(AND(Q216=\"HỌC SINH GIỎI\",LEFT(P216,1)=\"6\"),Table1[[#This Row],[Column1]]+(ROUND(M216,3))+150+ROW()/10000,\"\"))))))))","v":""},{"$f":"IF(AND(Q216=\"HỌC SINH XUẤT SẮC\",LEFT(P216,1)=\"9\"),(ROUND(M216,3))+Table1[[#This Row],[Column1]]+10+ROW()/10000,IF(AND(Q216=\"HỌC SINH XUẤT SẮC\",LEFT(P216,1)=\"8\"),Table1[[#This Row],[Column1]]+(ROUND(M216,3))+50+ROW()/10000,IF(AND(Q216=\"HỌC SINH XUẤT SẮC\",LEFT(P216,1)=\"7\"),Table1[[#This Row],[Column1]]+(ROUND(M216,3))+100+ROW()/10000,IF(AND(Q216=\"HỌC SINH XUẤT SẮC\",LEFT(P216,1)=\"6\"),Table1[[#This Row],[Column1]]+(ROUND(M216,3))+150+ROW()/10000,\"\"))))","v":""},{"$f":"IF(AND(Q216=\"HỌC SINH GIỎI\",LEFT(P216,1)=\"9\"),Table1[[#This Row],[Column1]]+(ROUND(M216,3))+200+ROW()/10000,IF(AND(Q216=\"HỌC SINH GIỎI\",LEFT(P216,1)=\"8\"),Table1[[#This Row],[Column1]]+(ROUND(M216,3))+250+ROW()/10000,IF(AND(Q216=\"HỌC SINH GIỎI\",LEFT(P216,1)=\"7\"),Table1[[#This Row],[Column1]]+(ROUND(M216,3))+300+ROW()/10000,IF(AND(Q216=\"HỌC SINH GIỎI\",LEFT(P216,1)=\"6\"),Table1[[#This Row],[Column1]]+(ROUND(M216,3))+350+ROW()/10000,\"\"))))","v":""},"","","",""]
[null,null,null,null,null,null,null,null,null,null,null,null,"",null,null,null,"",{"$f":"IF(Table1[[#This Row],[STT]]=\"\",\"\",ROW()-1)","v":""},{"$f":"IF(Table1[[#This Row],[Lơp]]=\"\",\"\",VLOOKUP(Table1[[#This Row],[Lơp]],$AC$3:$AD$14,2,0))","v":""},{"$f":"IF(AND(Q217=\"HỌC SINH XUẤT SẮC\",LEFT(P217,1)=\"9\"),Table1[[#This Row],[Column1]]+(ROUND(M217,3))+400+ROW()/10000,IF(AND(Q217=\"HỌC SINH XUẤT SẮC\",LEFT(P217,1)=\"8\"),Table1[[#This Row],[Column1]]+(ROUND(M217,3))+450+ROW()/10000,IF(AND(Q217=\"HỌC SINH XUẤT SẮC\",LEFT(P217,1)=\"7\"),Table1[[#This Row],[Column1]]+(ROUND(M217,3))+500+ROW()/10000,IF(AND(Q217=\"HỌC SINH XUẤT SẮC\",LEFT(P217,1)=\"6\"),Table1[[#This Row],[Column1]]+(ROUND(M217,3))+550+ROW()/10000,IF(AND(Q217=\"HỌC SINH GIỎI\",LEFT(P217,1)=\"9\"),Table1[[#This Row],[Column1]]+(ROUND(M217,3))+10+ROW()/10000,IF(AND(Q217=\"HỌC SINH GIỎI\",LEFT(P217,1)=\"8\"),Table1[[#This Row],[Column1]]+(ROUND(M217,3))+ 50+ROW()/10000,IF(AND(Q217=\"HỌC SINH GIỎI\",LEFT(P217,1)=\"7\"),Table1[[#This Row],[Column1]]+(ROUND(M217,3))+100+ROW()/10000,IF(AND(Q217=\"HỌC SINH GIỎI\",LEFT(P217,1)=\"6\"),Table1[[#This Row],[Column1]]+(ROUND(M217,3))+150+ROW()/10000,\"\"))))))))","v":""},{"$f":"IF(AND(Q217=\"HỌC SINH XUẤT SẮC\",LEFT(P217,1)=\"9\"),(ROUND(M217,3))+Table1[[#This Row],[Column1]]+10+ROW()/10000,IF(AND(Q217=\"HỌC SINH XUẤT SẮC\",LEFT(P217,1)=\"8\"),Table1[[#This Row],[Column1]]+(ROUND(M217,3))+50+ROW()/10000,IF(AND(Q217=\"HỌC SINH XUẤT SẮC\",LEFT(P217,1)=\"7\"),Table1[[#This Row],[Column1]]+(ROUND(M217,3))+100+ROW()/10000,IF(AND(Q217=\"HỌC SINH XUẤT SẮC\",LEFT(P217,1)=\"6\"),Table1[[#This Row],[Column1]]+(ROUND(M217,3))+150+ROW()/10000,\"\"))))","v":""},{"$f":"IF(AND(Q217=\"HỌC SINH GIỎI\",LEFT(P217,1)=\"9\"),Table1[[#This Row],[Column1]]+(ROUND(M217,3))+200+ROW()/10000,IF(AND(Q217=\"HỌC SINH GIỎI\",LEFT(P217,1)=\"8\"),Table1[[#This Row],[Column1]]+(ROUND(M217,3))+250+ROW()/10000,IF(AND(Q217=\"HỌC SINH GIỎI\",LEFT(P217,1)=\"7\"),Table1[[#This Row],[Column1]]+(ROUND(M217,3))+300+ROW()/10000,IF(AND(Q217=\"HỌC SINH GIỎI\",LEFT(P217,1)=\"6\"),Table1[[#This Row],[Column1]]+(ROUND(M217,3))+350+ROW()/10000,\"\"))))","v":""},"","","",""]
[null,null,null,null,null,null,null,null,null,null,null,null,"",null,null,null,"",{"$f":"IF(Table1[[#This Row],[STT]]=\"\",\"\",ROW()-1)","v":""},{"$f":"IF(Table1[[#This Row],[Lơp]]=\"\",\"\",VLOOKUP(Table1[[#This Row],[Lơp]],$AC$3:$AD$14,2,0))","v":""},{"$f":"IF(AND(Q218=\"HỌC SINH XUẤT SẮC\",LEFT(P218,1)=\"9\"),Table1[[#This Row],[Column1]]+(ROUND(M218,3))+400+ROW()/10000,IF(AND(Q218=\"HỌC SINH XUẤT SẮC\",LEFT(P218,1)=\"8\"),Table1[[#This Row],[Column1]]+(ROUND(M218,3))+450+ROW()/10000,IF(AND(Q218=\"HỌC SINH XUẤT SẮC\",LEFT(P218,1)=\"7\"),Table1[[#This Row],[Column1]]+(ROUND(M218,3))+500+ROW()/10000,IF(AND(Q218=\"HỌC SINH XUẤT SẮC\",LEFT(P218,1)=\"6\"),Table1[[#This Row],[Column1]]+(ROUND(M218,3))+550+ROW()/10000,IF(AND(Q218=\"HỌC SINH GIỎI\",LEFT(P218,1)=\"9\"),Table1[[#This Row],[Column1]]+(ROUND(M218,3))+10+ROW()/10000,IF(AND(Q218=\"HỌC SINH GIỎI\",LEFT(P218,1)=\"8\"),Table1[[#This Row],[Column1]]+(ROUND(M218,3))+ 50+ROW()/10000,IF(AND(Q218=\"HỌC SINH GIỎI\",LEFT(P218,1)=\"7\"),Table1[[#This Row],[Column1]]+(ROUND(M218,3))+100+ROW()/10000,IF(AND(Q218=\"HỌC SINH GIỎI\",LEFT(P218,1)=\"6\"),Table1[[#This Row],[Column1]]+(ROUND(M218,3))+150+ROW()/10000,\"\"))))))))","v":""},{"$f":"IF(AND(Q218=\"HỌC SINH XUẤT SẮC\",LEFT(P218,1)=\"9\"),(ROUND(M218,3))+Table1[[#This Row],[Column1]]+10+ROW()/10000,IF(AND(Q218=\"HỌC SINH XUẤT SẮC\",LEFT(P218,1)=\"8\"),Table1[[#This Row],[Column1]]+(ROUND(M218,3))+50+ROW()/10000,IF(AND(Q218=\"HỌC SINH XUẤT SẮC\",LEFT(P218,1)=\"7\"),Table1[[#This Row],[Column1]]+(ROUND(M218,3))+100+ROW()/10000,IF(AND(Q218=\"HỌC SINH XUẤT SẮC\",LEFT(P218,1)=\"6\"),Table1[[#This Row],[Column1]]+(ROUND(M218,3))+150+ROW()/10000,\"\"))))","v":""},{"$f":"IF(AND(Q218=\"HỌC SINH GIỎI\",LEFT(P218,1)=\"9\"),Table1[[#This Row],[Column1]]+(ROUND(M218,3))+200+ROW()/10000,IF(AND(Q218=\"HỌC SINH GIỎI\",LEFT(P218,1)=\"8\"),Table1[[#This Row],[Column1]]+(ROUND(M218,3))+250+ROW()/10000,IF(AND(Q218=\"HỌC SINH GIỎI\",LEFT(P218,1)=\"7\"),Table1[[#This Row],[Column1]]+(ROUND(M218,3))+300+ROW()/10000,IF(AND(Q218=\"HỌC SINH GIỎI\",LEFT(P218,1)=\"6\"),Table1[[#This Row],[Column1]]+(ROUND(M218,3))+350+ROW()/10000,\"\"))))","v":""},"","","",""]
[null,null,null,null,null,null,null,null,null,null,null,null,"",null,null,null,"",{"$f":"IF(Table1[[#This Row],[STT]]=\"\",\"\",ROW()-1)","v":""},{"$f":"IF(Table1[[#This Row],[Lơp]]=\"\",\"\",VLOOKUP(Table1[[#This Row],[Lơp]],$AC$3:$AD$14,2,0))","v":""},{"$f":"IF(AND(Q219=\"HỌC SINH XUẤT SẮC\",LEFT(P219,1)=\"9\"),Table1[[#This Row],[Column1]]+(ROUND(M219,3))+400+ROW()/10000,IF(AND(Q219=\"HỌC SINH XUẤT SẮC\",LEFT(P219,1)=\"8\"),Table1[[#This Row],[Column1]]+(ROUND(M219,3))+450+ROW()/10000,IF(AND(Q219=\"HỌC SINH XUẤT SẮC\",LEFT(P219,1)=\"7\"),Table1[[#This Row],[Column1]]+(ROUND(M219,3))+500+ROW()/10000,IF(AND(Q219=\"HỌC SINH XUẤT SẮC\",LEFT(P219,1)=\"6\"),Table1[[#This Row],[Column1]]+(ROUND(M219,3))+550+ROW()/10000,IF(AND(Q219=\"HỌC SINH GIỎI\",LEFT(P219,1)=\"9\"),Table1[[#This Row],[Column1]]+(ROUND(M219,3))+10+ROW()/10000,IF(AND(Q219=\"HỌC SINH GIỎI\",LEFT(P219,1)=\"8\"),Table1[[#This Row],[Column1]]+(ROUND(M219,3))+ 50+ROW()/10000,IF(AND(Q219=\"HỌC SINH GIỎI\",LEFT(P219,1)=\"7\"),Table1[[#This Row],[Column1]]+(ROUND(M219,3))+100+ROW()/10000,IF(AND(Q219=\"HỌC SINH GIỎI\",LEFT(P219,1)=\"6\"),Table1[[#This Row],[Column1]]+(ROUND(M219,3))+150+ROW()/10000,\"\"))))))))","v":""},{"$f":"IF(AND(Q219=\"HỌC SINH XUẤT SẮC\",LEFT(P219,1)=\"9\"),(ROUND(M219,3))+Table1[[#This Row],[Column1]]+10+ROW()/10000,IF(AND(Q219=\"HỌC SINH XUẤT SẮC\",LEFT(P219,1)=\"8\"),Table1[[#This Row],[Column1]]+(ROUND(M219,3))+50+ROW()/10000,IF(AND(Q219=\"HỌC SINH XUẤT SẮC\",LEFT(P219,1)=\"7\"),Table1[[#This Row],[Column1]]+(ROUND(M219,3))+100+ROW()/10000,IF(AND(Q219=\"HỌC SINH XUẤT SẮC\",LEFT(P219,1)=\"6\"),Table1[[#This Row],[Column1]]+(ROUND(M219,3))+150+ROW()/10000,\"\"))))","v":""},{"$f":"IF(AND(Q219=\"HỌC SINH GIỎI\",LEFT(P219,1)=\"9\"),Table1[[#This Row],[Column1]]+(ROUND(M219,3))+200+ROW()/10000,IF(AND(Q219=\"HỌC SINH GIỎI\",LEFT(P219,1)=\"8\"),Table1[[#This Row],[Column1]]+(ROUND(M219,3))+250+ROW()/10000,IF(AND(Q219=\"HỌC SINH GIỎI\",LEFT(P219,1)=\"7\"),Table1[[#This Row],[Column1]]+(ROUND(M219,3))+300+ROW()/10000,IF(AND(Q219=\"HỌC SINH GIỎI\",LEFT(P219,1)=\"6\"),Table1[[#This Row],[Column1]]+(ROUND(M219,3))+350+ROW()/10000,\"\"))))","v":""},"","","",""]
[null,null,null,null,null,null,null,null,null,null,null,null,"",null,null,null,"",{"$f":"IF(Table1[[#This Row],[STT]]=\"\",\"\",ROW()-1)","v":""},{"$f":"IF(Table1[[#This Row],[Lơp]]=\"\",\"\",VLOOKUP(Table1[[#This Row],[Lơp]],$AC$3:$AD$14,2,0))","v":""},{"$f":"IF(AND(Q220=\"HỌC SINH XUẤT SẮC\",LEFT(P220,1)=\"9\"),Table1[[#This Row],[Column1]]+(ROUND(M220,3))+400+ROW()/10000,IF(AND(Q220=\"HỌC SINH XUẤT SẮC\",LEFT(P220,1)=\"8\"),Table1[[#This Row],[Column1]]+(ROUND(M220,3))+450+ROW()/10000,IF(AND(Q220=\"HỌC SINH XUẤT SẮC\",LEFT(P220,1)=\"7\"),Table1[[#This Row],[Column1]]+(ROUND(M220,3))+500+ROW()/10000,IF(AND(Q220=\"HỌC SINH XUẤT SẮC\",LEFT(P220,1)=\"6\"),Table1[[#This Row],[Column1]]+(ROUND(M220,3))+550+ROW()/10000,IF(AND(Q220=\"HỌC SINH GIỎI\",LEFT(P220,1)=\"9\"),Table1[[#This Row],[Column1]]+(ROUND(M220,3))+10+ROW()/10000,IF(AND(Q220=\"HỌC SINH GIỎI\",LEFT(P220,1)=\"8\"),Table1[[#This Row],[Column1]]+(ROUND(M220,3))+ 50+ROW()/10000,IF(AND(Q220=\"HỌC SINH GIỎI\",LEFT(P220,1)=\"7\"),Table1[[#This Row],[Column1]]+(ROUND(M220,3))+100+ROW()/10000,IF(AND(Q220=\"HỌC SINH GIỎI\",LEFT(P220,1)=\"6\"),Table1[[#This Row],[Column1]]+(ROUND(M220,3))+150+ROW()/10000,\"\"))))))))","v":""},{"$f":"IF(AND(Q220=\"HỌC SINH XUẤT SẮC\",LEFT(P220,1)=\"9\"),(ROUND(M220,3))+Table1[[#This Row],[Column1]]+10+ROW()/10000,IF(AND(Q220=\"HỌC SINH XUẤT SẮC\",LEFT(P220,1)=\"8\"),Table1[[#This Row],[Column1]]+(ROUND(M220,3))+50+ROW()/10000,IF(AND(Q220=\"HỌC SINH XUẤT SẮC\",LEFT(P220,1)=\"7\"),Table1[[#This Row],[Column1]]+(ROUND(M220,3))+100+ROW()/10000,IF(AND(Q220=\"HỌC SINH XUẤT SẮC\",LEFT(P220,1)=\"6\"),Table1[[#This Row],[Column1]]+(ROUND(M220,3))+150+ROW()/10000,\"\"))))","v":""},{"$f":"IF(AND(Q220=\"HỌC SINH GIỎI\",LEFT(P220,1)=\"9\"),Table1[[#This Row],[Column1]]+(ROUND(M220,3))+200+ROW()/10000,IF(AND(Q220=\"HỌC SINH GIỎI\",LEFT(P220,1)=\"8\"),Table1[[#This Row],[Column1]]+(ROUND(M220,3))+250+ROW()/10000,IF(AND(Q220=\"HỌC SINH GIỎI\",LEFT(P220,1)=\"7\"),Table1[[#This Row],[Column1]]+(ROUND(M220,3))+300+ROW()/10000,IF(AND(Q220=\"HỌC SINH GIỎI\",LEFT(P220,1)=\"6\"),Table1[[#This Row],[Column1]]+(ROUND(M220,3))+350+ROW()/10000,\"\"))))","v":""},"","","",""]
[null,null,null,null,null,null,null,null,null,null,null,null,"",null,null,null,"",{"$f":"IF(Table1[[#This Row],[STT]]=\"\",\"\",ROW()-1)","v":""},{"$f":"IF(Table1[[#This Row],[Lơp]]=\"\",\"\",VLOOKUP(Table1[[#This Row],[Lơp]],$AC$3:$AD$14,2,0))","v":""},{"$f":"IF(AND(Q221=\"HỌC SINH XUẤT SẮC\",LEFT(P221,1)=\"9\"),Table1[[#This Row],[Column1]]+(ROUND(M221,3))+400+ROW()/10000,IF(AND(Q221=\"HỌC SINH XUẤT SẮC\",LEFT(P221,1)=\"8\"),Table1[[#This Row],[Column1]]+(ROUND(M221,3))+450+ROW()/10000,IF(AND(Q221=\"HỌC SINH XUẤT SẮC\",LEFT(P221,1)=\"7\"),Table1[[#This Row],[Column1]]+(ROUND(M221,3))+500+ROW()/10000,IF(AND(Q221=\"HỌC SINH XUẤT SẮC\",LEFT(P221,1)=\"6\"),Table1[[#This Row],[Column1]]+(ROUND(M221,3))+550+ROW()/10000,IF(AND(Q221=\"HỌC SINH GIỎI\",LEFT(P221,1)=\"9\"),Table1[[#This Row],[Column1]]+(ROUND(M221,3))+10+ROW()/10000,IF(AND(Q221=\"HỌC SINH GIỎI\",LEFT(P221,1)=\"8\"),Table1[[#This Row],[Column1]]+(ROUND(M221,3))+ 50+ROW()/10000,IF(AND(Q221=\"HỌC SINH GIỎI\",LEFT(P221,1)=\"7\"),Table1[[#This Row],[Column1]]+(ROUND(M221,3))+100+ROW()/10000,IF(AND(Q221=\"HỌC SINH GIỎI\",LEFT(P221,1)=\"6\"),Table1[[#This Row],[Column1]]+(ROUND(M221,3))+150+ROW()/10000,\"\"))))))))","v":""},{"$f":"IF(AND(Q221=\"HỌC SINH XUẤT SẮC\",LEFT(P221,1)=\"9\"),(ROUND(M221,3))+Table1[[#This Row],[Column1]]+10+ROW()/10000,IF(AND(Q221=\"HỌC SINH XUẤT SẮC\",LEFT(P221,1)=\"8\"),Table1[[#This Row],[Column1]]+(ROUND(M221,3))+50+ROW()/10000,IF(AND(Q221=\"HỌC SINH XUẤT SẮC\",LEFT(P221,1)=\"7\"),Table1[[#This Row],[Column1]]+(ROUND(M221,3))+100+ROW()/10000,IF(AND(Q221=\"HỌC SINH XUẤT SẮC\",LEFT(P221,1)=\"6\"),Table1[[#This Row],[Column1]]+(ROUND(M221,3))+150+ROW()/10000,\"\"))))","v":""},{"$f":"IF(AND(Q221=\"HỌC SINH GIỎI\",LEFT(P221,1)=\"9\"),Table1[[#This Row],[Column1]]+(ROUND(M221,3))+200+ROW()/10000,IF(AND(Q221=\"HỌC SINH GIỎI\",LEFT(P221,1)=\"8\"),Table1[[#This Row],[Column1]]+(ROUND(M221,3))+250+ROW()/10000,IF(AND(Q221=\"HỌC SINH GIỎI\",LEFT(P221,1)=\"7\"),Table1[[#This Row],[Column1]]+(ROUND(M221,3))+300+ROW()/10000,IF(AND(Q221=\"HỌC SINH GIỎI\",LEFT(P221,1)=\"6\"),Table1[[#This Row],[Column1]]+(ROUND(M221,3))+350+ROW()/10000,\"\"))))","v":""},"","","",""]
[null,null,null,null,null,null,null,null,null,null,null,null,"",null,null,null,"",{"$f":"IF(Table1[[#This Row],[STT]]=\"\",\"\",ROW()-1)","v":""},{"$f":"IF(Table1[[#This Row],[Lơp]]=\"\",\"\",VLOOKUP(Table1[[#This Row],[Lơp]],$AC$3:$AD$14,2,0))","v":""},{"$f":"IF(AND(Q222=\"HỌC SINH XUẤT SẮC\",LEFT(P222,1)=\"9\"),Table1[[#This Row],[Column1]]+(ROUND(M222,3))+400+ROW()/10000,IF(AND(Q222=\"HỌC SINH XUẤT SẮC\",LEFT(P222,1)=\"8\"),Table1[[#This Row],[Column1]]+(ROUND(M222,3))+450+ROW()/10000,IF(AND(Q222=\"HỌC SINH XUẤT SẮC\",LEFT(P222,1)=\"7\"),Table1[[#This Row],[Column1]]+(ROUND(M222,3))+500+ROW()/10000,IF(AND(Q222=\"HỌC SINH XUẤT SẮC\",LEFT(P222,1)=\"6\"),Table1[[#This Row],[Column1]]+(ROUND(M222,3))+550+ROW()/10000,IF(AND(Q222=\"HỌC SINH GIỎI\",LEFT(P222,1)=\"9\"),Table1[[#This Row],[Column1]]+(ROUND(M222,3))+10+ROW()/10000,IF(AND(Q222=\"HỌC SINH GIỎI\",LEFT(P222,1)=\"8\"),Table1[[#This Row],[Column1]]+(ROUND(M222,3))+ 50+ROW()/10000,IF(AND(Q222=\"HỌC SINH GIỎI\",LEFT(P222,1)=\"7\"),Table1[[#This Row],[Column1]]+(ROUND(M222,3))+100+ROW()/10000,IF(AND(Q222=\"HỌC SINH GIỎI\",LEFT(P222,1)=\"6\"),Table1[[#This Row],[Column1]]+(ROUND(M222,3))+150+ROW()/10000,\"\"))))))))","v":""},{"$f":"IF(AND(Q222=\"HỌC SINH XUẤT SẮC\",LEFT(P222,1)=\"9\"),(ROUND(M222,3))+Table1[[#This Row],[Column1]]+10+ROW()/10000,IF(AND(Q222=\"HỌC SINH XUẤT SẮC\",LEFT(P222,1)=\"8\"),Table1[[#This Row],[Column1]]+(ROUND(M222,3))+50+ROW()/10000,IF(AND(Q222=\"HỌC SINH XUẤT SẮC\",LEFT(P222,1)=\"7\"),Table1[[#This Row],[Column1]]+(ROUND(M222,3))+100+ROW()/10000,IF(AND(Q222=\"HỌC SINH XUẤT SẮC\",LEFT(P222,1)=\"6\"),Table1[[#This Row],[Column1]]+(ROUND(M222,3))+150+ROW()/10000,\"\"))))","v":""},{"$f":"IF(AND(Q222=\"HỌC SINH GIỎI\",LEFT(P222,1)=\"9\"),Table1[[#This Row],[Column1]]+(ROUND(M222,3))+200+ROW()/10000,IF(AND(Q222=\"HỌC SINH GIỎI\",LEFT(P222,1)=\"8\"),Table1[[#This Row],[Column1]]+(ROUND(M222,3))+250+ROW()/10000,IF(AND(Q222=\"HỌC SINH GIỎI\",LEFT(P222,1)=\"7\"),Table1[[#This Row],[Column1]]+(ROUND(M222,3))+300+ROW()/10000,IF(AND(Q222=\"HỌC SINH GIỎI\",LEFT(P222,1)=\"6\"),Table1[[#This Row],[Column1]]+(ROUND(M222,3))+350+ROW()/10000,\"\"))))","v":""},"","","",""]
[null,null,null,null,null,null,null,null,null,null,null,null,"",null,null,null,"",{"$f":"IF(Table1[[#This Row],[STT]]=\"\",\"\",ROW()-1)","v":""},{"$f":"IF(Table1[[#This Row],[Lơp]]=\"\",\"\",VLOOKUP(Table1[[#This Row],[Lơp]],$AC$3:$AD$14,2,0))","v":""},{"$f":"IF(AND(Q223=\"HỌC SINH XUẤT SẮC\",LEFT(P223,1)=\"9\"),Table1[[#This Row],[Column1]]+(ROUND(M223,3))+400+ROW()/10000,IF(AND(Q223=\"HỌC SINH XUẤT SẮC\",LEFT(P223,1)=\"8\"),Table1[[#This Row],[Column1]]+(ROUND(M223,3))+450+ROW()/10000,IF(AND(Q223=\"HỌC SINH XUẤT SẮC\",LEFT(P223,1)=\"7\"),Table1[[#This Row],[Column1]]+(ROUND(M223,3))+500+ROW()/10000,IF(AND(Q223=\"HỌC SINH XUẤT SẮC\",LEFT(P223,1)=\"6\"),Table1[[#This Row],[Column1]]+(ROUND(M223,3))+550+ROW()/10000,IF(AND(Q223=\"HỌC SINH GIỎI\",LEFT(P223,1)=\"9\"),Table1[[#This Row],[Column1]]+(ROUND(M223,3))+10+ROW()/10000,IF(AND(Q223=\"HỌC SINH GIỎI\",LEFT(P223,1)=\"8\"),Table1[[#This Row],[Column1]]+(ROUND(M223,3))+ 50+ROW()/10000,IF(AND(Q223=\"HỌC SINH GIỎI\",LEFT(P223,1)=\"7\"),Table1[[#This Row],[Column1]]+(ROUND(M223,3))+100+ROW()/10000,IF(AND(Q223=\"HỌC SINH GIỎI\",LEFT(P223,1)=\"6\"),Table1[[#This Row],[Column1]]+(ROUND(M223,3))+150+ROW()/10000,\"\"))))))))","v":""},{"$f":"IF(AND(Q223=\"HỌC SINH XUẤT SẮC\",LEFT(P223,1)=\"9\"),(ROUND(M223,3))+Table1[[#This Row],[Column1]]+10+ROW()/10000,IF(AND(Q223=\"HỌC SINH XUẤT SẮC\",LEFT(P223,1)=\"8\"),Table1[[#This Row],[Column1]]+(ROUND(M223,3))+50+ROW()/10000,IF(AND(Q223=\"HỌC SINH XUẤT SẮC\",LEFT(P223,1)=\"7\"),Table1[[#This Row],[Column1]]+(ROUND(M223,3))+100+ROW()/10000,IF(AND(Q223=\"HỌC SINH XUẤT SẮC\",LEFT(P223,1)=\"6\"),Table1[[#This Row],[Column1]]+(ROUND(M223,3))+150+ROW()/10000,\"\"))))","v":""},{"$f":"IF(AND(Q223=\"HỌC SINH GIỎI\",LEFT(P223,1)=\"9\"),Table1[[#This Row],[Column1]]+(ROUND(M223,3))+200+ROW()/10000,IF(AND(Q223=\"HỌC SINH GIỎI\",LEFT(P223,1)=\"8\"),Table1[[#This Row],[Column1]]+(ROUND(M223,3))+250+ROW()/10000,IF(AND(Q223=\"HỌC SINH GIỎI\",LEFT(P223,1)=\"7\"),Table1[[#This Row],[Column1]]+(ROUND(M223,3))+300+ROW()/10000,IF(AND(Q223=\"HỌC SINH GIỎI\",LEFT(P223,1)=\"6\"),Table1[[#This Row],[Column1]]+(ROUND(M223,3))+350+ROW()/10000,\"\"))))","v":""},"","","",""]
[null,null,null,null,null,null,null,null,null,null,null,null,"",null,null,null,"",{"$f":"IF(Table1[[#This Row],[STT]]=\"\",\"\",ROW()-1)","v":""},{"$f":"IF(Table1[[#This Row],[Lơp]]=\"\",\"\",VLOOKUP(Table1[[#This Row],[Lơp]],$AC$3:$AD$14,2,0))","v":""},{"$f":"IF(AND(Q224=\"HỌC SINH XUẤT SẮC\",LEFT(P224,1)=\"9\"),Table1[[#This Row],[Column1]]+(ROUND(M224,3))+400+ROW()/10000,IF(AND(Q224=\"HỌC SINH XUẤT SẮC\",LEFT(P224,1)=\"8\"),Table1[[#This Row],[Column1]]+(ROUND(M224,3))+450+ROW()/10000,IF(AND(Q224=\"HỌC SINH XUẤT SẮC\",LEFT(P224,1)=\"7\"),Table1[[#This Row],[Column1]]+(ROUND(M224,3))+500+ROW()/10000,IF(AND(Q224=\"HỌC SINH XUẤT SẮC\",LEFT(P224,1)=\"6\"),Table1[[#This Row],[Column1]]+(ROUND(M224,3))+550+ROW()/10000,IF(AND(Q224=\"HỌC SINH GIỎI\",LEFT(P224,1)=\"9\"),Table1[[#This Row],[Column1]]+(ROUND(M224,3))+10+ROW()/10000,IF(AND(Q224=\"HỌC SINH GIỎI\",LEFT(P224,1)=\"8\"),Table1[[#This Row],[Column1]]+(ROUND(M224,3))+ 50+ROW()/10000,IF(AND(Q224=\"HỌC SINH GIỎI\",LEFT(P224,1)=\"7\"),Table1[[#This Row],[Column1]]+(ROUND(M224,3))+100+ROW()/10000,IF(AND(Q224=\"HỌC SINH GIỎI\",LEFT(P224,1)=\"6\"),Table1[[#This Row],[Column1]]+(ROUND(M224,3))+150+ROW()/10000,\"\"))))))))","v":""},{"$f":"IF(AND(Q224=\"HỌC SINH XUẤT SẮC\",LEFT(P224,1)=\"9\"),(ROUND(M224,3))+Table1[[#This Row],[Column1]]+10+ROW()/10000,IF(AND(Q224=\"HỌC SINH XUẤT SẮC\",LEFT(P224,1)=\"8\"),Table1[[#This Row],[Column1]]+(ROUND(M224,3))+50+ROW()/10000,IF(AND(Q224=\"HỌC SINH XUẤT SẮC\",LEFT(P224,1)=\"7\"),Table1[[#This Row],[Column1]]+(ROUND(M224,3))+100+ROW()/10000,IF(AND(Q224=\"HỌC SINH XUẤT SẮC\",LEFT(P224,1)=\"6\"),Table1[[#This Row],[Column1]]+(ROUND(M224,3))+150+ROW()/10000,\"\"))))","v":""},{"$f":"IF(AND(Q224=\"HỌC SINH GIỎI\",LEFT(P224,1)=\"9\"),Table1[[#This Row],[Column1]]+(ROUND(M224,3))+200+ROW()/10000,IF(AND(Q224=\"HỌC SINH GIỎI\",LEFT(P224,1)=\"8\"),Table1[[#This Row],[Column1]]+(ROUND(M224,3))+250+ROW()/10000,IF(AND(Q224=\"HỌC SINH GIỎI\",LEFT(P224,1)=\"7\"),Table1[[#This Row],[Column1]]+(ROUND(M224,3))+300+ROW()/10000,IF(AND(Q224=\"HỌC SINH GIỎI\",LEFT(P224,1)=\"6\"),Table1[[#This Row],[Column1]]+(ROUND(M224,3))+350+ROW()/10000,\"\"))))","v":""},"","","",""]
[null,null,null,null,null,null,null,null,null,null,null,null,"",null,null,null,"",{"$f":"IF(Table1[[#This Row],[STT]]=\"\",\"\",ROW()-1)","v":""},{"$f":"IF(Table1[[#This Row],[Lơp]]=\"\",\"\",VLOOKUP(Table1[[#This Row],[Lơp]],$AC$3:$AD$14,2,0))","v":""},{"$f":"IF(AND(Q225=\"HỌC SINH XUẤT SẮC\",LEFT(P225,1)=\"9\"),Table1[[#This Row],[Column1]]+(ROUND(M225,3))+400+ROW()/10000,IF(AND(Q225=\"HỌC SINH XUẤT SẮC\",LEFT(P225,1)=\"8\"),Table1[[#This Row],[Column1]]+(ROUND(M225,3))+450+ROW()/10000,IF(AND(Q225=\"HỌC SINH XUẤT SẮC\",LEFT(P225,1)=\"7\"),Table1[[#This Row],[Column1]]+(ROUND(M225,3))+500+ROW()/10000,IF(AND(Q225=\"HỌC SINH XUẤT SẮC\",LEFT(P225,1)=\"6\"),Table1[[#This Row],[Column1]]+(ROUND(M225,3))+550+ROW()/10000,IF(AND(Q225=\"HỌC SINH GIỎI\",LEFT(P225,1)=\"9\"),Table1[[#This Row],[Column1]]+(ROUND(M225,3))+10+ROW()/10000,IF(AND(Q225=\"HỌC SINH GIỎI\",LEFT(P225,1)=\"8\"),Table1[[#This Row],[Column1]]+(ROUND(M225,3))+ 50+ROW()/10000,IF(AND(Q225=\"HỌC SINH GIỎI\",LEFT(P225,1)=\"7\"),Table1[[#This Row],[Column1]]+(ROUND(M225,3))+100+ROW()/10000,IF(AND(Q225=\"HỌC SINH GIỎI\",LEFT(P225,1)=\"6\"),Table1[[#This Row],[Column1]]+(ROUND(M225,3))+150+ROW()/10000,\"\"))))))))","v":""},{"$f":"IF(AND(Q225=\"HỌC SINH XUẤT SẮC\",LEFT(P225,1)=\"9\"),(ROUND(M225,3))+Table1[[#This Row],[Column1]]+10+ROW()/10000,IF(AND(Q225=\"HỌC SINH XUẤT SẮC\",LEFT(P225,1)=\"8\"),Table1[[#This Row],[Column1]]+(ROUND(M225,3))+50+ROW()/10000,IF(AND(Q225=\"HỌC SINH XUẤT SẮC\",LEFT(P225,1)=\"7\"),Table1[[#This Row],[Column1]]+(ROUND(M225,3))+100+ROW()/10000,IF(AND(Q225=\"HỌC SINH XUẤT SẮC\",LEFT(P225,1)=\"6\"),Table1[[#This Row],[Column1]]+(ROUND(M225,3))+150+ROW()/10000,\"\"))))","v":""},{"$f":"IF(AND(Q225=\"HỌC SINH GIỎI\",LEFT(P225,1)=\"9\"),Table1[[#This Row],[Column1]]+(ROUND(M225,3))+200+ROW()/10000,IF(AND(Q225=\"HỌC SINH GIỎI\",LEFT(P225,1)=\"8\"),Table1[[#This Row],[Column1]]+(ROUND(M225,3))+250+ROW()/10000,IF(AND(Q225=\"HỌC SINH GIỎI\",LEFT(P225,1)=\"7\"),Table1[[#This Row],[Column1]]+(ROUND(M225,3))+300+ROW()/10000,IF(AND(Q225=\"HỌC SINH GIỎI\",LEFT(P225,1)=\"6\"),Table1[[#This Row],[Column1]]+(ROUND(M225,3))+350+ROW()/10000,\"\"))))","v":""},"","","",""]
[null,null,null,null,null,null,null,null,null,null,null,null,"",null,null,null,"",{"$f":"IF(Table1[[#This Row],[STT]]=\"\",\"\",ROW()-1)","v":""},{"$f":"IF(Table1[[#This Row],[Lơp]]=\"\",\"\",VLOOKUP(Table1[[#This Row],[Lơp]],$AC$3:$AD$14,2,0))","v":""},{"$f":"IF(AND(Q226=\"HỌC SINH XUẤT SẮC\",LEFT(P226,1)=\"9\"),Table1[[#This Row],[Column1]]+(ROUND(M226,3))+400+ROW()/10000,IF(AND(Q226=\"HỌC SINH XUẤT SẮC\",LEFT(P226,1)=\"8\"),Table1[[#This Row],[Column1]]+(ROUND(M226,3))+450+ROW()/10000,IF(AND(Q226=\"HỌC SINH XUẤT SẮC\",LEFT(P226,1)=\"7\"),Table1[[#This Row],[Column1]]+(ROUND(M226,3))+500+ROW()/10000,IF(AND(Q226=\"HỌC SINH XUẤT SẮC\",LEFT(P226,1)=\"6\"),Table1[[#This Row],[Column1]]+(ROUND(M226,3))+550+ROW()/10000,IF(AND(Q226=\"HỌC SINH GIỎI\",LEFT(P226,1)=\"9\"),Table1[[#This Row],[Column1]]+(ROUND(M226,3))+10+ROW()/10000,IF(AND(Q226=\"HỌC SINH GIỎI\",LEFT(P226,1)=\"8\"),Table1[[#This Row],[Column1]]+(ROUND(M226,3))+ 50+ROW()/10000,IF(AND(Q226=\"HỌC SINH GIỎI\",LEFT(P226,1)=\"7\"),Table1[[#This Row],[Column1]]+(ROUND(M226,3))+100+ROW()/10000,IF(AND(Q226=\"HỌC SINH GIỎI\",LEFT(P226,1)=\"6\"),Table1[[#This Row],[Column1]]+(ROUND(M226,3))+150+ROW()/10000,\"\"))))))))","v":""},{"$f":"IF(AND(Q226=\"HỌC SINH XUẤT SẮC\",LEFT(P226,1)=\"9\"),(ROUND(M226,3))+Table1[[#This Row],[Column1]]+10+ROW()/10000,IF(AND(Q226=\"HỌC SINH XUẤT SẮC\",LEFT(P226,1)=\"8\"),Table1[[#This Row],[Column1]]+(ROUND(M226,3))+50+ROW()/10000,IF(AND(Q226=\"HỌC SINH XUẤT SẮC\",LEFT(P226,1)=\"7\"),Table1[[#This Row],[Column1]]+(ROUND(M226,3))+100+ROW()/10000,IF(AND(Q226=\"HỌC SINH XUẤT SẮC\",LEFT(P226,1)=\"6\"),Table1[[#This Row],[Column1]]+(ROUND(M226,3))+150+ROW()/10000,\"\"))))","v":""},{"$f":"IF(AND(Q226=\"HỌC SINH GIỎI\",LEFT(P226,1)=\"9\"),Table1[[#This Row],[Column1]]+(ROUND(M226,3))+200+ROW()/10000,IF(AND(Q226=\"HỌC SINH GIỎI\",LEFT(P226,1)=\"8\"),Table1[[#This Row],[Column1]]+(ROUND(M226,3))+250+ROW()/10000,IF(AND(Q226=\"HỌC SINH GIỎI\",LEFT(P226,1)=\"7\"),Table1[[#This Row],[Column1]]+(ROUND(M226,3))+300+ROW()/10000,IF(AND(Q226=\"HỌC SINH GIỎI\",LEFT(P226,1)=\"6\"),Table1[[#This Row],[Column1]]+(ROUND(M226,3))+350+ROW()/10000,\"\"))))","v":""},"","","",""]
[null,null,null,null,null,null,null,null,null,null,null,null,"",null,null,null,"",{"$f":"IF(Table1[[#This Row],[STT]]=\"\",\"\",ROW()-1)","v":""},{"$f":"IF(Table1[[#This Row],[Lơp]]=\"\",\"\",VLOOKUP(Table1[[#This Row],[Lơp]],$AC$3:$AD$14,2,0))","v":""},{"$f":"IF(AND(Q227=\"HỌC SINH XUẤT SẮC\",LEFT(P227,1)=\"9\"),Table1[[#This Row],[Column1]]+(ROUND(M227,3))+400+ROW()/10000,IF(AND(Q227=\"HỌC SINH XUẤT SẮC\",LEFT(P227,1)=\"8\"),Table1[[#This Row],[Column1]]+(ROUND(M227,3))+450+ROW()/10000,IF(AND(Q227=\"HỌC SINH XUẤT SẮC\",LEFT(P227,1)=\"7\"),Table1[[#This Row],[Column1]]+(ROUND(M227,3))+500+ROW()/10000,IF(AND(Q227=\"HỌC SINH XUẤT SẮC\",LEFT(P227,1)=\"6\"),Table1[[#This Row],[Column1]]+(ROUND(M227,3))+550+ROW()/10000,IF(AND(Q227=\"HỌC SINH GIỎI\",LEFT(P227,1)=\"9\"),Table1[[#This Row],[Column1]]+(ROUND(M227,3))+10+ROW()/10000,IF(AND(Q227=\"HỌC SINH GIỎI\",LEFT(P227,1)=\"8\"),Table1[[#This Row],[Column1]]+(ROUND(M227,3))+ 50+ROW()/10000,IF(AND(Q227=\"HỌC SINH GIỎI\",LEFT(P227,1)=\"7\"),Table1[[#This Row],[Column1]]+(ROUND(M227,3))+100+ROW()/10000,IF(AND(Q227=\"HỌC SINH GIỎI\",LEFT(P227,1)=\"6\"),Table1[[#This Row],[Column1]]+(ROUND(M227,3))+150+ROW()/10000,\"\"))))))))","v":""},{"$f":"IF(AND(Q227=\"HỌC SINH XUẤT SẮC\",LEFT(P227,1)=\"9\"),(ROUND(M227,3))+Table1[[#This Row],[Column1]]+10+ROW()/10000,IF(AND(Q227=\"HỌC SINH XUẤT SẮC\",LEFT(P227,1)=\"8\"),Table1[[#This Row],[Column1]]+(ROUND(M227,3))+50+ROW()/10000,IF(AND(Q227=\"HỌC SINH XUẤT SẮC\",LEFT(P227,1)=\"7\"),Table1[[#This Row],[Column1]]+(ROUND(M227,3))+100+ROW()/10000,IF(AND(Q227=\"HỌC SINH XUẤT SẮC\",LEFT(P227,1)=\"6\"),Table1[[#This Row],[Column1]]+(ROUND(M227,3))+150+ROW()/10000,\"\"))))","v":""},{"$f":"IF(AND(Q227=\"HỌC SINH GIỎI\",LEFT(P227,1)=\"9\"),Table1[[#This Row],[Column1]]+(ROUND(M227,3))+200+ROW()/10000,IF(AND(Q227=\"HỌC SINH GIỎI\",LEFT(P227,1)=\"8\"),Table1[[#This Row],[Column1]]+(ROUND(M227,3))+250+ROW()/10000,IF(AND(Q227=\"HỌC SINH GIỎI\",LEFT(P227,1)=\"7\"),Table1[[#This Row],[Column1]]+(ROUND(M227,3))+300+ROW()/10000,IF(AND(Q227=\"HỌC SINH GIỎI\",LEFT(P227,1)=\"6\"),Table1[[#This Row],[Column1]]+(ROUND(M227,3))+350+ROW()/10000,\"\"))))","v":""},"","","",""]
[null,null,null,null,null,null,null,null,null,null,null,null,"",null,null,null,"",{"$f":"IF(Table1[[#This Row],[STT]]=\"\",\"\",ROW()-1)","v":""},{"$f":"IF(Table1[[#This Row],[Lơp]]=\"\",\"\",VLOOKUP(Table1[[#This Row],[Lơp]],$AC$3:$AD$14,2,0))","v":""},{"$f":"IF(AND(Q228=\"HỌC SINH XUẤT SẮC\",LEFT(P228,1)=\"9\"),Table1[[#This Row],[Column1]]+(ROUND(M228,3))+400+ROW()/10000,IF(AND(Q228=\"HỌC SINH XUẤT SẮC\",LEFT(P228,1)=\"8\"),Table1[[#This Row],[Column1]]+(ROUND(M228,3))+450+ROW()/10000,IF(AND(Q228=\"HỌC SINH XUẤT SẮC\",LEFT(P228,1)=\"7\"),Table1[[#This Row],[Column1]]+(ROUND(M228,3))+500+ROW()/10000,IF(AND(Q228=\"HỌC SINH XUẤT SẮC\",LEFT(P228,1)=\"6\"),Table1[[#This Row],[Column1]]+(ROUND(M228,3))+550+ROW()/10000,IF(AND(Q228=\"HỌC SINH GIỎI\",LEFT(P228,1)=\"9\"),Table1[[#This Row],[Column1]]+(ROUND(M228,3))+10+ROW()/10000,IF(AND(Q228=\"HỌC SINH GIỎI\",LEFT(P228,1)=\"8\"),Table1[[#This Row],[Column1]]+(ROUND(M228,3))+ 50+ROW()/10000,IF(AND(Q228=\"HỌC SINH GIỎI\",LEFT(P228,1)=\"7\"),Table1[[#This Row],[Column1]]+(ROUND(M228,3))+100+ROW()/10000,IF(AND(Q228=\"HỌC SINH GIỎI\",LEFT(P228,1)=\"6\"),Table1[[#This Row],[Column1]]+(ROUND(M228,3))+150+ROW()/10000,\"\"))))))))","v":""},{"$f":"IF(AND(Q228=\"HỌC SINH XUẤT SẮC\",LEFT(P228,1)=\"9\"),(ROUND(M228,3))+Table1[[#This Row],[Column1]]+10+ROW()/10000,IF(AND(Q228=\"HỌC SINH XUẤT SẮC\",LEFT(P228,1)=\"8\"),Table1[[#This Row],[Column1]]+(ROUND(M228,3))+50+ROW()/10000,IF(AND(Q228=\"HỌC SINH XUẤT SẮC\",LEFT(P228,1)=\"7\"),Table1[[#This Row],[Column1]]+(ROUND(M228,3))+100+ROW()/10000,IF(AND(Q228=\"HỌC SINH XUẤT SẮC\",LEFT(P228,1)=\"6\"),Table1[[#This Row],[Column1]]+(ROUND(M228,3))+150+ROW()/10000,\"\"))))","v":""},{"$f":"IF(AND(Q228=\"HỌC SINH GIỎI\",LEFT(P228,1)=\"9\"),Table1[[#This Row],[Column1]]+(ROUND(M228,3))+200+ROW()/10000,IF(AND(Q228=\"HỌC SINH GIỎI\",LEFT(P228,1)=\"8\"),Table1[[#This Row],[Column1]]+(ROUND(M228,3))+250+ROW()/10000,IF(AND(Q228=\"HỌC SINH GIỎI\",LEFT(P228,1)=\"7\"),Table1[[#This Row],[Column1]]+(ROUND(M228,3))+300+ROW()/10000,IF(AND(Q228=\"HỌC SINH GIỎI\",LEFT(P228,1)=\"6\"),Table1[[#This Row],[Column1]]+(ROUND(M228,3))+350+ROW()/10000,\"\"))))","v":""},"","","",""]
[null,null,null,null,null,null,null,null,null,null,null,null,"",null,null,null,"",{"$f":"IF(Table1[[#This Row],[STT]]=\"\",\"\",ROW()-1)","v":""},{"$f":"IF(Table1[[#This Row],[Lơp]]=\"\",\"\",VLOOKUP(Table1[[#This Row],[Lơp]],$AC$3:$AD$14,2,0))","v":""},{"$f":"IF(AND(Q229=\"HỌC SINH XUẤT SẮC\",LEFT(P229,1)=\"9\"),Table1[[#This Row],[Column1]]+(ROUND(M229,3))+400+ROW()/10000,IF(AND(Q229=\"HỌC SINH XUẤT SẮC\",LEFT(P229,1)=\"8\"),Table1[[#This Row],[Column1]]+(ROUND(M229,3))+450+ROW()/10000,IF(AND(Q229=\"HỌC SINH XUẤT SẮC\",LEFT(P229,1)=\"7\"),Table1[[#This Row],[Column1]]+(ROUND(M229,3))+500+ROW()/10000,IF(AND(Q229=\"HỌC SINH XUẤT SẮC\",LEFT(P229,1)=\"6\"),Table1[[#This Row],[Column1]]+(ROUND(M229,3))+550+ROW()/10000,IF(AND(Q229=\"HỌC SINH GIỎI\",LEFT(P229,1)=\"9\"),Table1[[#This Row],[Column1]]+(ROUND(M229,3))+10+ROW()/10000,IF(AND(Q229=\"HỌC SINH GIỎI\",LEFT(P229,1)=\"8\"),Table1[[#This Row],[Column1]]+(ROUND(M229,3))+ 50+ROW()/10000,IF(AND(Q229=\"HỌC SINH GIỎI\",LEFT(P229,1)=\"7\"),Table1[[#This Row],[Column1]]+(ROUND(M229,3))+100+ROW()/10000,IF(AND(Q229=\"HỌC SINH GIỎI\",LEFT(P229,1)=\"6\"),Table1[[#This Row],[Column1]]+(ROUND(M229,3))+150+ROW()/10000,\"\"))))))))","v":""},{"$f":"IF(AND(Q229=\"HỌC SINH XUẤT SẮC\",LEFT(P229,1)=\"9\"),(ROUND(M229,3))+Table1[[#This Row],[Column1]]+10+ROW()/10000,IF(AND(Q229=\"HỌC SINH XUẤT SẮC\",LEFT(P229,1)=\"8\"),Table1[[#This Row],[Column1]]+(ROUND(M229,3))+50+ROW()/10000,IF(AND(Q229=\"HỌC SINH XUẤT SẮC\",LEFT(P229,1)=\"7\"),Table1[[#This Row],[Column1]]+(ROUND(M229,3))+100+ROW()/10000,IF(AND(Q229=\"HỌC SINH XUẤT SẮC\",LEFT(P229,1)=\"6\"),Table1[[#This Row],[Column1]]+(ROUND(M229,3))+150+ROW()/10000,\"\"))))","v":""},{"$f":"IF(AND(Q229=\"HỌC SINH GIỎI\",LEFT(P229,1)=\"9\"),Table1[[#This Row],[Column1]]+(ROUND(M229,3))+200+ROW()/10000,IF(AND(Q229=\"HỌC SINH GIỎI\",LEFT(P229,1)=\"8\"),Table1[[#This Row],[Column1]]+(ROUND(M229,3))+250+ROW()/10000,IF(AND(Q229=\"HỌC SINH GIỎI\",LEFT(P229,1)=\"7\"),Table1[[#This Row],[Column1]]+(ROUND(M229,3))+300+ROW()/10000,IF(AND(Q229=\"HỌC SINH GIỎI\",LEFT(P229,1)=\"6\"),Table1[[#This Row],[Column1]]+(ROUND(M229,3))+350+ROW()/10000,\"\"))))","v":""},"","","",""]
[null,null,null,null,null,null,null,null,null,null,null,null,"",null,null,null,"",{"$f":"IF(Table1[[#This Row],[STT]]=\"\",\"\",ROW()-1)","v":""},{"$f":"IF(Table1[[#This Row],[Lơp]]=\"\",\"\",VLOOKUP(Table1[[#This Row],[Lơp]],$AC$3:$AD$14,2,0))","v":""},{"$f":"IF(AND(Q230=\"HỌC SINH XUẤT SẮC\",LEFT(P230,1)=\"9\"),Table1[[#This Row],[Column1]]+(ROUND(M230,3))+400+ROW()/10000,IF(AND(Q230=\"HỌC SINH XUẤT SẮC\",LEFT(P230,1)=\"8\"),Table1[[#This Row],[Column1]]+(ROUND(M230,3))+450+ROW()/10000,IF(AND(Q230=\"HỌC SINH XUẤT SẮC\",LEFT(P230,1)=\"7\"),Table1[[#This Row],[Column1]]+(ROUND(M230,3))+500+ROW()/10000,IF(AND(Q230=\"HỌC SINH XUẤT SẮC\",LEFT(P230,1)=\"6\"),Table1[[#This Row],[Column1]]+(ROUND(M230,3))+550+ROW()/10000,IF(AND(Q230=\"HỌC SINH GIỎI\",LEFT(P230,1)=\"9\"),Table1[[#This Row],[Column1]]+(ROUND(M230,3))+10+ROW()/10000,IF(AND(Q230=\"HỌC SINH GIỎI\",LEFT(P230,1)=\"8\"),Table1[[#This Row],[Column1]]+(ROUND(M230,3))+ 50+ROW()/10000,IF(AND(Q230=\"HỌC SINH GIỎI\",LEFT(P230,1)=\"7\"),Table1[[#This Row],[Column1]]+(ROUND(M230,3))+100+ROW()/10000,IF(AND(Q230=\"HỌC SINH GIỎI\",LEFT(P230,1)=\"6\"),Table1[[#This Row],[Column1]]+(ROUND(M230,3))+150+ROW()/10000,\"\"))))))))","v":""},{"$f":"IF(AND(Q230=\"HỌC SINH XUẤT SẮC\",LEFT(P230,1)=\"9\"),(ROUND(M230,3))+Table1[[#This Row],[Column1]]+10+ROW()/10000,IF(AND(Q230=\"HỌC SINH XUẤT SẮC\",LEFT(P230,1)=\"8\"),Table1[[#This Row],[Column1]]+(ROUND(M230,3))+50+ROW()/10000,IF(AND(Q230=\"HỌC SINH XUẤT SẮC\",LEFT(P230,1)=\"7\"),Table1[[#This Row],[Column1]]+(ROUND(M230,3))+100+ROW()/10000,IF(AND(Q230=\"HỌC SINH XUẤT SẮC\",LEFT(P230,1)=\"6\"),Table1[[#This Row],[Column1]]+(ROUND(M230,3))+150+ROW()/10000,\"\"))))","v":""},{"$f":"IF(AND(Q230=\"HỌC SINH GIỎI\",LEFT(P230,1)=\"9\"),Table1[[#This Row],[Column1]]+(ROUND(M230,3))+200+ROW()/10000,IF(AND(Q230=\"HỌC SINH GIỎI\",LEFT(P230,1)=\"8\"),Table1[[#This Row],[Column1]]+(ROUND(M230,3))+250+ROW()/10000,IF(AND(Q230=\"HỌC SINH GIỎI\",LEFT(P230,1)=\"7\"),Table1[[#This Row],[Column1]]+(ROUND(M230,3))+300+ROW()/10000,IF(AND(Q230=\"HỌC SINH GIỎI\",LEFT(P230,1)=\"6\"),Table1[[#This Row],[Column1]]+(ROUND(M230,3))+350+ROW()/10000,\"\"))))","v":""},"","","",""]
[null,null,null,null,null,null,null,null,null,null,null,null,"",null,null,null,"",{"$f":"IF(Table1[[#This Row],[STT]]=\"\",\"\",ROW()-1)","v":""},{"$f":"IF(Table1[[#This Row],[Lơp]]=\"\",\"\",VLOOKUP(Table1[[#This Row],[Lơp]],$AC$3:$AD$14,2,0))","v":""},{"$f":"IF(AND(Q231=\"HỌC SINH XUẤT SẮC\",LEFT(P231,1)=\"9\"),Table1[[#This Row],[Column1]]+(ROUND(M231,3))+400+ROW()/10000,IF(AND(Q231=\"HỌC SINH XUẤT SẮC\",LEFT(P231,1)=\"8\"),Table1[[#This Row],[Column1]]+(ROUND(M231,3))+450+ROW()/10000,IF(AND(Q231=\"HỌC SINH XUẤT SẮC\",LEFT(P231,1)=\"7\"),Table1[[#This Row],[Column1]]+(ROUND(M231,3))+500+ROW()/10000,IF(AND(Q231=\"HỌC SINH XUẤT SẮC\",LEFT(P231,1)=\"6\"),Table1[[#This Row],[Column1]]+(ROUND(M231,3))+550+ROW()/10000,IF(AND(Q231=\"HỌC SINH GIỎI\",LEFT(P231,1)=\"9\"),Table1[[#This Row],[Column1]]+(ROUND(M231,3))+10+ROW()/10000,IF(AND(Q231=\"HỌC SINH GIỎI\",LEFT(P231,1)=\"8\"),Table1[[#This Row],[Column1]]+(ROUND(M231,3))+ 50+ROW()/10000,IF(AND(Q231=\"HỌC SINH GIỎI\",LEFT(P231,1)=\"7\"),Table1[[#This Row],[Column1]]+(ROUND(M231,3))+100+ROW()/10000,IF(AND(Q231=\"HỌC SINH GIỎI\",LEFT(P231,1)=\"6\"),Table1[[#This Row],[Column1]]+(ROUND(M231,3))+150+ROW()/10000,\"\"))))))))","v":""},{"$f":"IF(AND(Q231=\"HỌC SINH XUẤT SẮC\",LEFT(P231,1)=\"9\"),(ROUND(M231,3))+Table1[[#This Row],[Column1]]+10+ROW()/10000,IF(AND(Q231=\"HỌC SINH XUẤT SẮC\",LEFT(P231,1)=\"8\"),Table1[[#This Row],[Column1]]+(ROUND(M231,3))+50+ROW()/10000,IF(AND(Q231=\"HỌC SINH XUẤT SẮC\",LEFT(P231,1)=\"7\"),Table1[[#This Row],[Column1]]+(ROUND(M231,3))+100+ROW()/10000,IF(AND(Q231=\"HỌC SINH XUẤT SẮC\",LEFT(P231,1)=\"6\"),Table1[[#This Row],[Column1]]+(ROUND(M231,3))+150+ROW()/10000,\"\"))))","v":""},{"$f":"IF(AND(Q231=\"HỌC SINH GIỎI\",LEFT(P231,1)=\"9\"),Table1[[#This Row],[Column1]]+(ROUND(M231,3))+200+ROW()/10000,IF(AND(Q231=\"HỌC SINH GIỎI\",LEFT(P231,1)=\"8\"),Table1[[#This Row],[Column1]]+(ROUND(M231,3))+250+ROW()/10000,IF(AND(Q231=\"HỌC SINH GIỎI\",LEFT(P231,1)=\"7\"),Table1[[#This Row],[Column1]]+(ROUND(M231,3))+300+ROW()/10000,IF(AND(Q231=\"HỌC SINH GIỎI\",LEFT(P231,1)=\"6\"),Table1[[#This Row],[Column1]]+(ROUND(M231,3))+350+ROW()/10000,\"\"))))","v":""},"","","",""]
[null,null,null,null,null,null,null,null,null,null,null,null,"",null,null,null,"",{"$f":"IF(Table1[[#This Row],[STT]]=\"\",\"\",ROW()-1)","v":""},{"$f":"IF(Table1[[#This Row],[Lơp]]=\"\",\"\",VLOOKUP(Table1[[#This Row],[Lơp]],$AC$3:$AD$14,2,0))","v":""},{"$f":"IF(AND(Q232=\"HỌC SINH XUẤT SẮC\",LEFT(P232,1)=\"9\"),Table1[[#This Row],[Column1]]+(ROUND(M232,3))+400+ROW()/10000,IF(AND(Q232=\"HỌC SINH XUẤT SẮC\",LEFT(P232,1)=\"8\"),Table1[[#This Row],[Column1]]+(ROUND(M232,3))+450+ROW()/10000,IF(AND(Q232=\"HỌC SINH XUẤT SẮC\",LEFT(P232,1)=\"7\"),Table1[[#This Row],[Column1]]+(ROUND(M232,3))+500+ROW()/10000,IF(AND(Q232=\"HỌC SINH XUẤT SẮC\",LEFT(P232,1)=\"6\"),Table1[[#This Row],[Column1]]+(ROUND(M232,3))+550+ROW()/10000,IF(AND(Q232=\"HỌC SINH GIỎI\",LEFT(P232,1)=\"9\"),Table1[[#This Row],[Column1]]+(ROUND(M232,3))+10+ROW()/10000,IF(AND(Q232=\"HỌC SINH GIỎI\",LEFT(P232,1)=\"8\"),Table1[[#This Row],[Column1]]+(ROUND(M232,3))+ 50+ROW()/10000,IF(AND(Q232=\"HỌC SINH GIỎI\",LEFT(P232,1)=\"7\"),Table1[[#This Row],[Column1]]+(ROUND(M232,3))+100+ROW()/10000,IF(AND(Q232=\"HỌC SINH GIỎI\",LEFT(P232,1)=\"6\"),Table1[[#This Row],[Column1]]+(ROUND(M232,3))+150+ROW()/10000,\"\"))))))))","v":""},{"$f":"IF(AND(Q232=\"HỌC SINH XUẤT SẮC\",LEFT(P232,1)=\"9\"),(ROUND(M232,3))+Table1[[#This Row],[Column1]]+10+ROW()/10000,IF(AND(Q232=\"HỌC SINH XUẤT SẮC\",LEFT(P232,1)=\"8\"),Table1[[#This Row],[Column1]]+(ROUND(M232,3))+50+ROW()/10000,IF(AND(Q232=\"HỌC SINH XUẤT SẮC\",LEFT(P232,1)=\"7\"),Table1[[#This Row],[Column1]]+(ROUND(M232,3))+100+ROW()/10000,IF(AND(Q232=\"HỌC SINH XUẤT SẮC\",LEFT(P232,1)=\"6\"),Table1[[#This Row],[Column1]]+(ROUND(M232,3))+150+ROW()/10000,\"\"))))","v":""},{"$f":"IF(AND(Q232=\"HỌC SINH GIỎI\",LEFT(P232,1)=\"9\"),Table1[[#This Row],[Column1]]+(ROUND(M232,3))+200+ROW()/10000,IF(AND(Q232=\"HỌC SINH GIỎI\",LEFT(P232,1)=\"8\"),Table1[[#This Row],[Column1]]+(ROUND(M232,3))+250+ROW()/10000,IF(AND(Q232=\"HỌC SINH GIỎI\",LEFT(P232,1)=\"7\"),Table1[[#This Row],[Column1]]+(ROUND(M232,3))+300+ROW()/10000,IF(AND(Q232=\"HỌC SINH GIỎI\",LEFT(P232,1)=\"6\"),Table1[[#This Row],[Column1]]+(ROUND(M232,3))+350+ROW()/10000,\"\"))))","v":""},"","","",""]
[null,null,null,null,null,null,null,null,null,null,null,null,"",null,null,null,"",{"$f":"IF(Table1[[#This Row],[STT]]=\"\",\"\",ROW()-1)","v":""},{"$f":"IF(Table1[[#This Row],[Lơp]]=\"\",\"\",VLOOKUP(Table1[[#This Row],[Lơp]],$AC$3:$AD$14,2,0))","v":""},{"$f":"IF(AND(Q233=\"HỌC SINH XUẤT SẮC\",LEFT(P233,1)=\"9\"),Table1[[#This Row],[Column1]]+(ROUND(M233,3))+400+ROW()/10000,IF(AND(Q233=\"HỌC SINH XUẤT SẮC\",LEFT(P233,1)=\"8\"),Table1[[#This Row],[Column1]]+(ROUND(M233,3))+450+ROW()/10000,IF(AND(Q233=\"HỌC SINH XUẤT SẮC\",LEFT(P233,1)=\"7\"),Table1[[#This Row],[Column1]]+(ROUND(M233,3))+500+ROW()/10000,IF(AND(Q233=\"HỌC SINH XUẤT SẮC\",LEFT(P233,1)=\"6\"),Table1[[#This Row],[Column1]]+(ROUND(M233,3))+550+ROW()/10000,IF(AND(Q233=\"HỌC SINH GIỎI\",LEFT(P233,1)=\"9\"),Table1[[#This Row],[Column1]]+(ROUND(M233,3))+10+ROW()/10000,IF(AND(Q233=\"HỌC SINH GIỎI\",LEFT(P233,1)=\"8\"),Table1[[#This Row],[Column1]]+(ROUND(M233,3))+ 50+ROW()/10000,IF(AND(Q233=\"HỌC SINH GIỎI\",LEFT(P233,1)=\"7\"),Table1[[#This Row],[Column1]]+(ROUND(M233,3))+100+ROW()/10000,IF(AND(Q233=\"HỌC SINH GIỎI\",LEFT(P233,1)=\"6\"),Table1[[#This Row],[Column1]]+(ROUND(M233,3))+150+ROW()/10000,\"\"))))))))","v":""},{"$f":"IF(AND(Q233=\"HỌC SINH XUẤT SẮC\",LEFT(P233,1)=\"9\"),(ROUND(M233,3))+Table1[[#This Row],[Column1]]+10+ROW()/10000,IF(AND(Q233=\"HỌC SINH XUẤT SẮC\",LEFT(P233,1)=\"8\"),Table1[[#This Row],[Column1]]+(ROUND(M233,3))+50+ROW()/10000,IF(AND(Q233=\"HỌC SINH XUẤT SẮC\",LEFT(P233,1)=\"7\"),Table1[[#This Row],[Column1]]+(ROUND(M233,3))+100+ROW()/10000,IF(AND(Q233=\"HỌC SINH XUẤT SẮC\",LEFT(P233,1)=\"6\"),Table1[[#This Row],[Column1]]+(ROUND(M233,3))+150+ROW()/10000,\"\"))))","v":""},{"$f":"IF(AND(Q233=\"HỌC SINH GIỎI\",LEFT(P233,1)=\"9\"),Table1[[#This Row],[Column1]]+(ROUND(M233,3))+200+ROW()/10000,IF(AND(Q233=\"HỌC SINH GIỎI\",LEFT(P233,1)=\"8\"),Table1[[#This Row],[Column1]]+(ROUND(M233,3))+250+ROW()/10000,IF(AND(Q233=\"HỌC SINH GIỎI\",LEFT(P233,1)=\"7\"),Table1[[#This Row],[Column1]]+(ROUND(M233,3))+300+ROW()/10000,IF(AND(Q233=\"HỌC SINH GIỎI\",LEFT(P233,1)=\"6\"),Table1[[#This Row],[Column1]]+(ROUND(M233,3))+350+ROW()/10000,\"\"))))","v":""},"","","",""]
[null,null,null,null,null,null,null,null,null,null,null,null,"",null,null,null,"",{"$f":"IF(Table1[[#This Row],[STT]]=\"\",\"\",ROW()-1)","v":""},{"$f":"IF(Table1[[#This Row],[Lơp]]=\"\",\"\",VLOOKUP(Table1[[#This Row],[Lơp]],$AC$3:$AD$14,2,0))","v":""},{"$f":"IF(AND(Q234=\"HỌC SINH XUẤT SẮC\",LEFT(P234,1)=\"9\"),Table1[[#This Row],[Column1]]+(ROUND(M234,3))+400+ROW()/10000,IF(AND(Q234=\"HỌC SINH XUẤT SẮC\",LEFT(P234,1)=\"8\"),Table1[[#This Row],[Column1]]+(ROUND(M234,3))+450+ROW()/10000,IF(AND(Q234=\"HỌC SINH XUẤT SẮC\",LEFT(P234,1)=\"7\"),Table1[[#This Row],[Column1]]+(ROUND(M234,3))+500+ROW()/10000,IF(AND(Q234=\"HỌC SINH XUẤT SẮC\",LEFT(P234,1)=\"6\"),Table1[[#This Row],[Column1]]+(ROUND(M234,3))+550+ROW()/10000,IF(AND(Q234=\"HỌC SINH GIỎI\",LEFT(P234,1)=\"9\"),Table1[[#This Row],[Column1]]+(ROUND(M234,3))+10+ROW()/10000,IF(AND(Q234=\"HỌC SINH GIỎI\",LEFT(P234,1)=\"8\"),Table1[[#This Row],[Column1]]+(ROUND(M234,3))+ 50+ROW()/10000,IF(AND(Q234=\"HỌC SINH GIỎI\",LEFT(P234,1)=\"7\"),Table1[[#This Row],[Column1]]+(ROUND(M234,3))+100+ROW()/10000,IF(AND(Q234=\"HỌC SINH GIỎI\",LEFT(P234,1)=\"6\"),Table1[[#This Row],[Column1]]+(ROUND(M234,3))+150+ROW()/10000,\"\"))))))))","v":""},{"$f":"IF(AND(Q234=\"HỌC SINH XUẤT SẮC\",LEFT(P234,1)=\"9\"),(ROUND(M234,3))+Table1[[#This Row],[Column1]]+10+ROW()/10000,IF(AND(Q234=\"HỌC SINH XUẤT SẮC\",LEFT(P234,1)=\"8\"),Table1[[#This Row],[Column1]]+(ROUND(M234,3))+50+ROW()/10000,IF(AND(Q234=\"HỌC SINH XUẤT SẮC\",LEFT(P234,1)=\"7\"),Table1[[#This Row],[Column1]]+(ROUND(M234,3))+100+ROW()/10000,IF(AND(Q234=\"HỌC SINH XUẤT SẮC\",LEFT(P234,1)=\"6\"),Table1[[#This Row],[Column1]]+(ROUND(M234,3))+150+ROW()/10000,\"\"))))","v":""},{"$f":"IF(AND(Q234=\"HỌC SINH GIỎI\",LEFT(P234,1)=\"9\"),Table1[[#This Row],[Column1]]+(ROUND(M234,3))+200+ROW()/10000,IF(AND(Q234=\"HỌC SINH GIỎI\",LEFT(P234,1)=\"8\"),Table1[[#This Row],[Column1]]+(ROUND(M234,3))+250+ROW()/10000,IF(AND(Q234=\"HỌC SINH GIỎI\",LEFT(P234,1)=\"7\"),Table1[[#This Row],[Column1]]+(ROUND(M234,3))+300+ROW()/10000,IF(AND(Q234=\"HỌC SINH GIỎI\",LEFT(P234,1)=\"6\"),Table1[[#This Row],[Column1]]+(ROUND(M234,3))+350+ROW()/10000,\"\"))))","v":""},"","","",""]
[null,null,null,null,null,null,null,null,null,null,null,null,"",null,null,null,"",{"$f":"IF(Table1[[#This Row],[STT]]=\"\",\"\",ROW()-1)","v":""},{"$f":"IF(Table1[[#This Row],[Lơp]]=\"\",\"\",VLOOKUP(Table1[[#This Row],[Lơp]],$AC$3:$AD$14,2,0))","v":""},{"$f":"IF(AND(Q235=\"HỌC SINH XUẤT SẮC\",LEFT(P235,1)=\"9\"),Table1[[#This Row],[Column1]]+(ROUND(M235,3))+400+ROW()/10000,IF(AND(Q235=\"HỌC SINH XUẤT SẮC\",LEFT(P235,1)=\"8\"),Table1[[#This Row],[Column1]]+(ROUND(M235,3))+450+ROW()/10000,IF(AND(Q235=\"HỌC SINH XUẤT SẮC\",LEFT(P235,1)=\"7\"),Table1[[#This Row],[Column1]]+(ROUND(M235,3))+500+ROW()/10000,IF(AND(Q235=\"HỌC SINH XUẤT SẮC\",LEFT(P235,1)=\"6\"),Table1[[#This Row],[Column1]]+(ROUND(M235,3))+550+ROW()/10000,IF(AND(Q235=\"HỌC SINH GIỎI\",LEFT(P235,1)=\"9\"),Table1[[#This Row],[Column1]]+(ROUND(M235,3))+10+ROW()/10000,IF(AND(Q235=\"HỌC SINH GIỎI\",LEFT(P235,1)=\"8\"),Table1[[#This Row],[Column1]]+(ROUND(M235,3))+ 50+ROW()/10000,IF(AND(Q235=\"HỌC SINH GIỎI\",LEFT(P235,1)=\"7\"),Table1[[#This Row],[Column1]]+(ROUND(M235,3))+100+ROW()/10000,IF(AND(Q235=\"HỌC SINH GIỎI\",LEFT(P235,1)=\"6\"),Table1[[#This Row],[Column1]]+(ROUND(M235,3))+150+ROW()/10000,\"\"))))))))","v":""},{"$f":"IF(AND(Q235=\"HỌC SINH XUẤT SẮC\",LEFT(P235,1)=\"9\"),(ROUND(M235,3))+Table1[[#This Row],[Column1]]+10+ROW()/10000,IF(AND(Q235=\"HỌC SINH XUẤT SẮC\",LEFT(P235,1)=\"8\"),Table1[[#This Row],[Column1]]+(ROUND(M235,3))+50+ROW()/10000,IF(AND(Q235=\"HỌC SINH XUẤT SẮC\",LEFT(P235,1)=\"7\"),Table1[[#This Row],[Column1]]+(ROUND(M235,3))+100+ROW()/10000,IF(AND(Q235=\"HỌC SINH XUẤT SẮC\",LEFT(P235,1)=\"6\"),Table1[[#This Row],[Column1]]+(ROUND(M235,3))+150+ROW()/10000,\"\"))))","v":""},{"$f":"IF(AND(Q235=\"HỌC SINH GIỎI\",LEFT(P235,1)=\"9\"),Table1[[#This Row],[Column1]]+(ROUND(M235,3))+200+ROW()/10000,IF(AND(Q235=\"HỌC SINH GIỎI\",LEFT(P235,1)=\"8\"),Table1[[#This Row],[Column1]]+(ROUND(M235,3))+250+ROW()/10000,IF(AND(Q235=\"HỌC SINH GIỎI\",LEFT(P235,1)=\"7\"),Table1[[#This Row],[Column1]]+(ROUND(M235,3))+300+ROW()/10000,IF(AND(Q235=\"HỌC SINH GIỎI\",LEFT(P235,1)=\"6\"),Table1[[#This Row],[Column1]]+(ROUND(M235,3))+350+ROW()/10000,\"\"))))","v":""},"","","",""]
[null,null,null,null,null,null,null,null,null,null,null,null,"",null,null,null,"",{"$f":"IF(Table1[[#This Row],[STT]]=\"\",\"\",ROW()-1)","v":""},{"$f":"IF(Table1[[#This Row],[Lơp]]=\"\",\"\",VLOOKUP(Table1[[#This Row],[Lơp]],$AC$3:$AD$14,2,0))","v":""},{"$f":"IF(AND(Q236=\"HỌC SINH XUẤT SẮC\",LEFT(P236,1)=\"9\"),Table1[[#This Row],[Column1]]+(ROUND(M236,3))+400+ROW()/10000,IF(AND(Q236=\"HỌC SINH XUẤT SẮC\",LEFT(P236,1)=\"8\"),Table1[[#This Row],[Column1]]+(ROUND(M236,3))+450+ROW()/10000,IF(AND(Q236=\"HỌC SINH XUẤT SẮC\",LEFT(P236,1)=\"7\"),Table1[[#This Row],[Column1]]+(ROUND(M236,3))+500+ROW()/10000,IF(AND(Q236=\"HỌC SINH XUẤT SẮC\",LEFT(P236,1)=\"6\"),Table1[[#This Row],[Column1]]+(ROUND(M236,3))+550+ROW()/10000,IF(AND(Q236=\"HỌC SINH GIỎI\",LEFT(P236,1)=\"9\"),Table1[[#This Row],[Column1]]+(ROUND(M236,3))+10+ROW()/10000,IF(AND(Q236=\"HỌC SINH GIỎI\",LEFT(P236,1)=\"8\"),Table1[[#This Row],[Column1]]+(ROUND(M236,3))+ 50+ROW()/10000,IF(AND(Q236=\"HỌC SINH GIỎI\",LEFT(P236,1)=\"7\"),Table1[[#This Row],[Column1]]+(ROUND(M236,3))+100+ROW()/10000,IF(AND(Q236=\"HỌC SINH GIỎI\",LEFT(P236,1)=\"6\"),Table1[[#This Row],[Column1]]+(ROUND(M236,3))+150+ROW()/10000,\"\"))))))))","v":""},{"$f":"IF(AND(Q236=\"HỌC SINH XUẤT SẮC\",LEFT(P236,1)=\"9\"),(ROUND(M236,3))+Table1[[#This Row],[Column1]]+10+ROW()/10000,IF(AND(Q236=\"HỌC SINH XUẤT SẮC\",LEFT(P236,1)=\"8\"),Table1[[#This Row],[Column1]]+(ROUND(M236,3))+50+ROW()/10000,IF(AND(Q236=\"HỌC SINH XUẤT SẮC\",LEFT(P236,1)=\"7\"),Table1[[#This Row],[Column1]]+(ROUND(M236,3))+100+ROW()/10000,IF(AND(Q236=\"HỌC SINH XUẤT SẮC\",LEFT(P236,1)=\"6\"),Table1[[#This Row],[Column1]]+(ROUND(M236,3))+150+ROW()/10000,\"\"))))","v":""},{"$f":"IF(AND(Q236=\"HỌC SINH GIỎI\",LEFT(P236,1)=\"9\"),Table1[[#This Row],[Column1]]+(ROUND(M236,3))+200+ROW()/10000,IF(AND(Q236=\"HỌC SINH GIỎI\",LEFT(P236,1)=\"8\"),Table1[[#This Row],[Column1]]+(ROUND(M236,3))+250+ROW()/10000,IF(AND(Q236=\"HỌC SINH GIỎI\",LEFT(P236,1)=\"7\"),Table1[[#This Row],[Column1]]+(ROUND(M236,3))+300+ROW()/10000,IF(AND(Q236=\"HỌC SINH GIỎI\",LEFT(P236,1)=\"6\"),Table1[[#This Row],[Column1]]+(ROUND(M236,3))+350+ROW()/10000,\"\"))))","v":""},"","","",""]
[null,null,null,null,null,null,null,null,null,null,null,null,"",null,null,null,"",{"$f":"IF(Table1[[#This Row],[STT]]=\"\",\"\",ROW()-1)","v":""},{"$f":"IF(Table1[[#This Row],[Lơp]]=\"\",\"\",VLOOKUP(Table1[[#This Row],[Lơp]],$AC$3:$AD$14,2,0))","v":""},{"$f":"IF(AND(Q237=\"HỌC SINH XUẤT SẮC\",LEFT(P237,1)=\"9\"),Table1[[#This Row],[Column1]]+(ROUND(M237,3))+400+ROW()/10000,IF(AND(Q237=\"HỌC SINH XUẤT SẮC\",LEFT(P237,1)=\"8\"),Table1[[#This Row],[Column1]]+(ROUND(M237,3))+450+ROW()/10000,IF(AND(Q237=\"HỌC SINH XUẤT SẮC\",LEFT(P237,1)=\"7\"),Table1[[#This Row],[Column1]]+(ROUND(M237,3))+500+ROW()/10000,IF(AND(Q237=\"HỌC SINH XUẤT SẮC\",LEFT(P237,1)=\"6\"),Table1[[#This Row],[Column1]]+(ROUND(M237,3))+550+ROW()/10000,IF(AND(Q237=\"HỌC SINH GIỎI\",LEFT(P237,1)=\"9\"),Table1[[#This Row],[Column1]]+(ROUND(M237,3))+10+ROW()/10000,IF(AND(Q237=\"HỌC SINH GIỎI\",LEFT(P237,1)=\"8\"),Table1[[#This Row],[Column1]]+(ROUND(M237,3))+ 50+ROW()/10000,IF(AND(Q237=\"HỌC SINH GIỎI\",LEFT(P237,1)=\"7\"),Table1[[#This Row],[Column1]]+(ROUND(M237,3))+100+ROW()/10000,IF(AND(Q237=\"HỌC SINH GIỎI\",LEFT(P237,1)=\"6\"),Table1[[#This Row],[Column1]]+(ROUND(M237,3))+150+ROW()/10000,\"\"))))))))","v":""},{"$f":"IF(AND(Q237=\"HỌC SINH XUẤT SẮC\",LEFT(P237,1)=\"9\"),(ROUND(M237,3))+Table1[[#This Row],[Column1]]+10+ROW()/10000,IF(AND(Q237=\"HỌC SINH XUẤT SẮC\",LEFT(P237,1)=\"8\"),Table1[[#This Row],[Column1]]+(ROUND(M237,3))+50+ROW()/10000,IF(AND(Q237=\"HỌC SINH XUẤT SẮC\",LEFT(P237,1)=\"7\"),Table1[[#This Row],[Column1]]+(ROUND(M237,3))+100+ROW()/10000,IF(AND(Q237=\"HỌC SINH XUẤT SẮC\",LEFT(P237,1)=\"6\"),Table1[[#This Row],[Column1]]+(ROUND(M237,3))+150+ROW()/10000,\"\"))))","v":""},{"$f":"IF(AND(Q237=\"HỌC SINH GIỎI\",LEFT(P237,1)=\"9\"),Table1[[#This Row],[Column1]]+(ROUND(M237,3))+200+ROW()/10000,IF(AND(Q237=\"HỌC SINH GIỎI\",LEFT(P237,1)=\"8\"),Table1[[#This Row],[Column1]]+(ROUND(M237,3))+250+ROW()/10000,IF(AND(Q237=\"HỌC SINH GIỎI\",LEFT(P237,1)=\"7\"),Table1[[#This Row],[Column1]]+(ROUND(M237,3))+300+ROW()/10000,IF(AND(Q237=\"HỌC SINH GIỎI\",LEFT(P237,1)=\"6\"),Table1[[#This Row],[Column1]]+(ROUND(M237,3))+350+ROW()/10000,\"\"))))","v":""},"","","",""]
[null,null,null,null,null,null,null,null,null,null,null,null,"",null,null,null,"",{"$f":"IF(Table1[[#This Row],[STT]]=\"\",\"\",ROW()-1)","v":""},{"$f":"IF(Table1[[#This Row],[Lơp]]=\"\",\"\",VLOOKUP(Table1[[#This Row],[Lơp]],$AC$3:$AD$14,2,0))","v":""},{"$f":"IF(AND(Q238=\"HỌC SINH XUẤT SẮC\",LEFT(P238,1)=\"9\"),Table1[[#This Row],[Column1]]+(ROUND(M238,3))+400+ROW()/10000,IF(AND(Q238=\"HỌC SINH XUẤT SẮC\",LEFT(P238,1)=\"8\"),Table1[[#This Row],[Column1]]+(ROUND(M238,3))+450+ROW()/10000,IF(AND(Q238=\"HỌC SINH XUẤT SẮC\",LEFT(P238,1)=\"7\"),Table1[[#This Row],[Column1]]+(ROUND(M238,3))+500+ROW()/10000,IF(AND(Q238=\"HỌC SINH XUẤT SẮC\",LEFT(P238,1)=\"6\"),Table1[[#This Row],[Column1]]+(ROUND(M238,3))+550+ROW()/10000,IF(AND(Q238=\"HỌC SINH GIỎI\",LEFT(P238,1)=\"9\"),Table1[[#This Row],[Column1]]+(ROUND(M238,3))+10+ROW()/10000,IF(AND(Q238=\"HỌC SINH GIỎI\",LEFT(P238,1)=\"8\"),Table1[[#This Row],[Column1]]+(ROUND(M238,3))+ 50+ROW()/10000,IF(AND(Q238=\"HỌC SINH GIỎI\",LEFT(P238,1)=\"7\"),Table1[[#This Row],[Column1]]+(ROUND(M238,3))+100+ROW()/10000,IF(AND(Q238=\"HỌC SINH GIỎI\",LEFT(P238,1)=\"6\"),Table1[[#This Row],[Column1]]+(ROUND(M238,3))+150+ROW()/10000,\"\"))))))))","v":""},{"$f":"IF(AND(Q238=\"HỌC SINH XUẤT SẮC\",LEFT(P238,1)=\"9\"),(ROUND(M238,3))+Table1[[#This Row],[Column1]]+10+ROW()/10000,IF(AND(Q238=\"HỌC SINH XUẤT SẮC\",LEFT(P238,1)=\"8\"),Table1[[#This Row],[Column1]]+(ROUND(M238,3))+50+ROW()/10000,IF(AND(Q238=\"HỌC SINH XUẤT SẮC\",LEFT(P238,1)=\"7\"),Table1[[#This Row],[Column1]]+(ROUND(M238,3))+100+ROW()/10000,IF(AND(Q238=\"HỌC SINH XUẤT SẮC\",LEFT(P238,1)=\"6\"),Table1[[#This Row],[Column1]]+(ROUND(M238,3))+150+ROW()/10000,\"\"))))","v":""},{"$f":"IF(AND(Q238=\"HỌC SINH GIỎI\",LEFT(P238,1)=\"9\"),Table1[[#This Row],[Column1]]+(ROUND(M238,3))+200+ROW()/10000,IF(AND(Q238=\"HỌC SINH GIỎI\",LEFT(P238,1)=\"8\"),Table1[[#This Row],[Column1]]+(ROUND(M238,3))+250+ROW()/10000,IF(AND(Q238=\"HỌC SINH GIỎI\",LEFT(P238,1)=\"7\"),Table1[[#This Row],[Column1]]+(ROUND(M238,3))+300+ROW()/10000,IF(AND(Q238=\"HỌC SINH GIỎI\",LEFT(P238,1)=\"6\"),Table1[[#This Row],[Column1]]+(ROUND(M238,3))+350+ROW()/10000,\"\"))))","v":""},"","","",""]
[null,null,null,null,null,null,null,null,null,null,null,null,"",null,null,null,"",{"$f":"IF(Table1[[#This Row],[STT]]=\"\",\"\",ROW()-1)","v":""},{"$f":"IF(Table1[[#This Row],[Lơp]]=\"\",\"\",VLOOKUP(Table1[[#This Row],[Lơp]],$AC$3:$AD$14,2,0))","v":""},{"$f":"IF(AND(Q239=\"HỌC SINH XUẤT SẮC\",LEFT(P239,1)=\"9\"),Table1[[#This Row],[Column1]]+(ROUND(M239,3))+400+ROW()/10000,IF(AND(Q239=\"HỌC SINH XUẤT SẮC\",LEFT(P239,1)=\"8\"),Table1[[#This Row],[Column1]]+(ROUND(M239,3))+450+ROW()/10000,IF(AND(Q239=\"HỌC SINH XUẤT SẮC\",LEFT(P239,1)=\"7\"),Table1[[#This Row],[Column1]]+(ROUND(M239,3))+500+ROW()/10000,IF(AND(Q239=\"HỌC SINH XUẤT SẮC\",LEFT(P239,1)=\"6\"),Table1[[#This Row],[Column1]]+(ROUND(M239,3))+550+ROW()/10000,IF(AND(Q239=\"HỌC SINH GIỎI\",LEFT(P239,1)=\"9\"),Table1[[#This Row],[Column1]]+(ROUND(M239,3))+10+ROW()/10000,IF(AND(Q239=\"HỌC SINH GIỎI\",LEFT(P239,1)=\"8\"),Table1[[#This Row],[Column1]]+(ROUND(M239,3))+ 50+ROW()/10000,IF(AND(Q239=\"HỌC SINH GIỎI\",LEFT(P239,1)=\"7\"),Table1[[#This Row],[Column1]]+(ROUND(M239,3))+100+ROW()/10000,IF(AND(Q239=\"HỌC SINH GIỎI\",LEFT(P239,1)=\"6\"),Table1[[#This Row],[Column1]]+(ROUND(M239,3))+150+ROW()/10000,\"\"))))))))","v":""},{"$f":"IF(AND(Q239=\"HỌC SINH XUẤT SẮC\",LEFT(P239,1)=\"9\"),(ROUND(M239,3))+Table1[[#This Row],[Column1]]+10+ROW()/10000,IF(AND(Q239=\"HỌC SINH XUẤT SẮC\",LEFT(P239,1)=\"8\"),Table1[[#This Row],[Column1]]+(ROUND(M239,3))+50+ROW()/10000,IF(AND(Q239=\"HỌC SINH XUẤT SẮC\",LEFT(P239,1)=\"7\"),Table1[[#This Row],[Column1]]+(ROUND(M239,3))+100+ROW()/10000,IF(AND(Q239=\"HỌC SINH XUẤT SẮC\",LEFT(P239,1)=\"6\"),Table1[[#This Row],[Column1]]+(ROUND(M239,3))+150+ROW()/10000,\"\"))))","v":""},{"$f":"IF(AND(Q239=\"HỌC SINH GIỎI\",LEFT(P239,1)=\"9\"),Table1[[#This Row],[Column1]]+(ROUND(M239,3))+200+ROW()/10000,IF(AND(Q239=\"HỌC SINH GIỎI\",LEFT(P239,1)=\"8\"),Table1[[#This Row],[Column1]]+(ROUND(M239,3))+250+ROW()/10000,IF(AND(Q239=\"HỌC SINH GIỎI\",LEFT(P239,1)=\"7\"),Table1[[#This Row],[Column1]]+(ROUND(M239,3))+300+ROW()/10000,IF(AND(Q239=\"HỌC SINH GIỎI\",LEFT(P239,1)=\"6\"),Table1[[#This Row],[Column1]]+(ROUND(M239,3))+350+ROW()/10000,\"\"))))","v":""},{"$f":"IF(AND(V239=\"\",U239=\"\"),\"\",B239)","v":""},{"$f":"IF(W239=\"\",\"\",C239)","v":""},{"$f":"IF(X239=\"\",\"\",Q239)","v":""},{"$f":"IF(Y239=\"\",\"\",P239)","v":""}]
[null,null,null,null,null,null,null,null,null,null,null,null,"",null,null,null,"",{"$f":"IF(Table1[[#This Row],[STT]]=\"\",\"\",ROW()-1)","v":""},{"$f":"IF(Table1[[#This Row],[Lơp]]=\"\",\"\",VLOOKUP(Table1[[#This Row],[Lơp]],$AC$3:$AD$14,2,0))","v":""},{"$f":"IF(AND(Q240=\"HỌC SINH XUẤT SẮC\",LEFT(P240,1)=\"9\"),Table1[[#This Row],[Column1]]+(ROUND(M240,3))+400+ROW()/10000,IF(AND(Q240=\"HỌC SINH XUẤT SẮC\",LEFT(P240,1)=\"8\"),Table1[[#This Row],[Column1]]+(ROUND(M240,3))+450+ROW()/10000,IF(AND(Q240=\"HỌC SINH XUẤT SẮC\",LEFT(P240,1)=\"7\"),Table1[[#This Row],[Column1]]+(ROUND(M240,3))+500+ROW()/10000,IF(AND(Q240=\"HỌC SINH XUẤT SẮC\",LEFT(P240,1)=\"6\"),Table1[[#This Row],[Column1]]+(ROUND(M240,3))+550+ROW()/10000,IF(AND(Q240=\"HỌC SINH GIỎI\",LEFT(P240,1)=\"9\"),Table1[[#This Row],[Column1]]+(ROUND(M240,3))+10+ROW()/10000,IF(AND(Q240=\"HỌC SINH GIỎI\",LEFT(P240,1)=\"8\"),Table1[[#This Row],[Column1]]+(ROUND(M240,3))+ 50+ROW()/10000,IF(AND(Q240=\"HỌC SINH GIỎI\",LEFT(P240,1)=\"7\"),Table1[[#This Row],[Column1]]+(ROUND(M240,3))+100+ROW()/10000,IF(AND(Q240=\"HỌC SINH GIỎI\",LEFT(P240,1)=\"6\"),Table1[[#This Row],[Column1]]+(ROUND(M240,3))+150+ROW()/10000,\"\"))))))))","v":""},{"$f":"IF(AND(Q240=\"HỌC SINH XUẤT SẮC\",LEFT(P240,1)=\"9\"),(ROUND(M240,3))+Table1[[#This Row],[Column1]]+10+ROW()/10000,IF(AND(Q240=\"HỌC SINH XUẤT SẮC\",LEFT(P240,1)=\"8\"),Table1[[#This Row],[Column1]]+(ROUND(M240,3))+50+ROW()/10000,IF(AND(Q240=\"HỌC SINH XUẤT SẮC\",LEFT(P240,1)=\"7\"),Table1[[#This Row],[Column1]]+(ROUND(M240,3))+100+ROW()/10000,IF(AND(Q240=\"HỌC SINH XUẤT SẮC\",LEFT(P240,1)=\"6\"),Table1[[#This Row],[Column1]]+(ROUND(M240,3))+150+ROW()/10000,\"\"))))","v":""},{"$f":"IF(AND(Q240=\"HỌC SINH GIỎI\",LEFT(P240,1)=\"9\"),Table1[[#This Row],[Column1]]+(ROUND(M240,3))+200+ROW()/10000,IF(AND(Q240=\"HỌC SINH GIỎI\",LEFT(P240,1)=\"8\"),Table1[[#This Row],[Column1]]+(ROUND(M240,3))+250+ROW()/10000,IF(AND(Q240=\"HỌC SINH GIỎI\",LEFT(P240,1)=\"7\"),Table1[[#This Row],[Column1]]+(ROUND(M240,3))+300+ROW()/10000,IF(AND(Q240=\"HỌC SINH GIỎI\",LEFT(P240,1)=\"6\"),Table1[[#This Row],[Column1]]+(ROUND(M240,3))+350+ROW()/10000,\"\"))))","v":""},"","","",""]
[null,null,null,null,null,null,null,null,null,null,null,null,"",null,null,null,"",{"$f":"IF(Table1[[#This Row],[STT]]=\"\",\"\",ROW()-1)","v":""},{"$f":"IF(Table1[[#This Row],[Lơp]]=\"\",\"\",VLOOKUP(Table1[[#This Row],[Lơp]],$AC$3:$AD$14,2,0))","v":""},{"$f":"IF(AND(Q241=\"HỌC SINH XUẤT SẮC\",LEFT(P241,1)=\"9\"),Table1[[#This Row],[Column1]]+(ROUND(M241,3))+400+ROW()/10000,IF(AND(Q241=\"HỌC SINH XUẤT SẮC\",LEFT(P241,1)=\"8\"),Table1[[#This Row],[Column1]]+(ROUND(M241,3))+450+ROW()/10000,IF(AND(Q241=\"HỌC SINH XUẤT SẮC\",LEFT(P241,1)=\"7\"),Table1[[#This Row],[Column1]]+(ROUND(M241,3))+500+ROW()/10000,IF(AND(Q241=\"HỌC SINH XUẤT SẮC\",LEFT(P241,1)=\"6\"),Table1[[#This Row],[Column1]]+(ROUND(M241,3))+550+ROW()/10000,IF(AND(Q241=\"HỌC SINH GIỎI\",LEFT(P241,1)=\"9\"),Table1[[#This Row],[Column1]]+(ROUND(M241,3))+10+ROW()/10000,IF(AND(Q241=\"HỌC SINH GIỎI\",LEFT(P241,1)=\"8\"),Table1[[#This Row],[Column1]]+(ROUND(M241,3))+ 50+ROW()/10000,IF(AND(Q241=\"HỌC SINH GIỎI\",LEFT(P241,1)=\"7\"),Table1[[#This Row],[Column1]]+(ROUND(M241,3))+100+ROW()/10000,IF(AND(Q241=\"HỌC SINH GIỎI\",LEFT(P241,1)=\"6\"),Table1[[#This Row],[Column1]]+(ROUND(M241,3))+150+ROW()/10000,\"\"))))))))","v":""},{"$f":"IF(AND(Q241=\"HỌC SINH XUẤT SẮC\",LEFT(P241,1)=\"9\"),(ROUND(M241,3))+Table1[[#This Row],[Column1]]+10+ROW()/10000,IF(AND(Q241=\"HỌC SINH XUẤT SẮC\",LEFT(P241,1)=\"8\"),Table1[[#This Row],[Column1]]+(ROUND(M241,3))+50+ROW()/10000,IF(AND(Q241=\"HỌC SINH XUẤT SẮC\",LEFT(P241,1)=\"7\"),Table1[[#This Row],[Column1]]+(ROUND(M241,3))+100+ROW()/10000,IF(AND(Q241=\"HỌC SINH XUẤT SẮC\",LEFT(P241,1)=\"6\"),Table1[[#This Row],[Column1]]+(ROUND(M241,3))+150+ROW()/10000,\"\"))))","v":""},{"$f":"IF(AND(Q241=\"HỌC SINH GIỎI\",LEFT(P241,1)=\"9\"),Table1[[#This Row],[Column1]]+(ROUND(M241,3))+200+ROW()/10000,IF(AND(Q241=\"HỌC SINH GIỎI\",LEFT(P241,1)=\"8\"),Table1[[#This Row],[Column1]]+(ROUND(M241,3))+250+ROW()/10000,IF(AND(Q241=\"HỌC SINH GIỎI\",LEFT(P241,1)=\"7\"),Table1[[#This Row],[Column1]]+(ROUND(M241,3))+300+ROW()/10000,IF(AND(Q241=\"HỌC SINH GIỎI\",LEFT(P241,1)=\"6\"),Table1[[#This Row],[Column1]]+(ROUND(M241,3))+350+ROW()/10000,\"\"))))","v":""},"","","",""]
[null,null,null,null,null,null,null,null,null,null,null,null,"",null,null,null,"",{"$f":"IF(Table1[[#This Row],[STT]]=\"\",\"\",ROW()-1)","v":""},{"$f":"IF(Table1[[#This Row],[Lơp]]=\"\",\"\",VLOOKUP(Table1[[#This Row],[Lơp]],$AC$3:$AD$14,2,0))","v":""},{"$f":"IF(AND(Q242=\"HỌC SINH XUẤT SẮC\",LEFT(P242,1)=\"9\"),Table1[[#This Row],[Column1]]+(ROUND(M242,3))+400+ROW()/10000,IF(AND(Q242=\"HỌC SINH XUẤT SẮC\",LEFT(P242,1)=\"8\"),Table1[[#This Row],[Column1]]+(ROUND(M242,3))+450+ROW()/10000,IF(AND(Q242=\"HỌC SINH XUẤT SẮC\",LEFT(P242,1)=\"7\"),Table1[[#This Row],[Column1]]+(ROUND(M242,3))+500+ROW()/10000,IF(AND(Q242=\"HỌC SINH XUẤT SẮC\",LEFT(P242,1)=\"6\"),Table1[[#This Row],[Column1]]+(ROUND(M242,3))+550+ROW()/10000,IF(AND(Q242=\"HỌC SINH GIỎI\",LEFT(P242,1)=\"9\"),Table1[[#This Row],[Column1]]+(ROUND(M242,3))+10+ROW()/10000,IF(AND(Q242=\"HỌC SINH GIỎI\",LEFT(P242,1)=\"8\"),Table1[[#This Row],[Column1]]+(ROUND(M242,3))+ 50+ROW()/10000,IF(AND(Q242=\"HỌC SINH GIỎI\",LEFT(P242,1)=\"7\"),Table1[[#This Row],[Column1]]+(ROUND(M242,3))+100+ROW()/10000,IF(AND(Q242=\"HỌC SINH GIỎI\",LEFT(P242,1)=\"6\"),Table1[[#This Row],[Column1]]+(ROUND(M242,3))+150+ROW()/10000,\"\"))))))))","v":""},{"$f":"IF(AND(Q242=\"HỌC SINH XUẤT SẮC\",LEFT(P242,1)=\"9\"),(ROUND(M242,3))+Table1[[#This Row],[Column1]]+10+ROW()/10000,IF(AND(Q242=\"HỌC SINH XUẤT SẮC\",LEFT(P242,1)=\"8\"),Table1[[#This Row],[Column1]]+(ROUND(M242,3))+50+ROW()/10000,IF(AND(Q242=\"HỌC SINH XUẤT SẮC\",LEFT(P242,1)=\"7\"),Table1[[#This Row],[Column1]]+(ROUND(M242,3))+100+ROW()/10000,IF(AND(Q242=\"HỌC SINH XUẤT SẮC\",LEFT(P242,1)=\"6\"),Table1[[#This Row],[Column1]]+(ROUND(M242,3))+150+ROW()/10000,\"\"))))","v":""},{"$f":"IF(AND(Q242=\"HỌC SINH GIỎI\",LEFT(P242,1)=\"9\"),Table1[[#This Row],[Column1]]+(ROUND(M242,3))+200+ROW()/10000,IF(AND(Q242=\"HỌC SINH GIỎI\",LEFT(P242,1)=\"8\"),Table1[[#This Row],[Column1]]+(ROUND(M242,3))+250+ROW()/10000,IF(AND(Q242=\"HỌC SINH GIỎI\",LEFT(P242,1)=\"7\"),Table1[[#This Row],[Column1]]+(ROUND(M242,3))+300+ROW()/10000,IF(AND(Q242=\"HỌC SINH GIỎI\",LEFT(P242,1)=\"6\"),Table1[[#This Row],[Column1]]+(ROUND(M242,3))+350+ROW()/10000,\"\"))))","v":""},"","","",""]
[null,null,null,null,null,null,null,null,null,null,null,null,"",null,null,null,"",{"$f":"IF(Table1[[#This Row],[STT]]=\"\",\"\",ROW()-1)","v":""},{"$f":"IF(Table1[[#This Row],[Lơp]]=\"\",\"\",VLOOKUP(Table1[[#This Row],[Lơp]],$AC$3:$AD$14,2,0))","v":""},{"$f":"IF(AND(Q243=\"HỌC SINH XUẤT SẮC\",LEFT(P243,1)=\"9\"),Table1[[#This Row],[Column1]]+(ROUND(M243,3))+400+ROW()/10000,IF(AND(Q243=\"HỌC SINH XUẤT SẮC\",LEFT(P243,1)=\"8\"),Table1[[#This Row],[Column1]]+(ROUND(M243,3))+450+ROW()/10000,IF(AND(Q243=\"HỌC SINH XUẤT SẮC\",LEFT(P243,1)=\"7\"),Table1[[#This Row],[Column1]]+(ROUND(M243,3))+500+ROW()/10000,IF(AND(Q243=\"HỌC SINH XUẤT SẮC\",LEFT(P243,1)=\"6\"),Table1[[#This Row],[Column1]]+(ROUND(M243,3))+550+ROW()/10000,IF(AND(Q243=\"HỌC SINH GIỎI\",LEFT(P243,1)=\"9\"),Table1[[#This Row],[Column1]]+(ROUND(M243,3))+10+ROW()/10000,IF(AND(Q243=\"HỌC SINH GIỎI\",LEFT(P243,1)=\"8\"),Table1[[#This Row],[Column1]]+(ROUND(M243,3))+ 50+ROW()/10000,IF(AND(Q243=\"HỌC SINH GIỎI\",LEFT(P243,1)=\"7\"),Table1[[#This Row],[Column1]]+(ROUND(M243,3))+100+ROW()/10000,IF(AND(Q243=\"HỌC SINH GIỎI\",LEFT(P243,1)=\"6\"),Table1[[#This Row],[Column1]]+(ROUND(M243,3))+150+ROW()/10000,\"\"))))))))","v":""},{"$f":"IF(AND(Q243=\"HỌC SINH XUẤT SẮC\",LEFT(P243,1)=\"9\"),(ROUND(M243,3))+Table1[[#This Row],[Column1]]+10+ROW()/10000,IF(AND(Q243=\"HỌC SINH XUẤT SẮC\",LEFT(P243,1)=\"8\"),Table1[[#This Row],[Column1]]+(ROUND(M243,3))+50+ROW()/10000,IF(AND(Q243=\"HỌC SINH XUẤT SẮC\",LEFT(P243,1)=\"7\"),Table1[[#This Row],[Column1]]+(ROUND(M243,3))+100+ROW()/10000,IF(AND(Q243=\"HỌC SINH XUẤT SẮC\",LEFT(P243,1)=\"6\"),Table1[[#This Row],[Column1]]+(ROUND(M243,3))+150+ROW()/10000,\"\"))))","v":""},{"$f":"IF(AND(Q243=\"HỌC SINH GIỎI\",LEFT(P243,1)=\"9\"),Table1[[#This Row],[Column1]]+(ROUND(M243,3))+200+ROW()/10000,IF(AND(Q243=\"HỌC SINH GIỎI\",LEFT(P243,1)=\"8\"),Table1[[#This Row],[Column1]]+(ROUND(M243,3))+250+ROW()/10000,IF(AND(Q243=\"HỌC SINH GIỎI\",LEFT(P243,1)=\"7\"),Table1[[#This Row],[Column1]]+(ROUND(M243,3))+300+ROW()/10000,IF(AND(Q243=\"HỌC SINH GIỎI\",LEFT(P243,1)=\"6\"),Table1[[#This Row],[Column1]]+(ROUND(M243,3))+350+ROW()/10000,\"\"))))","v":""},"","","",""]
[null,null,null,null,null,null,null,null,null,null,null,null,"",null,null,null,"",{"$f":"IF(Table1[[#This Row],[STT]]=\"\",\"\",ROW()-1)","v":""},{"$f":"IF(Table1[[#This Row],[Lơp]]=\"\",\"\",VLOOKUP(Table1[[#This Row],[Lơp]],$AC$3:$AD$14,2,0))","v":""},{"$f":"IF(AND(Q244=\"HỌC SINH XUẤT SẮC\",LEFT(P244,1)=\"9\"),Table1[[#This Row],[Column1]]+(ROUND(M244,3))+400+ROW()/10000,IF(AND(Q244=\"HỌC SINH XUẤT SẮC\",LEFT(P244,1)=\"8\"),Table1[[#This Row],[Column1]]+(ROUND(M244,3))+450+ROW()/10000,IF(AND(Q244=\"HỌC SINH XUẤT SẮC\",LEFT(P244,1)=\"7\"),Table1[[#This Row],[Column1]]+(ROUND(M244,3))+500+ROW()/10000,IF(AND(Q244=\"HỌC SINH XUẤT SẮC\",LEFT(P244,1)=\"6\"),Table1[[#This Row],[Column1]]+(ROUND(M244,3))+550+ROW()/10000,IF(AND(Q244=\"HỌC SINH GIỎI\",LEFT(P244,1)=\"9\"),Table1[[#This Row],[Column1]]+(ROUND(M244,3))+10+ROW()/10000,IF(AND(Q244=\"HỌC SINH GIỎI\",LEFT(P244,1)=\"8\"),Table1[[#This Row],[Column1]]+(ROUND(M244,3))+ 50+ROW()/10000,IF(AND(Q244=\"HỌC SINH GIỎI\",LEFT(P244,1)=\"7\"),Table1[[#This Row],[Column1]]+(ROUND(M244,3))+100+ROW()/10000,IF(AND(Q244=\"HỌC SINH GIỎI\",LEFT(P244,1)=\"6\"),Table1[[#This Row],[Column1]]+(ROUND(M244,3))+150+ROW()/10000,\"\"))))))))","v":""},{"$f":"IF(AND(Q244=\"HỌC SINH XUẤT SẮC\",LEFT(P244,1)=\"9\"),(ROUND(M244,3))+Table1[[#This Row],[Column1]]+10+ROW()/10000,IF(AND(Q244=\"HỌC SINH XUẤT SẮC\",LEFT(P244,1)=\"8\"),Table1[[#This Row],[Column1]]+(ROUND(M244,3))+50+ROW()/10000,IF(AND(Q244=\"HỌC SINH XUẤT SẮC\",LEFT(P244,1)=\"7\"),Table1[[#This Row],[Column1]]+(ROUND(M244,3))+100+ROW()/10000,IF(AND(Q244=\"HỌC SINH XUẤT SẮC\",LEFT(P244,1)=\"6\"),Table1[[#This Row],[Column1]]+(ROUND(M244,3))+150+ROW()/10000,\"\"))))","v":""},{"$f":"IF(AND(Q244=\"HỌC SINH GIỎI\",LEFT(P244,1)=\"9\"),Table1[[#This Row],[Column1]]+(ROUND(M244,3))+200+ROW()/10000,IF(AND(Q244=\"HỌC SINH GIỎI\",LEFT(P244,1)=\"8\"),Table1[[#This Row],[Column1]]+(ROUND(M244,3))+250+ROW()/10000,IF(AND(Q244=\"HỌC SINH GIỎI\",LEFT(P244,1)=\"7\"),Table1[[#This Row],[Column1]]+(ROUND(M244,3))+300+ROW()/10000,IF(AND(Q244=\"HỌC SINH GIỎI\",LEFT(P244,1)=\"6\"),Table1[[#This Row],[Column1]]+(ROUND(M244,3))+350+ROW()/10000,\"\"))))","v":""},"","","",""]
[null,null,null,null,null,null,null,null,null,null,null,null,"",null,null,null,"",{"$f":"IF(Table1[[#This Row],[STT]]=\"\",\"\",ROW()-1)","v":""},{"$f":"IF(Table1[[#This Row],[Lơp]]=\"\",\"\",VLOOKUP(Table1[[#This Row],[Lơp]],$AC$3:$AD$14,2,0))","v":""},{"$f":"IF(AND(Q245=\"HỌC SINH XUẤT SẮC\",LEFT(P245,1)=\"9\"),Table1[[#This Row],[Column1]]+(ROUND(M245,3))+400+ROW()/10000,IF(AND(Q245=\"HỌC SINH XUẤT SẮC\",LEFT(P245,1)=\"8\"),Table1[[#This Row],[Column1]]+(ROUND(M245,3))+450+ROW()/10000,IF(AND(Q245=\"HỌC SINH XUẤT SẮC\",LEFT(P245,1)=\"7\"),Table1[[#This Row],[Column1]]+(ROUND(M245,3))+500+ROW()/10000,IF(AND(Q245=\"HỌC SINH XUẤT SẮC\",LEFT(P245,1)=\"6\"),Table1[[#This Row],[Column1]]+(ROUND(M245,3))+550+ROW()/10000,IF(AND(Q245=\"HỌC SINH GIỎI\",LEFT(P245,1)=\"9\"),Table1[[#This Row],[Column1]]+(ROUND(M245,3))+10+ROW()/10000,IF(AND(Q245=\"HỌC SINH GIỎI\",LEFT(P245,1)=\"8\"),Table1[[#This Row],[Column1]]+(ROUND(M245,3))+ 50+ROW()/10000,IF(AND(Q245=\"HỌC SINH GIỎI\",LEFT(P245,1)=\"7\"),Table1[[#This Row],[Column1]]+(ROUND(M245,3))+100+ROW()/10000,IF(AND(Q245=\"HỌC SINH GIỎI\",LEFT(P245,1)=\"6\"),Table1[[#This Row],[Column1]]+(ROUND(M245,3))+150+ROW()/10000,\"\"))))))))","v":""},{"$f":"IF(AND(Q245=\"HỌC SINH XUẤT SẮC\",LEFT(P245,1)=\"9\"),(ROUND(M245,3))+Table1[[#This Row],[Column1]]+10+ROW()/10000,IF(AND(Q245=\"HỌC SINH XUẤT SẮC\",LEFT(P245,1)=\"8\"),Table1[[#This Row],[Column1]]+(ROUND(M245,3))+50+ROW()/10000,IF(AND(Q245=\"HỌC SINH XUẤT SẮC\",LEFT(P245,1)=\"7\"),Table1[[#This Row],[Column1]]+(ROUND(M245,3))+100+ROW()/10000,IF(AND(Q245=\"HỌC SINH XUẤT SẮC\",LEFT(P245,1)=\"6\"),Table1[[#This Row],[Column1]]+(ROUND(M245,3))+150+ROW()/10000,\"\"))))","v":""},{"$f":"IF(AND(Q245=\"HỌC SINH GIỎI\",LEFT(P245,1)=\"9\"),Table1[[#This Row],[Column1]]+(ROUND(M245,3))+200+ROW()/10000,IF(AND(Q245=\"HỌC SINH GIỎI\",LEFT(P245,1)=\"8\"),Table1[[#This Row],[Column1]]+(ROUND(M245,3))+250+ROW()/10000,IF(AND(Q245=\"HỌC SINH GIỎI\",LEFT(P245,1)=\"7\"),Table1[[#This Row],[Column1]]+(ROUND(M245,3))+300+ROW()/10000,IF(AND(Q245=\"HỌC SINH GIỎI\",LEFT(P245,1)=\"6\"),Table1[[#This Row],[Column1]]+(ROUND(M245,3))+350+ROW()/10000,\"\"))))","v":""},"","","",""]
[null,null,null,null,null,null,null,null,null,null,null,null,"",null,null,null,"",{"$f":"IF(Table1[[#This Row],[STT]]=\"\",\"\",ROW()-1)","v":""},{"$f":"IF(Table1[[#This Row],[Lơp]]=\"\",\"\",VLOOKUP(Table1[[#This Row],[Lơp]],$AC$3:$AD$14,2,0))","v":""},{"$f":"IF(AND(Q246=\"HỌC SINH XUẤT SẮC\",LEFT(P246,1)=\"9\"),Table1[[#This Row],[Column1]]+(ROUND(M246,3))+400+ROW()/10000,IF(AND(Q246=\"HỌC SINH XUẤT SẮC\",LEFT(P246,1)=\"8\"),Table1[[#This Row],[Column1]]+(ROUND(M246,3))+450+ROW()/10000,IF(AND(Q246=\"HỌC SINH XUẤT SẮC\",LEFT(P246,1)=\"7\"),Table1[[#This Row],[Column1]]+(ROUND(M246,3))+500+ROW()/10000,IF(AND(Q246=\"HỌC SINH XUẤT SẮC\",LEFT(P246,1)=\"6\"),Table1[[#This Row],[Column1]]+(ROUND(M246,3))+550+ROW()/10000,IF(AND(Q246=\"HỌC SINH GIỎI\",LEFT(P246,1)=\"9\"),Table1[[#This Row],[Column1]]+(ROUND(M246,3))+10+ROW()/10000,IF(AND(Q246=\"HỌC SINH GIỎI\",LEFT(P246,1)=\"8\"),Table1[[#This Row],[Column1]]+(ROUND(M246,3))+ 50+ROW()/10000,IF(AND(Q246=\"HỌC SINH GIỎI\",LEFT(P246,1)=\"7\"),Table1[[#This Row],[Column1]]+(ROUND(M246,3))+100+ROW()/10000,IF(AND(Q246=\"HỌC SINH GIỎI\",LEFT(P246,1)=\"6\"),Table1[[#This Row],[Column1]]+(ROUND(M246,3))+150+ROW()/10000,\"\"))))))))","v":""},{"$f":"IF(AND(Q246=\"HỌC SINH XUẤT SẮC\",LEFT(P246,1)=\"9\"),(ROUND(M246,3))+Table1[[#This Row],[Column1]]+10+ROW()/10000,IF(AND(Q246=\"HỌC SINH XUẤT SẮC\",LEFT(P246,1)=\"8\"),Table1[[#This Row],[Column1]]+(ROUND(M246,3))+50+ROW()/10000,IF(AND(Q246=\"HỌC SINH XUẤT SẮC\",LEFT(P246,1)=\"7\"),Table1[[#This Row],[Column1]]+(ROUND(M246,3))+100+ROW()/10000,IF(AND(Q246=\"HỌC SINH XUẤT SẮC\",LEFT(P246,1)=\"6\"),Table1[[#This Row],[Column1]]+(ROUND(M246,3))+150+ROW()/10000,\"\"))))","v":""},{"$f":"IF(AND(Q246=\"HỌC SINH GIỎI\",LEFT(P246,1)=\"9\"),Table1[[#This Row],[Column1]]+(ROUND(M246,3))+200+ROW()/10000,IF(AND(Q246=\"HỌC SINH GIỎI\",LEFT(P246,1)=\"8\"),Table1[[#This Row],[Column1]]+(ROUND(M246,3))+250+ROW()/10000,IF(AND(Q246=\"HỌC SINH GIỎI\",LEFT(P246,1)=\"7\"),Table1[[#This Row],[Column1]]+(ROUND(M246,3))+300+ROW()/10000,IF(AND(Q246=\"HỌC SINH GIỎI\",LEFT(P246,1)=\"6\"),Table1[[#This Row],[Column1]]+(ROUND(M246,3))+350+ROW()/10000,\"\"))))","v":""},"","","",""]
[null,null,null,null,null,null,null,null,null,null,null,null,"",null,null,null,"",{"$f":"IF(Table1[[#This Row],[STT]]=\"\",\"\",ROW()-1)","v":""},{"$f":"IF(Table1[[#This Row],[Lơp]]=\"\",\"\",VLOOKUP(Table1[[#This Row],[Lơp]],$AC$3:$AD$14,2,0))","v":""},{"$f":"IF(AND(Q247=\"HỌC SINH XUẤT SẮC\",LEFT(P247,1)=\"9\"),Table1[[#This Row],[Column1]]+(ROUND(M247,3))+400+ROW()/10000,IF(AND(Q247=\"HỌC SINH XUẤT SẮC\",LEFT(P247,1)=\"8\"),Table1[[#This Row],[Column1]]+(ROUND(M247,3))+450+ROW()/10000,IF(AND(Q247=\"HỌC SINH XUẤT SẮC\",LEFT(P247,1)=\"7\"),Table1[[#This Row],[Column1]]+(ROUND(M247,3))+500+ROW()/10000,IF(AND(Q247=\"HỌC SINH XUẤT SẮC\",LEFT(P247,1)=\"6\"),Table1[[#This Row],[Column1]]+(ROUND(M247,3))+550+ROW()/10000,IF(AND(Q247=\"HỌC SINH GIỎI\",LEFT(P247,1)=\"9\"),Table1[[#This Row],[Column1]]+(ROUND(M247,3))+10+ROW()/10000,IF(AND(Q247=\"HỌC SINH GIỎI\",LEFT(P247,1)=\"8\"),Table1[[#This Row],[Column1]]+(ROUND(M247,3))+ 50+ROW()/10000,IF(AND(Q247=\"HỌC SINH GIỎI\",LEFT(P247,1)=\"7\"),Table1[[#This Row],[Column1]]+(ROUND(M247,3))+100+ROW()/10000,IF(AND(Q247=\"HỌC SINH GIỎI\",LEFT(P247,1)=\"6\"),Table1[[#This Row],[Column1]]+(ROUND(M247,3))+150+ROW()/10000,\"\"))))))))","v":""},{"$f":"IF(AND(Q247=\"HỌC SINH XUẤT SẮC\",LEFT(P247,1)=\"9\"),(ROUND(M247,3))+Table1[[#This Row],[Column1]]+10+ROW()/10000,IF(AND(Q247=\"HỌC SINH XUẤT SẮC\",LEFT(P247,1)=\"8\"),Table1[[#This Row],[Column1]]+(ROUND(M247,3))+50+ROW()/10000,IF(AND(Q247=\"HỌC SINH XUẤT SẮC\",LEFT(P247,1)=\"7\"),Table1[[#This Row],[Column1]]+(ROUND(M247,3))+100+ROW()/10000,IF(AND(Q247=\"HỌC SINH XUẤT SẮC\",LEFT(P247,1)=\"6\"),Table1[[#This Row],[Column1]]+(ROUND(M247,3))+150+ROW()/10000,\"\"))))","v":""},{"$f":"IF(AND(Q247=\"HỌC SINH GIỎI\",LEFT(P247,1)=\"9\"),Table1[[#This Row],[Column1]]+(ROUND(M247,3))+200+ROW()/10000,IF(AND(Q247=\"HỌC SINH GIỎI\",LEFT(P247,1)=\"8\"),Table1[[#This Row],[Column1]]+(ROUND(M247,3))+250+ROW()/10000,IF(AND(Q247=\"HỌC SINH GIỎI\",LEFT(P247,1)=\"7\"),Table1[[#This Row],[Column1]]+(ROUND(M247,3))+300+ROW()/10000,IF(AND(Q247=\"HỌC SINH GIỎI\",LEFT(P247,1)=\"6\"),Table1[[#This Row],[Column1]]+(ROUND(M247,3))+350+ROW()/10000,\"\"))))","v":""},"","","",""]
[null,null,null,null,null,null,null,null,null,null,null,null,{"$f":"IF(AND(I248=\"\",J248=\"\",K248=\"\",L248=\"\"),\"\",SUM(I248:L248))","v":""},null,null,null,"",{"$f":"IF(Table1[[#This Row],[STT]]=\"\",\"\",ROW()-1)","v":""},{"$f":"IF(Table1[[#This Row],[Lơp]]=\"\",\"\",VLOOKUP(Table1[[#This Row],[Lơp]],$AC$3:$AD$14,2,0))","v":""},{"$f":"IF(AND(Q248=\"HỌC SINH XUẤT SẮC\",LEFT(P248,1)=\"9\"),Table1[[#This Row],[Column1]]+(ROUND(M248,3))+400+ROW()/10000,IF(AND(Q248=\"HỌC SINH XUẤT SẮC\",LEFT(P248,1)=\"8\"),Table1[[#This Row],[Column1]]+(ROUND(M248,3))+450+ROW()/10000,IF(AND(Q248=\"HỌC SINH XUẤT SẮC\",LEFT(P248,1)=\"7\"),Table1[[#This Row],[Column1]]+(ROUND(M248,3))+500+ROW()/10000,IF(AND(Q248=\"HỌC SINH XUẤT SẮC\",LEFT(P248,1)=\"6\"),Table1[[#This Row],[Column1]]+(ROUND(M248,3))+550+ROW()/10000,IF(AND(Q248=\"HỌC SINH GIỎI\",LEFT(P248,1)=\"9\"),Table1[[#This Row],[Column1]]+(ROUND(M248,3))+10+ROW()/10000,IF(AND(Q248=\"HỌC SINH GIỎI\",LEFT(P248,1)=\"8\"),Table1[[#This Row],[Column1]]+(ROUND(M248,3))+ 50+ROW()/10000,IF(AND(Q248=\"HỌC SINH GIỎI\",LEFT(P248,1)=\"7\"),Table1[[#This Row],[Column1]]+(ROUND(M248,3))+100+ROW()/10000,IF(AND(Q248=\"HỌC SINH GIỎI\",LEFT(P248,1)=\"6\"),Table1[[#This Row],[Column1]]+(ROUND(M248,3))+150+ROW()/10000,\"\"))))))))","v":""},{"$f":"IF(AND(Q248=\"HỌC SINH XUẤT SẮC\",LEFT(P248,1)=\"9\"),(ROUND(M248,3))+Table1[[#This Row],[Column1]]+10+ROW()/10000,IF(AND(Q248=\"HỌC SINH XUẤT SẮC\",LEFT(P248,1)=\"8\"),Table1[[#This Row],[Column1]]+(ROUND(M248,3))+50+ROW()/10000,IF(AND(Q248=\"HỌC SINH XUẤT SẮC\",LEFT(P248,1)=\"7\"),Table1[[#This Row],[Column1]]+(ROUND(M248,3))+100+ROW()/10000,IF(AND(Q248=\"HỌC SINH XUẤT SẮC\",LEFT(P248,1)=\"6\"),Table1[[#This Row],[Column1]]+(ROUND(M248,3))+150+ROW()/10000,\"\"))))","v":""},{"$f":"IF(AND(Q248=\"HỌC SINH GIỎI\",LEFT(P248,1)=\"9\"),Table1[[#This Row],[Column1]]+(ROUND(M248,3))+200+ROW()/10000,IF(AND(Q248=\"HỌC SINH GIỎI\",LEFT(P248,1)=\"8\"),Table1[[#This Row],[Column1]]+(ROUND(M248,3))+250+ROW()/10000,IF(AND(Q248=\"HỌC SINH GIỎI\",LEFT(P248,1)=\"7\"),Table1[[#This Row],[Column1]]+(ROUND(M248,3))+300+ROW()/10000,IF(AND(Q248=\"HỌC SINH GIỎI\",LEFT(P248,1)=\"6\"),Table1[[#This Row],[Column1]]+(ROUND(M248,3))+350+ROW()/10000,\"\"))))","v":""},"","","",""]
[null,null,null,null,null,null,null,null,null,null,null,null,"",null,null,null,"",{"$f":"IF(Table1[[#This Row],[STT]]=\"\",\"\",ROW()-1)","v":""},{"$f":"IF(Table1[[#This Row],[Lơp]]=\"\",\"\",VLOOKUP(Table1[[#This Row],[Lơp]],$AC$3:$AD$14,2,0))","v":""},{"$f":"IF(AND(Q249=\"HỌC SINH XUẤT SẮC\",LEFT(P249,1)=\"9\"),Table1[[#This Row],[Column1]]+(ROUND(M249,3))+400+ROW()/10000,IF(AND(Q249=\"HỌC SINH XUẤT SẮC\",LEFT(P249,1)=\"8\"),Table1[[#This Row],[Column1]]+(ROUND(M249,3))+450+ROW()/10000,IF(AND(Q249=\"HỌC SINH XUẤT SẮC\",LEFT(P249,1)=\"7\"),Table1[[#This Row],[Column1]]+(ROUND(M249,3))+500+ROW()/10000,IF(AND(Q249=\"HỌC SINH XUẤT SẮC\",LEFT(P249,1)=\"6\"),Table1[[#This Row],[Column1]]+(ROUND(M249,3))+550+ROW()/10000,IF(AND(Q249=\"HỌC SINH GIỎI\",LEFT(P249,1)=\"9\"),Table1[[#This Row],[Column1]]+(ROUND(M249,3))+10+ROW()/10000,IF(AND(Q249=\"HỌC SINH GIỎI\",LEFT(P249,1)=\"8\"),Table1[[#This Row],[Column1]]+(ROUND(M249,3))+ 50+ROW()/10000,IF(AND(Q249=\"HỌC SINH GIỎI\",LEFT(P249,1)=\"7\"),Table1[[#This Row],[Column1]]+(ROUND(M249,3))+100+ROW()/10000,IF(AND(Q249=\"HỌC SINH GIỎI\",LEFT(P249,1)=\"6\"),Table1[[#This Row],[Column1]]+(ROUND(M249,3))+150+ROW()/10000,\"\"))))))))","v":""},{"$f":"IF(AND(Q249=\"HỌC SINH XUẤT SẮC\",LEFT(P249,1)=\"9\"),(ROUND(M249,3))+Table1[[#This Row],[Column1]]+10+ROW()/10000,IF(AND(Q249=\"HỌC SINH XUẤT SẮC\",LEFT(P249,1)=\"8\"),Table1[[#This Row],[Column1]]+(ROUND(M249,3))+50+ROW()/10000,IF(AND(Q249=\"HỌC SINH XUẤT SẮC\",LEFT(P249,1)=\"7\"),Table1[[#This Row],[Column1]]+(ROUND(M249,3))+100+ROW()/10000,IF(AND(Q249=\"HỌC SINH XUẤT SẮC\",LEFT(P249,1)=\"6\"),Table1[[#This Row],[Column1]]+(ROUND(M249,3))+150+ROW()/10000,\"\"))))","v":""},{"$f":"IF(AND(Q249=\"HỌC SINH GIỎI\",LEFT(P249,1)=\"9\"),Table1[[#This Row],[Column1]]+(ROUND(M249,3))+200+ROW()/10000,IF(AND(Q249=\"HỌC SINH GIỎI\",LEFT(P249,1)=\"8\"),Table1[[#This Row],[Column1]]+(ROUND(M249,3))+250+ROW()/10000,IF(AND(Q249=\"HỌC SINH GIỎI\",LEFT(P249,1)=\"7\"),Table1[[#This Row],[Column1]]+(ROUND(M249,3))+300+ROW()/10000,IF(AND(Q249=\"HỌC SINH GIỎI\",LEFT(P249,1)=\"6\"),Table1[[#This Row],[Column1]]+(ROUND(M249,3))+350+ROW()/10000,\"\"))))","v":""},"","","",""]
[null,null,null,null,null,null,null,null,null,null,null,null,"",null,null,null,"",{"$f":"IF(Table1[[#This Row],[STT]]=\"\",\"\",ROW()-1)","v":""},{"$f":"IF(Table1[[#This Row],[Lơp]]=\"\",\"\",VLOOKUP(Table1[[#This Row],[Lơp]],$AC$3:$AD$14,2,0))","v":""},{"$f":"IF(AND(Q250=\"HỌC SINH XUẤT SẮC\",LEFT(P250,1)=\"9\"),Table1[[#This Row],[Column1]]+(ROUND(M250,3))+400+ROW()/10000,IF(AND(Q250=\"HỌC SINH XUẤT SẮC\",LEFT(P250,1)=\"8\"),Table1[[#This Row],[Column1]]+(ROUND(M250,3))+450+ROW()/10000,IF(AND(Q250=\"HỌC SINH XUẤT SẮC\",LEFT(P250,1)=\"7\"),Table1[[#This Row],[Column1]]+(ROUND(M250,3))+500+ROW()/10000,IF(AND(Q250=\"HỌC SINH XUẤT SẮC\",LEFT(P250,1)=\"6\"),Table1[[#This Row],[Column1]]+(ROUND(M250,3))+550+ROW()/10000,IF(AND(Q250=\"HỌC SINH GIỎI\",LEFT(P250,1)=\"9\"),Table1[[#This Row],[Column1]]+(ROUND(M250,3))+10+ROW()/10000,IF(AND(Q250=\"HỌC SINH GIỎI\",LEFT(P250,1)=\"8\"),Table1[[#This Row],[Column1]]+(ROUND(M250,3))+ 50+ROW()/10000,IF(AND(Q250=\"HỌC SINH GIỎI\",LEFT(P250,1)=\"7\"),Table1[[#This Row],[Column1]]+(ROUND(M250,3))+100+ROW()/10000,IF(AND(Q250=\"HỌC SINH GIỎI\",LEFT(P250,1)=\"6\"),Table1[[#This Row],[Column1]]+(ROUND(M250,3))+150+ROW()/10000,\"\"))))))))","v":""},{"$f":"IF(AND(Q250=\"HỌC SINH XUẤT SẮC\",LEFT(P250,1)=\"9\"),(ROUND(M250,3))+Table1[[#This Row],[Column1]]+10+ROW()/10000,IF(AND(Q250=\"HỌC SINH XUẤT SẮC\",LEFT(P250,1)=\"8\"),Table1[[#This Row],[Column1]]+(ROUND(M250,3))+50+ROW()/10000,IF(AND(Q250=\"HỌC SINH XUẤT SẮC\",LEFT(P250,1)=\"7\"),Table1[[#This Row],[Column1]]+(ROUND(M250,3))+100+ROW()/10000,IF(AND(Q250=\"HỌC SINH XUẤT SẮC\",LEFT(P250,1)=\"6\"),Table1[[#This Row],[Column1]]+(ROUND(M250,3))+150+ROW()/10000,\"\"))))","v":""},{"$f":"IF(AND(Q250=\"HỌC SINH GIỎI\",LEFT(P250,1)=\"9\"),Table1[[#This Row],[Column1]]+(ROUND(M250,3))+200+ROW()/10000,IF(AND(Q250=\"HỌC SINH GIỎI\",LEFT(P250,1)=\"8\"),Table1[[#This Row],[Column1]]+(ROUND(M250,3))+250+ROW()/10000,IF(AND(Q250=\"HỌC SINH GIỎI\",LEFT(P250,1)=\"7\"),Table1[[#This Row],[Column1]]+(ROUND(M250,3))+300+ROW()/10000,IF(AND(Q250=\"HỌC SINH GIỎI\",LEFT(P250,1)=\"6\"),Table1[[#This Row],[Column1]]+(ROUND(M250,3))+350+ROW()/10000,\"\"))))","v":""},"","","",""]
[null,null,null,null,null,null,null,null,null,null,null,null,"",null,null,null,{"$f":"IF(AND(N251=\"\",O251=\"\"),\"\",IF(N251=\"x\",\"HỌC SINH XUẤT SẮC\",\"HỌC SINH GIỎI\"))","v":""},{"$f":"IF(Table1[[#This Row],[STT]]=\"\",\"\",ROW()-1)","v":""},{"$f":"IF(Table1[[#This Row],[Lơp]]=\"\",\"\",VLOOKUP(Table1[[#This Row],[Lơp]],$AC$3:$AD$14,2,0))","v":""},{"$f":"IF(AND(Q251=\"HỌC SINH XUẤT SẮC\",LEFT(P251,1)=\"9\"),Table1[[#This Row],[Column1]]+(ROUND(M251,3))+400+ROW()/10000,IF(AND(Q251=\"HỌC SINH XUẤT SẮC\",LEFT(P251,1)=\"8\"),Table1[[#This Row],[Column1]]+(ROUND(M251,3))+450+ROW()/10000,IF(AND(Q251=\"HỌC SINH XUẤT SẮC\",LEFT(P251,1)=\"7\"),Table1[[#This Row],[Column1]]+(ROUND(M251,3))+500+ROW()/10000,IF(AND(Q251=\"HỌC SINH XUẤT SẮC\",LEFT(P251,1)=\"6\"),Table1[[#This Row],[Column1]]+(ROUND(M251,3))+550+ROW()/10000,IF(AND(Q251=\"HỌC SINH GIỎI\",LEFT(P251,1)=\"9\"),Table1[[#This Row],[Column1]]+(ROUND(M251,3))+10+ROW()/10000,IF(AND(Q251=\"HỌC SINH GIỎI\",LEFT(P251,1)=\"8\"),Table1[[#This Row],[Column1]]+(ROUND(M251,3))+ 50+ROW()/10000,IF(AND(Q251=\"HỌC SINH GIỎI\",LEFT(P251,1)=\"7\"),Table1[[#This Row],[Column1]]+(ROUND(M251,3))+100+ROW()/10000,IF(AND(Q251=\"HỌC SINH GIỎI\",LEFT(P251,1)=\"6\"),Table1[[#This Row],[Column1]]+(ROUND(M251,3))+150+ROW()/10000,\"\"))))))))","v":""},{"$f":"IF(AND(Q251=\"HỌC SINH XUẤT SẮC\",LEFT(P251,1)=\"9\"),(ROUND(M251,3))+Table1[[#This Row],[Column1]]+10+ROW()/10000,IF(AND(Q251=\"HỌC SINH XUẤT SẮC\",LEFT(P251,1)=\"8\"),Table1[[#This Row],[Column1]]+(ROUND(M251,3))+50+ROW()/10000,IF(AND(Q251=\"HỌC SINH XUẤT SẮC\",LEFT(P251,1)=\"7\"),Table1[[#This Row],[Column1]]+(ROUND(M251,3))+100+ROW()/10000,IF(AND(Q251=\"HỌC SINH XUẤT SẮC\",LEFT(P251,1)=\"6\"),Table1[[#This Row],[Column1]]+(ROUND(M251,3))+150+ROW()/10000,\"\"))))","v":""},{"$f":"IF(AND(Q251=\"HỌC SINH GIỎI\",LEFT(P251,1)=\"9\"),Table1[[#This Row],[Column1]]+(ROUND(M251,3))+200+ROW()/10000,IF(AND(Q251=\"HỌC SINH GIỎI\",LEFT(P251,1)=\"8\"),Table1[[#This Row],[Column1]]+(ROUND(M251,3))+250+ROW()/10000,IF(AND(Q251=\"HỌC SINH GIỎI\",LEFT(P251,1)=\"7\"),Table1[[#This Row],[Column1]]+(ROUND(M251,3))+300+ROW()/10000,IF(AND(Q251=\"HỌC SINH GIỎI\",LEFT(P251,1)=\"6\"),Table1[[#This Row],[Column1]]+(ROUND(M251,3))+350+ROW()/10000,\"\"))))","v":""},"","","",""]
[null,null,null,null,null,null,null,null,null,null,null,null,"",null,null,null,{"$f":"IF(AND(N252=\"\",O252=\"\"),\"\",IF(N252=\"x\",\"HỌC SINH XUẤT SẮC\",\"HỌC SINH GIỎI\"))","v":""},{"$f":"IF(Table1[[#This Row],[STT]]=\"\",\"\",ROW()-1)","v":""},{"$f":"IF(Table1[[#This Row],[Lơp]]=\"\",\"\",VLOOKUP(Table1[[#This Row],[Lơp]],$AC$3:$AD$14,2,0))","v":""},{"$f":"IF(AND(Q252=\"HỌC SINH XUẤT SẮC\",LEFT(P252,1)=\"9\"),Table1[[#This Row],[Column1]]+(ROUND(M252,3))+400+ROW()/10000,IF(AND(Q252=\"HỌC SINH XUẤT SẮC\",LEFT(P252,1)=\"8\"),Table1[[#This Row],[Column1]]+(ROUND(M252,3))+450+ROW()/10000,IF(AND(Q252=\"HỌC SINH XUẤT SẮC\",LEFT(P252,1)=\"7\"),Table1[[#This Row],[Column1]]+(ROUND(M252,3))+500+ROW()/10000,IF(AND(Q252=\"HỌC SINH XUẤT SẮC\",LEFT(P252,1)=\"6\"),Table1[[#This Row],[Column1]]+(ROUND(M252,3))+550+ROW()/10000,IF(AND(Q252=\"HỌC SINH GIỎI\",LEFT(P252,1)=\"9\"),Table1[[#This Row],[Column1]]+(ROUND(M252,3))+10+ROW()/10000,IF(AND(Q252=\"HỌC SINH GIỎI\",LEFT(P252,1)=\"8\"),Table1[[#This Row],[Column1]]+(ROUND(M252,3))+ 50+ROW()/10000,IF(AND(Q252=\"HỌC SINH GIỎI\",LEFT(P252,1)=\"7\"),Table1[[#This Row],[Column1]]+(ROUND(M252,3))+100+ROW()/10000,IF(AND(Q252=\"HỌC SINH GIỎI\",LEFT(P252,1)=\"6\"),Table1[[#This Row],[Column1]]+(ROUND(M252,3))+150+ROW()/10000,\"\"))))))))","v":""},{"$f":"IF(AND(Q252=\"HỌC SINH XUẤT SẮC\",LEFT(P252,1)=\"9\"),(ROUND(M252,3))+Table1[[#This Row],[Column1]]+10+ROW()/10000,IF(AND(Q252=\"HỌC SINH XUẤT SẮC\",LEFT(P252,1)=\"8\"),Table1[[#This Row],[Column1]]+(ROUND(M252,3))+50+ROW()/10000,IF(AND(Q252=\"HỌC SINH XUẤT SẮC\",LEFT(P252,1)=\"7\"),Table1[[#This Row],[Column1]]+(ROUND(M252,3))+100+ROW()/10000,IF(AND(Q252=\"HỌC SINH XUẤT SẮC\",LEFT(P252,1)=\"6\"),Table1[[#This Row],[Column1]]+(ROUND(M252,3))+150+ROW()/10000,\"\"))))","v":""},{"$f":"IF(AND(Q252=\"HỌC SINH GIỎI\",LEFT(P252,1)=\"9\"),Table1[[#This Row],[Column1]]+(ROUND(M252,3))+200+ROW()/10000,IF(AND(Q252=\"HỌC SINH GIỎI\",LEFT(P252,1)=\"8\"),Table1[[#This Row],[Column1]]+(ROUND(M252,3))+250+ROW()/10000,IF(AND(Q252=\"HỌC SINH GIỎI\",LEFT(P252,1)=\"7\"),Table1[[#This Row],[Column1]]+(ROUND(M252,3))+300+ROW()/10000,IF(AND(Q252=\"HỌC SINH GIỎI\",LEFT(P252,1)=\"6\"),Table1[[#This Row],[Column1]]+(ROUND(M252,3))+350+ROW()/10000,\"\"))))","v":""},"","","",""]
[null,null,null,null,null,null,null,null,null,null,null,null,"",null,null,null,{"$f":"IF(AND(N253=\"\",O253=\"\"),\"\",IF(N253=\"x\",\"HỌC SINH XUẤT SẮC\",\"HỌC SINH GIỎI\"))","v":""},{"$f":"IF(Table1[[#This Row],[STT]]=\"\",\"\",ROW()-1)","v":""},{"$f":"IF(Table1[[#This Row],[Lơp]]=\"\",\"\",VLOOKUP(Table1[[#This Row],[Lơp]],$AC$3:$AD$14,2,0))","v":""},{"$f":"IF(AND(Q253=\"HỌC SINH XUẤT SẮC\",LEFT(P253,1)=\"9\"),Table1[[#This Row],[Column1]]+(ROUND(M253,3))+400+ROW()/10000,IF(AND(Q253=\"HỌC SINH XUẤT SẮC\",LEFT(P253,1)=\"8\"),Table1[[#This Row],[Column1]]+(ROUND(M253,3))+450+ROW()/10000,IF(AND(Q253=\"HỌC SINH XUẤT SẮC\",LEFT(P253,1)=\"7\"),Table1[[#This Row],[Column1]]+(ROUND(M253,3))+500+ROW()/10000,IF(AND(Q253=\"HỌC SINH XUẤT SẮC\",LEFT(P253,1)=\"6\"),Table1[[#This Row],[Column1]]+(ROUND(M253,3))+550+ROW()/10000,IF(AND(Q253=\"HỌC SINH GIỎI\",LEFT(P253,1)=\"9\"),Table1[[#This Row],[Column1]]+(ROUND(M253,3))+10+ROW()/10000,IF(AND(Q253=\"HỌC SINH GIỎI\",LEFT(P253,1)=\"8\"),Table1[[#This Row],[Column1]]+(ROUND(M253,3))+ 50+ROW()/10000,IF(AND(Q253=\"HỌC SINH GIỎI\",LEFT(P253,1)=\"7\"),Table1[[#This Row],[Column1]]+(ROUND(M253,3))+100+ROW()/10000,IF(AND(Q253=\"HỌC SINH GIỎI\",LEFT(P253,1)=\"6\"),Table1[[#This Row],[Column1]]+(ROUND(M253,3))+150+ROW()/10000,\"\"))))))))","v":""},{"$f":"IF(AND(Q253=\"HỌC SINH XUẤT SẮC\",LEFT(P253,1)=\"9\"),(ROUND(M253,3))+Table1[[#This Row],[Column1]]+10+ROW()/10000,IF(AND(Q253=\"HỌC SINH XUẤT SẮC\",LEFT(P253,1)=\"8\"),Table1[[#This Row],[Column1]]+(ROUND(M253,3))+50+ROW()/10000,IF(AND(Q253=\"HỌC SINH XUẤT SẮC\",LEFT(P253,1)=\"7\"),Table1[[#This Row],[Column1]]+(ROUND(M253,3))+100+ROW()/10000,IF(AND(Q253=\"HỌC SINH XUẤT SẮC\",LEFT(P253,1)=\"6\"),Table1[[#This Row],[Column1]]+(ROUND(M253,3))+150+ROW()/10000,\"\"))))","v":""},{"$f":"IF(AND(Q253=\"HỌC SINH GIỎI\",LEFT(P253,1)=\"9\"),Table1[[#This Row],[Column1]]+(ROUND(M253,3))+200+ROW()/10000,IF(AND(Q253=\"HỌC SINH GIỎI\",LEFT(P253,1)=\"8\"),Table1[[#This Row],[Column1]]+(ROUND(M253,3))+250+ROW()/10000,IF(AND(Q253=\"HỌC SINH GIỎI\",LEFT(P253,1)=\"7\"),Table1[[#This Row],[Column1]]+(ROUND(M253,3))+300+ROW()/10000,IF(AND(Q253=\"HỌC SINH GIỎI\",LEFT(P253,1)=\"6\"),Table1[[#This Row],[Column1]]+(ROUND(M253,3))+350+ROW()/10000,\"\"))))","v":""},"","","",""]
[null,null,null,null,null,null,null,null,null,null,null,null,"",null,null,null,{"$f":"IF(AND(N254=\"\",O254=\"\"),\"\",IF(N254=\"x\",\"HỌC SINH XUẤT SẮC\",\"HỌC SINH GIỎI\"))","v":""},{"$f":"IF(Table1[[#This Row],[STT]]=\"\",\"\",ROW()-1)","v":""},{"$f":"IF(Table1[[#This Row],[Lơp]]=\"\",\"\",VLOOKUP(Table1[[#This Row],[Lơp]],$AC$3:$AD$14,2,0))","v":""},{"$f":"IF(AND(Q254=\"HỌC SINH XUẤT SẮC\",LEFT(P254,1)=\"9\"),Table1[[#This Row],[Column1]]+(ROUND(M254,3))+400+ROW()/10000,IF(AND(Q254=\"HỌC SINH XUẤT SẮC\",LEFT(P254,1)=\"8\"),Table1[[#This Row],[Column1]]+(ROUND(M254,3))+450+ROW()/10000,IF(AND(Q254=\"HỌC SINH XUẤT SẮC\",LEFT(P254,1)=\"7\"),Table1[[#This Row],[Column1]]+(ROUND(M254,3))+500+ROW()/10000,IF(AND(Q254=\"HỌC SINH XUẤT SẮC\",LEFT(P254,1)=\"6\"),Table1[[#This Row],[Column1]]+(ROUND(M254,3))+550+ROW()/10000,IF(AND(Q254=\"HỌC SINH GIỎI\",LEFT(P254,1)=\"9\"),Table1[[#This Row],[Column1]]+(ROUND(M254,3))+10+ROW()/10000,IF(AND(Q254=\"HỌC SINH GIỎI\",LEFT(P254,1)=\"8\"),Table1[[#This Row],[Column1]]+(ROUND(M254,3))+ 50+ROW()/10000,IF(AND(Q254=\"HỌC SINH GIỎI\",LEFT(P254,1)=\"7\"),Table1[[#This Row],[Column1]]+(ROUND(M254,3))+100+ROW()/10000,IF(AND(Q254=\"HỌC SINH GIỎI\",LEFT(P254,1)=\"6\"),Table1[[#This Row],[Column1]]+(ROUND(M254,3))+150+ROW()/10000,\"\"))))))))","v":""},{"$f":"IF(AND(Q254=\"HỌC SINH XUẤT SẮC\",LEFT(P254,1)=\"9\"),(ROUND(M254,3))+Table1[[#This Row],[Column1]]+10+ROW()/10000,IF(AND(Q254=\"HỌC SINH XUẤT SẮC\",LEFT(P254,1)=\"8\"),Table1[[#This Row],[Column1]]+(ROUND(M254,3))+50+ROW()/10000,IF(AND(Q254=\"HỌC SINH XUẤT SẮC\",LEFT(P254,1)=\"7\"),Table1[[#This Row],[Column1]]+(ROUND(M254,3))+100+ROW()/10000,IF(AND(Q254=\"HỌC SINH XUẤT SẮC\",LEFT(P254,1)=\"6\"),Table1[[#This Row],[Column1]]+(ROUND(M254,3))+150+ROW()/10000,\"\"))))","v":""},{"$f":"IF(AND(Q254=\"HỌC SINH GIỎI\",LEFT(P254,1)=\"9\"),Table1[[#This Row],[Column1]]+(ROUND(M254,3))+200+ROW()/10000,IF(AND(Q254=\"HỌC SINH GIỎI\",LEFT(P254,1)=\"8\"),Table1[[#This Row],[Column1]]+(ROUND(M254,3))+250+ROW()/10000,IF(AND(Q254=\"HỌC SINH GIỎI\",LEFT(P254,1)=\"7\"),Table1[[#This Row],[Column1]]+(ROUND(M254,3))+300+ROW()/10000,IF(AND(Q254=\"HỌC SINH GIỎI\",LEFT(P254,1)=\"6\"),Table1[[#This Row],[Column1]]+(ROUND(M254,3))+350+ROW()/10000,\"\"))))","v":""},"","","",""]
[]
[]
[]
[]
[]
[]
[]
[]
[]
[]
[]
[]
[]
[null,null,null,null,null,null,null,2,7,8,2]

{"sheet":"HSXS-(InDoc)","index":4,"n_rows":49,"n_cols":25,"rows_kept":49,"cut":false,"hidden":false,"merged":[[47,12,47,21],[48,12,48,21],[49,12,49,21],[50,12,50,21],[51,12,51,21],[3,23,3,24],[0,0,0,21],[1,0,1,21],[3,4,3,5],[3,13,3,17],[2,0,2,21],[29,1,34,1],[29,0,34,0],[4,1,12,1],[4,0,12,0],[13,1,20,1],[13,0,20,0],[21,0,28,0],[21,1,28,1]]}
["DANH SÁCH  KHEN THƯỞNG HỌC SINH GIỎI\nNĂM HỌC 2025-2026 "]
[{"$f":"\"(Danh sách có \"&43-COUNTBLANK(U5:U47)&\"  học sinh Xuất sắc) \"","v":"(Danh sách có 31  học sinh Xuất sắc) "}]
["(Kèm theo quyết định số: 45/QĐ-THCSHN ngày 19 tháng 5 năm 2026)"]
["Lớp","Số lượng\nDanh hiệu",null,"STT","Họ tên",null,null,null,null,null,null,null,"Xếp loại \nHọc lực \n(học tập","Điểm khảo sát cuối năm ",null,null,null,null,"Danh Hiệu\n thi đua \nđề nghị","Đạt \ndanh hiệu","Lớp","Ghi chú",null,"Số HSXS"]
["6C","9 - HSXS",{"$f":"IF(ROW(1:1)>COUNT('TongHop (goc)'!$U$2:$U$200),\"\",ROW(1:1))","v":1},{"$f":"IF(U5=\"\",\"\",COUNTIF($U$5:U5,U5))","v":1},{"$f":"IF(C5>COUNT('TongHop (goc)'!$U$2:$U$200),\"\",VLOOKUP(LARGE('TongHop (goc)'!$U$2:$U$200,C5),'TongHop (goc)'!$U$2:$AA$200,3,0))","v":"Tống Thùy"},{"$f":"IF(C5>COUNT('TongHop (goc)'!$U$2:$U$200),\"\",VLOOKUP(LARGE('TongHop (goc)'!$U$2:$U$200,C5),'TongHop (goc)'!$U$2:$AA$200,4,0))","v":"Dương"},"26/10/2013","Nguyễn Thành Trung","Xóm 1","T","T",8,6.75,8.5,9.25,32.5,"x",null,"6A",{"$f":"IF(C5>COUNT('TongHop (goc)'!$U$2:$U$200),\"\",VLOOKUP(LARGE('TongHop (goc)'!$U$2:$U$200,C5),'TongHop (goc)'!$U$2:$AA$200,5,0))","v":"HỌC SINH XUẤT SẮC"},{"$f":"IF(C5>COUNT('TongHop (goc)'!$U$2:$U$200),\"\",VLOOKUP(LARGE('TongHop (goc)'!$U$2:$U$200,C5),'TongHop (goc)'!$U$2:$AA$200,6,0))","v":"6C"},null,{"$f":"C5","v":1},"6C",{"$f":"COUNTIF($U$5:$U$46,X5)&\" - HSXS\"","v":"9 - HSXS"}]
[null,null,{"$f":"IF(ROW(2:2)>COUNT('TongHop (goc)'!$U$2:$U$200),\"\",ROW(2:2))","v":2},{"$f":"IF(U6=\"\",\"\",COUNTIF($U$5:U6,U6))","v":2},{"$f":"IF(C6>COUNT('TongHop (goc)'!$U$2:$U$200),\"\",VLOOKUP(LARGE('TongHop (goc)'!$U$2:$U$200,C6),'TongHop (goc)'!$U$2:$AA$200,3,0))","v":"Nguyễn Tùng"},{"$f":"IF(C6>COUNT('TongHop (goc)'!$U$2:$U$200),\"\",VLOOKUP(LARGE('TongHop (goc)'!$U$2:$U$200,C6),'TongHop (goc)'!$U$2:$AA$200,4,0))","v":"Lâm"},"26/10/2014","Nguyễn Thành Trung","Xóm 2","T","T",8,6.75,8.5,9.25,32.5,"x",null,"6A",{"$f":"IF(C6>COUNT('TongHop (goc)'!$U$2:$U$200),\"\",VLOOKUP(LARGE('TongHop (goc)'!$U$2:$U$200,C6),'TongHop (goc)'!$U$2:$AA$200,5,0))","v":"HỌC SINH XUẤT SẮC"},{"$f":"IF(C6>COUNT('TongHop (goc)'!$U$2:$U$200),\"\",VLOOKUP(LARGE('TongHop (goc)'!$U$2:$U$200,C6),'TongHop (goc)'!$U$2:$AA$200,6,0))","v":"6C"},null,{"$f":"C6","v":2},"7C",{"$f":"COUNTIF($U$5:$U$46,X6)&\" - HSXS\"","v":"8 - HSXS"}]
[null,null,{"$f":"IF(ROW(3:3)>COUNT('TongHop (goc)'!$U$2:$U$200),\"\",ROW(3:3))","v":3},{"$f":"IF(U7=\"\",\"\",COUNTIF($U$5:U7,U7))","v":3},{"$f":"IF(C7>COUNT('TongHop (goc)'!$U$2:$U$200),\"\",VLOOKUP(LARGE('TongHop (goc)'!$U$2:$U$200,C7),'TongHop (goc)'!$U$2:$AA$200,3,0))","v":"Trần Khôi"},{"$f":"IF(C7>COUNT('TongHop (goc)'!$U$2:$U$200),\"\",VLOOKUP(LARGE('TongHop (goc)'!$U$2:$U$200,C7),'TongHop (goc)'!$U$2:$AA$200,4,0))","v":"Nguyên"},"26/10/2015","Nguyễn Thành Trung","Xóm 3","T","T",8,6.75,8.5,9.25,32.5,"x",null,"6A",{"$f":"IF(C7>COUNT('TongHop (goc)'!$U$2:$U$200),\"\",VLOOKUP(LARGE('TongHop (goc)'!$U$2:$U$200,C7),'TongHop (goc)'!$U$2:$AA$200,5,0))","v":"HỌC SINH XUẤT SẮC"},{"$f":"IF(C7>COUNT('TongHop (goc)'!$U$2:$U$200),\"\",VLOOKUP(LARGE('TongHop (goc)'!$U$2:$U$200,C7),'TongHop (goc)'!$U$2:$AA$200,6,0))","v":"6C"},null,3,"8C",{"$f":"COUNTIF($U$5:$U$46,X7)&\" - HSXS\"","v":"8 - HSXS"}]
[null,null,{"$f":"IF(ROW(4:4)>COUNT('TongHop (goc)'!$U$2:$U$200),\"\",ROW(4:4))","v":4},{"$f":"IF(U8=\"\",\"\",COUNTIF($U$5:U8,U8))","v":4},{"$f":"IF(C8>COUNT('TongHop (goc)'!$U$2:$U$200),\"\",VLOOKUP(LARGE('TongHop (goc)'!$U$2:$U$200,C8),'TongHop (goc)'!$U$2:$AA$200,3,0))","v":"Phạm Ngọc"},{"$f":"IF(C8>COUNT('TongHop (goc)'!$U$2:$U$200),\"\",VLOOKUP(LARGE('TongHop (goc)'!$U$2:$U$200,C8),'TongHop (goc)'!$U$2:$AA$200,4,0))","v":"Khánh"},"26/10/2016","Nguyễn Thành Trung","Xóm 4","T","T",8,6.75,8.5,9.25,32.5,"x",null,"6A",{"$f":"IF(C8>COUNT('TongHop (goc)'!$U$2:$U$200),\"\",VLOOKUP(LARGE('TongHop (goc)'!$U$2:$U$200,C8),'TongHop (goc)'!$U$2:$AA$200,5,0))","v":"HỌC SINH XUẤT SẮC"},{"$f":"IF(C8>COUNT('TongHop (goc)'!$U$2:$U$200),\"\",VLOOKUP(LARGE('TongHop (goc)'!$U$2:$U$200,C8),'TongHop (goc)'!$U$2:$AA$200,6,0))","v":"6C"},null,4,"9C",{"$f":"COUNTIF($U$5:$U$46,X8)&\" - HSXS\"","v":"6 - HSXS"}]
[null,null,{"$f":"IF(ROW(5:5)>COUNT('TongHop (goc)'!$U$2:$U$200),\"\",ROW(5:5))","v":5},{"$f":"IF(U9=\"\",\"\",COUNTIF($U$5:U9,U9))","v":5},{"$f":"IF(C9>COUNT('TongHop (goc)'!$U$2:$U$200),\"\",VLOOKUP(LARGE('TongHop (goc)'!$U$2:$U$200,C9),'TongHop (goc)'!$U$2:$AA$200,3,0))","v":"Lê Quỳnh"},{"$f":"IF(C9>COUNT('TongHop (goc)'!$U$2:$U$200),\"\",VLOOKUP(LARGE('TongHop (goc)'!$U$2:$U$200,C9),'TongHop (goc)'!$U$2:$AA$200,4,0))","v":"Chi"},"26/10/2017","Nguyễn Thành Trung","Xóm 5","T","T",8,6.75,8.5,9.25,32.5,"x",null,"6A",{"$f":"IF(C9>COUNT('TongHop (goc)'!$U$2:$U$200),\"\",VLOOKUP(LARGE('TongHop (goc)'!$U$2:$U$200,C9),'TongHop (goc)'!$U$2:$AA$200,5,0))","v":"HỌC SINH XUẤT SẮC"},{"$f":"IF(C9>COUNT('TongHop (goc)'!$U$2:$U$200),\"\",VLOOKUP(LARGE('TongHop (goc)'!$U$2:$U$200,C9),'TongHop (goc)'!$U$2:$AA$200,6,0))","v":"6C"},null,5]
[null,null,{"$f":"IF(ROW(6:6)>COUNT('TongHop (goc)'!$U$2:$U$200),\"\",ROW(6:6))","v":6},{"$f":"IF(U10=\"\",\"\",COUNTIF($U$5:U10,U10))","v":6},{"$f":"IF(C10>COUNT('TongHop (goc)'!$U$2:$U$200),\"\",VLOOKUP(LARGE('TongHop (goc)'!$U$2:$U$200,C10),'TongHop (goc)'!$U$2:$AA$200,3,0))","v":"Lê Nguyên"},{"$f":"IF(C10>COUNT('TongHop (goc)'!$U$2:$U$200),\"\",VLOOKUP(LARGE('TongHop (goc)'!$U$2:$U$200,C10),'TongHop (goc)'!$U$2:$AA$200,4,0))","v":"Khánh"},"26/10/2018","Nguyễn Thành Trung","Xóm 6","T","T",8,6.75,8.5,9.25,32.5,"x",null,"6A",{"$f":"IF(C10>COUNT('TongHop (goc)'!$U$2:$U$200),\"\",VLOOKUP(LARGE('TongHop (goc)'!$U$2:$U$200,C10),'TongHop (goc)'!$U$2:$AA$200,5,0))","v":"HỌC SINH XUẤT SẮC"},{"$f":"IF(C10>COUNT('TongHop (goc)'!$U$2:$U$200),\"\",VLOOKUP(LARGE('TongHop (goc)'!$U$2:$U$200,C10),'TongHop (goc)'!$U$2:$AA$200,6,0))","v":"6C"},null,6]
[null,null,{"$f":"IF(ROW(7:7)>COUNT('TongHop (goc)'!$U$2:$U$200),\"\",ROW(7:7))","v":7},{"$f":"IF(U11=\"\",\"\",COUNTIF($U$5:U11,U11))","v":7},{"$f":"IF(C11>COUNT('TongHop (goc)'!$U$2:$U$200),\"\",VLOOKUP(LARGE('TongHop (goc)'!$U$2:$U$200,C11),'TongHop (goc)'!$U$2:$AA$200,3,0))","v":"Đặng Quỳnh"},{"$f":"IF(C11>COUNT('TongHop (goc)'!$U$2:$U$200),\"\",VLOOKUP(LARGE('TongHop (goc)'!$U$2:$U$200,C11),'TongHop (goc)'!$U$2:$AA$200,4,0))","v":"Như"},"26/10/2019","Nguyễn Thành Trung","Xóm 7","T","T",8,6.75,8.5,9.25,32.5,"x",null,"6A",{"$f":"IF(C11>COUNT('TongHop (goc)'!$U$2:$U$200),\"\",VLOOKUP(LARGE('TongHop (goc)'!$U$2:$U$200,C11),'TongHop (goc)'!$U$2:$AA$200,5,0))","v":"HỌC SINH XUẤT SẮC"},{"$f":"IF(C11>COUNT('TongHop (goc)'!$U$2:$U$200),\"\",VLOOKUP(LARGE('TongHop (goc)'!$U$2:$U$200,C11),'TongHop (goc)'!$U$2:$AA$200,6,0))","v":"6C"},null,7]
[null,null,{"$f":"IF(ROW(8:8)>COUNT('TongHop (goc)'!$U$2:$U$200),\"\",ROW(8:8))","v":8},{"$f":"IF(U12=\"\",\"\",COUNTIF($U$5:U12,U12))","v":8},{"$f":"IF(C12>COUNT('TongHop (goc)'!$U$2:$U$200),\"\",VLOOKUP(LARGE('TongHop (goc)'!$U$2:$U$200,C12),'TongHop (goc)'!$U$2:$AA$200,3,0))","v":"Trần Thị"},{"$f":"IF(C12>COUNT('TongHop (goc)'!$U$2:$U$200),\"\",VLOOKUP(LARGE('TongHop (goc)'!$U$2:$U$200,C12),'TongHop (goc)'!$U$2:$AA$200,4,0))","v":"Dung"},"26/10/2020","Nguyễn Thành Trung","Xóm 8","T","T",8,6.75,8.5,9.25,32.5,"x",null,"6A",{"$f":"IF(C12>COUNT('TongHop (goc)'!$U$2:$U$200),\"\",VLOOKUP(LARGE('TongHop (goc)'!$U$2:$U$200,C12),'TongHop (goc)'!$U$2:$AA$200,5,0))","v":"HỌC SINH XUẤT SẮC"},{"$f":"IF(C12>COUNT('TongHop (goc)'!$U$2:$U$200),\"\",VLOOKUP(LARGE('TongHop (goc)'!$U$2:$U$200,C12),'TongHop (goc)'!$U$2:$AA$200,6,0))","v":"6C"},null,8]
[null,null,{"$f":"IF(ROW(9:9)>COUNT('TongHop (goc)'!$U$2:$U$200),\"\",ROW(9:9))","v":9},{"$f":"IF(U13=\"\",\"\",COUNTIF($U$5:U13,U13))","v":9},{"$f":"IF(C13>COUNT('TongHop (goc)'!$U$2:$U$200),\"\",VLOOKUP(LARGE('TongHop (goc)'!$U$2:$U$200,C13),'TongHop (goc)'!$U$2:$AA$200,3,0))","v":"Phạm Gia"},{"$f":"IF(C13>COUNT('TongHop (goc)'!$U$2:$U$200),\"\",VLOOKUP(LARGE('TongHop (goc)'!$U$2:$U$200,C13),'TongHop (goc)'!$U$2:$AA$200,4,0))","v":"Long"},"26/10/2021","Nguyễn Thành Trung","Xóm 9","T","T",8,6.75,8.5,9.25,32.5,"x",null,"6A",{"$f":"IF(C13>COUNT('TongHop (goc)'!$U$2:$U$200),\"\",VLOOKUP(LARGE('TongHop (goc)'!$U$2:$U$200,C13),'TongHop (goc)'!$U$2:$AA$200,5,0))","v":"HỌC SINH XUẤT SẮC"},{"$f":"IF(C13>COUNT('TongHop (goc)'!$U$2:$U$200),\"\",VLOOKUP(LARGE('TongHop (goc)'!$U$2:$U$200,C13),'TongHop (goc)'!$U$2:$AA$200,6,0))","v":"6C"},null,9]
["7C","8 - HSXS",{"$f":"IF(ROW(10:10)>COUNT('TongHop (goc)'!$U$2:$U$200),\"\",ROW(10:10))","v":10},{"$f":"IF(U14=\"\",\"\",COUNTIF($U$5:U14,U14))","v":1},{"$f":"IF(C14>COUNT('TongHop (goc)'!$U$2:$U$200),\"\",VLOOKUP(LARGE('TongHop (goc)'!$U$2:$U$200,C14),'TongHop (goc)'!$U$2:$AA$200,3,0))","v":"Vũ Quang"},{"$f":"IF(C14>COUNT('TongHop (goc)'!$U$2:$U$200),\"\",VLOOKUP(LARGE('TongHop (goc)'!$U$2:$U$200,C14),'TongHop (goc)'!$U$2:$AA$200,4,0))","v":"Hưng"},"26/10/2022","Nguyễn Thành Trung","Xóm 10","T","T",8,6.75,8.5,9.25,32.5,"x",null,"6A",{"$f":"IF(C14>COUNT('TongHop (goc)'!$U$2:$U$200),\"\",VLOOKUP(LARGE('TongHop (goc)'!$U$2:$U$200,C14),'TongHop (goc)'!$U$2:$AA$200,5,0))","v":"HỌC SINH XUẤT SẮC"},{"$f":"IF(C14>COUNT('TongHop (goc)'!$U$2:$U$200),\"\",VLOOKUP(LARGE('TongHop (goc)'!$U$2:$U$200,C14),'TongHop (goc)'!$U$2:$AA$200,6,0))","v":"7C"},null,10]
[null,null,{"$f":"IF(ROW(11:11)>COUNT('TongHop (goc)'!$U$2:$U$200),\"\",ROW(11:11))","v":11},{"$f":"IF(U15=\"\",\"\",COUNTIF($U$5:U15,U15))","v":2},{"$f":"IF(C15>COUNT('TongHop (goc)'!$U$2:$U$200),\"\",VLOOKUP(LARGE('TongHop (goc)'!$U$2:$U$200,C15),'TongHop (goc)'!$U$2:$AA$200,3,0))","v":"Nguyễn Minh"},{"$f":"IF(C15>COUNT('TongHop (goc)'!$U$2:$U$200),\"\",VLOOKUP(LARGE('TongHop (goc)'!$U$2:$U$200,C15),'TongHop (goc)'!$U$2:$AA$200,4,0))","v":"Tâm"},"26/10/2023","Nguyễn Thành Trung","Xóm 11","T","T",8,6.75,8.5,9.25,32.5,"x",null,"6A",{"$f":"IF(C15>COUNT('TongHop (goc)'!$U$2:$U$200),\"\",VLOOKUP(LARGE('TongHop (goc)'!$U$2:$U$200,C15),'TongHop (goc)'!$U$2:$AA$200,5,0))","v":"HỌC SINH XUẤT SẮC"},{"$f":"IF(C15>COUNT('TongHop (goc)'!$U$2:$U$200),\"\",VLOOKUP(LARGE('TongHop (goc)'!$U$2:$U$200,C15),'TongHop (goc)'!$U$2:$AA$200,6,0))","v":"7C"},null,11]
[null,null,{"$f":"IF(ROW(12:12)>COUNT('TongHop (goc)'!$U$2:$U$200),\"\",ROW(12:12))","v":12},{"$f":"IF(U16=\"\",\"\",COUNTIF($U$5:U16,U16))","v":3},{"$f":"IF(C16>COUNT('TongHop (goc)'!$U$2:$U$200),\"\",VLOOKUP(LARGE('TongHop (goc)'!$U$2:$U$200,C16),'TongHop (goc)'!$U$2:$AA$200,3,0))","v":"Vũ Đức"},{"$f":"IF(C16>COUNT('TongHop (goc)'!$U$2:$U$200),\"\",VLOOKUP(LARGE('TongHop (goc)'!$U$2:$U$200,C16),'TongHop (goc)'!$U$2:$AA$200,4,0))","v":"Trí"},"26/10/2024","Nguyễn Thành Trung","Xóm 12","T","T",8,6.75,8.5,9.25,32.5,"x",null,"6A",{"$f":"IF(C16>COUNT('TongHop (goc)'!$U$2:$U$200),\"\",VLOOKUP(LARGE('TongHop (goc)'!$U$2:$U$200,C16),'TongHop (goc)'!$U$2:$AA$200,5,0))","v":"HỌC SINH XUẤT SẮC"},{"$f":"IF(C16>COUNT('TongHop (goc)'!$U$2:$U$200),\"\",VLOOKUP(LARGE('TongHop (goc)'!$U$2:$U$200,C16),'TongHop (goc)'!$U$2:$AA$200,6,0))","v":"7C"},null,12]
[null,null,{"$f":"IF(ROW(13:13)>COUNT('TongHop (goc)'!$U$2:$U$200),\"\",ROW(13:13))","v":13},{"$f":"IF(U17=\"\",\"\",COUNTIF($U$5:U17,U17))","v":4},{"$f":"IF(C17>COUNT('TongHop (goc)'!$U$2:$U$200),\"\",VLOOKUP(LARGE('TongHop (goc)'!$U$2:$U$200,C17),'TongHop (goc)'!$U$2:$AA$200,3,0))","v":"Trần Huyền"},{"$f":"IF(C17>COUNT('TongHop (goc)'!$U$2:$U$200),\"\",VLOOKUP(LARGE('TongHop (goc)'!$U$2:$U$200,C17),'TongHop (goc)'!$U$2:$AA$200,4,0))","v":"My"},"26/10/2025","Nguyễn Thành Trung","Xóm 13","T","T",8,6.75,8.5,9.25,32.5,"x",null,"6A",{"$f":"IF(C17>COUNT('TongHop (goc)'!$U$2:$U$200),\"\",VLOOKUP(LARGE('TongHop (goc)'!$U$2:$U$200,C17),'TongHop (goc)'!$U$2:$AA$200,5,0))","v":"HỌC SINH XUẤT SẮC"},{"$f":"IF(C17>COUNT('TongHop (goc)'!$U$2:$U$200),\"\",VLOOKUP(LARGE('TongHop (goc)'!$U$2:$U$200,C17),'TongHop (goc)'!$U$2:$AA$200,6,0))","v":"7C"},null,13]
[null,null,{"$f":"IF(ROW(14:14)>COUNT('TongHop (goc)'!$U$2:$U$200),\"\",ROW(14:14))","v":14},{"$f":"IF(U18=\"\",\"\",COUNTIF($U$5:U18,U18))","v":5},{"$f":"IF(C18>COUNT('TongHop (goc)'!$U$2:$U$200),\"\",VLOOKUP(LARGE('TongHop (goc)'!$U$2:$U$200,C18),'TongHop (goc)'!$U$2:$AA$200,3,0))","v":"Nguyễn Thị Khánh"},{"$f":"IF(C18>COUNT('TongHop (goc)'!$U$2:$U$200),\"\",VLOOKUP(LARGE('TongHop (goc)'!$U$2:$U$200,C18),'TongHop (goc)'!$U$2:$AA$200,4,0))","v":"Ly"},"26/10/2026","Nguyễn Thành Trung","Xóm 14","T","T",8,6.75,8.5,9.25,32.5,"x",null,"6A",{"$f":"IF(C18>COUNT('TongHop (goc)'!$U$2:$U$200),\"\",VLOOKUP(LARGE('TongHop (goc)'!$U$2:$U$200,C18),'TongHop (goc)'!$U$2:$AA$200,5,0))","v":"HỌC SINH XUẤT SẮC"},{"$f":"IF(C18>COUNT('TongHop (goc)'!$U$2:$U$200),\"\",VLOOKUP(LARGE('TongHop (goc)'!$U$2:$U$200,C18),'TongHop (goc)'!$U$2:$AA$200,6,0))","v":"7C"},null,14]
[null,null,{"$f":"IF(ROW(15:15)>COUNT('TongHop (goc)'!$U$2:$U$200),\"\",ROW(15:15))","v":15},{"$f":"IF(U19=\"\",\"\",COUNTIF($U$5:U19,U19))","v":6},{"$f":"IF(C19>COUNT('TongHop (goc)'!$U$2:$U$200),\"\",VLOOKUP(LARGE('TongHop (goc)'!$U$2:$U$200,C19),'TongHop (goc)'!$U$2:$AA$200,3,0))","v":"Bùi Thành"},{"$f":"IF(C19>COUNT('TongHop (goc)'!$U$2:$U$200),\"\",VLOOKUP(LARGE('TongHop (goc)'!$U$2:$U$200,C19),'TongHop (goc)'!$U$2:$AA$200,4,0))","v":"Nam"},"26/10/2027","Nguyễn Thành Trung","Xóm 15","T","T",8,6.75,8.5,9.25,32.5,"x",null,"6A",{"$f":"IF(C19>COUNT('TongHop (goc)'!$U$2:$U$200),\"\",VLOOKUP(LARGE('TongHop (goc)'!$U$2:$U$200,C19),'TongHop (goc)'!$U$2:$AA$200,5,0))","v":"HỌC SINH XUẤT SẮC"},{"$f":"IF(C19>COUNT('TongHop (goc)'!$U$2:$U$200),\"\",VLOOKUP(LARGE('TongHop (goc)'!$U$2:$U$200,C19),'TongHop (goc)'!$U$2:$AA$200,6,0))","v":"7C"},null,15]
[null,null,{"$f":"IF(ROW(16:16)>COUNT('TongHop (goc)'!$U$2:$U$200),\"\",ROW(16:16))","v":16},{"$f":"IF(U20=\"\",\"\",COUNTIF($U$5:U20,U20))","v":7},{"$f":"IF(C20>COUNT('TongHop (goc)'!$U$2:$U$200),\"\",VLOOKUP(LARGE('TongHop (goc)'!$U$2:$U$200,C20),'TongHop (goc)'!$U$2:$AA$200,3,0))","v":"Hoàng Thanh"},{"$f":"IF(C20>COUNT('TongHop (goc)'!$U$2:$U$200),\"\",VLOOKUP(LARGE('TongHop (goc)'!$U$2:$U$200,C20),'TongHop (goc)'!$U$2:$AA$200,4,0))","v":"Hiền"},"26/10/2028","Nguyễn Thành Trung","Xóm 16","T","T",8,6.75,8.5,9.25,32.5,"x",null,"6A",{"$f":"IF(C20>COUNT('TongHop (goc)'!$U$2:$U$200),\"\",VLOOKUP(LARGE('TongHop (goc)'!$U$2:$U$200,C20),'TongHop (goc)'!$U$2:$AA$200,5,0))","v":"HỌC SINH XUẤT SẮC"},{"$f":"IF(C20>COUNT('TongHop (goc)'!$U$2:$U$200),\"\",VLOOKUP(LARGE('TongHop (goc)'!$U$2:$U$200,C20),'TongHop (goc)'!$U$2:$AA$200,6,0))","v":"7C"},null,16]
[null,null,{"$f":"IF(ROW(17:17)>COUNT('TongHop (goc)'!$U$2:$U$200),\"\",ROW(17:17))","v":17},{"$f":"IF(U21=\"\",\"\",COUNTIF($U$5:U21,U21))","v":8},{"$f":"IF(C21>COUNT('TongHop (goc)'!$U$2:$U$200),\"\",VLOOKUP(LARGE('TongHop (goc)'!$U$2:$U$200,C21),'TongHop (goc)'!$U$2:$AA$200,3,0))","v":"Lê Thùy"},{"$f":"IF(C21>COUNT('TongHop (goc)'!$U$2:$U$200),\"\",VLOOKUP(LARGE('TongHop (goc)'!$U$2:$U$200,C21),'TongHop (goc)'!$U$2:$AA$200,4,0))","v":"Dương"},"26/10/2029","Nguyễn Thành Trung","Xóm 17","T","T",8,6.75,8.5,9.25,32.5,"x",null,"6A",{"$f":"IF(C21>COUNT('TongHop (goc)'!$U$2:$U$200),\"\",VLOOKUP(LARGE('TongHop (goc)'!$U$2:$U$200,C21),'TongHop (goc)'!$U$2:$AA$200,5,0))","v":"HỌC SINH XUẤT SẮC"},{"$f":"IF(C21>COUNT('TongHop (goc)'!$U$2:$U$200),\"\",VLOOKUP(LARGE('TongHop (goc)'!$U$2:$U$200,C21),'TongHop (goc)'!$U$2:$AA$200,6,0))","v":"7C"},null,17]
["8C","8 - HSXS",{"$f":"IF(ROW(18:18)>COUNT('TongHop (goc)'!$U$2:$U$200),\"\",ROW(18:18))","v":18},{"$f":"IF(U22=\"\",\"\",COUNTIF($U$5:U22,U22))","v":1},{"$f":"IF(C22>COUNT('TongHop (goc)'!$U$2:$U$200),\"\",VLOOKUP(LARGE('TongHop (goc)'!$U$2:$U$200,C22),'TongHop (goc)'!$U$2:$AA$200,3,0))","v":"Vũ Thị Thanh"},{"$f":"IF(C22>COUNT('TongHop (goc)'!$U$2:$U$200),\"\",VLOOKUP(LARGE('TongHop (goc)'!$U$2:$U$200,C22),'TongHop (goc)'!$U$2:$AA$200,4,0))","v":"Bình"},"26/10/2030","Nguyễn Thành Trung","Xóm 18","T","T",8,6.75,8.5,9.25,32.5,"x",null,"6A",{"$f":"IF(C22>COUNT('TongHop (goc)'!$U$2:$U$200),\"\",VLOOKUP(LARGE('TongHop (goc)'!$U$2:$U$200,C22),'TongHop (goc)'!$U$2:$AA$200,5,0))","v":"HỌC SINH XUẤT SẮC"},{"$f":"IF(C22>COUNT('TongHop (goc)'!$U$2:$U$200),\"\",VLOOKUP(LARGE('TongHop (goc)'!$U$2:$U$200,C22),'TongHop (goc)'!$U$2:$AA$200,6,0))","v":"8C"},null,18]
[null,null,{"$f":"IF(ROW(19:19)>COUNT('TongHop (goc)'!$U$2:$U$200),\"\",ROW(19:19))","v":19},{"$f":"IF(U23=\"\",\"\",COUNTIF($U$5:U23,U23))","v":2},{"$f":"IF(C23>COUNT('TongHop (goc)'!$U$2:$U$200),\"\",VLOOKUP(LARGE('TongHop (goc)'!$U$2:$U$200,C23),'TongHop (goc)'!$U$2:$AA$200,3,0))","v":"Hoàng Thiên  "},{"$f":"IF(C23>COUNT('TongHop (goc)'!$U$2:$U$200),\"\",VLOOKUP(LARGE('TongHop (goc)'!$U$2:$U$200,C23),'TongHop (goc)'!$U$2:$AA$200,4,0))","v":"Bảo"},"26/10/2031","Nguyễn Thành Trung","Xóm 19","T","T",8,6.75,8.5,9.25,32.5,"x",null,"6A",{"$f":"IF(C23>COUNT('TongHop (goc)'!$U$2:$U$200),\"\",VLOOKUP(LARGE('TongHop (goc)'!$U$2:$U$200,C23),'TongHop (goc)'!$U$2:$AA$200,5,0))","v":"HỌC SINH XUẤT SẮC"},{"$f":"IF(C23>COUNT('TongHop (goc)'!$U$2:$U$200),\"\",VLOOKUP(LARGE('TongHop (goc)'!$U$2:$U$200,C23),'TongHop (goc)'!$U$2:$AA$200,6,0))","v":"8C"},null,19]
[null,null,{"$f":"IF(ROW(20:20)>COUNT('TongHop (goc)'!$U$2:$U$200),\"\",ROW(20:20))","v":20},{"$f":"IF(U24=\"\",\"\",COUNTIF($U$5:U24,U24))","v":3},{"$f":"IF(C24>COUNT('TongHop (goc)'!$U$2:$U$200),\"\",VLOOKUP(LARGE('TongHop (goc)'!$U$2:$U$200,C24),'TongHop (goc)'!$U$2:$AA$200,3,0))","v":"Trần Thanh"},{"$f":"IF(C24>COUNT('TongHop (goc)'!$U$2:$U$200),\"\",VLOOKUP(LARGE('TongHop (goc)'!$U$2:$U$200,C24),'TongHop (goc)'!$U$2:$AA$200,4,0))","v":"Bình"},"26/10/2032","Nguyễn Thành Trung","Xóm 20","T","T",8,6.75,8.5,9.25,32.5,"x",null,"6A",{"$f":"IF(C24>COUNT('TongHop (goc)'!$U$2:$U$200),\"\",VLOOKUP(LARGE('TongHop (goc)'!$U$2:$U$200,C24),'TongHop (goc)'!$U$2:$AA$200,5,0))","v":"HỌC SINH XUẤT SẮC"},{"$f":"IF(C24>COUNT('TongHop (goc)'!$U$2:$U$200),\"\",VLOOKUP(LARGE('TongHop (goc)'!$U$2:$U$200,C24),'TongHop (goc)'!$U$2:$AA$200,6,0))","v":"8C"},null,20]
[null,null,{"$f":"IF(ROW(21:21)>COUNT('TongHop (goc)'!$U$2:$U$200),\"\",ROW(21:21))","v":21},{"$f":"IF(U25=\"\",\"\",COUNTIF($U$5:U25,U25))","v":4},{"$f":"IF(C25>COUNT('TongHop (goc)'!$U$2:$U$200),\"\",VLOOKUP(LARGE('TongHop (goc)'!$U$2:$U$200,C25),'TongHop (goc)'!$U$2:$AA$200,3,0))","v":"Phạm Gia  "},{"$f":"IF(C25>COUNT('TongHop (goc)'!$U$2:$U$200),\"\",VLOOKUP(LARGE('TongHop (goc)'!$U$2:$U$200,C25),'TongHop (goc)'!$U$2:$AA$200,4,0))","v":"Bảo"},"26/10/2033","Nguyễn Thành Trung","Xóm 21","T","T",8,6.75,8.5,9.25,32.5,"x",null,"6A",{"$f":"IF(C25>COUNT('TongHop (goc)'!$U$2:$U$200),\"\",VLOOKUP(LARGE('TongHop (goc)'!$U$2:$U$200,C25),'TongHop (goc)'!$U$2:$AA$200,5,0))","v":"HỌC SINH XUẤT SẮC"},{"$f":"IF(C25>COUNT('TongHop (goc)'!$U$2:$U$200),\"\",VLOOKUP(LARGE('TongHop (goc)'!$U$2:$U$200,C25),'TongHop (goc)'!$U$2:$AA$200,6,0))","v":"8C"},null,21]
[null,null,{"$f":"IF(ROW(22:22)>COUNT('TongHop (goc)'!$U$2:$U$200),\"\",ROW(22:22))","v":22},{"$f":"IF(U26=\"\",\"\",COUNTIF($U$5:U26,U26))","v":5},{"$f":"IF(C26>COUNT('TongHop (goc)'!$U$2:$U$200),\"\",VLOOKUP(LARGE('TongHop (goc)'!$U$2:$U$200,C26),'TongHop (goc)'!$U$2:$AA$200,3,0))","v":"Lê Phương"},{"$f":"IF(C26>COUNT('TongHop (goc)'!$U$2:$U$200),\"\",VLOOKUP(LARGE('TongHop (goc)'!$U$2:$U$200,C26),'TongHop (goc)'!$U$2:$AA$200,4,0))","v":"Tuyến"},"26/10/2034","Nguyễn Thành Trung","Xóm 22","T","T",8,6.75,8.5,9.25,32.5,"x",null,"6A",{"$f":"IF(C26>COUNT('TongHop (goc)'!$U$2:$U$200),\"\",VLOOKUP(LARGE('TongHop (goc)'!$U$2:$U$200,C26),'TongHop (goc)'!$U$2:$AA$200,5,0))","v":"HỌC SINH XUẤT SẮC"},{"$f":"IF(C26>COUNT('TongHop (goc)'!$U$2:$U$200),\"\",VLOOKUP(LARGE('TongHop (goc)'!$U$2:$U$200,C26),'TongHop (goc)'!$U$2:$AA$200,6,0))","v":"8C"},null,22]
[null,null,{"$f":"IF(ROW(23:23)>COUNT('TongHop (goc)'!$U$2:$U$200),\"\",ROW(23:23))","v":23},{"$f":"IF(U27=\"\",\"\",COUNTIF($U$5:U27,U27))","v":6},{"$f":"IF(C27>COUNT('TongHop (goc)'!$U$2:$U$200),\"\",VLOOKUP(LARGE('TongHop (goc)'!$U$2:$U$200,C27),'TongHop (goc)'!$U$2:$AA$200,3,0))","v":"Lã Diệu"},{"$f":"IF(C27>COUNT('TongHop (goc)'!$U$2:$U$200),\"\",VLOOKUP(LARGE('TongHop (goc)'!$U$2:$U$200,C27),'TongHop (goc)'!$U$2:$AA$200,4,0))","v":"Linh"},"26/10/2035","Nguyễn Thành Trung","Xóm 23","T","T",8,6.75,8.5,9.25,32.5,"x",null,"6A",{"$f":"IF(C27>COUNT('TongHop (goc)'!$U$2:$U$200),\"\",VLOOKUP(LARGE('TongHop (goc)'!$U$2:$U$200,C27),'TongHop (goc)'!$U$2:$AA$200,5,0))","v":"HỌC SINH XUẤT SẮC"},{"$f":"IF(C27>COUNT('TongHop (goc)'!$U$2:$U$200),\"\",VLOOKUP(LARGE('TongHop (goc)'!$U$2:$U$200,C27),'TongHop (goc)'!$U$2:$AA$200,6,0))","v":"8C"},null,23]
[null,null,{"$f":"IF(ROW(24:24)>COUNT('TongHop (goc)'!$U$2:$U$200),\"\",ROW(24:24))","v":24},{"$f":"IF(U28=\"\",\"\",COUNTIF($U$5:U28,U28))","v":7},{"$f":"IF(C28>COUNT('TongHop (goc)'!$U$2:$U$200),\"\",VLOOKUP(LARGE('TongHop (goc)'!$U$2:$U$200,C28),'TongHop (goc)'!$U$2:$AA$200,3,0))","v":"Trần Tiến "},{"$f":"IF(C28>COUNT('TongHop (goc)'!$U$2:$U$200),\"\",VLOOKUP(LARGE('TongHop (goc)'!$U$2:$U$200,C28),'TongHop (goc)'!$U$2:$AA$200,4,0))","v":"Đạt"},"26/10/2036","Nguyễn Thành Trung","Xóm 24","T","T",8,6.75,8.5,9.25,32.5,"x",null,"6A",{"$f":"IF(C28>COUNT('TongHop (goc)'!$U$2:$U$200),\"\",VLOOKUP(LARGE('TongHop (goc)'!$U$2:$U$200,C28),'TongHop (goc)'!$U$2:$AA$200,5,0))","v":"HỌC SINH XUẤT SẮC"},{"$f":"IF(C28>COUNT('TongHop (goc)'!$U$2:$U$200),\"\",VLOOKUP(LARGE('TongHop (goc)'!$U$2:$U$200,C28),'TongHop (goc)'!$U$2:$AA$200,6,0))","v":"8C"},null,24]
[null,null,{"$f":"IF(ROW(25:25)>COUNT('TongHop (goc)'!$U$2:$U$200),\"\",ROW(25:25))","v":25},{"$f":"IF(U29=\"\",\"\",COUNTIF($U$5:U29,U29))","v":8},{"$f":"IF(C29>COUNT('TongHop (goc)'!$U$2:$U$200),\"\",VLOOKUP(LARGE('TongHop (goc)'!$U$2:$U$200,C29),'TongHop (goc)'!$U$2:$AA$200,3,0))","v":"Vũ Ánh Thùy "},{"$f":"IF(C29>COUNT('TongHop (goc)'!$U$2:$U$200),\"\",VLOOKUP(LARGE('TongHop (goc)'!$U$2:$U$200,C29),'TongHop (goc)'!$U$2:$AA$200,4,0))","v":"Dương"},"26/10/2037","Nguyễn Thành Trung","Xóm 25","T","T",8,6.75,8.5,9.25,32.5,"x",null,"6A",{"$f":"IF(C29>COUNT('TongHop (goc)'!$U$2:$U$200),\"\",VLOOKUP(LARGE('TongHop (goc)'!$U$2:$U$200,C29),'TongHop (goc)'!$U$2:$AA$200,5,0))","v":"HỌC SINH XUẤT SẮC"},{"$f":"IF(C29>COUNT('TongHop (goc)'!$U$2:$U$200),\"\",VLOOKUP(LARGE('TongHop (goc)'!$U$2:$U$200,C29),'TongHop (goc)'!$U$2:$AA$200,6,0))","v":"8C"},null,25]
["9C","6 - HSXS",{"$f":"IF(ROW(26:26)>COUNT('TongHop (goc)'!$U$2:$U$200),\"\",ROW(26:26))","v":26},{"$f":"IF(U30=\"\",\"\",COUNTIF($U$5:U30,U30))","v":1},{"$f":"IF(C30>COUNT('TongHop (goc)'!$U$2:$U$200),\"\",VLOOKUP(LARGE('TongHop (goc)'!$U$2:$U$200,C30),'TongHop (goc)'!$U$2:$AA$200,3,0))","v":"Lê Việt"},{"$f":"IF(C30>COUNT('TongHop (goc)'!$U$2:$U$200),\"\",VLOOKUP(LARGE('TongHop (goc)'!$U$2:$U$200,C30),'TongHop (goc)'!$U$2:$AA$200,4,0))","v":"Dũng"},"26/10/2038","Nguyễn Thành Trung","Xóm 26","T","T",8,6.75,8.5,9.25,32.5,"x",null,"6A",{"$f":"IF(C30>COUNT('TongHop (goc)'!$U$2:$U$200),\"\",VLOOKUP(LARGE('TongHop (goc)'!$U$2:$U$200,C30),'TongHop (goc)'!$U$2:$AA$200,5,0))","v":"HỌC SINH XUẤT SẮC"},{"$f":"IF(C30>COUNT('TongHop (goc)'!$U$2:$U$200),\"\",VLOOKUP(LARGE('TongHop (goc)'!$U$2:$U$200,C30),'TongHop (goc)'!$U$2:$AA$200,6,0))","v":"9C"},null,26]
[null,null,{"$f":"IF(ROW(27:27)>COUNT('TongHop (goc)'!$U$2:$U$200),\"\",ROW(27:27))","v":27},{"$f":"IF(U31=\"\",\"\",COUNTIF($U$5:U31,U31))","v":2},{"$f":"IF(C31>COUNT('TongHop (goc)'!$U$2:$U$200),\"\",VLOOKUP(LARGE('TongHop (goc)'!$U$2:$U$200,C31),'TongHop (goc)'!$U$2:$AA$200,3,0))","v":"Bùi Quang"},{"$f":"IF(C31>COUNT('TongHop (goc)'!$U$2:$U$200),\"\",VLOOKUP(LARGE('TongHop (goc)'!$U$2:$U$200,C31),'TongHop (goc)'!$U$2:$AA$200,4,0))","v":"Phát"},"26/10/2039","Nguyễn Thành Trung","Xóm 27","T","T",8,6.75,8.5,9.25,32.5,"x",null,"6A",{"$f":"IF(C31>COUNT('TongHop (goc)'!$U$2:$U$200),\"\",VLOOKUP(LARGE('TongHop (goc)'!$U$2:$U$200,C31),'TongHop (goc)'!$U$2:$AA$200,5,0))","v":"HỌC SINH XUẤT SẮC"},{"$f":"IF(C31>COUNT('TongHop (goc)'!$U$2:$U$200),\"\",VLOOKUP(LARGE('TongHop (goc)'!$U$2:$U$200,C31),'TongHop (goc)'!$U$2:$AA$200,6,0))","v":"9C"},null,27]
[null,null,{"$f":"IF(ROW(28:28)>COUNT('TongHop (goc)'!$U$2:$U$200),\"\",ROW(28:28))","v":28},{"$f":"IF(U32=\"\",\"\",COUNTIF($U$5:U32,U32))","v":3},{"$f":"IF(C32>COUNT('TongHop (goc)'!$U$2:$U$200),\"\",VLOOKUP(LARGE('TongHop (goc)'!$U$2:$U$200,C32),'TongHop (goc)'!$U$2:$AA$200,3,0))","v":"Trần Bảo"},{"$f":"IF(C32>COUNT('TongHop (goc)'!$U$2:$U$200),\"\",VLOOKUP(LARGE('TongHop (goc)'!$U$2:$U$200,C32),'TongHop (goc)'!$U$2:$AA$200,4,0))","v":"Nam"},"26/10/2040","Nguyễn Thành Trung","Xóm 28","T","T",8,6.75,8.5,9.25,32.5,"x",null,"6A",{"$f":"IF(C32>COUNT('TongHop (goc)'!$U$2:$U$200),\"\",VLOOKUP(LARGE('TongHop (goc)'!$U$2:$U$200,C32),'TongHop (goc)'!$U$2:$AA$200,5,0))","v":"HỌC SINH XUẤT SẮC"},{"$f":"IF(C32>COUNT('TongHop (goc)'!$U$2:$U$200),\"\",VLOOKUP(LARGE('TongHop (goc)'!$U$2:$U$200,C32),'TongHop (goc)'!$U$2:$AA$200,6,0))","v":"9C"},null,28]
[null,null,{"$f":"IF(ROW(29:29)>COUNT('TongHop (goc)'!$U$2:$U$200),\"\",ROW(29:29))","v":29},{"$f":"IF(U33=\"\",\"\",COUNTIF($U$5:U33,U33))","v":4},{"$f":"IF(C33>COUNT('TongHop (goc)'!$U$2:$U$200),\"\",VLOOKUP(LARGE('TongHop (goc)'!$U$2:$U$200,C33),'TongHop (goc)'!$U$2:$AA$200,3,0))","v":"Phạm Thị Thảo"},{"$f":"IF(C33>COUNT('TongHop (goc)'!$U$2:$U$200),\"\",VLOOKUP(LARGE('TongHop (goc)'!$U$2:$U$200,C33),'TongHop (goc)'!$U$2:$AA$200,4,0))","v":"Ly"},"26/10/2041","Nguyễn Thành Trung","Xóm 29","T","T",8,6.75,8.5,9.25,32.5,"x",null,"6A",{"$f":"IF(C33>COUNT('TongHop (goc)'!$U$2:$U$200),\"\",VLOOKUP(LARGE('TongHop (goc)'!$U$2:$U$200,C33),'TongHop (goc)'!$U$2:$AA$200,5,0))","v":"HỌC SINH XUẤT SẮC"},{"$f":"IF(C33>COUNT('TongHop (goc)'!$U$2:$U$200),\"\",VLOOKUP(LARGE('TongHop (goc)'!$U$2:$U$200,C33),'TongHop (goc)'!$U$2:$AA$200,6,0))","v":"9C"},null,29]
[null,null,{"$f":"IF(ROW(30:30)>COUNT('TongHop (goc)'!$U$2:$U$200),\"\",ROW(30:30))","v":30},{"$f":"IF(U34=\"\",\"\",COUNTIF($U$5:U34,U34))","v":5},{"$f":"IF(C34>COUNT('TongHop (goc)'!$U$2:$U$200),\"\",VLOOKUP(LARGE('TongHop (goc)'!$U$2:$U$200,C34),'TongHop (goc)'!$U$2:$AA$200,3,0))","v":"Lê Khánh"},{"$f":"IF(C34>COUNT('TongHop (goc)'!$U$2:$U$200),\"\",VLOOKUP(LARGE('TongHop (goc)'!$U$2:$U$200,C34),'TongHop (goc)'!$U$2:$AA$200,4,0))","v":"Huyền"},"26/10/2042","Nguyễn Thành Trung","Xóm 30","T","T",8,6.75,8.5,9.25,32.5,"x",null,"6A",{"$f":"IF(C34>COUNT('TongHop (goc)'!$U$2:$U$200),\"\",VLOOKUP(LARGE('TongHop (goc)'!$U$2:$U$200,C34),'TongHop (goc)'!$U$2:$AA$200,5,0))","v":"HỌC SINH XUẤT SẮC"},{"$f":"IF(C34>COUNT('TongHop (goc)'!$U$2:$U$200),\"\",VLOOKUP(LARGE('TongHop (goc)'!$U$2:$U$200,C34),'TongHop (goc)'!$U$2:$AA$200,6,0))","v":"9C"},null,30]
[null,null,{"$f":"IF(ROW(31:31)>COUNT('TongHop (goc)'!$U$2:$U$200),\"\",ROW(31:31))","v":31},{"$f":"IF(U35=\"\",\"\",COUNTIF($U$5:U35,U35))","v":6},{"$f":"IF(C35>COUNT('TongHop (goc)'!$U$2:$U$200),\"\",VLOOKUP(LARGE('TongHop (goc)'!$U$2:$U$200,C35),'TongHop (goc)'!$U$2:$AA$200,3,0))","v":"Nguyễn Thiện"},{"$f":"IF(C35>COUNT('TongHop (goc)'!$U$2:$U$200),\"\",VLOOKUP(LARGE('TongHop (goc)'!$U$2:$U$200,C35),'TongHop (goc)'!$U$2:$AA$200,4,0))","v":"Chí"},"26/10/2043","Nguyễn Thành Trung","Xóm 31","T","T",8,6.75,8.5,9.25,32.5,"x",null,"6A",{"$f":"IF(C35>COUNT('TongHop (goc)'!$U$2:$U$200),\"\",VLOOKUP(LARGE('TongHop (goc)'!$U$2:$U$200,C35),'TongHop (goc)'!$U$2:$AA$200,5,0))","v":"HỌC SINH XUẤT SẮC"},{"$f":"IF(C35>COUNT('TongHop (goc)'!$U$2:$U$200),\"\",VLOOKUP(LARGE('TongHop (goc)'!$U$2:$U$200,C35),'TongHop (goc)'!$U$2:$AA$200,6,0))","v":"9C"},null,31]
[null,null,{"$f":"IF(ROW(32:32)>COUNT('TongHop (goc)'!$U$2:$U$200),\"\",ROW(32:32))","v":""},{"$f":"IF(U36=\"\",\"\",COUNTIF($U$5:U36,U36))","v":""},{"$f":"IF(C36>COUNT('TongHop (goc)'!$U$2:$U$200),\"\",VLOOKUP(LARGE('TongHop (goc)'!$U$2:$U$200,C36),'TongHop (goc)'!$U$2:$AA$200,3,0))","v":""},{"$f":"IF(C36>COUNT('TongHop (goc)'!$U$2:$U$200),\"\",VLOOKUP(LARGE('TongHop (goc)'!$U$2:$U$200,C36),'TongHop (goc)'!$U$2:$AA$200,4,0))","v":""},"26/10/2044","Nguyễn Thành Trung","Xóm 32","T","T",8,6.75,8.5,9.25,32.5,"x",null,"6A",{"$f":"IF(C36>COUNT('TongHop (goc)'!$U$2:$U$200),\"\",VLOOKUP(LARGE('TongHop (goc)'!$U$2:$U$200,C36),'TongHop (goc)'!$U$2:$AA$200,5,0))","v":""},{"$f":"IF(C36>COUNT('TongHop (goc)'!$U$2:$U$200),\"\",VLOOKUP(LARGE('TongHop (goc)'!$U$2:$U$200,C36),'TongHop (goc)'!$U$2:$AA$200,6,0))","v":""},null,""]
[null,null,{"$f":"IF(ROW(33:33)>COUNT('TongHop (goc)'!$U$2:$U$200),\"\",ROW(33:33))","v":""},{"$f":"IF(U37=\"\",\"\",COUNTIF($U$5:U37,U37))","v":""},{"$f":"IF(C37>COUNT('TongHop (goc)'!$U$2:$U$200),\"\",VLOOKUP(LARGE('TongHop (goc)'!$U$2:$U$200,C37),'TongHop (goc)'!$U$2:$AA$200,3,0))","v":""},{"$f":"IF(C37>COUNT('TongHop (goc)'!$U$2:$U$200),\"\",VLOOKUP(LARGE('TongHop (goc)'!$U$2:$U$200,C37),'TongHop (goc)'!$U$2:$AA$200,4,0))","v":""},"26/10/2045","Nguyễn Thành Trung","Xóm 33","T","T",8,6.75,8.5,9.25,32.5,"x",null,"6A",{"$f":"IF(C37>COUNT('TongHop (goc)'!$U$2:$U$200),\"\",VLOOKUP(LARGE('TongHop (goc)'!$U$2:$U$200,C37),'TongHop (goc)'!$U$2:$AA$200,5,0))","v":""},{"$f":"IF(C37>COUNT('TongHop (goc)'!$U$2:$U$200),\"\",VLOOKUP(LARGE('TongHop (goc)'!$U$2:$U$200,C37),'TongHop (goc)'!$U$2:$AA$200,6,0))","v":""},null,""]
[null,null,{"$f":"IF(ROW(34:34)>COUNT('TongHop (goc)'!$U$2:$U$200),\"\",ROW(34:34))","v":""},{"$f":"IF(U38=\"\",\"\",COUNTIF($U$5:U38,U38))","v":""},{"$f":"IF(C38>COUNT('TongHop (goc)'!$U$2:$U$200),\"\",VLOOKUP(LARGE('TongHop (goc)'!$U$2:$U$200,C38),'TongHop (goc)'!$U$2:$AA$200,3,0))","v":""},{"$f":"IF(C38>COUNT('TongHop (goc)'!$U$2:$U$200),\"\",VLOOKUP(LARGE('TongHop (goc)'!$U$2:$U$200,C38),'TongHop (goc)'!$U$2:$AA$200,4,0))","v":""},"26/10/2046","Nguyễn Thành Trung","Xóm 34","T","T",8,6.75,8.5,9.25,32.5,"x",null,"6A",{"$f":"IF(C38>COUNT('TongHop (goc)'!$U$2:$U$200),\"\",VLOOKUP(LARGE('TongHop (goc)'!$U$2:$U$200,C38),'TongHop (goc)'!$U$2:$AA$200,5,0))","v":""},{"$f":"IF(C38>COUNT('TongHop (goc)'!$U$2:$U$200),\"\",VLOOKUP(LARGE('TongHop (goc)'!$U$2:$U$200,C38),'TongHop (goc)'!$U$2:$AA$200,6,0))","v":""},null,""]
[null,null,{"$f":"IF(ROW(35:35)>COUNT('TongHop (goc)'!$U$2:$U$200),\"\",ROW(35:35))","v":""},{"$f":"IF(U39=\"\",\"\",COUNTIF($U$5:U39,U39))","v":""},{"$f":"IF(C39>COUNT('TongHop (goc)'!$U$2:$U$200),\"\",VLOOKUP(LARGE('TongHop (goc)'!$U$2:$U$200,C39),'TongHop (goc)'!$U$2:$AA$200,3,0))","v":""},{"$f":"IF(C39>COUNT('TongHop (goc)'!$U$2:$U$200),\"\",VLOOKUP(LARGE('TongHop (goc)'!$U$2:$U$200,C39),'TongHop (goc)'!$U$2:$AA$200,4,0))","v":""},"26/10/2047","Nguyễn Thành Trung","Xóm 35","T","T",8,6.75,8.5,9.25,32.5,"x",null,"6A",{"$f":"IF(C39>COUNT('TongHop (goc)'!$U$2:$U$200),\"\",VLOOKUP(LARGE('TongHop (goc)'!$U$2:$U$200,C39),'TongHop (goc)'!$U$2:$AA$200,5,0))","v":""},{"$f":"IF(C39>COUNT('TongHop (goc)'!$U$2:$U$200),\"\",VLOOKUP(LARGE('TongHop (goc)'!$U$2:$U$200,C39),'TongHop (goc)'!$U$2:$AA$200,6,0))","v":""},null,""]
[null,null,{"$f":"IF(ROW(36:36)>COUNT('TongHop (goc)'!$U$2:$U$200),\"\",ROW(36:36))","v":""},{"$f":"IF(U40=\"\",\"\",COUNTIF($U$5:U40,U40))","v":""},{"$f":"IF(C40>COUNT('TongHop (goc)'!$U$2:$U$200),\"\",VLOOKUP(LARGE('TongHop (goc)'!$U$2:$U$200,C40),'TongHop (goc)'!$U$2:$AA$200,3,0))","v":""},{"$f":"IF(C40>COUNT('TongHop (goc)'!$U$2:$U$200),\"\",VLOOKUP(LARGE('TongHop (goc)'!$U$2:$U$200,C40),'TongHop (goc)'!$U$2:$AA$200,4,0))","v":""},"26/10/2048","Nguyễn Thành Trung","Xóm 36","T","T",8,6.75,8.5,9.25,32.5,"x",null,"6A",{"$f":"IF(C40>COUNT('TongHop (goc)'!$U$2:$U$200),\"\",VLOOKUP(LARGE('TongHop (goc)'!$U$2:$U$200,C40),'TongHop (goc)'!$U$2:$AA$200,5,0))","v":""},{"$f":"IF(C40>COUNT('TongHop (goc)'!$U$2:$U$200),\"\",VLOOKUP(LARGE('TongHop (goc)'!$U$2:$U$200,C40),'TongHop (goc)'!$U$2:$AA$200,6,0))","v":""},null,""]
[null,null,{"$f":"IF(ROW(37:37)>COUNT('TongHop (goc)'!$U$2:$U$200),\"\",ROW(37:37))","v":""},{"$f":"IF(U41=\"\",\"\",COUNTIF($U$5:U41,U41))","v":""},{"$f":"IF(C41>COUNT('TongHop (goc)'!$U$2:$U$200),\"\",VLOOKUP(LARGE('TongHop (goc)'!$U$2:$U$200,C41),'TongHop (goc)'!$U$2:$AA$200,3,0))","v":""},{"$f":"IF(C41>COUNT('TongHop (goc)'!$U$2:$U$200),\"\",VLOOKUP(LARGE('TongHop (goc)'!$U$2:$U$200,C41),'TongHop (goc)'!$U$2:$AA$200,4,0))","v":""},"26/10/2049","Nguyễn Thành Trung","Xóm 37","T","T",8,6.75,8.5,9.25,32.5,"x",null,"6A",{"$f":"IF(C41>COUNT('TongHop (goc)'!$U$2:$U$200),\"\",VLOOKUP(LARGE('TongHop (goc)'!$U$2:$U$200,C41),'TongHop (goc)'!$U$2:$AA$200,5,0))","v":""},{"$f":"IF(C41>COUNT('TongHop (goc)'!$U$2:$U$200),\"\",VLOOKUP(LARGE('TongHop (goc)'!$U$2:$U$200,C41),'TongHop (goc)'!$U$2:$AA$200,6,0))","v":""},null,""]
[null,null,{"$f":"IF(ROW(38:38)>COUNT('TongHop (goc)'!$U$2:$U$200),\"\",ROW(38:38))","v":""},{"$f":"IF(U42=\"\",\"\",COUNTIF($U$5:U42,U42))","v":""},{"$f":"IF(C42>COUNT('TongHop (goc)'!$U$2:$U$200),\"\",VLOOKUP(LARGE('TongHop (goc)'!$U$2:$U$200,C42),'TongHop (goc)'!$U$2:$AA$200,3,0))","v":""},{"$f":"IF(C42>COUNT('TongHop (goc)'!$U$2:$U$200),\"\",VLOOKUP(LARGE('TongHop (goc)'!$U$2:$U$200,C42),'TongHop (goc)'!$U$2:$AA$200,4,0))","v":""},"26/10/2050","Nguyễn Thành Trung","Xóm 38","T","T",8,6.75,8.5,9.25,32.5,"x",null,"6A",{"$f":"IF(C42>COUNT('TongHop (goc)'!$U$2:$U$200),\"\",VLOOKUP(LARGE('TongHop (goc)'!$U$2:$U$200,C42),'TongHop (goc)'!$U$2:$AA$200,5,0))","v":""},{"$f":"IF(C42>COUNT('TongHop (goc)'!$U$2:$U$200),\"\",VLOOKUP(LARGE('TongHop (goc)'!$U$2:$U$200,C42),'TongHop (goc)'!$U$2:$AA$200,6,0))","v":""},null,""]
[null,null,{"$f":"IF(ROW(39:39)>COUNT('TongHop (goc)'!$U$2:$U$200),\"\",ROW(39:39))","v":""},{"$f":"IF(U43=\"\",\"\",COUNTIF($U$5:U43,U43))","v":""},{"$f":"IF(C43>COUNT('TongHop (goc)'!$U$2:$U$200),\"\",VLOOKUP(LARGE('TongHop (goc)'!$U$2:$U$200,C43),'TongHop (goc)'!$U$2:$AA$200,3,0))","v":""},{"$f":"IF(C43>COUNT('TongHop (goc)'!$U$2:$U$200),\"\",VLOOKUP(LARGE('TongHop (goc)'!$U$2:$U$200,C43),'TongHop (goc)'!$U$2:$AA$200,4,0))","v":""},"26/10/2051","Nguyễn Thành Trung","Xóm 39","T","T",8,6.75,8.5,9.25,32.5,"x",null,"6A",{"$f":"IF(C43>COUNT('TongHop (goc)'!$U$2:$U$200),\"\",VLOOKUP(LARGE('TongHop (goc)'!$U$2:$U$200,C43),'TongHop (goc)'!$U$2:$AA$200,5,0))","v":""},{"$f":"IF(C43>COUNT('TongHop (goc)'!$U$2:$U$200),\"\",VLOOKUP(LARGE('TongHop (goc)'!$U$2:$U$200,C43),'TongHop (goc)'!$U$2:$AA$200,6,0))","v":""},null,""]
[null,null,{"$f":"IF(ROW(40:40)>COUNT('TongHop (goc)'!$U$2:$U$200),\"\",ROW(40:40))","v":""},{"$f":"IF(U44=\"\",\"\",COUNTIF($U$5:U44,U44))","v":""},{"$f":"IF(C44>COUNT('TongHop (goc)'!$U$2:$U$200),\"\",VLOOKUP(LARGE('TongHop (goc)'!$U$2:$U$200,C44),'TongHop (goc)'!$U$2:$AA$200,3,0))","v":""},{"$f":"IF(C44>COUNT('TongHop (goc)'!$U$2:$U$200),\"\",VLOOKUP(LARGE('TongHop (goc)'!$U$2:$U$200,C44),'TongHop (goc)'!$U$2:$AA$200,4,0))","v":""},"26/10/2052","Nguyễn Thành Trung","Xóm 40","T","T",8,6.75,8.5,9.25,32.5,"x",null,"6A",{"$f":"IF(C44>COUNT('TongHop (goc)'!$U$2:$U$200),\"\",VLOOKUP(LARGE('TongHop (goc)'!$U$2:$U$200,C44),'TongHop (goc)'!$U$2:$AA$200,5,0))","v":""},{"$f":"IF(C44>COUNT('TongHop (goc)'!$U$2:$U$200),\"\",VLOOKUP(LARGE('TongHop (goc)'!$U$2:$U$200,C44),'TongHop (goc)'!$U$2:$AA$200,6,0))","v":""},null,""]
[null,null,{"$f":"IF(ROW(41:41)>COUNT('TongHop (goc)'!$U$2:$U$200),\"\",ROW(41:41))","v":""},{"$f":"IF(U45=\"\",\"\",COUNTIF($U$5:U45,U45))","v":""},{"$f":"IF(C45>COUNT('TongHop (goc)'!$U$2:$U$200),\"\",VLOOKUP(LARGE('TongHop (goc)'!$U$2:$U$200,C45),'TongHop (goc)'!$U$2:$AA$200,3,0))","v":""},{"$f":"IF(C45>COUNT('TongHop (goc)'!$U$2:$U$200),\"\",VLOOKUP(LARGE('TongHop (goc)'!$U$2:$U$200,C45),'TongHop (goc)'!$U$2:$AA$200,4,0))","v":""},"26/10/2053","Nguyễn Thành Trung","Xóm 41","T","T",8,6.75,8.5,9.25,32.5,"x",null,"6A",{"$f":"IF(C45>COUNT('TongHop (goc)'!$U$2:$U$200),\"\",VLOOKUP(LARGE('TongHop (goc)'!$U$2:$U$200,C45),'TongHop (goc)'!$U$2:$AA$200,5,0))","v":""},{"$f":"IF(C45>COUNT('TongHop (goc)'!$U$2:$U$200),\"\",VLOOKUP(LARGE('TongHop (goc)'!$U$2:$U$200,C45),'TongHop (goc)'!$U$2:$AA$200,6,0))","v":""},null,""]
[null,null,{"$f":"IF(ROW(42:42)>COUNT('TongHop (goc)'!$U$2:$U$200),\"\",ROW(42:42))","v":""},{"$f":"IF(U46=\"\",\"\",COUNTIF($U$5:U46,U46))","v":""},{"$f":"IF(C46>COUNT('TongHop (goc)'!$U$2:$U$200),\"\",VLOOKUP(LARGE('TongHop (goc)'!$U$2:$U$200,C46),'TongHop (goc)'!$U$2:$AA$200,3,0))","v":""},{"$f":"IF(C46>COUNT('TongHop (goc)'!$U$2:$U$200),\"\",VLOOKUP(LARGE('TongHop (goc)'!$U$2:$U$200,C46),'TongHop (goc)'!$U$2:$AA$200,4,0))","v":""},"26/10/2054","Nguyễn Thành Trung","Xóm 42","T","T",8,6.75,8.5,9.25,32.5,"x",null,"6A",{"$f":"IF(C46>COUNT('TongHop (goc)'!$U$2:$U$200),\"\",VLOOKUP(LARGE('TongHop (goc)'!$U$2:$U$200,C46),'TongHop (goc)'!$U$2:$AA$200,5,0))","v":""},{"$f":"IF(C46>COUNT('TongHop (goc)'!$U$2:$U$200),\"\",VLOOKUP(LARGE('TongHop (goc)'!$U$2:$U$200,C46),'TongHop (goc)'!$U$2:$AA$200,6,0))","v":""},null,""]
[]
[null,null,null,null,null,null,null,null,null,null,null,null,"Hải Hưng, ngày 18 tháng 5 năm 2026"]
[null,null,null,null,null,null,null,null,null,null,null,null,"(Ký, ghi rõ họ tên)"]

{"sheet":"HSG-(InDoc)","index":5,"n_rows":156,"n_cols":27,"rows_kept":156,"cut":false,"hidden":false,"merged":[[0,0,0,21],[154,12,154,21],[155,12,155,21],[156,12,156,21],[157,12,157,21],[80,1,107,1],[80,0,107,0],[108,1,111,1],[108,0,111,0],[112,1,116,1],[112,0,116,0],[117,1,145,1],[117,0,145,0],[47,0,49,0],[50,1,70,1],[50,0,70,0],[1,0,1,21],[2,0,2,21],[3,4,3,5],[3,13,3,17],[9,1,13,1],[9,0,13,0],[4,0,8,0],[4,1,8,1],[71,0,73,0],[71,1,73,1],[3,24,3,25],[4,32,4,33],[158,12,158,21],[14,1,42,1],[14,0,42,0],[43,1,46,1],[43,0,46,0],[47,1,49,1],[74,0,79,0],[74,1,79,1]]}
["DANH SÁCH  KHEN THƯỞNG HỌC SINH GIỎI\nNĂM HỌC 2025-2026 "]
[{"$f":"\"(Danh sách có \"&150-COUNTBLANK(U5:U154)&\"  học sinh Giỏi) \"","v":"(Danh sách có 142  học sinh Giỏi) "}]
["(Kèm theo quyết định số: 45/QĐ-THCSHN ngày 19 tháng 5 năm 2026)"]
["Lớp","Số lượng\nDanh hiệu",null,"STT","Họ tên",null,null,null,null,null,null,null,"Xếp loại \nHọc lực \n(học tập","Điểm khảo sát cuối năm ",null,null,null,null,"Danh Hiệu\n thi đua \nđề nghị","Đạt \ndanh hiệu","Lớp","Ghi chú",null,null,"Số HSG\n142",null,"Số HSXS\n31"]
["6A","5 - HSG",{"$f":"IF(ROW(1:1)>COUNT('TongHop (goc)'!$V$2:$V$200),\"\",ROW(1:1))","v":1},{"$f":"IF(U5=\"\",\"\",COUNTIF($U$5:U5,U5))","v":1},{"$f":"IF(C5>COUNT('TongHop (goc)'!$V$2:$V$200),\"\",VLOOKUP(LARGE('TongHop (goc)'!$V$2:$V$200,C5),'TongHop (goc)'!$V$2:$AA$200,2,0))","v":"Lê Ngọc Bình"},{"$f":"IF(C5>COUNT('TongHop (goc)'!$V$2:$V$200),\"\",VLOOKUP(LARGE('TongHop (goc)'!$V$2:$V$200,C5),'TongHop (goc)'!$V$2:$AA$200,3,0))","v":"An"},"26/10/2013","Nguyễn Thành Trung","Xóm 1","T","T",8,6.75,8.5,9.25,32.5,"x",null,"6A",{"$f":"IF(C5>COUNT('TongHop (goc)'!$V$2:$V$200),\"\",VLOOKUP(LARGE('TongHop (goc)'!$V$2:$V$200,C5),'TongHop (goc)'!$V$2:$AA$200,4,0))","v":"HỌC SINH GIỎI"},{"$f":"IF(C5>COUNT('TongHop (goc)'!$V$2:$V$200),\"\",VLOOKUP(LARGE('TongHop (goc)'!$V$2:$V$200,C5),'TongHop (goc)'!$V$2:$AA$200,5,0))","v":"6A"},null,{"$f":"C5","v":1},null,"6A",{"$f":"COUNTIF($U$5:$U$287,Y5)&\" - HSG\"","v":"5 - HSG"}]
[null,null,{"$f":"IF(ROW(2:2)>COUNT('TongHop (goc)'!$V$2:$V$200),\"\",ROW(2:2))","v":2},{"$f":"IF(U6=\"\",\"\",COUNTIF($U$5:U6,U6))","v":2},{"$f":"IF(C6>COUNT('TongHop (goc)'!$V$2:$V$200),\"\",VLOOKUP(LARGE('TongHop (goc)'!$V$2:$V$200,C6),'TongHop (goc)'!$V$2:$AA$200,2,0))","v":"Tống Bảo"},{"$f":"IF(C6>COUNT('TongHop (goc)'!$V$2:$V$200),\"\",VLOOKUP(LARGE('TongHop (goc)'!$V$2:$V$200,C6),'TongHop (goc)'!$V$2:$AA$200,3,0))","v":"Trâm"},"26/10/2014","Nguyễn Thành Trung","Xóm 2","T","T",8,6.75,8.5,9.25,32.5,"x",null,"6A",{"$f":"IF(C6>COUNT('TongHop (goc)'!$V$2:$V$200),\"\",VLOOKUP(LARGE('TongHop (goc)'!$V$2:$V$200,C6),'TongHop (goc)'!$V$2:$AA$200,4,0))","v":"HỌC SINH GIỎI"},{"$f":"IF(C6>COUNT('TongHop (goc)'!$V$2:$V$200),\"\",VLOOKUP(LARGE('TongHop (goc)'!$V$2:$V$200,C6),'TongHop (goc)'!$V$2:$AA$200,5,0))","v":"6A"},null,{"$f":"C6","v":2},null,"6B","5 - HSG"]
[null,null,{"$f":"IF(ROW(3:3)>COUNT('TongHop (goc)'!$V$2:$V$200),\"\",ROW(3:3))","v":3},{"$f":"IF(U7=\"\",\"\",COUNTIF($U$5:U7,U7))","v":3},{"$f":"IF(C7>COUNT('TongHop (goc)'!$V$2:$V$200),\"\",VLOOKUP(LARGE('TongHop (goc)'!$V$2:$V$200,C7),'TongHop (goc)'!$V$2:$AA$200,2,0))","v":"Tạ Trần Hương"},{"$f":"IF(C7>COUNT('TongHop (goc)'!$V$2:$V$200),\"\",VLOOKUP(LARGE('TongHop (goc)'!$V$2:$V$200,C7),'TongHop (goc)'!$V$2:$AA$200,3,0))","v":"Giang"},"26/10/2015","Nguyễn Thành Trung","Xóm 3","T","T",8,6.75,8.5,9.25,32.5,"x",null,"6A",{"$f":"IF(C7>COUNT('TongHop (goc)'!$V$2:$V$200),\"\",VLOOKUP(LARGE('TongHop (goc)'!$V$2:$V$200,C7),'TongHop (goc)'!$V$2:$AA$200,4,0))","v":"HỌC SINH GIỎI"},{"$f":"IF(C7>COUNT('TongHop (goc)'!$V$2:$V$200),\"\",VLOOKUP(LARGE('TongHop (goc)'!$V$2:$V$200,C7),'TongHop (goc)'!$V$2:$AA$200,5,0))","v":"6A"},null,3,null,"6C","29 - HSG","9 - HSXS"]
[null,null,{"$f":"IF(ROW(4:4)>COUNT('TongHop (goc)'!$V$2:$V$200),\"\",ROW(4:4))","v":4},{"$f":"IF(U8=\"\",\"\",COUNTIF($U$5:U8,U8))","v":4},{"$f":"IF(C8>COUNT('TongHop (goc)'!$V$2:$V$200),\"\",VLOOKUP(LARGE('TongHop (goc)'!$V$2:$V$200,C8),'TongHop (goc)'!$V$2:$AA$200,2,0))","v":"Lê Quang"},{"$f":"IF(C8>COUNT('TongHop (goc)'!$V$2:$V$200),\"\",VLOOKUP(LARGE('TongHop (goc)'!$V$2:$V$200,C8),'TongHop (goc)'!$V$2:$AA$200,3,0))","v":"Đại"},"26/10/2016","Nguyễn Thành Trung","Xóm 4","T","T",8,6.75,8.5,9.25,32.5,"x",null,"6A",{"$f":"IF(C8>COUNT('TongHop (goc)'!$V$2:$V$200),\"\",VLOOKUP(LARGE('TongHop (goc)'!$V$2:$V$200,C8),'TongHop (goc)'!$V$2:$AA$200,4,0))","v":"HỌC SINH GIỎI"},{"$f":"IF(C8>COUNT('TongHop (goc)'!$V$2:$V$200),\"\",VLOOKUP(LARGE('TongHop (goc)'!$V$2:$V$200,C8),'TongHop (goc)'!$V$2:$AA$200,5,0))","v":"6A"},null,4,null,"7A","4 - HSG"]
[null,null,{"$f":"IF(ROW(5:5)>COUNT('TongHop (goc)'!$V$2:$V$200),\"\",ROW(5:5))","v":5},{"$f":"IF(U9=\"\",\"\",COUNTIF($U$5:U9,U9))","v":5},{"$f":"IF(C9>COUNT('TongHop (goc)'!$V$2:$V$200),\"\",VLOOKUP(LARGE('TongHop (goc)'!$V$2:$V$200,C9),'TongHop (goc)'!$V$2:$AA$200,2,0))","v":"Đặng Huyền"},{"$f":"IF(C9>COUNT('TongHop (goc)'!$V$2:$V$200),\"\",VLOOKUP(LARGE('TongHop (goc)'!$V$2:$V$200,C9),'TongHop (goc)'!$V$2:$AA$200,3,0))","v":"Trang"},"26/10/2017","Nguyễn Thành Trung","Xóm 5","T","T",8,6.75,8.5,9.25,32.5,"x",null,"6A",{"$f":"IF(C9>COUNT('TongHop (goc)'!$V$2:$V$200),\"\",VLOOKUP(LARGE('TongHop (goc)'!$V$2:$V$200,C9),'TongHop (goc)'!$V$2:$AA$200,4,0))","v":"HỌC SINH GIỎI"},{"$f":"IF(C9>COUNT('TongHop (goc)'!$V$2:$V$200),\"\",VLOOKUP(LARGE('TongHop (goc)'!$V$2:$V$200,C9),'TongHop (goc)'!$V$2:$AA$200,5,0))","v":"6A"},null,5,null,"7B","3 - HSG"]
["6B","5 - HSG",{"$f":"IF(ROW(6:6)>COUNT('TongHop (goc)'!$V$2:$V$200),\"\",ROW(6:6))","v":6},{"$f":"IF(U10=\"\",\"\",COUNTIF($U$5:U10,U10))","v":1},{"$f":"IF(C10>COUNT('TongHop (goc)'!$V$2:$V$200),\"\",VLOOKUP(LARGE('TongHop (goc)'!$V$2:$V$200,C10),'TongHop (goc)'!$V$2:$AA$200,2,0))","v":"Trần Thị Phương"},{"$f":"IF(C10>COUNT('TongHop (goc)'!$V$2:$V$200),\"\",VLOOKUP(LARGE('TongHop (goc)'!$V$2:$V$200,C10),'TongHop (goc)'!$V$2:$AA$200,3,0))","v":"Thúy"},"26/10/2018","Nguyễn Thành Trung","Xóm 6","T","T",8,6.75,8.5,9.25,32.5,"x",null,"6A",{"$f":"IF(C10>COUNT('TongHop (goc)'!$V$2:$V$200),\"\",VLOOKUP(LARGE('TongHop (goc)'!$V$2:$V$200,C10),'TongHop (goc)'!$V$2:$AA$200,4,0))","v":"HỌC SINH GIỎI"},{"$f":"IF(C10>COUNT('TongHop (goc)'!$V$2:$V$200),\"\",VLOOKUP(LARGE('TongHop (goc)'!$V$2:$V$200,C10),'TongHop (goc)'!$V$2:$AA$200,5,0))","v":"6B"},null,6,null,"7C","21 - HSG","8 - HSXS"]
[null,null,{"$f":"IF(ROW(7:7)>COUNT('TongHop (goc)'!$V$2:$V$200),\"\",ROW(7:7))","v":7},{"$f":"IF(U11=\"\",\"\",COUNTIF($U$5:U11,U11))","v":2},{"$f":"IF(C11>COUNT('TongHop (goc)'!$V$2:$V$200),\"\",VLOOKUP(LARGE('TongHop (goc)'!$V$2:$V$200,C11),'TongHop (goc)'!$V$2:$AA$200,2,0))","v":"Phạm Nhật Mỹ"},{"$f":"IF(C11>COUNT('TongHop (goc)'!$V$2:$V$200),\"\",VLOOKUP(LARGE('TongHop (goc)'!$V$2:$V$200,C11),'TongHop (goc)'!$V$2:$AA$200,3,0))","v":"Anh"},"26/10/2019","Nguyễn Thành Trung","Xóm 7","T","T",8,6.75,8.5,9.25,32.5,"x",null,"6A",{"$f":"IF(C11>COUNT('TongHop (goc)'!$V$2:$V$200),\"\",VLOOKUP(LARGE('TongHop (goc)'!$V$2:$V$200,C11),'TongHop (goc)'!$V$2:$AA$200,4,0))","v":"HỌC SINH GIỎI"},{"$f":"IF(C11>COUNT('TongHop (goc)'!$V$2:$V$200),\"\",VLOOKUP(LARGE('TongHop (goc)'!$V$2:$V$200,C11),'TongHop (goc)'!$V$2:$AA$200,5,0))","v":"6B"},null,7,null,"8A","3 - HSG"]
[null,null,{"$f":"IF(ROW(8:8)>COUNT('TongHop (goc)'!$V$2:$V$200),\"\",ROW(8:8))","v":8},{"$f":"IF(U12=\"\",\"\",COUNTIF($U$5:U12,U12))","v":3},{"$f":"IF(C12>COUNT('TongHop (goc)'!$V$2:$V$200),\"\",VLOOKUP(LARGE('TongHop (goc)'!$V$2:$V$200,C12),'TongHop (goc)'!$V$2:$AA$200,2,0))","v":"Trần Cẩm"},{"$f":"IF(C12>COUNT('TongHop (goc)'!$V$2:$V$200),\"\",VLOOKUP(LARGE('TongHop (goc)'!$V$2:$V$200,C12),'TongHop (goc)'!$V$2:$AA$200,3,0))","v":"Tú"},"26/10/2020","Nguyễn Thành Trung","Xóm 8","T","T",8,6.75,8.5,9.25,32.5,"x",null,"6A",{"$f":"IF(C12>COUNT('TongHop (goc)'!$V$2:$V$200),\"\",VLOOKUP(LARGE('TongHop (goc)'!$V$2:$V$200,C12),'TongHop (goc)'!$V$2:$AA$200,4,0))","v":"HỌC SINH GIỎI"},{"$f":"IF(C12>COUNT('TongHop (goc)'!$V$2:$V$200),\"\",VLOOKUP(LARGE('TongHop (goc)'!$V$2:$V$200,C12),'TongHop (goc)'!$V$2:$AA$200,5,0))","v":"6B"},null,8,null,"8B","6 - HSG"]
[null,null,{"$f":"IF(ROW(9:9)>COUNT('TongHop (goc)'!$V$2:$V$200),\"\",ROW(9:9))","v":9},{"$f":"IF(U13=\"\",\"\",COUNTIF($U$5:U13,U13))","v":4},{"$f":"IF(C13>COUNT('TongHop (goc)'!$V$2:$V$200),\"\",VLOOKUP(LARGE('TongHop (goc)'!$V$2:$V$200,C13),'TongHop (goc)'!$V$2:$AA$200,2,0))","v":"Lê Thùy"},{"$f":"IF(C13>COUNT('TongHop (goc)'!$V$2:$V$200),\"\",VLOOKUP(LARGE('TongHop (goc)'!$V$2:$V$200,C13),'TongHop (goc)'!$V$2:$AA$200,3,0))","v":"Anh"},"26/10/2021","Nguyễn Thành Trung","Xóm 9","T","T",8,6.75,8.5,9.25,32.5,"x",null,"6A",{"$f":"IF(C13>COUNT('TongHop (goc)'!$V$2:$V$200),\"\",VLOOKUP(LARGE('TongHop (goc)'!$V$2:$V$200,C13),'TongHop (goc)'!$V$2:$AA$200,4,0))","v":"HỌC SINH GIỎI"},{"$f":"IF(C13>COUNT('TongHop (goc)'!$V$2:$V$200),\"\",VLOOKUP(LARGE('TongHop (goc)'!$V$2:$V$200,C13),'TongHop (goc)'!$V$2:$AA$200,5,0))","v":"6B"},null,9,null,"8C","28 - HSG","8 - HSXS"]
[null,null,{"$f":"IF(ROW(10:10)>COUNT('TongHop (goc)'!$V$2:$V$200),\"\",ROW(10:10))","v":10},{"$f":"IF(U14=\"\",\"\",COUNTIF($U$5:U14,U14))","v":5},{"$f":"IF(C14>COUNT('TongHop (goc)'!$V$2:$V$200),\"\",VLOOKUP(LARGE('TongHop (goc)'!$V$2:$V$200,C14),'TongHop (goc)'!$V$2:$AA$200,2,0))","v":"Lê Việt"},{"$f":"IF(C14>COUNT('TongHop (goc)'!$V$2:$V$200),\"\",VLOOKUP(LARGE('TongHop (goc)'!$V$2:$V$200,C14),'TongHop (goc)'!$V$2:$AA$200,3,0))","v":"Anh"},"26/10/2022","Nguyễn Thành Trung","Xóm 10","T","T",8,6.75,8.5,9.25,32.5,"x",null,"6A",{"$f":"IF(C14>COUNT('TongHop (goc)'!$V$2:$V$200),\"\",VLOOKUP(LARGE('TongHop (goc)'!$V$2:$V$200,C14),'TongHop (goc)'!$V$2:$AA$200,4,0))","v":"HỌC SINH GIỎI"},{"$f":"IF(C14>COUNT('TongHop (goc)'!$V$2:$V$200),\"\",VLOOKUP(LARGE('TongHop (goc)'!$V$2:$V$200,C14),'TongHop (goc)'!$V$2:$AA$200,5,0))","v":"6B"},null,10,null,"9A","4 - HSG"]
["6C","29 - HSG",{"$f":"IF(ROW(11:11)>COUNT('TongHop (goc)'!$V$2:$V$200),\"\",ROW(11:11))","v":11},{"$f":"IF(U15=\"\",\"\",COUNTIF($U$5:U15,U15))","v":1},{"$f":"IF(C15>COUNT('TongHop (goc)'!$V$2:$V$200),\"\",VLOOKUP(LARGE('TongHop (goc)'!$V$2:$V$200,C15),'TongHop (goc)'!$V$2:$AA$200,2,0))","v":"Trần Hương"},{"$f":"IF(C15>COUNT('TongHop (goc)'!$V$2:$V$200),\"\",VLOOKUP(LARGE('TongHop (goc)'!$V$2:$V$200,C15),'TongHop (goc)'!$V$2:$AA$200,3,0))","v":"Giang"},"26/10/2023","Nguyễn Thành Trung","Xóm 11","T","T",8,6.75,8.5,9.25,32.5,"x",null,"6A",{"$f":"IF(C15>COUNT('TongHop (goc)'!$V$2:$V$200),\"\",VLOOKUP(LARGE('TongHop (goc)'!$V$2:$V$200,C15),'TongHop (goc)'!$V$2:$AA$200,4,0))","v":"HỌC SINH GIỎI"},{"$f":"IF(C15>COUNT('TongHop (goc)'!$V$2:$V$200),\"\",VLOOKUP(LARGE('TongHop (goc)'!$V$2:$V$200,C15),'TongHop (goc)'!$V$2:$AA$200,5,0))","v":"6C"},null,11,null,"9B","5 - HSG"]
["6C",null,{"$f":"IF(ROW(12:12)>COUNT('TongHop (goc)'!$V$2:$V$200),\"\",ROW(12:12))","v":12},{"$f":"IF(U16=\"\",\"\",COUNTIF($U$5:U16,U16))","v":2},{"$f":"IF(C16>COUNT('TongHop (goc)'!$V$2:$V$200),\"\",VLOOKUP(LARGE('TongHop (goc)'!$V$2:$V$200,C16),'TongHop (goc)'!$V$2:$AA$200,2,0))","v":"Lê Thu"},{"$f":"IF(C16>COUNT('TongHop (goc)'!$V$2:$V$200),\"\",VLOOKUP(LARGE('TongHop (goc)'!$V$2:$V$200,C16),'TongHop (goc)'!$V$2:$AA$200,3,0))","v":"Diệu"},"26/10/2024","Nguyễn Thành Trung","Xóm 12","T","T",8,6.75,8.5,9.25,32.5,"x",null,"6A",{"$f":"IF(C16>COUNT('TongHop (goc)'!$V$2:$V$200),\"\",VLOOKUP(LARGE('TongHop (goc)'!$V$2:$V$200,C16),'TongHop (goc)'!$V$2:$AA$200,4,0))","v":"HỌC SINH GIỎI"},{"$f":"IF(C16>COUNT('TongHop (goc)'!$V$2:$V$200),\"\",VLOOKUP(LARGE('TongHop (goc)'!$V$2:$V$200,C16),'TongHop (goc)'!$V$2:$AA$200,5,0))","v":"6C"},null,12,null,"9C","29 - HSG","6 - HSXS"]
[null,null,{"$f":"IF(ROW(13:13)>COUNT('TongHop (goc)'!$V$2:$V$200),\"\",ROW(13:13))","v":13},{"$f":"IF(U17=\"\",\"\",COUNTIF($U$5:U17,U17))","v":3},{"$f":"IF(C17>COUNT('TongHop (goc)'!$V$2:$V$200),\"\",VLOOKUP(LARGE('TongHop (goc)'!$V$2:$V$200,C17),'TongHop (goc)'!$V$2:$AA$200,2,0))","v":"Lê Đại Chiến"},{"$f":"IF(C17>COUNT('TongHop (goc)'!$V$2:$V$200),\"\",VLOOKUP(LARGE('TongHop (goc)'!$V$2:$V$200,C17),'TongHop (goc)'!$V$2:$AA$200,3,0))","v":"Thắng"},"26/10/2025","Nguyễn Thành Trung","Xóm 13","T","T",8,6.75,8.5,9.25,32.5,"x",null,"6A",{"$f":"IF(C17>COUNT('TongHop (goc)'!$V$2:$V$200),\"\",VLOOKUP(LARGE('TongHop (goc)'!$V$2:$V$200,C17),'TongHop (goc)'!$V$2:$AA$200,4,0))","v":"HỌC SINH GIỎI"},{"$f":"IF(C17>COUNT('TongHop (goc)'!$V$2:$V$200),\"\",VLOOKUP(LARGE('TongHop (goc)'!$V$2:$V$200,C17),'TongHop (goc)'!$V$2:$AA$200,5,0))","v":"6C"},null,13]
[null,null,{"$f":"IF(ROW(14:14)>COUNT('TongHop (goc)'!$V$2:$V$200),\"\",ROW(14:14))","v":14},{"$f":"IF(U18=\"\",\"\",COUNTIF($U$5:U18,U18))","v":4},{"$f":"IF(C18>COUNT('TongHop (goc)'!$V$2:$V$200),\"\",VLOOKUP(LARGE('TongHop (goc)'!$V$2:$V$200,C18),'TongHop (goc)'!$V$2:$AA$200,2,0))","v":"Trần Bảo"},{"$f":"IF(C18>COUNT('TongHop (goc)'!$V$2:$V$200),\"\",VLOOKUP(LARGE('TongHop (goc)'!$V$2:$V$200,C18),'TongHop (goc)'!$V$2:$AA$200,3,0))","v":"Ngọc"},"26/10/2026","Nguyễn Thành Trung","Xóm 14","T","T",8,6.75,8.5,9.25,32.5,"x",null,"6A",{"$f":"IF(C18>COUNT('TongHop (goc)'!$V$2:$V$200),\"\",VLOOKUP(LARGE('TongHop (goc)'!$V$2:$V$200,C18),'TongHop (goc)'!$V$2:$AA$200,4,0))","v":"HỌC SINH GIỎI"},{"$f":"IF(C18>COUNT('TongHop (goc)'!$V$2:$V$200),\"\",VLOOKUP(LARGE('TongHop (goc)'!$V$2:$V$200,C18),'TongHop (goc)'!$V$2:$AA$200,5,0))","v":"6C"},null,14]
[null,null,{"$f":"IF(ROW(15:15)>COUNT('TongHop (goc)'!$V$2:$V$200),\"\",ROW(15:15))","v":15},{"$f":"IF(U19=\"\",\"\",COUNTIF($U$5:U19,U19))","v":5},{"$f":"IF(C19>COUNT('TongHop (goc)'!$V$2:$V$200),\"\",VLOOKUP(LARGE('TongHop (goc)'!$V$2:$V$200,C19),'TongHop (goc)'!$V$2:$AA$200,2,0))","v":"Mai Khánh"},{"$f":"IF(C19>COUNT('TongHop (goc)'!$V$2:$V$200),\"\",VLOOKUP(LARGE('TongHop (goc)'!$V$2:$V$200,C19),'TongHop (goc)'!$V$2:$AA$200,3,0))","v":"Lệ"},"26/10/2027","Nguyễn Thành Trung","Xóm 15","T","T",8,6.75,8.5,9.25,32.5,"x",null,"6A",{"$f":"IF(C19>COUNT('TongHop (goc)'!$V$2:$V$200),\"\",VLOOKUP(LARGE('TongHop (goc)'!$V$2:$V$200,C19),'TongHop (goc)'!$V$2:$AA$200,4,0))","v":"HỌC SINH GIỎI"},{"$f":"IF(C19>COUNT('TongHop (goc)'!$V$2:$V$200),\"\",VLOOKUP(LARGE('TongHop (goc)'!$V$2:$V$200,C19),'TongHop (goc)'!$V$2:$AA$200,5,0))","v":"6C"},null,15]
[null,null,{"$f":"IF(ROW(16:16)>COUNT('TongHop (goc)'!$V$2:$V$200),\"\",ROW(16:16))","v":16},{"$f":"IF(U20=\"\",\"\",COUNTIF($U$5:U20,U20))","v":6},{"$f":"IF(C20>COUNT('TongHop (goc)'!$V$2:$V$200),\"\",VLOOKUP(LARGE('TongHop (goc)'!$V$2:$V$200,C20),'TongHop (goc)'!$V$2:$AA$200,2,0))","v":"Trần Đức"},{"$f":"IF(C20>COUNT('TongHop (goc)'!$V$2:$V$200),\"\",VLOOKUP(LARGE('TongHop (goc)'!$V$2:$V$200,C20),'TongHop (goc)'!$V$2:$AA$200,3,0))","v":"Khoa"},"26/10/2028","Nguyễn Thành Trung","Xóm 16","T","T",8,6.75,8.5,9.25,32.5,"x",null,"6A",{"$f":"IF(C20>COUNT('TongHop (goc)'!$V$2:$V$200),\"\",VLOOKUP(LARGE('TongHop (goc)'!$V$2:$V$200,C20),'TongHop (goc)'!$V$2:$AA$200,4,0))","v":"HỌC SINH GIỎI"},{"$f":"IF(C20>COUNT('TongHop (goc)'!$V$2:$V$200),\"\",VLOOKUP(LARGE('TongHop (goc)'!$V$2:$V$200,C20),'TongHop (goc)'!$V$2:$AA$200,5,0))","v":"6C"},null,16]
[null,null,{"$f":"IF(ROW(17:17)>COUNT('TongHop (goc)'!$V$2:$V$200),\"\",ROW(17:17))","v":17},{"$f":"IF(U21=\"\",\"\",COUNTIF($U$5:U21,U21))","v":7},{"$f":"IF(C21>COUNT('TongHop (goc)'!$V$2:$V$200),\"\",VLOOKUP(LARGE('TongHop (goc)'!$V$2:$V$200,C21),'TongHop (goc)'!$V$2:$AA$200,2,0))","v":"Lê Thục"},{"$f":"IF(C21>COUNT('TongHop (goc)'!$V$2:$V$200),\"\",VLOOKUP(LARGE('TongHop (goc)'!$V$2:$V$200,C21),'TongHop (goc)'!$V$2:$AA$200,3,0))","v":"Quyên"},"26/10/2029","Nguyễn Thành Trung","Xóm 17","T","T",8,6.75,8.5,9.25,32.5,"x",null,"6A",{"$f":"IF(C21>COUNT('TongHop (goc)'!$V$2:$V$200),\"\",VLOOKUP(LARGE('TongHop (goc)'!$V$2:$V$200,C21),'TongHop (goc)'!$V$2:$AA$200,4,0))","v":"HỌC SINH GIỎI"},{"$f":"IF(C21>COUNT('TongHop (goc)'!$V$2:$V$200),\"\",VLOOKUP(LARGE('TongHop (goc)'!$V$2:$V$200,C21),'TongHop (goc)'!$V$2:$AA$200,5,0))","v":"6C"},null,17]
[null,null,{"$f":"IF(ROW(18:18)>COUNT('TongHop (goc)'!$V$2:$V$200),\"\",ROW(18:18))","v":18},{"$f":"IF(U22=\"\",\"\",COUNTIF($U$5:U22,U22))","v":8},{"$f":"IF(C22>COUNT('TongHop (goc)'!$V$2:$V$200),\"\",VLOOKUP(LARGE('TongHop (goc)'!$V$2:$V$200,C22),'TongHop (goc)'!$V$2:$AA$200,2,0))","v":"Trần Gia"},{"$f":"IF(C22>COUNT('TongHop (goc)'!$V$2:$V$200),\"\",VLOOKUP(LARGE('TongHop (goc)'!$V$2:$V$200,C22),'TongHop (goc)'!$V$2:$AA$200,3,0))","v":"Phát"},"26/10/2030","Nguyễn Thành Trung","Xóm 18","T","T",8,6.75,8.5,9.25,32.5,"x",null,"6A",{"$f":"IF(C22>COUNT('TongHop (goc)'!$V$2:$V$200),\"\",VLOOKUP(LARGE('TongHop (goc)'!$V$2:$V$200,C22),'TongHop (goc)'!$V$2:$AA$200,4,0))","v":"HỌC SINH GIỎI"},{"$f":"IF(C22>COUNT('TongHop (goc)'!$V$2:$V$200),\"\",VLOOKUP(LARGE('TongHop (goc)'!$V$2:$V$200,C22),'TongHop (goc)'!$V$2:$AA$200,5,0))","v":"6C"},null,18]
[null,null,{"$f":"IF(ROW(19:19)>COUNT('TongHop (goc)'!$V$2:$V$200),\"\",ROW(19:19))","v":19},{"$f":"IF(U23=\"\",\"\",COUNTIF($U$5:U23,U23))","v":9},{"$f":"IF(C23>COUNT('TongHop (goc)'!$V$2:$V$200),\"\",VLOOKUP(LARGE('TongHop (goc)'!$V$2:$V$200,C23),'TongHop (goc)'!$V$2:$AA$200,2,0))","v":"Nguyễn Bảo"},{"$f":"IF(C23>COUNT('TongHop (goc)'!$V$2:$V$200),\"\",VLOOKUP(LARGE('TongHop (goc)'!$V$2:$V$200,C23),'TongHop (goc)'!$V$2:$AA$200,3,0))","v":"Ngọc"},"26/10/2031","Nguyễn Thành Trung","Xóm 19","T","T",8,6.75,8.5,9.25,32.5,"x",null,"6A",{"$f":"IF(C23>COUNT('TongHop (goc)'!$V$2:$V$200),\"\",VLOOKUP(LARGE('TongHop (goc)'!$V$2:$V$200,C23),'TongHop (goc)'!$V$2:$AA$200,4,0))","v":"HỌC SINH GIỎI"},{"$f":"IF(C23>COUNT('TongHop (goc)'!$V$2:$V$200),\"\",VLOOKUP(LARGE('TongHop (goc)'!$V$2:$V$200,C23),'TongHop (goc)'!$V$2:$AA$200,5,0))","v":"6C"},null,19]
[null,null,{"$f":"IF(ROW(20:20)>COUNT('TongHop (goc)'!$V$2:$V$200),\"\",ROW(20:20))","v":20},{"$f":"IF(U24=\"\",\"\",COUNTIF($U$5:U24,U24))","v":10},{"$f":"IF(C24>COUNT('TongHop (goc)'!$V$2:$V$200),\"\",VLOOKUP(LARGE('TongHop (goc)'!$V$2:$V$200,C24),'TongHop (goc)'!$V$2:$AA$200,2,0))","v":"Phạm Ngân"},{"$f":"IF(C24>COUNT('TongHop (goc)'!$V$2:$V$200),\"\",VLOOKUP(LARGE('TongHop (goc)'!$V$2:$V$200,C24),'TongHop (goc)'!$V$2:$AA$200,3,0))","v":"Hà"},"26/10/2032","Nguyễn Thành Trung","Xóm 20","T","T",8,6.75,8.5,9.25,32.5,"x",null,"6A",{"$f":"IF(C24>COUNT('TongHop (goc)'!$V$2:$V$200),\"\",VLOOKUP(LARGE('TongHop (goc)'!$V$2:$V$200,C24),'TongHop (goc)'!$V$2:$AA$200,4,0))","v":"HỌC SINH GIỎI"},{"$f":"IF(C24>COUNT('TongHop (goc)'!$V$2:$V$200),\"\",VLOOKUP(LARGE('TongHop (goc)'!$V$2:$V$200,C24),'TongHop (goc)'!$V$2:$AA$200,5,0))","v":"6C"},null,20]
[null,null,{"$f":"IF(ROW(21:21)>COUNT('TongHop (goc)'!$V$2:$V$200),\"\",ROW(21:21))","v":21},{"$f":"IF(U25=\"\",\"\",COUNTIF($U$5:U25,U25))","v":11},{"$f":"IF(C25>COUNT('TongHop (goc)'!$V$2:$V$200),\"\",VLOOKUP(LARGE('TongHop (goc)'!$V$2:$V$200,C25),'TongHop (goc)'!$V$2:$AA$200,2,0))","v":"Phạm Minh"},{"$f":"IF(C25>COUNT('TongHop (goc)'!$V$2:$V$200),\"\",VLOOKUP(LARGE('TongHop (goc)'!$V$2:$V$200,C25),'TongHop (goc)'!$V$2:$AA$200,3,0))","v":"Đăng"},"26/10/2033","Nguyễn Thành Trung","Xóm 21","T","T",8,6.75,8.5,9.25,32.5,"x",null,"6A",{"$f":"IF(C25>COUNT('TongHop (goc)'!$V$2:$V$200),\"\",VLOOKUP(LARGE('TongHop (goc)'!$V$2:$V$200,C25),'TongHop (goc)'!$V$2:$AA$200,4,0))","v":"HỌC SINH GIỎI"},{"$f":"IF(C25>COUNT('TongHop (goc)'!$V$2:$V$200),\"\",VLOOKUP(LARGE('TongHop (goc)'!$V$2:$V$200,C25),'TongHop (goc)'!$V$2:$AA$200,5,0))","v":"6C"},null,21]
[null,null,{"$f":"IF(ROW(22:22)>COUNT('TongHop (goc)'!$V$2:$V$200),\"\",ROW(22:22))","v":22},{"$f":"IF(U26=\"\",\"\",COUNTIF($U$5:U26,U26))","v":12},{"$f":"IF(C26>COUNT('TongHop (goc)'!$V$2:$V$200),\"\",VLOOKUP(LARGE('TongHop (goc)'!$V$2:$V$200,C26),'TongHop (goc)'!$V$2:$AA$200,2,0))","v":"Trần Ngọc"},{"$f":"IF(C26>COUNT('TongHop (goc)'!$V$2:$V$200),\"\",VLOOKUP(LARGE('TongHop (goc)'!$V$2:$V$200,C26),'TongHop (goc)'!$V$2:$AA$200,3,0))","v":"Diệp"},"26/10/2034","Nguyễn Thành Trung","Xóm 22","T","T",8,6.75,8.5,9.25,32.5,"x",null,"6A",{"$f":"IF(C26>COUNT('TongHop (goc)'!$V$2:$V$200),\"\",VLOOKUP(LARGE('TongHop (goc)'!$V$2:$V$200,C26),'TongHop (goc)'!$V$2:$AA$200,4,0))","v":"HỌC SINH GIỎI"},{"$f":"IF(C26>COUNT('TongHop (goc)'!$V$2:$V$200),\"\",VLOOKUP(LARGE('TongHop (goc)'!$V$2:$V$200,C26),'TongHop (goc)'!$V$2:$AA$200,5,0))","v":"6C"},null,22]
[null,null,{"$f":"IF(ROW(23:23)>COUNT('TongHop (goc)'!$V$2:$V$200),\"\",ROW(23:23))","v":23},{"$f":"IF(U27=\"\",\"\",COUNTIF($U$5:U27,U27))","v":13},{"$f":"IF(C27>COUNT('TongHop (goc)'!$V$2:$V$200),\"\",VLOOKUP(LARGE('TongHop (goc)'!$V$2:$V$200,C27),'TongHop (goc)'!$V$2:$AA$200,2,0))","v":"Bùi Thanh"},{"$f":"IF(C27>COUNT('TongHop (goc)'!$V$2:$V$200),\"\",VLOOKUP(LARGE('TongHop (goc)'!$V$2:$V$200,C27),'TongHop (goc)'!$V$2:$AA$200,3,0))","v":"Vân"},"26/10/2035","Nguyễn Thành Trung","Xóm 23","T","T",8,6.75,8.5,9.25,32.5,"x",null,"6A",{"$f":"IF(C27>COUNT('TongHop (goc)'!$V$2:$V$200),\"\",VLOOKUP(LARGE('TongHop (goc)'!$V$2:$V$200,C27),'TongHop (goc)'!$V$2:$AA$200,4,0))","v":"HỌC SINH GIỎI"},{"$f":"IF(C27>COUNT('TongHop (goc)'!$V$2:$V$200),\"\",VLOOKUP(LARGE('TongHop (goc)'!$V$2:$V$200,C27),'TongHop (goc)'!$V$2:$AA$200,5,0))","v":"6C"},null,23]
[null,null,{"$f":"IF(ROW(24:24)>COUNT('TongHop (goc)'!$V$2:$V$200),\"\",ROW(24:24))","v":24},{"$f":"IF(U28=\"\",\"\",COUNTIF($U$5:U28,U28))","v":14},{"$f":"IF(C28>COUNT('TongHop (goc)'!$V$2:$V$200),\"\",VLOOKUP(LARGE('TongHop (goc)'!$V$2:$V$200,C28),'TongHop (goc)'!$V$2:$AA$200,2,0))","v":"Đặng Quang"},{"$f":"IF(C28>COUNT('TongHop (goc)'!$V$2:$V$200),\"\",VLOOKUP(LARGE('TongHop (goc)'!$V$2:$V$200,C28),'TongHop (goc)'!$V$2:$AA$200,3,0))","v":"Dũng"},"26/10/2036","Nguyễn Thành Trung","Xóm 24","T","T",8,6.75,8.5,9.25,32.5,"x",null,"6A",{"$f":"IF(C28>COUNT('TongHop (goc)'!$V$2:$V$200),\"\",VLOOKUP(LARGE('TongHop (goc)'!$V$2:$V$200,C28),'TongHop (goc)'!$V$2:$AA$200,4,0))","v":"HỌC SINH GIỎI"},{"$f":"IF(C28>COUNT('TongHop (goc)'!$V$2:$V$200),\"\",VLOOKUP(LARGE('TongHop (goc)'!$V$2:$V$200,C28),'TongHop (goc)'!$V$2:$AA$200,5,0))","v":"6C"},null,24]
[null,null,{"$f":"IF(ROW(25:25)>COUNT('TongHop (goc)'!$V$2:$V$200),\"\",ROW(25:25))","v":25},{"$f":"IF(U29=\"\",\"\",COUNTIF($U$5:U29,U29))","v":15},{"$f":"IF(C29>COUNT('TongHop (goc)'!$V$2:$V$200),\"\",VLOOKUP(LARGE('TongHop (goc)'!$V$2:$V$200,C29),'TongHop (goc)'!$V$2:$AA$200,2,0))","v":"Đỗ Thảo"},{"$f":"IF(C29>COUNT('TongHop (goc)'!$V$2:$V$200),\"\",VLOOKUP(LARGE('TongHop (goc)'!$V$2:$V$200,C29),'TongHop (goc)'!$V$2:$AA$200,3,0))","v":"Linh"},"26/10/2037","Nguyễn Thành Trung","Xóm 25","T","T",8,6.75,8.5,9.25,32.5,"x",null,"6A",{"$f":"IF(C29>COUNT('TongHop (goc)'!$V$2:$V$200),\"\",VLOOKUP(LARGE('TongHop (goc)'!$V$2:$V$200,C29),'TongHop (goc)'!$V$2:$AA$200,4,0))","v":"HỌC SINH GIỎI"},{"$f":"IF(C29>COUNT('TongHop (goc)'!$V$2:$V$200),\"\",VLOOKUP(LARGE('TongHop (goc)'!$V$2:$V$200,C29),'TongHop (goc)'!$V$2:$AA$200,5,0))","v":"6C"},null,25]
[null,null,{"$f":"IF(ROW(26:26)>COUNT('TongHop (goc)'!$V$2:$V$200),\"\",ROW(26:26))","v":26},{"$f":"IF(U30=\"\",\"\",COUNTIF($U$5:U30,U30))","v":16},{"$f":"IF(C30>COUNT('TongHop (goc)'!$V$2:$V$200),\"\",VLOOKUP(LARGE('TongHop (goc)'!$V$2:$V$200,C30),'TongHop (goc)'!$V$2:$AA$200,2,0))","v":"Nguyễn Bích"},{"$f":"IF(C30>COUNT('TongHop (goc)'!$V$2:$V$200),\"\",VLOOKUP(LARGE('TongHop (goc)'!$V$2:$V$200,C30),'TongHop (goc)'!$V$2:$AA$200,3,0))","v":"Diệp"},"26/10/2038","Nguyễn Thành Trung","Xóm 26","T","T",8,6.75,8.5,9.25,32.5,"x",null,"6A",{"$f":"IF(C30>COUNT('TongHop (goc)'!$V$2:$V$200),\"\",VLOOKUP(LARGE('TongHop (goc)'!$V$2:$V$200,C30),'TongHop (goc)'!$V$2:$AA$200,4,0))","v":"HỌC SINH GIỎI"},{"$f":"IF(C30>COUNT('TongHop (goc)'!$V$2:$V$200),\"\",VLOOKUP(LARGE('TongHop (goc)'!$V$2:$V$200,C30),'TongHop (goc)'!$V$2:$AA$200,5,0))","v":"6C"},null,26]
[null,null,{"$f":"IF(ROW(27:27)>COUNT('TongHop (goc)'!$V$2:$V$200),\"\",ROW(27:27))","v":27},{"$f":"IF(U31=\"\",\"\",COUNTIF($U$5:U31,U31))","v":17},{"$f":"IF(C31>COUNT('TongHop (goc)'!$V$2:$V$200),\"\",VLOOKUP(LARGE('TongHop (goc)'!$V$2:$V$200,C31),'TongHop (goc)'!$V$2:$AA$200,2,0))","v":"Trần Ngọc"},{"$f":"IF(C31>COUNT('TongHop (goc)'!$V$2:$V$200),\"\",VLOOKUP(LARGE('TongHop (goc)'!$V$2:$V$200,C31),'TongHop (goc)'!$V$2:$AA$200,3,0))","v":"Ánh"},"26/10/2039","Nguyễn Thành Trung","Xóm 27","T","T",8,6.75,8.5,9.25,32.5,"x",null,"6A",{"$f":"IF(C31>COUNT('TongHop (goc)'!$V$2:$V$200),\"\",VLOOKUP(LARGE('TongHop (goc)'!$V$2:$V$200,C31),'TongHop (goc)'!$V$2:$AA$200,4,0))","v":"HỌC SINH GIỎI"},{"$f":"IF(C31>COUNT('TongHop (goc)'!$V$2:$V$200),\"\",VLOOKUP(LARGE('TongHop (goc)'!$V$2:$V$200,C31),'TongHop (goc)'!$V$2:$AA$200,5,0))","v":"6C"},null,27]
[null,null,{"$f":"IF(ROW(28:28)>COUNT('TongHop (goc)'!$V$2:$V$200),\"\",ROW(28:28))","v":28},{"$f":"IF(U32=\"\",\"\",COUNTIF($U$5:U32,U32))","v":18},{"$f":"IF(C32>COUNT('TongHop (goc)'!$V$2:$V$200),\"\",VLOOKUP(LARGE('TongHop (goc)'!$V$2:$V$200,C32),'TongHop (goc)'!$V$2:$AA$200,2,0))","v":"Phạm Hạnh"},{"$f":"IF(C32>COUNT('TongHop (goc)'!$V$2:$V$200),\"\",VLOOKUP(LARGE('TongHop (goc)'!$V$2:$V$200,C32),'TongHop (goc)'!$V$2:$AA$200,3,0))","v":"Nguyên"},"26/10/2040","Nguyễn Thành Trung","Xóm 28","T","T",8,6.75,8.5,9.25,32.5,"x",null,"6A",{"$f":"IF(C32>COUNT('TongHop (goc)'!$V$2:$V$200),\"\",VLOOKUP(LARGE('TongHop (goc)'!$V$2:$V$200,C32),'TongHop (goc)'!$V$2:$AA$200,4,0))","v":"HỌC SINH GIỎI"},{"$f":"IF(C32>COUNT('TongHop (goc)'!$V$2:$V$200),\"\",VLOOKUP(LARGE('TongHop (goc)'!$V$2:$V$200,C32),'TongHop (goc)'!$V$2:$AA$200,5,0))","v":"6C"},null,28]
[null,null,{"$f":"IF(ROW(29:29)>COUNT('TongHop (goc)'!$V$2:$V$200),\"\",ROW(29:29))","v":29},{"$f":"IF(U33=\"\",\"\",COUNTIF($U$5:U33,U33))","v":19},{"$f":"IF(C33>COUNT('TongHop (goc)'!$V$2:$V$200),\"\",VLOOKUP(LARGE('TongHop (goc)'!$V$2:$V$200,C33),'TongHop (goc)'!$V$2:$AA$200,2,0))","v":"Trần Thị Huyền"},{"$f":"IF(C33>COUNT('TongHop (goc)'!$V$2:$V$200),\"\",VLOOKUP(LARGE('TongHop (goc)'!$V$2:$V$200,C33),'TongHop (goc)'!$V$2:$AA$200,3,0))","v":"Châu"},"26/10/2041","Nguyễn Thành Trung","Xóm 29","T","T",8,6.75,8.5,9.25,32.5,"x",null,"6A",{"$f":"IF(C33>COUNT('TongHop (goc)'!$V$2:$V$200),\"\",VLOOKUP(LARGE('TongHop (goc)'!$V$2:$V$200,C33),'TongHop (goc)'!$V$2:$AA$200,4,0))","v":"HỌC SINH GIỎI"},{"$f":"IF(C33>COUNT('TongHop (goc)'!$V$2:$V$200),\"\",VLOOKUP(LARGE('TongHop (goc)'!$V$2:$V$200,C33),'TongHop (goc)'!$V$2:$AA$200,5,0))","v":"6C"},null,29]
[null,null,{"$f":"IF(ROW(30:30)>COUNT('TongHop (goc)'!$V$2:$V$200),\"\",ROW(30:30))","v":30},{"$f":"IF(U34=\"\",\"\",COUNTIF($U$5:U34,U34))","v":20},{"$f":"IF(C34>COUNT('TongHop (goc)'!$V$2:$V$200),\"\",VLOOKUP(LARGE('TongHop (goc)'!$V$2:$V$200,C34),'TongHop (goc)'!$V$2:$AA$200,2,0))","v":"Nguyễn Bảo"},{"$f":"IF(C34>COUNT('TongHop (goc)'!$V$2:$V$200),\"\",VLOOKUP(LARGE('TongHop (goc)'!$V$2:$V$200,C34),'TongHop (goc)'!$V$2:$AA$200,3,0))","v":"Ngọc"},"26/10/2042","Nguyễn Thành Trung","Xóm 30","T","T",8,6.75,8.5,9.25,32.5,"x",null,"6A",{"$f":"IF(C34>COUNT('TongHop (goc)'!$V$2:$V$200),\"\",VLOOKUP(LARGE('TongHop (goc)'!$V$2:$V$200,C34),'TongHop (goc)'!$V$2:$AA$200,4,0))","v":"HỌC SINH GIỎI"},{"$f":"IF(C34>COUNT('TongHop (goc)'!$V$2:$V$200),\"\",VLOOKUP(LARGE('TongHop (goc)'!$V$2:$V$200,C34),'TongHop (goc)'!$V$2:$AA$200,5,0))","v":"6C"},null,30]
[null,null,{"$f":"IF(ROW(31:31)>COUNT('TongHop (goc)'!$V$2:$V$200),\"\",ROW(31:31))","v":31},{"$f":"IF(U35=\"\",\"\",COUNTIF($U$5:U35,U35))","v":21},{"$f":"IF(C35>COUNT('TongHop (goc)'!$V$2:$V$200),\"\",VLOOKUP(LARGE('TongHop (goc)'!$V$2:$V$200,C35),'TongHop (goc)'!$V$2:$AA$200,2,0))","v":"Trần Phương"},{"$f":"IF(C35>COUNT('TongHop (goc)'!$V$2:$V$200),\"\",VLOOKUP(LARGE('TongHop (goc)'!$V$2:$V$200,C35),'TongHop (goc)'!$V$2:$AA$200,3,0))","v":"Linh"},"26/10/2043","Nguyễn Thành Trung","Xóm 31","T","T",8,6.75,8.5,9.25,32.5,"x",null,"6A",{"$f":"IF(C35>COUNT('TongHop (goc)'!$V$2:$V$200),\"\",VLOOKUP(LARGE('TongHop (goc)'!$V$2:$V$200,C35),'TongHop (goc)'!$V$2:$AA$200,4,0))","v":"HỌC SINH GIỎI"},{"$f":"IF(C35>COUNT('TongHop (goc)'!$V$2:$V$200),\"\",VLOOKUP(LARGE('TongHop (goc)'!$V$2:$V$200,C35),'TongHop (goc)'!$V$2:$AA$200,5,0))","v":"6C"},null,31]
[null,null,{"$f":"IF(ROW(32:32)>COUNT('TongHop (goc)'!$V$2:$V$200),\"\",ROW(32:32))","v":32},{"$f":"IF(U36=\"\",\"\",COUNTIF($U$5:U36,U36))","v":22},{"$f":"IF(C36>COUNT('TongHop (goc)'!$V$2:$V$200),\"\",VLOOKUP(LARGE('TongHop (goc)'!$V$2:$V$200,C36),'TongHop (goc)'!$V$2:$AA$200,2,0))","v":"Hoàng Khánh"},{"$f":"IF(C36>COUNT('TongHop (goc)'!$V$2:$V$200),\"\",VLOOKUP(LARGE('TongHop (goc)'!$V$2:$V$200,C36),'TongHop (goc)'!$V$2:$AA$200,3,0))","v":"Huyền"},"26/10/2044","Nguyễn Thành Trung","Xóm 32","T","T",8,6.75,8.5,9.25,32.5,"x",null,"6A",{"$f":"IF(C36>COUNT('TongHop (goc)'!$V$2:$V$200),\"\",VLOOKUP(LARGE('TongHop (goc)'!$V$2:$V$200,C36),'TongHop (goc)'!$V$2:$AA$200,4,0))","v":"HỌC SINH GIỎI"},{"$f":"IF(C36>COUNT('TongHop (goc)'!$V$2:$V$200),\"\",VLOOKUP(LARGE('TongHop (goc)'!$V$2:$V$200,C36),'TongHop (goc)'!$V$2:$AA$200,5,0))","v":"6C"},null,32]
[null,null,{"$f":"IF(ROW(33:33)>COUNT('TongHop (goc)'!$V$2:$V$200),\"\",ROW(33:33))","v":33},{"$f":"IF(U37=\"\",\"\",COUNTIF($U$5:U37,U37))","v":23},{"$f":"IF(C37>COUNT('TongHop (goc)'!$V$2:$V$200),\"\",VLOOKUP(LARGE('TongHop (goc)'!$V$2:$V$200,C37),'TongHop (goc)'!$V$2:$AA$200,2,0))","v":"Phạm Huy"},{"$f":"IF(C37>COUNT('TongHop (goc)'!$V$2:$V$200),\"\",VLOOKUP(LARGE('TongHop (goc)'!$V$2:$V$200,C37),'TongHop (goc)'!$V$2:$AA$200,3,0))","v":"Hiệu"},"26/10/2045","Nguyễn Thành Trung","Xóm 33","T","T",8,6.75,8.5,9.25,32.5,"x",null,"6A",{"$f":"IF(C37>COUNT('TongHop (goc)'!$V$2:$V$200),\"\",VLOOKUP(LARGE('TongHop (goc)'!$V$2:$V$200,C37),'TongHop (goc)'!$V$2:$AA$200,4,0))","v":"HỌC SINH GIỎI"},{"$f":"IF(C37>COUNT('TongHop (goc)'!$V$2:$V$200),\"\",VLOOKUP(LARGE('TongHop (goc)'!$V$2:$V$200,C37),'TongHop (goc)'!$V$2:$AA$200,5,0))","v":"6C"},null,33]
[null,null,{"$f":"IF(ROW(34:34)>COUNT('TongHop (goc)'!$V$2:$V$200),\"\",ROW(34:34))","v":34},{"$f":"IF(U38=\"\",\"\",COUNTIF($U$5:U38,U38))","v":24},{"$f":"IF(C38>COUNT('TongHop (goc)'!$V$2:$V$200),\"\",VLOOKUP(LARGE('TongHop (goc)'!$V$2:$V$200,C38),'TongHop (goc)'!$V$2:$AA$200,2,0))","v":"Trần Hải"},{"$f":"IF(C38>COUNT('TongHop (goc)'!$V$2:$V$200),\"\",VLOOKUP(LARGE('TongHop (goc)'!$V$2:$V$200,C38),'TongHop (goc)'!$V$2:$AA$200,3,0))","v":"Đăng"},"26/10/2046","Nguyễn Thành Trung","Xóm 34","T","T",8,6.75,8.5,9.25,32.5,"x",null,"6A",{"$f":"IF(C38>COUNT('TongHop (goc)'!$V$2:$V$200),\"\",VLOOKUP(LARGE('TongHop (goc)'!$V$2:$V$200,C38),'TongHop (goc)'!$V$2:$AA$200,4,0))","v":"HỌC SINH GIỎI"},{"$f":"IF(C38>COUNT('TongHop (goc)'!$V$2:$V$200),\"\",VLOOKUP(LARGE('TongHop (goc)'!$V$2:$V$200,C38),'TongHop (goc)'!$V$2:$AA$200,5,0))","v":"6C"},null,34]
[null,null,{"$f":"IF(ROW(35:35)>COUNT('TongHop (goc)'!$V$2:$V$200),\"\",ROW(35:35))","v":35},{"$f":"IF(U39=\"\",\"\",COUNTIF($U$5:U39,U39))","v":25},{"$f":"IF(C39>COUNT('TongHop (goc)'!$V$2:$V$200),\"\",VLOOKUP(LARGE('TongHop (goc)'!$V$2:$V$200,C39),'TongHop (goc)'!$V$2:$AA$200,2,0))","v":"Nguyễn Kim"},{"$f":"IF(C39>COUNT('TongHop (goc)'!$V$2:$V$200),\"\",VLOOKUP(LARGE('TongHop (goc)'!$V$2:$V$200,C39),'TongHop (goc)'!$V$2:$AA$200,3,0))","v":"Dung"},"26/10/2047","Nguyễn Thành Trung","Xóm 35","T","T",8,6.75,8.5,9.25,32.5,"x",null,"6A",{"$f":"IF(C39>COUNT('TongHop (goc)'!$V$2:$V$200),\"\",VLOOKUP(LARGE('TongHop (goc)'!$V$2:$V$200,C39),'TongHop (goc)'!$V$2:$AA$200,4,0))","v":"HỌC SINH GIỎI"},{"$f":"IF(C39>COUNT('TongHop (goc)'!$V$2:$V$200),\"\",VLOOKUP(LARGE('TongHop (goc)'!$V$2:$V$200,C39),'TongHop (goc)'!$V$2:$AA$200,5,0))","v":"6C"},null,35]
[null,null,{"$f":"IF(ROW(36:36)>COUNT('TongHop (goc)'!$V$2:$V$200),\"\",ROW(36:36))","v":36},{"$f":"IF(U40=\"\",\"\",COUNTIF($U$5:U40,U40))","v":26},{"$f":"IF(C40>COUNT('TongHop (goc)'!$V$2:$V$200),\"\",VLOOKUP(LARGE('TongHop (goc)'!$V$2:$V$200,C40),'TongHop (goc)'!$V$2:$AA$200,2,0))","v":"Bùi Mai Bảo"},{"$f":"IF(C40>COUNT('TongHop (goc)'!$V$2:$V$200),\"\",VLOOKUP(LARGE('TongHop (goc)'!$V$2:$V$200,C40),'TongHop (goc)'!$V$2:$AA$200,3,0))","v":"An"},"26/10/2048","Nguyễn Thành Trung","Xóm 36","T","T",8,6.75,8.5,9.25,32.5,"x",null,"6A",{"$f":"IF(C40>COUNT('TongHop (goc)'!$V$2:$V$200),\"\",VLOOKUP(LARGE('TongHop (goc)'!$V$2:$V$200,C40),'TongHop (goc)'!$V$2:$AA$200,4,0))","v":"HỌC SINH GIỎI"},{"$f":"IF(C40>COUNT('TongHop (goc)'!$V$2:$V$200),\"\",VLOOKUP(LARGE('TongHop (goc)'!$V$2:$V$200,C40),'TongHop (goc)'!$V$2:$AA$200,5,0))","v":"6C"},null,36]
[null,null,{"$f":"IF(ROW(37:37)>COUNT('TongHop (goc)'!$V$2:$V$200),\"\",ROW(37:37))","v":37},{"$f":"IF(U41=\"\",\"\",COUNTIF($U$5:U41,U41))","v":27},{"$f":"IF(C41>COUNT('TongHop (goc)'!$V$2:$V$200),\"\",VLOOKUP(LARGE('TongHop (goc)'!$V$2:$V$200,C41),'TongHop (goc)'!$V$2:$AA$200,2,0))","v":"Nguyễn Phương Khánh"},{"$f":"IF(C41>COUNT('TongHop (goc)'!$V$2:$V$200),\"\",VLOOKUP(LARGE('TongHop (goc)'!$V$2:$V$200,C41),'TongHop (goc)'!$V$2:$AA$200,3,0))","v":"Ngọc"},"26/10/2049","Nguyễn Thành Trung","Xóm 37","T","T",8,6.75,8.5,9.25,32.5,"x",null,"6A",{"$f":"IF(C41>COUNT('TongHop (goc)'!$V$2:$V$200),\"\",VLOOKUP(LARGE('TongHop (goc)'!$V$2:$V$200,C41),'TongHop (goc)'!$V$2:$AA$200,4,0))","v":"HỌC SINH GIỎI"},{"$f":"IF(C41>COUNT('TongHop (goc)'!$V$2:$V$200),\"\",VLOOKUP(LARGE('TongHop (goc)'!$V$2:$V$200,C41),'TongHop (goc)'!$V$2:$AA$200,5,0))","v":"6C"},null,37]
[null,null,{"$f":"IF(ROW(38:38)>COUNT('TongHop (goc)'!$V$2:$V$200),\"\",ROW(38:38))","v":38},{"$f":"IF(U42=\"\",\"\",COUNTIF($U$5:U42,U42))","v":28},{"$f":"IF(C42>COUNT('TongHop (goc)'!$V$2:$V$200),\"\",VLOOKUP(LARGE('TongHop (goc)'!$V$2:$V$200,C42),'TongHop (goc)'!$V$2:$AA$200,2,0))","v":"Trần Quốc"},{"$f":"IF(C42>COUNT('TongHop (goc)'!$V$2:$V$200),\"\",VLOOKUP(LARGE('TongHop (goc)'!$V$2:$V$200,C42),'TongHop (goc)'!$V$2:$AA$200,3,0))","v":"Bảo"},"26/10/2050","Nguyễn Thành Trung","Xóm 38","T","T",8,6.75,8.5,9.25,32.5,"x",null,"6A",{"$f":"IF(C42>COUNT('TongHop (goc)'!$V$2:$V$200),\"\",VLOOKUP(LARGE('TongHop (goc)'!$V$2:$V$200,C42),'TongHop (goc)'!$V$2:$AA$200,4,0))","v":"HỌC SINH GIỎI"},{"$f":"IF(C42>COUNT('TongHop (goc)'!$V$2:$V$200),\"\",VLOOKUP(LARGE('TongHop (goc)'!$V$2:$V$200,C42),'TongHop (goc)'!$V$2:$AA$200,5,0))","v":"6C"},null,38]
["7A",null,{"$f":"IF(ROW(39:39)>COUNT('TongHop (goc)'!$V$2:$V$200),\"\",ROW(39:39))","v":39},{"$f":"IF(U43=\"\",\"\",COUNTIF($U$5:U43,U43))","v":29},{"$f":"IF(C43>COUNT('TongHop (goc)'!$V$2:$V$200),\"\",VLOOKUP(LARGE('TongHop (goc)'!$V$2:$V$200,C43),'TongHop (goc)'!$V$2:$AA$200,2,0))","v":"Lê Thị Thùy"},{"$f":"IF(C43>COUNT('TongHop (goc)'!$V$2:$V$200),\"\",VLOOKUP(LARGE('TongHop (goc)'!$V$2:$V$200,C43),'TongHop (goc)'!$V$2:$AA$200,3,0))","v":"Linh"},"26/10/2051","Nguyễn Thành Trung","Xóm 39","T","T",8,6.75,8.5,9.25,32.5,"x",null,"6A",{"$f":"IF(C43>COUNT('TongHop (goc)'!$V$2:$V$200),\"\",VLOOKUP(LARGE('TongHop (goc)'!$V$2:$V$200,C43),'TongHop (goc)'!$V$2:$AA$200,4,0))","v":"HỌC SINH GIỎI"},{"$f":"IF(C43>COUNT('TongHop (goc)'!$V$2:$V$200),\"\",VLOOKUP(LARGE('TongHop (goc)'!$V$2:$V$200,C43),'TongHop (goc)'!$V$2:$AA$200,5,0))","v":"6C"},null,39]
["7A","4 - HSG",{"$f":"IF(ROW(40:40)>COUNT('TongHop (goc)'!$V$2:$V$200),\"\",ROW(40:40))","v":40},{"$f":"IF(U44=\"\",\"\",COUNTIF($U$5:U44,U44))","v":1},{"$f":"IF(C44>COUNT('TongHop (goc)'!$V$2:$V$200),\"\",VLOOKUP(LARGE('TongHop (goc)'!$V$2:$V$200,C44),'TongHop (goc)'!$V$2:$AA$200,2,0))","v":"Nguyễn Kim"},{"$f":"IF(C44>COUNT('TongHop (goc)'!$V$2:$V$200),\"\",VLOOKUP(LARGE('TongHop (goc)'!$V$2:$V$200,C44),'TongHop (goc)'!$V$2:$AA$200,3,0))","v":"Oanh"},"26/10/2052","Nguyễn Thành Trung","Xóm 40","T","T",8,6.75,8.5,9.25,32.5,"x",null,"6A",{"$f":"IF(C44>COUNT('TongHop (goc)'!$V$2:$V$200),\"\",VLOOKUP(LARGE('TongHop (goc)'!$V$2:$V$200,C44),'TongHop (goc)'!$V$2:$AA$200,4,0))","v":"HỌC SINH GIỎI"},{"$f":"IF(C44>COUNT('TongHop (goc)'!$V$2:$V$200),\"\",VLOOKUP(LARGE('TongHop (goc)'!$V$2:$V$200,C44),'TongHop (goc)'!$V$2:$AA$200,5,0))","v":"7A"},null,40]
[null,null,{"$f":"IF(ROW(41:41)>COUNT('TongHop (goc)'!$V$2:$V$200),\"\",ROW(41:41))","v":41},{"$f":"IF(U45=\"\",\"\",COUNTIF($U$5:U45,U45))","v":2},{"$f":"IF(C45>COUNT('TongHop (goc)'!$V$2:$V$200),\"\",VLOOKUP(LARGE('TongHop (goc)'!$V$2:$V$200,C45),'TongHop (goc)'!$V$2:$AA$200,2,0))","v":"Hoàng Thùy"},{"$f":"IF(C45>COUNT('TongHop (goc)'!$V$2:$V$200),\"\",VLOOKUP(LARGE('TongHop (goc)'!$V$2:$V$200,C45),'TongHop (goc)'!$V$2:$AA$200,3,0))","v":"Linh"},"26/10/2053","Nguyễn Thành Trung","Xóm 41","T","T",8,6.75,8.5,9.25,32.5,"x",null,"6A",{"$f":"IF(C45>COUNT('TongHop (goc)'!$V$2:$V$200),\"\",VLOOKUP(LARGE('TongHop (goc)'!$V$2:$V$200,C45),'TongHop (goc)'!$V$2:$AA$200,4,0))","v":"HỌC SINH GIỎI"},{"$f":"IF(C45>COUNT('TongHop (goc)'!$V$2:$V$200),\"\",VLOOKUP(LARGE('TongHop (goc)'!$V$2:$V$200,C45),'TongHop (goc)'!$V$2:$AA$200,5,0))","v":"7A"},null,41]
[null,null,{"$f":"IF(ROW(42:42)>COUNT('TongHop (goc)'!$V$2:$V$200),\"\",ROW(42:42))","v":42},{"$f":"IF(U46=\"\",\"\",COUNTIF($U$5:U46,U46))","v":3},{"$f":"IF(C46>COUNT('TongHop (goc)'!$V$2:$V$200),\"\",VLOOKUP(LARGE('TongHop (goc)'!$V$2:$V$200,C46),'TongHop (goc)'!$V$2:$AA$200,2,0))","v":"Đặng Thị Minh"},{"$f":"IF(C46>COUNT('TongHop (goc)'!$V$2:$V$200),\"\",VLOOKUP(LARGE('TongHop (goc)'!$V$2:$V$200,C46),'TongHop (goc)'!$V$2:$AA$200,3,0))","v":"Hà"},"26/10/2054","Nguyễn Thành Trung","Xóm 42","T","T",8,6.75,8.5,9.25,32.5,"x",null,"6A",{"$f":"IF(C46>COUNT('TongHop (goc)'!$V$2:$V$200),\"\",VLOOKUP(LARGE('TongHop (goc)'!$V$2:$V$200,C46),'TongHop (goc)'!$V$2:$AA$200,4,0))","v":"HỌC SINH GIỎI"},{"$f":"IF(C46>COUNT('TongHop (goc)'!$V$2:$V$200),\"\",VLOOKUP(LARGE('TongHop (goc)'!$V$2:$V$200,C46),'TongHop (goc)'!$V$2:$AA$200,5,0))","v":"7A"},null,42]
[null,null,{"$f":"IF(ROW(43:43)>COUNT('TongHop (goc)'!$V$2:$V$200),\"\",ROW(43:43))","v":43},{"$f":"IF(U47=\"\",\"\",COUNTIF($U$5:U47,U47))","v":4},{"$f":"IF(C47>COUNT('TongHop (goc)'!$V$2:$V$200),\"\",VLOOKUP(LARGE('TongHop (goc)'!$V$2:$V$200,C47),'TongHop (goc)'!$V$2:$AA$200,2,0))","v":"Trần Thị Yến"},{"$f":"IF(C47>COUNT('TongHop (goc)'!$V$2:$V$200),\"\",VLOOKUP(LARGE('TongHop (goc)'!$V$2:$V$200,C47),'TongHop (goc)'!$V$2:$AA$200,3,0))","v":"Nhi"},"26/10/2055","Nguyễn Thành Trung","Xóm 43","T","T",8,6.75,8.5,9.25,32.5,"x",null,"6A",{"$f":"IF(C47>COUNT('TongHop (goc)'!$V$2:$V$200),\"\",VLOOKUP(LARGE('TongHop (goc)'!$V$2:$V$200,C47),'TongHop (goc)'!$V$2:$AA$200,4,0))","v":"HỌC SINH GIỎI"},{"$f":"IF(C47>COUNT('TongHop (goc)'!$V$2:$V$200),\"\",VLOOKUP(LARGE('TongHop (goc)'!$V$2:$V$200,C47),'TongHop (goc)'!$V$2:$AA$200,5,0))","v":"7A"},null,43]
["7B","3 - HSG",{"$f":"IF(ROW(44:44)>COUNT('TongHop (goc)'!$V$2:$V$200),\"\",ROW(44:44))","v":44},{"$f":"IF(U48=\"\",\"\",COUNTIF($U$5:U48,U48))","v":1},{"$f":"IF(C48>COUNT('TongHop (goc)'!$V$2:$V$200),\"\",VLOOKUP(LARGE('TongHop (goc)'!$V$2:$V$200,C48),'TongHop (goc)'!$V$2:$AA$200,2,0))","v":"Nguyễn Linh"},{"$f":"IF(C48>COUNT('TongHop (goc)'!$V$2:$V$200),\"\",VLOOKUP(LARGE('TongHop (goc)'!$V$2:$V$200,C48),'TongHop (goc)'!$V$2:$AA$200,3,0))","v":"An"},"26/10/2056","Nguyễn Thành Trung","Xóm 44","T","T",8,6.75,8.5,9.25,32.5,"x",null,"6A",{"$f":"IF(C48>COUNT('TongHop (goc)'!$V$2:$V$200),\"\",VLOOKUP(LARGE('TongHop (goc)'!$V$2:$V$200,C48),'TongHop (goc)'!$V$2:$AA$200,4,0))","v":"HỌC SINH GIỎI"},{"$f":"IF(C48>COUNT('TongHop (goc)'!$V$2:$V$200),\"\",VLOOKUP(LARGE('TongHop (goc)'!$V$2:$V$200,C48),'TongHop (goc)'!$V$2:$AA$200,5,0))","v":"7B"},null,44]
[null,null,{"$f":"IF(ROW(45:45)>COUNT('TongHop (goc)'!$V$2:$V$200),\"\",ROW(45:45))","v":45},{"$f":"IF(U49=\"\",\"\",COUNTIF($U$5:U49,U49))","v":2},{"$f":"IF(C49>COUNT('TongHop (goc)'!$V$2:$V$200),\"\",VLOOKUP(LARGE('TongHop (goc)'!$V$2:$V$200,C49),'TongHop (goc)'!$V$2:$AA$200,2,0))","v":"Vũ Thành"},{"$f":"IF(C49>COUNT('TongHop (goc)'!$V$2:$V$200),\"\",VLOOKUP(LARGE('TongHop (goc)'!$V$2:$V$200,C49),'TongHop (goc)'!$V$2:$AA$200,3,0))","v":"Danh"},"26/10/2057","Nguyễn Thành Trung","Xóm 45","T","T",8,6.75,8.5,9.25,32.5,"x",null,"6A",{"$f":"IF(C49>COUNT('TongHop (goc)'!$V$2:$V$200),\"\",VLOOKUP(LARGE('TongHop (goc)'!$V$2:$V$200,C49),'TongHop (goc)'!$V$2:$AA$200,4,0))","v":"HỌC SINH GIỎI"},{"$f":"IF(C49>COUNT('TongHop (goc)'!$V$2:$V$200),\"\",VLOOKUP(LARGE('TongHop (goc)'!$V$2:$V$200,C49),'TongHop (goc)'!$V$2:$AA$200,5,0))","v":"7B"},null,45]
[null,null,{"$f":"IF(ROW(46:46)>COUNT('TongHop (goc)'!$V$2:$V$200),\"\",ROW(46:46))","v":46},{"$f":"IF(U50=\"\",\"\",COUNTIF($U$5:U50,U50))","v":3},{"$f":"IF(C50>COUNT('TongHop (goc)'!$V$2:$V$200),\"\",VLOOKUP(LARGE('TongHop (goc)'!$V$2:$V$200,C50),'TongHop (goc)'!$V$2:$AA$200,2,0))","v":"Mai Huyền"},{"$f":"IF(C50>COUNT('TongHop (goc)'!$V$2:$V$200),\"\",VLOOKUP(LARGE('TongHop (goc)'!$V$2:$V$200,C50),'TongHop (goc)'!$V$2:$AA$200,3,0))","v":"Diệu"},"26/10/2058","Nguyễn Thành Trung","Xóm 46","T","T",8,6.75,8.5,9.25,32.5,"x",null,"6A",{"$f":"IF(C50>COUNT('TongHop (goc)'!$V$2:$V$200),\"\",VLOOKUP(LARGE('TongHop (goc)'!$V$2:$V$200,C50),'TongHop (goc)'!$V$2:$AA$200,4,0))","v":"HỌC SINH GIỎI"},{"$f":"IF(C50>COUNT('TongHop (goc)'!$V$2:$V$200),\"\",VLOOKUP(LARGE('TongHop (goc)'!$V$2:$V$200,C50),'TongHop (goc)'!$V$2:$AA$200,5,0))","v":"7B"},null,46]
["7C","21 - HSG",{"$f":"IF(ROW(47:47)>COUNT('TongHop (goc)'!$V$2:$V$200),\"\",ROW(47:47))","v":47},{"$f":"IF(U51=\"\",\"\",COUNTIF($U$5:U51,U51))","v":1},{"$f":"IF(C51>COUNT('TongHop (goc)'!$V$2:$V$200),\"\",VLOOKUP(LARGE('TongHop (goc)'!$V$2:$V$200,C51),'TongHop (goc)'!$V$2:$AA$200,2,0))","v":"Trần Thu"},{"$f":"IF(C51>COUNT('TongHop (goc)'!$V$2:$V$200),\"\",VLOOKUP(LARGE('TongHop (goc)'!$V$2:$V$200,C51),'TongHop (goc)'!$V$2:$AA$200,3,0))","v":"Minh"},"26/10/2059","Nguyễn Thành Trung","Xóm 47","T","T",8,6.75,8.5,9.25,32.5,"x",null,"6A",{"$f":"IF(C51>COUNT('TongHop (goc)'!$V$2:$V$200),\"\",VLOOKUP(LARGE('TongHop (goc)'!$V$2:$V$200,C51),'TongHop (goc)'!$V$2:$AA$200,4,0))","v":"HỌC SINH GIỎI"},{"$f":"IF(C51>COUNT('TongHop (goc)'!$V$2:$V$200),\"\",VLOOKUP(LARGE('TongHop (goc)'!$V$2:$V$200,C51),'TongHop (goc)'!$V$2:$AA$200,5,0))","v":"7C"},null,47]
[null,null,{"$f":"IF(ROW(48:48)>COUNT('TongHop (goc)'!$V$2:$V$200),\"\",ROW(48:48))","v":48},{"$f":"IF(U52=\"\",\"\",COUNTIF($U$5:U52,U52))","v":2},{"$f":"IF(C52>COUNT('TongHop (goc)'!$V$2:$V$200),\"\",VLOOKUP(LARGE('TongHop (goc)'!$V$2:$V$200,C52),'TongHop (goc)'!$V$2:$AA$200,2,0))","v":"Phạm Bảo"},{"$f":"IF(C52>COUNT('TongHop (goc)'!$V$2:$V$200),\"\",VLOOKUP(LARGE('TongHop (goc)'!$V$2:$V$200,C52),'TongHop (goc)'!$V$2:$AA$200,3,0))","v":"Anh"},"26/10/2060","Nguyễn Thành Trung","Xóm 48","T","T",8,6.75,8.5,9.25,32.5,"x",null,"6A",{"$f":"IF(C52>COUNT('TongHop (goc)'!$V$2:$V$200),\"\",VLOOKUP(LARGE('TongHop (goc)'!$V$2:$V$200,C52),'TongHop (goc)'!$V$2:$AA$200,4,0))","v":"HỌC SINH GIỎI"},{"$f":"IF(C52>COUNT('TongHop (goc)'!$V$2:$V$200),\"\",VLOOKUP(LARGE('TongHop (goc)'!$V$2:$V$200,C52),'TongHop (goc)'!$V$2:$AA$200,5,0))","v":"7C"},null,48]
[null,null,{"$f":"IF(ROW(49:49)>COUNT('TongHop (goc)'!$V$2:$V$200),\"\",ROW(49:49))","v":49},{"$f":"IF(U53=\"\",\"\",COUNTIF($U$5:U53,U53))","v":3},{"$f":"IF(C53>COUNT('TongHop (goc)'!$V$2:$V$200),\"\",VLOOKUP(LARGE('TongHop (goc)'!$V$2:$V$200,C53),'TongHop (goc)'!$V$2:$AA$200,2,0))","v":"Cao Trần Khánh"},{"$f":"IF(C53>COUNT('TongHop (goc)'!$V$2:$V$200),\"\",VLOOKUP(LARGE('TongHop (goc)'!$V$2:$V$200,C53),'TongHop (goc)'!$V$2:$AA$200,3,0))","v":"My"},"26/10/2061","Nguyễn Thành Trung","Xóm 49","T","T",8,6.75,8.5,9.25,32.5,"x",null,"6A",{"$f":"IF(C53>COUNT('TongHop (goc)'!$V$2:$V$200),\"\",VLOOKUP(LARGE('TongHop (goc)'!$V$2:$V$200,C53),'TongHop (goc)'!$V$2:$AA$200,4,0))","v":"HỌC SINH GIỎI"},{"$f":"IF(C53>COUNT('TongHop (goc)'!$V$2:$V$200),\"\",VLOOKUP(LARGE('TongHop (goc)'!$V$2:$V$200,C53),'TongHop (goc)'!$V$2:$AA$200,5,0))","v":"7C"},null,49]
["7C",null,{"$f":"IF(ROW(50:50)>COUNT('TongHop (goc)'!$V$2:$V$200),\"\",ROW(50:50))","v":50},{"$f":"IF(U54=\"\",\"\",COUNTIF($U$5:U54,U54))","v":4},{"$f":"IF(C54>COUNT('TongHop (goc)'!$V$2:$V$200),\"\",VLOOKUP(LARGE('TongHop (goc)'!$V$2:$V$200,C54),'TongHop (goc)'!$V$2:$AA$200,2,0))","v":"Lương Minh"},{"$f":"IF(C54>COUNT('TongHop (goc)'!$V$2:$V$200),\"\",VLOOKUP(LARGE('TongHop (goc)'!$V$2:$V$200,C54),'TongHop (goc)'!$V$2:$AA$200,3,0))","v":"Hằng"},"26/10/2062","Nguyễn Thành Trung","Xóm 50","T","T",8,6.75,8.5,9.25,32.5,"x",null,"6A",{"$f":"IF(C54>COUNT('TongHop (goc)'!$V$2:$V$200),\"\",VLOOKUP(LARGE('TongHop (goc)'!$V$2:$V$200,C54),'TongHop (goc)'!$V$2:$AA$200,4,0))","v":"HỌC SINH GIỎI"},{"$f":"IF(C54>COUNT('TongHop (goc)'!$V$2:$V$200),\"\",VLOOKUP(LARGE('TongHop (goc)'!$V$2:$V$200,C54),'TongHop (goc)'!$V$2:$AA$200,5,0))","v":"7C"},null,50]
[null,null,{"$f":"IF(ROW(51:51)>COUNT('TongHop (goc)'!$V$2:$V$200),\"\",ROW(51:51))","v":51},{"$f":"IF(U55=\"\",\"\",COUNTIF($U$5:U55,U55))","v":5},{"$f":"IF(C55>COUNT('TongHop (goc)'!$V$2:$V$200),\"\",VLOOKUP(LARGE('TongHop (goc)'!$V$2:$V$200,C55),'TongHop (goc)'!$V$2:$AA$200,2,0))","v":"Lê Phước"},{"$f":"IF(C55>COUNT('TongHop (goc)'!$V$2:$V$200),\"\",VLOOKUP(LARGE('TongHop (goc)'!$V$2:$V$200,C55),'TongHop (goc)'!$V$2:$AA$200,3,0))","v":"Sang"},"26/10/2063","Nguyễn Thành Trung","Xóm 51","T","T",8,6.75,8.5,9.25,32.5,"x",null,"6A",{"$f":"IF(C55>COUNT('TongHop (goc)'!$V$2:$V$200),\"\",VLOOKUP(LARGE('TongHop (goc)'!$V$2:$V$200,C55),'TongHop (goc)'!$V$2:$AA$200,4,0))","v":"HỌC SINH GIỎI"},{"$f":"IF(C55>COUNT('TongHop (goc)'!$V$2:$V$200),\"\",VLOOKUP(LARGE('TongHop (goc)'!$V$2:$V$200,C55),'TongHop (goc)'!$V$2:$AA$200,5,0))","v":"7C"},null,51]
[null,null,{"$f":"IF(ROW(52:52)>COUNT('TongHop (goc)'!$V$2:$V$200),\"\",ROW(52:52))","v":52},{"$f":"IF(U56=\"\",\"\",COUNTIF($U$5:U56,U56))","v":6},{"$f":"IF(C56>COUNT('TongHop (goc)'!$V$2:$V$200),\"\",VLOOKUP(LARGE('TongHop (goc)'!$V$2:$V$200,C56),'TongHop (goc)'!$V$2:$AA$200,2,0))","v":"Trần Linh"},{"$f":"IF(C56>COUNT('TongHop (goc)'!$V$2:$V$200),\"\",VLOOKUP(LARGE('TongHop (goc)'!$V$2:$V$200,C56),'TongHop (goc)'!$V$2:$AA$200,3,0))","v":"Nhi"},"26/10/2064","Nguyễn Thành Trung","Xóm 52","T","T",8,6.75,8.5,9.25,32.5,"x",null,"6A",{"$f":"IF(C56>COUNT('TongHop (goc)'!$V$2:$V$200),\"\",VLOOKUP(LARGE('TongHop (goc)'!$V$2:$V$200,C56),'TongHop (goc)'!$V$2:$AA$200,4,0))","v":"HỌC SINH GIỎI"},{"$f":"IF(C56>COUNT('TongHop (goc)'!$V$2:$V$200),\"\",VLOOKUP(LARGE('TongHop (goc)'!$V$2:$V$200,C56),'TongHop (goc)'!$V$2:$AA$200,5,0))","v":"7C"},null,52]
[null,null,{"$f":"IF(ROW(53:53)>COUNT('TongHop (goc)'!$V$2:$V$200),\"\",ROW(53:53))","v":53},{"$f":"IF(U57=\"\",\"\",COUNTIF($U$5:U57,U57))","v":7},{"$f":"IF(C57>COUNT('TongHop (goc)'!$V$2:$V$200),\"\",VLOOKUP(LARGE('TongHop (goc)'!$V$2:$V$200,C57),'TongHop (goc)'!$V$2:$AA$200,2,0))","v":"Lê Bảo "},{"$f":"IF(C57>COUNT('TongHop (goc)'!$V$2:$V$200),\"\",VLOOKUP(LARGE('TongHop (goc)'!$V$2:$V$200,C57),'TongHop (goc)'!$V$2:$AA$200,3,0))","v":"Khanh"},"26/10/2065","Nguyễn Thành Trung","Xóm 53","T","T",8,6.75,8.5,9.25,32.5,"x",null,"6A",{"$f":"IF(C57>COUNT('TongHop (goc)'!$V$2:$V$200),\"\",VLOOKUP(LARGE('TongHop (goc)'!$V$2:$V$200,C57),'TongHop (goc)'!$V$2:$AA$200,4,0))","v":"HỌC SINH GIỎI"},{"$f":"IF(C57>COUNT('TongHop (goc)'!$V$2:$V$200),\"\",VLOOKUP(LARGE('TongHop (goc)'!$V$2:$V$200,C57),'TongHop (goc)'!$V$2:$AA$200,5,0))","v":"7C"},null,53]
[null,null,{"$f":"IF(ROW(54:54)>COUNT('TongHop (goc)'!$V$2:$V$200),\"\",ROW(54:54))","v":54},{"$f":"IF(U58=\"\",\"\",COUNTIF($U$5:U58,U58))","v":8},{"$f":"IF(C58>COUNT('TongHop (goc)'!$V$2:$V$200),\"\",VLOOKUP(LARGE('TongHop (goc)'!$V$2:$V$200,C58),'TongHop (goc)'!$V$2:$AA$200,2,0))","v":"Nguyễn Phạm Bảo"},{"$f":"IF(C58>COUNT('TongHop (goc)'!$V$2:$V$200),\"\",VLOOKUP(LARGE('TongHop (goc)'!$V$2:$V$200,C58),'TongHop (goc)'!$V$2:$AA$200,3,0))","v":"Hân"},"26/10/2066","Nguyễn Thành Trung","Xóm 54","T","T",8,6.75,8.5,9.25,32.5,"x",null,"6A",{"$f":"IF(C58>COUNT('TongHop (goc)'!$V$2:$V$200),\"\",VLOOKUP(LARGE('TongHop (goc)'!$V$2:$V$200,C58),'TongHop (goc)'!$V$2:$AA$200,4,0))","v":"HỌC SINH GIỎI"},{"$f":"IF(C58>COUNT('TongHop (goc)'!$V$2:$V$200),\"\",VLOOKUP(LARGE('TongHop (goc)'!$V$2:$V$200,C58),'TongHop (goc)'!$V$2:$AA$200,5,0))","v":"7C"},null,54]
[null,null,{"$f":"IF(ROW(55:55)>COUNT('TongHop (goc)'!$V$2:$V$200),\"\",ROW(55:55))","v":55},{"$f":"IF(U59=\"\",\"\",COUNTIF($U$5:U59,U59))","v":9},{"$f":"IF(C59>COUNT('TongHop (goc)'!$V$2:$V$200),\"\",VLOOKUP(LARGE('TongHop (goc)'!$V$2:$V$200,C59),'TongHop (goc)'!$V$2:$AA$200,2,0))","v":"Mai Bích"},{"$f":"IF(C59>COUNT('TongHop (goc)'!$V$2:$V$200),\"\",VLOOKUP(LARGE('TongHop (goc)'!$V$2:$V$200,C59),'TongHop (goc)'!$V$2:$AA$200,3,0))","v":"Diệp"},"26/10/2067","Nguyễn Thành Trung","Xóm 55","T","T",8,6.75,8.5,9.25,32.5,"x",null,"6A",{"$f":"IF(C59>COUNT('TongHop (goc)'!$V$2:$V$200),\"\",VLOOKUP(LARGE('TongHop (goc)'!$V$2:$V$200,C59),'TongHop (goc)'!$V$2:$AA$200,4,0))","v":"HỌC SINH GIỎI"},{"$f":"IF(C59>COUNT('TongHop (goc)'!$V$2:$V$200),\"\",VLOOKUP(LARGE('TongHop (goc)'!$V$2:$V$200,C59),'TongHop (goc)'!$V$2:$AA$200,5,0))","v":"7C"},null,55]
[null,null,{"$f":"IF(ROW(56:56)>COUNT('TongHop (goc)'!$V$2:$V$200),\"\",ROW(56:56))","v":56},{"$f":"IF(U60=\"\",\"\",COUNTIF($U$5:U60,U60))","v":10},{"$f":"IF(C60>COUNT('TongHop (goc)'!$V$2:$V$200),\"\",VLOOKUP(LARGE('TongHop (goc)'!$V$2:$V$200,C60),'TongHop (goc)'!$V$2:$AA$200,2,0))","v":"Trần Thị Yến"},{"$f":"IF(C60>COUNT('TongHop (goc)'!$V$2:$V$200),\"\",VLOOKUP(LARGE('TongHop (goc)'!$V$2:$V$200,C60),'TongHop (goc)'!$V$2:$AA$200,3,0))","v":"Nhi"},"26/10/2068","Nguyễn Thành Trung","Xóm 56","T","T",8,6.75,8.5,9.25,32.5,"x",null,"6A",{"$f":"IF(C60>COUNT('TongHop (goc)'!$V$2:$V$200),\"\",VLOOKUP(LARGE('TongHop (goc)'!$V$2:$V$200,C60),'TongHop (goc)'!$V$2:$AA$200,4,0))","v":"HỌC SINH GIỎI"},{"$f":"IF(C60>COUNT('TongHop (goc)'!$V$2:$V$200),\"\",VLOOKUP(LARGE('TongHop (goc)'!$V$2:$V$200,C60),'TongHop (goc)'!$V$2:$AA$200,5,0))","v":"7C"},null,56]
[null,null,{"$f":"IF(ROW(57:57)>COUNT('TongHop (goc)'!$V$2:$V$200),\"\",ROW(57:57))","v":57},{"$f":"IF(U61=\"\",\"\",COUNTIF($U$5:U61,U61))","v":11},{"$f":"IF(C61>COUNT('TongHop (goc)'!$V$2:$V$200),\"\",VLOOKUP(LARGE('TongHop (goc)'!$V$2:$V$200,C61),'TongHop (goc)'!$V$2:$AA$200,2,0))","v":"Nguyễn Phúc"},{"$f":"IF(C61>COUNT('TongHop (goc)'!$V$2:$V$200),\"\",VLOOKUP(LARGE('TongHop (goc)'!$V$2:$V$200,C61),'TongHop (goc)'!$V$2:$AA$200,3,0))","v":"Tài"},"26/10/2069","Nguyễn Thành Trung","Xóm 57","T","T",8,6.75,8.5,9.25,32.5,"x",null,"6A",{"$f":"IF(C61>COUNT('TongHop (goc)'!$V$2:$V$200),\"\",VLOOKUP(LARGE('TongHop (goc)'!$V$2:$V$200,C61),'TongHop (goc)'!$V$2:$AA$200,4,0))","v":"HỌC SINH GIỎI"},{"$f":"IF(C61>COUNT('TongHop (goc)'!$V$2:$V$200),\"\",VLOOKUP(LARGE('TongHop (goc)'!$V$2:$V$200,C61),'TongHop (goc)'!$V$2:$AA$200,5,0))","v":"7C"},null,57]
[null,null,{"$f":"IF(ROW(58:58)>COUNT('TongHop (goc)'!$V$2:$V$200),\"\",ROW(58:58))","v":58},{"$f":"IF(U62=\"\",\"\",COUNTIF($U$5:U62,U62))","v":12},{"$f":"IF(C62>COUNT('TongHop (goc)'!$V$2:$V$200),\"\",VLOOKUP(LARGE('TongHop (goc)'!$V$2:$V$200,C62),'TongHop (goc)'!$V$2:$AA$200,2,0))","v":"Trần Anh"},{"$f":"IF(C62>COUNT('TongHop (goc)'!$V$2:$V$200),\"\",VLOOKUP(LARGE('TongHop (goc)'!$V$2:$V$200,C62),'TongHop (goc)'!$V$2:$AA$200,3,0))","v":"Đức"},"26/10/2070","Nguyễn Thành Trung","Xóm 58","T","T",8,6.75,8.5,9.25,32.5,"x",null,"6A",{"$f":"IF(C62>COUNT('TongHop (goc)'!$V$2:$V$200),\"\",VLOOKUP(LARGE('TongHop (goc)'!$V$2:$V$200,C62),'TongHop (goc)'!$V$2:$AA$200,4,0))","v":"HỌC SINH GIỎI"},{"$f":"IF(C62>COUNT('TongHop (goc)'!$V$2:$V$200),\"\",VLOOKUP(LARGE('TongHop (goc)'!$V$2:$V$200,C62),'TongHop (goc)'!$V$2:$AA$200,5,0))","v":"7C"},null,58]
[null,null,{"$f":"IF(ROW(59:59)>COUNT('TongHop (goc)'!$V$2:$V$200),\"\",ROW(59:59))","v":59},{"$f":"IF(U63=\"\",\"\",COUNTIF($U$5:U63,U63))","v":13},{"$f":"IF(C63>COUNT('TongHop (goc)'!$V$2:$V$200),\"\",VLOOKUP(LARGE('TongHop (goc)'!$V$2:$V$200,C63),'TongHop (goc)'!$V$2:$AA$200,2,0))","v":"Trần Nguyễn Tường"},{"$f":"IF(C63>COUNT('TongHop (goc)'!$V$2:$V$200),\"\",VLOOKUP(LARGE('TongHop (goc)'!$V$2:$V$200,C63),'TongHop (goc)'!$V$2:$AA$200,3,0))","v":"Vy"},"26/10/2071","Nguyễn Thành Trung","Xóm 59","T","T",8,6.75,8.5,9.25,32.5,"x",null,"6A",{"$f":"IF(C63>COUNT('TongHop (goc)'!$V$2:$V$200),\"\",VLOOKUP(LARGE('TongHop (goc)'!$V$2:$V$200,C63),'TongHop (goc)'!$V$2:$AA$200,4,0))","v":"HỌC SINH GIỎI"},{"$f":"IF(C63>COUNT('TongHop (goc)'!$V$2:$V$200),\"\",VLOOKUP(LARGE('TongHop (goc)'!$V$2:$V$200,C63),'TongHop (goc)'!$V$2:$AA$200,5,0))","v":"7C"},null,59]
[null,null,{"$f":"IF(ROW(60:60)>COUNT('TongHop (goc)'!$V$2:$V$200),\"\",ROW(60:60))","v":60},{"$f":"IF(U64=\"\",\"\",COUNTIF($U$5:U64,U64))","v":14},{"$f":"IF(C64>COUNT('TongHop (goc)'!$V$2:$V$200),\"\",VLOOKUP(LARGE('TongHop (goc)'!$V$2:$V$200,C64),'TongHop (goc)'!$V$2:$AA$200,2,0))","v":"Tống Nguyễn Phương"},{"$f":"IF(C64>COUNT('TongHop (goc)'!$V$2:$V$200),\"\",VLOOKUP(LARGE('TongHop (goc)'!$V$2:$V$200,C64),'TongHop (goc)'!$V$2:$AA$200,3,0))","v":"Uyên"},"26/10/2072","Nguyễn Thành Trung","Xóm 60","T","T",8,6.75,8.5,9.25,32.5,"x",null,"6A",{"$f":"IF(C64>COUNT('TongHop (goc)'!$V$2:$V$200),\"\",VLOOKUP(LARGE('TongHop (goc)'!$V$2:$V$200,C64),'TongHop (goc)'!$V$2:$AA$200,4,0))","v":"HỌC SINH GIỎI"},{"$f":"IF(C64>COUNT('TongHop (goc)'!$V$2:$V$200),\"\",VLOOKUP(LARGE('TongHop (goc)'!$V$2:$V$200,C64),'TongHop (goc)'!$V$2:$AA$200,5,0))","v":"7C"},null,60]
[null,null,{"$f":"IF(ROW(61:61)>COUNT('TongHop (goc)'!$V$2:$V$200),\"\",ROW(61:61))","v":61},{"$f":"IF(U65=\"\",\"\",COUNTIF($U$5:U65,U65))","v":15},{"$f":"IF(C65>COUNT('TongHop (goc)'!$V$2:$V$200),\"\",VLOOKUP(LARGE('TongHop (goc)'!$V$2:$V$200,C65),'TongHop (goc)'!$V$2:$AA$200,2,0))","v":"Mai Hải"},{"$f":"IF(C65>COUNT('TongHop (goc)'!$V$2:$V$200),\"\",VLOOKUP(LARGE('TongHop (goc)'!$V$2:$V$200,C65),'TongHop (goc)'!$V$2:$AA$200,3,0))","v":"Nam"},"26/10/2073","Nguyễn Thành Trung","Xóm 61","T","T",8,6.75,8.5,9.25,32.5,"x",null,"6A",{"$f":"IF(C65>COUNT('TongHop (goc)'!$V$2:$V$200),\"\",VLOOKUP(LARGE('TongHop (goc)'!$V$2:$V$200,C65),'TongHop (goc)'!$V$2:$AA$200,4,0))","v":"HỌC SINH GIỎI"},{"$f":"IF(C65>COUNT('TongHop (goc)'!$V$2:$V$200),\"\",VLOOKUP(LARGE('TongHop (goc)'!$V$2:$V$200,C65),'TongHop (goc)'!$V$2:$AA$200,5,0))","v":"7C"},null,61]
[null,null,{"$f":"IF(ROW(62:62)>COUNT('TongHop (goc)'!$V$2:$V$200),\"\",ROW(62:62))","v":62},{"$f":"IF(U66=\"\",\"\",COUNTIF($U$5:U66,U66))","v":16},{"$f":"IF(C66>COUNT('TongHop (goc)'!$V$2:$V$200),\"\",VLOOKUP(LARGE('TongHop (goc)'!$V$2:$V$200,C66),'TongHop (goc)'!$V$2:$AA$200,2,0))","v":"Phạm Anh"},{"$f":"IF(C66>COUNT('TongHop (goc)'!$V$2:$V$200),\"\",VLOOKUP(LARGE('TongHop (goc)'!$V$2:$V$200,C66),'TongHop (goc)'!$V$2:$AA$200,3,0))","v":"Thư"},"26/10/2074","Nguyễn Thành Trung","Xóm 62","T","T",8,6.75,8.5,9.25,32.5,"x",null,"6A",{"$f":"IF(C66>COUNT('TongHop (goc)'!$V$2:$V$200),\"\",VLOOKUP(LARGE('TongHop (goc)'!$V$2:$V$200,C66),'TongHop (goc)'!$V$2:$AA$200,4,0))","v":"HỌC SINH GIỎI"},{"$f":"IF(C66>COUNT('TongHop (goc)'!$V$2:$V$200),\"\",VLOOKUP(LARGE('TongHop (goc)'!$V$2:$V$200,C66),'TongHop (goc)'!$V$2:$AA$200,5,0))","v":"7C"},null,62]
[null,null,{"$f":"IF(ROW(63:63)>COUNT('TongHop (goc)'!$V$2:$V$200),\"\",ROW(63:63))","v":63},{"$f":"IF(U67=\"\",\"\",COUNTIF($U$5:U67,U67))","v":17},{"$f":"IF(C67>COUNT('TongHop (goc)'!$V$2:$V$200),\"\",VLOOKUP(LARGE('TongHop (goc)'!$V$2:$V$200,C67),'TongHop (goc)'!$V$2:$AA$200,2,0))","v":"Trần Ngọc "},{"$f":"IF(C67>COUNT('TongHop (goc)'!$V$2:$V$200),\"\",VLOOKUP(LARGE('TongHop (goc)'!$V$2:$V$200,C67),'TongHop (goc)'!$V$2:$AA$200,3,0))","v":"Diệp"},"26/10/2075","Nguyễn Thành Trung","Xóm 63","T","T",8,6.75,8.5,9.25,32.5,"x",null,"6A",{"$f":"IF(C67>COUNT('TongHop (goc)'!$V$2:$V$200),\"\",VLOOKUP(LARGE('TongHop (goc)'!$V$2:$V$200,C67),'TongHop (goc)'!$V$2:$AA$200,4,0))","v":"HỌC SINH GIỎI"},{"$f":"IF(C67>COUNT('TongHop (goc)'!$V$2:$V$200),\"\",VLOOKUP(LARGE('TongHop (goc)'!$V$2:$V$200,C67),'TongHop (goc)'!$V$2:$AA$200,5,0))","v":"7C"},null,63]
[null,null,{"$f":"IF(ROW(64:64)>COUNT('TongHop (goc)'!$V$2:$V$200),\"\",ROW(64:64))","v":64},{"$f":"IF(U68=\"\",\"\",COUNTIF($U$5:U68,U68))","v":18},{"$f":"IF(C68>COUNT('TongHop (goc)'!$V$2:$V$200),\"\",VLOOKUP(LARGE('TongHop (goc)'!$V$2:$V$200,C68),'TongHop (goc)'!$V$2:$AA$200,2,0))","v":"Lê Quốc "},{"$f":"IF(C68>COUNT('TongHop (goc)'!$V$2:$V$200),\"\",VLOOKUP(LARGE('TongHop (goc)'!$V$2:$V$200,C68),'TongHop (goc)'!$V$2:$AA$200,3,0))","v":"Hội"},"26/10/2076","Nguyễn Thành Trung","Xóm 64","T","T",8,6.75,8.5,9.25,32.5,"x",null,"6A",{"$f":"IF(C68>COUNT('TongHop (goc)'!$V$2:$V$200),\"\",VLOOKUP(LARGE('TongHop (goc)'!$V$2:$V$200,C68),'TongHop (goc)'!$V$2:$AA$200,4,0))","v":"HỌC SINH GIỎI"},{"$f":"IF(C68>COUNT('TongHop (goc)'!$V$2:$V$200),\"\",VLOOKUP(LARGE('TongHop (goc)'!$V$2:$V$200,C68),'TongHop (goc)'!$V$2:$AA$200,5,0))","v":"7C"},null,64]
[null,null,{"$f":"IF(ROW(65:65)>COUNT('TongHop (goc)'!$V$2:$V$200),\"\",ROW(65:65))","v":65},{"$f":"IF(U69=\"\",\"\",COUNTIF($U$5:U69,U69))","v":19},{"$f":"IF(C69>COUNT('TongHop (goc)'!$V$2:$V$200),\"\",VLOOKUP(LARGE('TongHop (goc)'!$V$2:$V$200,C69),'TongHop (goc)'!$V$2:$AA$200,2,0))","v":"Trần Bảo"},{"$f":"IF(C69>COUNT('TongHop (goc)'!$V$2:$V$200),\"\",VLOOKUP(LARGE('TongHop (goc)'!$V$2:$V$200,C69),'TongHop (goc)'!$V$2:$AA$200,3,0))","v":"Châu"},"26/10/2077","Nguyễn Thành Trung","Xóm 65","T","T",8,6.75,8.5,9.25,32.5,"x",null,"6A",{"$f":"IF(C69>COUNT('TongHop (goc)'!$V$2:$V$200),\"\",VLOOKUP(LARGE('TongHop (goc)'!$V$2:$V$200,C69),'TongHop (goc)'!$V$2:$AA$200,4,0))","v":"HỌC SINH GIỎI"},{"$f":"IF(C69>COUNT('TongHop (goc)'!$V$2:$V$200),\"\",VLOOKUP(LARGE('TongHop (goc)'!$V$2:$V$200,C69),'TongHop (goc)'!$V$2:$AA$200,5,0))","v":"7C"},null,65]
[null,null,{"$f":"IF(ROW(66:66)>COUNT('TongHop (goc)'!$V$2:$V$200),\"\",ROW(66:66))","v":66},{"$f":"IF(U70=\"\",\"\",COUNTIF($U$5:U70,U70))","v":20},{"$f":"IF(C70>COUNT('TongHop (goc)'!$V$2:$V$200),\"\",VLOOKUP(LARGE('TongHop (goc)'!$V$2:$V$200,C70),'TongHop (goc)'!$V$2:$AA$200,2,0))","v":"Phạm Hoàng "},{"$f":"IF(C70>COUNT('TongHop (goc)'!$V$2:$V$200),\"\",VLOOKUP(LARGE('TongHop (goc)'!$V$2:$V$200,C70),'TongHop (goc)'!$V$2:$AA$200,3,0))","v":"Anh"},"26/10/2078","Nguyễn Thành Trung","Xóm 66","T","T",8,6.75,8.5,9.25,32.5,"x",null,"6A",{"$f":"IF(C70>COUNT('TongHop (goc)'!$V$2:$V$200),\"\",VLOOKUP(LARGE('TongHop (goc)'!$V$2:$V$200,C70),'TongHop (goc)'!$V$2:$AA$200,4,0))","v":"HỌC SINH GIỎI"},{"$f":"IF(C70>COUNT('TongHop (goc)'!$V$2:$V$200),\"\",VLOOKUP(LARGE('TongHop (goc)'!$V$2:$V$200,C70),'TongHop (goc)'!$V$2:$AA$200,5,0))","v":"7C"},null,{"$f":"C70","v":66}]
[null,null,{"$f":"IF(ROW(67:67)>COUNT('TongHop (goc)'!$V$2:$V$200),\"\",ROW(67:67))","v":67},{"$f":"IF(U71=\"\",\"\",COUNTIF($U$5:U71,U71))","v":21},{"$f":"IF(C71>COUNT('TongHop (goc)'!$V$2:$V$200),\"\",VLOOKUP(LARGE('TongHop (goc)'!$V$2:$V$200,C71),'TongHop (goc)'!$V$2:$AA$200,2,0))","v":"Lê Ngọc"},{"$f":"IF(C71>COUNT('TongHop (goc)'!$V$2:$V$200),\"\",VLOOKUP(LARGE('TongHop (goc)'!$V$2:$V$200,C71),'TongHop (goc)'!$V$2:$AA$200,3,0))","v":"Anh"},"26/10/2079","Nguyễn Thành Trung","Xóm 67","T","T",8,6.75,8.5,9.25,32.5,"x",null,"6A",{"$f":"IF(C71>COUNT('TongHop (goc)'!$V$2:$V$200),\"\",VLOOKUP(LARGE('TongHop (goc)'!$V$2:$V$200,C71),'TongHop (goc)'!$V$2:$AA$200,4,0))","v":"HỌC SINH GIỎI"},{"$f":"IF(C71>COUNT('TongHop (goc)'!$V$2:$V$200),\"\",VLOOKUP(LARGE('TongHop (goc)'!$V$2:$V$200,C71),'TongHop (goc)'!$V$2:$AA$200,5,0))","v":"7C"},null,67]
["8A","3 - HSG",{"$f":"IF(ROW(68:68)>COUNT('TongHop (goc)'!$V$2:$V$200),\"\",ROW(68:68))","v":68},{"$f":"IF(U72=\"\",\"\",COUNTIF($U$5:U72,U72))","v":1},{"$f":"IF(C72>COUNT('TongHop (goc)'!$V$2:$V$200),\"\",VLOOKUP(LARGE('TongHop (goc)'!$V$2:$V$200,C72),'TongHop (goc)'!$V$2:$AA$200,2,0))","v":"Trần Đức "},{"$f":"IF(C72>COUNT('TongHop (goc)'!$V$2:$V$200),\"\",VLOOKUP(LARGE('TongHop (goc)'!$V$2:$V$200,C72),'TongHop (goc)'!$V$2:$AA$200,3,0))","v":"Long"},"26/10/2080","Nguyễn Thành Trung","Xóm 68","T","T",8,6.75,8.5,9.25,32.5,"x",null,"6A",{"$f":"IF(C72>COUNT('TongHop (goc)'!$V$2:$V$200),\"\",VLOOKUP(LARGE('TongHop (goc)'!$V$2:$V$200,C72),'TongHop (goc)'!$V$2:$AA$200,4,0))","v":"HỌC SINH GIỎI"},{"$f":"IF(C72>COUNT('TongHop (goc)'!$V$2:$V$200),\"\",VLOOKUP(LARGE('TongHop (goc)'!$V$2:$V$200,C72),'TongHop (goc)'!$V$2:$AA$200,5,0))","v":"8A"},null,68]
[null,null,{"$f":"IF(ROW(69:69)>COUNT('TongHop (goc)'!$V$2:$V$200),\"\",ROW(69:69))","v":69},{"$f":"IF(U73=\"\",\"\",COUNTIF($U$5:U73,U73))","v":2},{"$f":"IF(C73>COUNT('TongHop (goc)'!$V$2:$V$200),\"\",VLOOKUP(LARGE('TongHop (goc)'!$V$2:$V$200,C73),'TongHop (goc)'!$V$2:$AA$200,2,0))","v":"Nguyễn Thảo"},{"$f":"IF(C73>COUNT('TongHop (goc)'!$V$2:$V$200),\"\",VLOOKUP(LARGE('TongHop (goc)'!$V$2:$V$200,C73),'TongHop (goc)'!$V$2:$AA$200,3,0))","v":"Anh"},"26/10/2081","Nguyễn Thành Trung","Xóm 69","T","T",8,6.75,8.5,9.25,32.5,"x",null,"6A",{"$f":"IF(C73>COUNT('TongHop (goc)'!$V$2:$V$200),\"\",VLOOKUP(LARGE('TongHop (goc)'!$V$2:$V$200,C73),'TongHop (goc)'!$V$2:$AA$200,4,0))","v":"HỌC SINH GIỎI"},{"$f":"IF(C73>COUNT('TongHop (goc)'!$V$2:$V$200),\"\",VLOOKUP(LARGE('TongHop (goc)'!$V$2:$V$200,C73),'TongHop (goc)'!$V$2:$AA$200,5,0))","v":"8A"},null,69]
[null,null,{"$f":"IF(ROW(70:70)>COUNT('TongHop (goc)'!$V$2:$V$200),\"\",ROW(70:70))","v":70},{"$f":"IF(U74=\"\",\"\",COUNTIF($U$5:U74,U74))","v":3},{"$f":"IF(C74>COUNT('TongHop (goc)'!$V$2:$V$200),\"\",VLOOKUP(LARGE('TongHop (goc)'!$V$2:$V$200,C74),'TongHop (goc)'!$V$2:$AA$200,2,0))","v":"Trần Văn "},{"$f":"IF(C74>COUNT('TongHop (goc)'!$V$2:$V$200),\"\",VLOOKUP(LARGE('TongHop (goc)'!$V$2:$V$200,C74),'TongHop (goc)'!$V$2:$AA$200,3,0))","v":"Hiệu"},"26/10/2082","Nguyễn Thành Trung","Xóm 70","T","T",8,6.75,8.5,9.25,32.5,"x",null,"6A",{"$f":"IF(C74>COUNT('TongHop (goc)'!$V$2:$V$200),\"\",VLOOKUP(LARGE('TongHop (goc)'!$V$2:$V$200,C74),'TongHop (goc)'!$V$2:$AA$200,4,0))","v":"HỌC SINH GIỎI"},{"$f":"IF(C74>COUNT('TongHop (goc)'!$V$2:$V$200),\"\",VLOOKUP(LARGE('TongHop (goc)'!$V$2:$V$200,C74),'TongHop (goc)'!$V$2:$AA$200,5,0))","v":"8A"},null,70]
["8B","6 - HSG",{"$f":"IF(ROW(71:71)>COUNT('TongHop (goc)'!$V$2:$V$200),\"\",ROW(71:71))","v":71},{"$f":"IF(U75=\"\",\"\",COUNTIF($U$5:U75,U75))","v":1},{"$f":"IF(C75>COUNT('TongHop (goc)'!$V$2:$V$200),\"\",VLOOKUP(LARGE('TongHop (goc)'!$V$2:$V$200,C75),'TongHop (goc)'!$V$2:$AA$200,2,0))","v":"Trần Bình "},{"$f":"IF(C75>COUNT('TongHop (goc)'!$V$2:$V$200),\"\",VLOOKUP(LARGE('TongHop (goc)'!$V$2:$V$200,C75),'TongHop (goc)'!$V$2:$AA$200,3,0))","v":"Minh"},"26/10/2083","Nguyễn Thành Trung","Xóm 71","T","T",8,6.75,8.5,9.25,32.5,"x",null,"6A",{"$f":"IF(C75>COUNT('TongHop (goc)'!$V$2:$V$200),\"\",VLOOKUP(LARGE('TongHop (goc)'!$V$2:$V$200,C75),'TongHop (goc)'!$V$2:$AA$200,4,0))","v":"HỌC SINH GIỎI"},{"$f":"IF(C75>COUNT('TongHop (goc)'!$V$2:$V$200),\"\",VLOOKUP(LARGE('TongHop (goc)'!$V$2:$V$200,C75),'TongHop (goc)'!$V$2:$AA$200,5,0))","v":"8B"},null,71]
[null,null,{"$f":"IF(ROW(72:72)>COUNT('TongHop (goc)'!$V$2:$V$200),\"\",ROW(72:72))","v":72},{"$f":"IF(U76=\"\",\"\",COUNTIF($U$5:U76,U76))","v":2},{"$f":"IF(C76>COUNT('TongHop (goc)'!$V$2:$V$200),\"\",VLOOKUP(LARGE('TongHop (goc)'!$V$2:$V$200,C76),'TongHop (goc)'!$V$2:$AA$200,2,0))","v":"Phạm Phương"},{"$f":"IF(C76>COUNT('TongHop (goc)'!$V$2:$V$200),\"\",VLOOKUP(LARGE('TongHop (goc)'!$V$2:$V$200,C76),'TongHop (goc)'!$V$2:$AA$200,3,0))","v":"Trinh"},"26/10/2084","Nguyễn Thành Trung","Xóm 72","T","T",8,6.75,8.5,9.25,32.5,"x",null,"6A",{"$f":"IF(C76>COUNT('TongHop (goc)'!$V$2:$V$200),\"\",VLOOKUP(LARGE('TongHop (goc)'!$V$2:$V$200,C76),'TongHop (goc)'!$V$2:$AA$200,4,0))","v":"HỌC SINH GIỎI"},{"$f":"IF(C76>COUNT('TongHop (goc)'!$V$2:$V$200),\"\",VLOOKUP(LARGE('TongHop (goc)'!$V$2:$V$200,C76),'TongHop (goc)'!$V$2:$AA$200,5,0))","v":"8B"},null,72]
[null,null,{"$f":"IF(ROW(73:73)>COUNT('TongHop (goc)'!$V$2:$V$200),\"\",ROW(73:73))","v":73},{"$f":"IF(U77=\"\",\"\",COUNTIF($U$5:U77,U77))","v":3},{"$f":"IF(C77>COUNT('TongHop (goc)'!$V$2:$V$200),\"\",VLOOKUP(LARGE('TongHop (goc)'!$V$2:$V$200,C77),'TongHop (goc)'!$V$2:$AA$200,2,0))","v":"Vũ Quốc"},{"$f":"IF(C77>COUNT('TongHop (goc)'!$V$2:$V$200),\"\",VLOOKUP(LARGE('TongHop (goc)'!$V$2:$V$200,C77),'TongHop (goc)'!$V$2:$AA$200,3,0))","v":"Ân"},"26/10/2085","Nguyễn Thành Trung","Xóm 73","T","T",8,6.75,8.5,9.25,32.5,"x",null,"6A",{"$f":"IF(C77>COUNT('TongHop (goc)'!$V$2:$V$200),\"\",VLOOKUP(LARGE('TongHop (goc)'!$V$2:$V$200,C77),'TongHop (goc)'!$V$2:$AA$200,4,0))","v":"HỌC SINH GIỎI"},{"$f":"IF(C77>COUNT('TongHop (goc)'!$V$2:$V$200),\"\",VLOOKUP(LARGE('TongHop (goc)'!$V$2:$V$200,C77),'TongHop (goc)'!$V$2:$AA$200,5,0))","v":"8B"},null,73]
[null,null,{"$f":"IF(ROW(74:74)>COUNT('TongHop (goc)'!$V$2:$V$200),\"\",ROW(74:74))","v":74},{"$f":"IF(U78=\"\",\"\",COUNTIF($U$5:U78,U78))","v":4},{"$f":"IF(C78>COUNT('TongHop (goc)'!$V$2:$V$200),\"\",VLOOKUP(LARGE('TongHop (goc)'!$V$2:$V$200,C78),'TongHop (goc)'!$V$2:$AA$200,2,0))","v":"Trần Bảo"},{"$f":"IF(C78>COUNT('TongHop (goc)'!$V$2:$V$200),\"\",VLOOKUP(LARGE('TongHop (goc)'!$V$2:$V$200,C78),'TongHop (goc)'!$V$2:$AA$200,3,0))","v":"Huy"},"26/10/2086","Nguyễn Thành Trung","Xóm 74","T","T",8,6.75,8.5,9.25,32.5,"x",null,"6A",{"$f":"IF(C78>COUNT('TongHop (goc)'!$V$2:$V$200),\"\",VLOOKUP(LARGE('TongHop (goc)'!$V$2:$V$200,C78),'TongHop (goc)'!$V$2:$AA$200,4,0))","v":"HỌC SINH GIỎI"},{"$f":"IF(C78>COUNT('TongHop (goc)'!$V$2:$V$200),\"\",VLOOKUP(LARGE('TongHop (goc)'!$V$2:$V$200,C78),'TongHop (goc)'!$V$2:$AA$200,5,0))","v":"8B"},null,74]
[null,null,{"$f":"IF(ROW(75:75)>COUNT('TongHop (goc)'!$V$2:$V$200),\"\",ROW(75:75))","v":75},{"$f":"IF(U79=\"\",\"\",COUNTIF($U$5:U79,U79))","v":5},{"$f":"IF(C79>COUNT('TongHop (goc)'!$V$2:$V$200),\"\",VLOOKUP(LARGE('TongHop (goc)'!$V$2:$V$200,C79),'TongHop (goc)'!$V$2:$AA$200,2,0))","v":"Trần Thùy"},{"$f":"IF(C79>COUNT('TongHop (goc)'!$V$2:$V$200),\"\",VLOOKUP(LARGE('TongHop (goc)'!$V$2:$V$200,C79),'TongHop (goc)'!$V$2:$AA$200,3,0))","v":"Dương"},"26/10/2087","Nguyễn Thành Trung","Xóm 75","T","T",8,6.75,8.5,9.25,32.5,"x",null,"6A",{"$f":"IF(C79>COUNT('TongHop (goc)'!$V$2:$V$200),\"\",VLOOKUP(LARGE('TongHop (goc)'!$V$2:$V$200,C79),'TongHop (goc)'!$V$2:$AA$200,4,0))","v":"HỌC SINH GIỎI"},{"$f":"IF(C79>COUNT('TongHop (goc)'!$V$2:$V$200),\"\",VLOOKUP(LARGE('TongHop (goc)'!$V$2:$V$200,C79),'TongHop (goc)'!$V$2:$AA$200,5,0))","v":"8B"},null,75]
[null,null,{"$f":"IF(ROW(76:76)>COUNT('TongHop (goc)'!$V$2:$V$200),\"\",ROW(76:76))","v":76},{"$f":"IF(U80=\"\",\"\",COUNTIF($U$5:U80,U80))","v":6},{"$f":"IF(C80>COUNT('TongHop (goc)'!$V$2:$V$200),\"\",VLOOKUP(LARGE('TongHop (goc)'!$V$2:$V$200,C80),'TongHop (goc)'!$V$2:$AA$200,2,0))","v":"Lê Anh"},{"$f":"IF(C80>COUNT('TongHop (goc)'!$V$2:$V$200),\"\",VLOOKUP(LARGE('TongHop (goc)'!$V$2:$V$200,C80),'TongHop (goc)'!$V$2:$AA$200,3,0))","v":"Quân"},"26/10/2088","Nguyễn Thành Trung","Xóm 76","T","T",8,6.75,8.5,9.25,32.5,"x",null,"6A",{"$f":"IF(C80>COUNT('TongHop (goc)'!$V$2:$V$200),\"\",VLOOKUP(LARGE('TongHop (goc)'!$V$2:$V$200,C80),'TongHop (goc)'!$V$2:$AA$200,4,0))","v":"HỌC SINH GIỎI"},{"$f":"IF(C80>COUNT('TongHop (goc)'!$V$2:$V$200),\"\",VLOOKUP(LARGE('TongHop (goc)'!$V$2:$V$200,C80),'TongHop (goc)'!$V$2:$AA$200,5,0))","v":"8B"},null,76]
["8C","27 - HSG",{"$f":"IF(ROW(77:77)>COUNT('TongHop (goc)'!$V$2:$V$200),\"\",ROW(77:77))","v":77},{"$f":"IF(U81=\"\",\"\",COUNTIF($U$5:U81,U81))","v":1},{"$f":"IF(C81>COUNT('TongHop (goc)'!$V$2:$V$200),\"\",VLOOKUP(LARGE('TongHop (goc)'!$V$2:$V$200,C81),'TongHop (goc)'!$V$2:$AA$200,2,0))","v":"Lê Trần Phương"},{"$f":"IF(C81>COUNT('TongHop (goc)'!$V$2:$V$200),\"\",VLOOKUP(LARGE('TongHop (goc)'!$V$2:$V$200,C81),'TongHop (goc)'!$V$2:$AA$200,3,0))","v":"Anh"},"26/10/2089","Nguyễn Thành Trung","Xóm 77","T","T",8,6.75,8.5,9.25,32.5,"x",null,"6A",{"$f":"IF(C81>COUNT('TongHop (goc)'!$V$2:$V$200),\"\",VLOOKUP(LARGE('TongHop (goc)'!$V$2:$V$200,C81),'TongHop (goc)'!$V$2:$AA$200,4,0))","v":"HỌC SINH GIỎI"},{"$f":"IF(C81>COUNT('TongHop (goc)'!$V$2:$V$200),\"\",VLOOKUP(LARGE('TongHop (goc)'!$V$2:$V$200,C81),'TongHop (goc)'!$V$2:$AA$200,5,0))","v":"8C"},null,77]
[null,null,{"$f":"IF(ROW(78:78)>COUNT('TongHop (goc)'!$V$2:$V$200),\"\",ROW(78:78))","v":78},{"$f":"IF(U82=\"\",\"\",COUNTIF($U$5:U82,U82))","v":2},{"$f":"IF(C82>COUNT('TongHop (goc)'!$V$2:$V$200),\"\",VLOOKUP(LARGE('TongHop (goc)'!$V$2:$V$200,C82),'TongHop (goc)'!$V$2:$AA$200,2,0))","v":"Phạm Thị Lan "},{"$f":"IF(C82>COUNT('TongHop (goc)'!$V$2:$V$200),\"\",VLOOKUP(LARGE('TongHop (goc)'!$V$2:$V$200,C82),'TongHop (goc)'!$V$2:$AA$200,3,0))","v":"Anh"},"26/10/2090","Nguyễn Thành Trung","Xóm 78","T","T",8,6.75,8.5,9.25,32.5,"x",null,"6A",{"$f":"IF(C82>COUNT('TongHop (goc)'!$V$2:$V$200),\"\",VLOOKUP(LARGE('TongHop (goc)'!$V$2:$V$200,C82),'TongHop (goc)'!$V$2:$AA$200,4,0))","v":"HỌC SINH GIỎI"},{"$f":"IF(C82>COUNT('TongHop (goc)'!$V$2:$V$200),\"\",VLOOKUP(LARGE('TongHop (goc)'!$V$2:$V$200,C82),'TongHop (goc)'!$V$2:$AA$200,5,0))","v":"8C"},null,78]
[null,null,{"$f":"IF(ROW(79:79)>COUNT('TongHop (goc)'!$V$2:$V$200),\"\",ROW(79:79))","v":79},{"$f":"IF(U83=\"\",\"\",COUNTIF($U$5:U83,U83))","v":3},{"$f":"IF(C83>COUNT('TongHop (goc)'!$V$2:$V$200),\"\",VLOOKUP(LARGE('TongHop (goc)'!$V$2:$V$200,C83),'TongHop (goc)'!$V$2:$AA$200,2,0))","v":"Lê Bảo"},{"$f":"IF(C83>COUNT('TongHop (goc)'!$V$2:$V$200),\"\",VLOOKUP(LARGE('TongHop (goc)'!$V$2:$V$200,C83),'TongHop (goc)'!$V$2:$AA$200,3,0))","v":"Trâm"},"26/10/2091","Nguyễn Thành Trung","Xóm 79","T","T",8,6.75,8.5,9.25,32.5,"x",null,"6A",{"$f":"IF(C83>COUNT('TongHop (goc)'!$V$2:$V$200),\"\",VLOOKUP(LARGE('TongHop (goc)'!$V$2:$V$200,C83),'TongHop (goc)'!$V$2:$AA$200,4,0))","v":"HỌC SINH GIỎI"},{"$f":"IF(C83>COUNT('TongHop (goc)'!$V$2:$V$200),\"\",VLOOKUP(LARGE('TongHop (goc)'!$V$2:$V$200,C83),'TongHop (goc)'!$V$2:$AA$200,5,0))","v":"8C"},null,79]
[null,null,{"$f":"IF(ROW(80:80)>COUNT('TongHop (goc)'!$V$2:$V$200),\"\",ROW(80:80))","v":80},{"$f":"IF(U84=\"\",\"\",COUNTIF($U$5:U84,U84))","v":4},{"$f":"IF(C84>COUNT('TongHop (goc)'!$V$2:$V$200),\"\",VLOOKUP(LARGE('TongHop (goc)'!$V$2:$V$200,C84),'TongHop (goc)'!$V$2:$AA$200,2,0))","v":"Phạm Thị Tố "},{"$f":"IF(C84>COUNT('TongHop (goc)'!$V$2:$V$200),\"\",VLOOKUP(LARGE('TongHop (goc)'!$V$2:$V$200,C84),'TongHop (goc)'!$V$2:$AA$200,3,0))","v":"Uyên"},"26/10/2092","Nguyễn Thành Trung","Xóm 80","T","T",8,6.75,8.5,9.25,32.5,"x",null,"6A",{"$f":"IF(C84>COUNT('TongHop (goc)'!$V$2:$V$200),\"\",VLOOKUP(LARGE('TongHop (goc)'!$V$2:$V$200,C84),'TongHop (goc)'!$V$2:$AA$200,4,0))","v":"HỌC SINH GIỎI"},{"$f":"IF(C84>COUNT('TongHop (goc)'!$V$2:$V$200),\"\",VLOOKUP(LARGE('TongHop (goc)'!$V$2:$V$200,C84),'TongHop (goc)'!$V$2:$AA$200,5,0))","v":"8C"},null,80]
[null,null,{"$f":"IF(ROW(81:81)>COUNT('TongHop (goc)'!$V$2:$V$200),\"\",ROW(81:81))","v":81},{"$f":"IF(U85=\"\",\"\",COUNTIF($U$5:U85,U85))","v":5},{"$f":"IF(C85>COUNT('TongHop (goc)'!$V$2:$V$200),\"\",VLOOKUP(LARGE('TongHop (goc)'!$V$2:$V$200,C85),'TongHop (goc)'!$V$2:$AA$200,2,0))","v":"Trần Khánh"},{"$f":"IF(C85>COUNT('TongHop (goc)'!$V$2:$V$200),\"\",VLOOKUP(LARGE('TongHop (goc)'!$V$2:$V$200,C85),'TongHop (goc)'!$V$2:$AA$200,3,0))","v":"Huyền"},"26/10/2093","Nguyễn Thành Trung","Xóm 81","T","T",8,6.75,8.5,9.25,32.5,"x",null,"6A",{"$f":"IF(C85>COUNT('TongHop (goc)'!$V$2:$V$200),\"\",VLOOKUP(LARGE('TongHop (goc)'!$V$2:$V$200,C85),'TongHop (goc)'!$V$2:$AA$200,4,0))","v":"HỌC SINH GIỎI"},{"$f":"IF(C85>COUNT('TongHop (goc)'!$V$2:$V$200),\"\",VLOOKUP(LARGE('TongHop (goc)'!$V$2:$V$200,C85),'TongHop (goc)'!$V$2:$AA$200,5,0))","v":"8C"},null,81]
[null,null,{"$f":"IF(ROW(82:82)>COUNT('TongHop (goc)'!$V$2:$V$200),\"\",ROW(82:82))","v":82},{"$f":"IF(U86=\"\",\"\",COUNTIF($U$5:U86,U86))","v":6},{"$f":"IF(C86>COUNT('TongHop (goc)'!$V$2:$V$200),\"\",VLOOKUP(LARGE('TongHop (goc)'!$V$2:$V$200,C86),'TongHop (goc)'!$V$2:$AA$200,2,0))","v":"Lê Khánh"},{"$f":"IF(C86>COUNT('TongHop (goc)'!$V$2:$V$200),\"\",VLOOKUP(LARGE('TongHop (goc)'!$V$2:$V$200,C86),'TongHop (goc)'!$V$2:$AA$200,3,0))","v":"Huyền"},"26/10/2094","Nguyễn Thành Trung","Xóm 82","T","T",8,6.75,8.5,9.25,32.5,"x",null,"6A",{"$f":"IF(C86>COUNT('TongHop (goc)'!$V$2:$V$200),\"\",VLOOKUP(LARGE('TongHop (goc)'!$V$2:$V$200,C86),'TongHop (goc)'!$V$2:$AA$200,4,0))","v":"HỌC SINH GIỎI"},{"$f":"IF(C86>COUNT('TongHop (goc)'!$V$2:$V$200),\"\",VLOOKUP(LARGE('TongHop (goc)'!$V$2:$V$200,C86),'TongHop (goc)'!$V$2:$AA$200,5,0))","v":"8C"},null,82]
[null,null,{"$f":"IF(ROW(83:83)>COUNT('TongHop (goc)'!$V$2:$V$200),\"\",ROW(83:83))","v":83},{"$f":"IF(U87=\"\",\"\",COUNTIF($U$5:U87,U87))","v":7},{"$f":"IF(C87>COUNT('TongHop (goc)'!$V$2:$V$200),\"\",VLOOKUP(LARGE('TongHop (goc)'!$V$2:$V$200,C87),'TongHop (goc)'!$V$2:$AA$200,2,0))","v":"Vũ Anh "},{"$f":"IF(C87>COUNT('TongHop (goc)'!$V$2:$V$200),\"\",VLOOKUP(LARGE('TongHop (goc)'!$V$2:$V$200,C87),'TongHop (goc)'!$V$2:$AA$200,3,0))","v":"Thư"},"26/10/2095","Nguyễn Thành Trung","Xóm 83","T","T",8,6.75,8.5,9.25,32.5,"x",null,"6A",{"$f":"IF(C87>COUNT('TongHop (goc)'!$V$2:$V$200),\"\",VLOOKUP(LARGE('TongHop (goc)'!$V$2:$V$200,C87),'TongHop (goc)'!$V$2:$AA$200,4,0))","v":"HỌC SINH GIỎI"},{"$f":"IF(C87>COUNT('TongHop (goc)'!$V$2:$V$200),\"\",VLOOKUP(LARGE('TongHop (goc)'!$V$2:$V$200,C87),'TongHop (goc)'!$V$2:$AA$200,5,0))","v":"8C"},null,83]
[null,null,{"$f":"IF(ROW(84:84)>COUNT('TongHop (goc)'!$V$2:$V$200),\"\",ROW(84:84))","v":84},{"$f":"IF(U88=\"\",\"\",COUNTIF($U$5:U88,U88))","v":8},{"$f":"IF(C88>COUNT('TongHop (goc)'!$V$2:$V$200),\"\",VLOOKUP(LARGE('TongHop (goc)'!$V$2:$V$200,C88),'TongHop (goc)'!$V$2:$AA$200,2,0))","v":"Lê Kiều "},{"$f":"IF(C88>COUNT('TongHop (goc)'!$V$2:$V$200),\"\",VLOOKUP(LARGE('TongHop (goc)'!$V$2:$V$200,C88),'TongHop (goc)'!$V$2:$AA$200,3,0))","v":"Anh"},"26/10/2096","Nguyễn Thành Trung","Xóm 84","T","T",8,6.75,8.5,9.25,32.5,"x",null,"6A",{"$f":"IF(C88>COUNT('TongHop (goc)'!$V$2:$V$200),\"\",VLOOKUP(LARGE('TongHop (goc)'!$V$2:$V$200,C88),'TongHop (goc)'!$V$2:$AA$200,4,0))","v":"HỌC SINH GIỎI"},{"$f":"IF(C88>COUNT('TongHop (goc)'!$V$2:$V$200),\"\",VLOOKUP(LARGE('TongHop (goc)'!$V$2:$V$200,C88),'TongHop (goc)'!$V$2:$AA$200,5,0))","v":"8C"},null,84]
[null,null,{"$f":"IF(ROW(85:85)>COUNT('TongHop (goc)'!$V$2:$V$200),\"\",ROW(85:85))","v":85},{"$f":"IF(U89=\"\",\"\",COUNTIF($U$5:U89,U89))","v":9},{"$f":"IF(C89>COUNT('TongHop (goc)'!$V$2:$V$200),\"\",VLOOKUP(LARGE('TongHop (goc)'!$V$2:$V$200,C89),'TongHop (goc)'!$V$2:$AA$200,2,0))","v":"Nguyễn Thị Thanh"},{"$f":"IF(C89>COUNT('TongHop (goc)'!$V$2:$V$200),\"\",VLOOKUP(LARGE('TongHop (goc)'!$V$2:$V$200,C89),'TongHop (goc)'!$V$2:$AA$200,3,0))","v":"Thảo"},"26/10/2097","Nguyễn Thành Trung","Xóm 85","T","T",8,6.75,8.5,9.25,32.5,"x",null,"6A",{"$f":"IF(C89>COUNT('TongHop (goc)'!$V$2:$V$200),\"\",VLOOKUP(LARGE('TongHop (goc)'!$V$2:$V$200,C89),'TongHop (goc)'!$V$2:$AA$200,4,0))","v":"HỌC SINH GIỎI"},{"$f":"IF(C89>COUNT('TongHop (goc)'!$V$2:$V$200),\"\",VLOOKUP(LARGE('TongHop (goc)'!$V$2:$V$200,C89),'TongHop (goc)'!$V$2:$AA$200,5,0))","v":"8C"},null,85]
[null,null,{"$f":"IF(ROW(86:86)>COUNT('TongHop (goc)'!$V$2:$V$200),\"\",ROW(86:86))","v":86},{"$f":"IF(U90=\"\",\"\",COUNTIF($U$5:U90,U90))","v":10},{"$f":"IF(C90>COUNT('TongHop (goc)'!$V$2:$V$200),\"\",VLOOKUP(LARGE('TongHop (goc)'!$V$2:$V$200,C90),'TongHop (goc)'!$V$2:$AA$200,2,0))","v":"Tống Ngọc"},{"$f":"IF(C90>COUNT('TongHop (goc)'!$V$2:$V$200),\"\",VLOOKUP(LARGE('TongHop (goc)'!$V$2:$V$200,C90),'TongHop (goc)'!$V$2:$AA$200,3,0))","v":"Hân"},"26/10/2098","Nguyễn Thành Trung","Xóm 86","T","T",8,6.75,8.5,9.25,32.5,"x",null,"6A",{"$f":"IF(C90>COUNT('TongHop (goc)'!$V$2:$V$200),\"\",VLOOKUP(LARGE('TongHop (goc)'!$V$2:$V$200,C90),'TongHop (goc)'!$V$2:$AA$200,4,0))","v":"HỌC SINH GIỎI"},{"$f":"IF(C90>COUNT('TongHop (goc)'!$V$2:$V$200),\"\",VLOOKUP(LARGE('TongHop (goc)'!$V$2:$V$200,C90),'TongHop (goc)'!$V$2:$AA$200,5,0))","v":"8C"},null,86]
[null,null,{"$f":"IF(ROW(87:87)>COUNT('TongHop (goc)'!$V$2:$V$200),\"\",ROW(87:87))","v":87},{"$f":"IF(U91=\"\",\"\",COUNTIF($U$5:U91,U91))","v":11},{"$f":"IF(C91>COUNT('TongHop (goc)'!$V$2:$V$200),\"\",VLOOKUP(LARGE('TongHop (goc)'!$V$2:$V$200,C91),'TongHop (goc)'!$V$2:$AA$200,2,0))","v":"Phạm Trần Khánh"},{"$f":"IF(C91>COUNT('TongHop (goc)'!$V$2:$V$200),\"\",VLOOKUP(LARGE('TongHop (goc)'!$V$2:$V$200,C91),'TongHop (goc)'!$V$2:$AA$200,3,0))","v":"Thư"},"26/10/2099","Nguyễn Thành Trung","Xóm 87","T","T",8,6.75,8.5,9.25,32.5,"x",null,"6A",{"$f":"IF(C91>COUNT('TongHop (goc)'!$V$2:$V$200),\"\",VLOOKUP(LARGE('TongHop (goc)'!$V$2:$V$200,C91),'TongHop (goc)'!$V$2:$AA$200,4,0))","v":"HỌC SINH GIỎI"},{"$f":"IF(C91>COUNT('TongHop (goc)'!$V$2:$V$200),\"\",VLOOKUP(LARGE('TongHop (goc)'!$V$2:$V$200,C91),'TongHop (goc)'!$V$2:$AA$200,5,0))","v":"8C"},null,87]
[null,null,{"$f":"IF(ROW(88:88)>COUNT('TongHop (goc)'!$V$2:$V$200),\"\",ROW(88:88))","v":88},{"$f":"IF(U92=\"\",\"\",COUNTIF($U$5:U92,U92))","v":12},{"$f":"IF(C92>COUNT('TongHop (goc)'!$V$2:$V$200),\"\",VLOOKUP(LARGE('TongHop (goc)'!$V$2:$V$200,C92),'TongHop (goc)'!$V$2:$AA$200,2,0))","v":"Trần Thu"},{"$f":"IF(C92>COUNT('TongHop (goc)'!$V$2:$V$200),\"\",VLOOKUP(LARGE('TongHop (goc)'!$V$2:$V$200,C92),'TongHop (goc)'!$V$2:$AA$200,3,0))","v":"Huyền"},"26/10/2100","Nguyễn Thành Trung","Xóm 88","T","T",8,6.75,8.5,9.25,32.5,"x",null,"6A",{"$f":"IF(C92>COUNT('TongHop (goc)'!$V$2:$V$200),\"\",VLOOKUP(LARGE('TongHop (goc)'!$V$2:$V$200,C92),'TongHop (goc)'!$V$2:$AA$200,4,0))","v":"HỌC SINH GIỎI"},{"$f":"IF(C92>COUNT('TongHop (goc)'!$V$2:$V$200),\"\",VLOOKUP(LARGE('TongHop (goc)'!$V$2:$V$200,C92),'TongHop (goc)'!$V$2:$AA$200,5,0))","v":"8C"},null,88]
[null,null,{"$f":"IF(ROW(89:89)>COUNT('TongHop (goc)'!$V$2:$V$200),\"\",ROW(89:89))","v":89},{"$f":"IF(U93=\"\",\"\",COUNTIF($U$5:U93,U93))","v":13},{"$f":"IF(C93>COUNT('TongHop (goc)'!$V$2:$V$200),\"\",VLOOKUP(LARGE('TongHop (goc)'!$V$2:$V$200,C93),'TongHop (goc)'!$V$2:$AA$200,2,0))","v":"Lê Thị Kim"},{"$f":"IF(C93>COUNT('TongHop (goc)'!$V$2:$V$200),\"\",VLOOKUP(LARGE('TongHop (goc)'!$V$2:$V$200,C93),'TongHop (goc)'!$V$2:$AA$200,3,0))","v":"Hoa"},"26/10/2101","Nguyễn Thành Trung","Xóm 89","T","T",8,6.75,8.5,9.25,32.5,"x",null,"6A",{"$f":"IF(C93>COUNT('TongHop (goc)'!$V$2:$V$200),\"\",VLOOKUP(LARGE('TongHop (goc)'!$V$2:$V$200,C93),'TongHop (goc)'!$V$2:$AA$200,4,0))","v":"HỌC SINH GIỎI"},{"$f":"IF(C93>COUNT('TongHop (goc)'!$V$2:$V$200),\"\",VLOOKUP(LARGE('TongHop (goc)'!$V$2:$V$200,C93),'TongHop (goc)'!$V$2:$AA$200,5,0))","v":"8C"},null,89]
[null,null,{"$f":"IF(ROW(90:90)>COUNT('TongHop (goc)'!$V$2:$V$200),\"\",ROW(90:90))","v":90},{"$f":"IF(U94=\"\",\"\",COUNTIF($U$5:U94,U94))","v":14},{"$f":"IF(C94>COUNT('TongHop (goc)'!$V$2:$V$200),\"\",VLOOKUP(LARGE('TongHop (goc)'!$V$2:$V$200,C94),'TongHop (goc)'!$V$2:$AA$200,2,0))","v":"Trần Đức "},{"$f":"IF(C94>COUNT('TongHop (goc)'!$V$2:$V$200),\"\",VLOOKUP(LARGE('TongHop (goc)'!$V$2:$V$200,C94),'TongHop (goc)'!$V$2:$AA$200,3,0))","v":"Anh"},"26/10/2102","Nguyễn Thành Trung","Xóm 90","T","T",8,6.75,8.5,9.25,32.5,"x",null,"6A",{"$f":"IF(C94>COUNT('TongHop (goc)'!$V$2:$V$200),\"\",VLOOKUP(LARGE('TongHop (goc)'!$V$2:$V$200,C94),'TongHop (goc)'!$V$2:$AA$200,4,0))","v":"HỌC SINH GIỎI"},{"$f":"IF(C94>COUNT('TongHop (goc)'!$V$2:$V$200),\"\",VLOOKUP(LARGE('TongHop (goc)'!$V$2:$V$200,C94),'TongHop (goc)'!$V$2:$AA$200,5,0))","v":"8C"},null,90]
[null,null,{"$f":"IF(ROW(91:91)>COUNT('TongHop (goc)'!$V$2:$V$200),\"\",ROW(91:91))","v":91},{"$f":"IF(U95=\"\",\"\",COUNTIF($U$5:U95,U95))","v":15},{"$f":"IF(C95>COUNT('TongHop (goc)'!$V$2:$V$200),\"\",VLOOKUP(LARGE('TongHop (goc)'!$V$2:$V$200,C95),'TongHop (goc)'!$V$2:$AA$200,2,0))","v":"Bùi Huy  "},{"$f":"IF(C95>COUNT('TongHop (goc)'!$V$2:$V$200),\"\",VLOOKUP(LARGE('TongHop (goc)'!$V$2:$V$200,C95),'TongHop (goc)'!$V$2:$AA$200,3,0))","v":"Hoàng"},"26/10/2103","Nguyễn Thành Trung","Xóm 91","T","T",8,6.75,8.5,9.25,32.5,"x",null,"6A",{"$f":"IF(C95>COUNT('TongHop (goc)'!$V$2:$V$200),\"\",VLOOKUP(LARGE('TongHop (goc)'!$V$2:$V$200,C95),'TongHop (goc)'!$V$2:$AA$200,4,0))","v":"HỌC SINH GIỎI"},{"$f":"IF(C95>COUNT('TongHop (goc)'!$V$2:$V$200),\"\",VLOOKUP(LARGE('TongHop (goc)'!$V$2:$V$200,C95),'TongHop (goc)'!$V$2:$AA$200,5,0))","v":"8C"},null,91]
[null,null,{"$f":"IF(ROW(92:92)>COUNT('TongHop (goc)'!$V$2:$V$200),\"\",ROW(92:92))","v":92},{"$f":"IF(U96=\"\",\"\",COUNTIF($U$5:U96,U96))","v":16},{"$f":"IF(C96>COUNT('TongHop (goc)'!$V$2:$V$200),\"\",VLOOKUP(LARGE('TongHop (goc)'!$V$2:$V$200,C96),'TongHop (goc)'!$V$2:$AA$200,2,0))","v":"Lê Thùy  "},{"$f":"IF(C96>COUNT('TongHop (goc)'!$V$2:$V$200),\"\",VLOOKUP(LARGE('TongHop (goc)'!$V$2:$V$200,C96),'TongHop (goc)'!$V$2:$AA$200,3,0))","v":"Dung"},"26/10/2104","Nguyễn Thành Trung","Xóm 92","T","T",8,6.75,8.5,9.25,32.5,"x",null,"6A",{"$f":"IF(C96>COUNT('TongHop (goc)'!$V$2:$V$200),\"\",VLOOKUP(LARGE('TongHop (goc)'!$V$2:$V$200,C96),'TongHop (goc)'!$V$2:$AA$200,4,0))","v":"HỌC SINH GIỎI"},{"$f":"IF(C96>COUNT('TongHop (goc)'!$V$2:$V$200),\"\",VLOOKUP(LARGE('TongHop (goc)'!$V$2:$V$200,C96),'TongHop (goc)'!$V$2:$AA$200,5,0))","v":"8C"},null,92]
[null,null,{"$f":"IF(ROW(93:93)>COUNT('TongHop (goc)'!$V$2:$V$200),\"\",ROW(93:93))","v":93},{"$f":"IF(U97=\"\",\"\",COUNTIF($U$5:U97,U97))","v":17},{"$f":"IF(C97>COUNT('TongHop (goc)'!$V$2:$V$200),\"\",VLOOKUP(LARGE('TongHop (goc)'!$V$2:$V$200,C97),'TongHop (goc)'!$V$2:$AA$200,2,0))","v":"Mai Thảo"},{"$f":"IF(C97>COUNT('TongHop (goc)'!$V$2:$V$200),\"\",VLOOKUP(LARGE('TongHop (goc)'!$V$2:$V$200,C97),'TongHop (goc)'!$V$2:$AA$200,3,0))","v":"Quyên"},"26/10/2105","Nguyễn Thành Trung","Xóm 93","T","T",8,6.75,8.5,9.25,32.5,"x",null,"6A",{"$f":"IF(C97>COUNT('TongHop (goc)'!$V$2:$V$200),\"\",VLOOKUP(LARGE('TongHop (goc)'!$V$2:$V$200,C97),'TongHop (goc)'!$V$2:$AA$200,4,0))","v":"HỌC SINH GIỎI"},{"$f":"IF(C97>COUNT('TongHop (goc)'!$V$2:$V$200),\"\",VLOOKUP(LARGE('TongHop (goc)'!$V$2:$V$200,C97),'TongHop (goc)'!$V$2:$AA$200,5,0))","v":"8C"},null,93]
[null,null,{"$f":"IF(ROW(94:94)>COUNT('TongHop (goc)'!$V$2:$V$200),\"\",ROW(94:94))","v":94},{"$f":"IF(U98=\"\",\"\",COUNTIF($U$5:U98,U98))","v":18},{"$f":"IF(C98>COUNT('TongHop (goc)'!$V$2:$V$200),\"\",VLOOKUP(LARGE('TongHop (goc)'!$V$2:$V$200,C98),'TongHop (goc)'!$V$2:$AA$200,2,0))","v":"Trần Thanh "},{"$f":"IF(C98>COUNT('TongHop (goc)'!$V$2:$V$200),\"\",VLOOKUP(LARGE('TongHop (goc)'!$V$2:$V$200,C98),'TongHop (goc)'!$V$2:$AA$200,3,0))","v":"Hoàng"},"26/10/2106","Nguyễn Thành Trung","Xóm 94","T","T",8,6.75,8.5,9.25,32.5,"x",null,"6A",{"$f":"IF(C98>COUNT('TongHop (goc)'!$V$2:$V$200),\"\",VLOOKUP(LARGE('TongHop (goc)'!$V$2:$V$200,C98),'TongHop (goc)'!$V$2:$AA$200,4,0))","v":"HỌC SINH GIỎI"},{"$f":"IF(C98>COUNT('TongHop (goc)'!$V$2:$V$200),\"\",VLOOKUP(LARGE('TongHop (goc)'!$V$2:$V$200,C98),'TongHop (goc)'!$V$2:$AA$200,5,0))","v":"8C"},null,94]
[null,null,{"$f":"IF(ROW(95:95)>COUNT('TongHop (goc)'!$V$2:$V$200),\"\",ROW(95:95))","v":95},{"$f":"IF(U99=\"\",\"\",COUNTIF($U$5:U99,U99))","v":19},{"$f":"IF(C99>COUNT('TongHop (goc)'!$V$2:$V$200),\"\",VLOOKUP(LARGE('TongHop (goc)'!$V$2:$V$200,C99),'TongHop (goc)'!$V$2:$AA$200,2,0))","v":"Mai Ngọc"},{"$f":"IF(C99>COUNT('TongHop (goc)'!$V$2:$V$200),\"\",VLOOKUP(LARGE('TongHop (goc)'!$V$2:$V$200,C99),'TongHop (goc)'!$V$2:$AA$200,3,0))","v":"Hằng"},"26/10/2107","Nguyễn Thành Trung","Xóm 95","T","T",8,6.75,8.5,9.25,32.5,"x",null,"6A",{"$f":"IF(C99>COUNT('TongHop (goc)'!$V$2:$V$200),\"\",VLOOKUP(LARGE('TongHop (goc)'!$V$2:$V$200,C99),'TongHop (goc)'!$V$2:$AA$200,4,0))","v":"HỌC SINH GIỎI"},{"$f":"IF(C99>COUNT('TongHop (goc)'!$V$2:$V$200),\"\",VLOOKUP(LARGE('TongHop (goc)'!$V$2:$V$200,C99),'TongHop (goc)'!$V$2:$AA$200,5,0))","v":"8C"},null,95]
[null,null,{"$f":"IF(ROW(96:96)>COUNT('TongHop (goc)'!$V$2:$V$200),\"\",ROW(96:96))","v":96},{"$f":"IF(U100=\"\",\"\",COUNTIF($U$5:U100,U100))","v":20},{"$f":"IF(C100>COUNT('TongHop (goc)'!$V$2:$V$200),\"\",VLOOKUP(LARGE('TongHop (goc)'!$V$2:$V$200,C100),'TongHop (goc)'!$V$2:$AA$200,2,0))","v":"Trần Yến "},{"$f":"IF(C100>COUNT('TongHop (goc)'!$V$2:$V$200),\"\",VLOOKUP(LARGE('TongHop (goc)'!$V$2:$V$200,C100),'TongHop (goc)'!$V$2:$AA$200,3,0))","v":"Nhi"},"26/10/2108","Nguyễn Thành Trung","Xóm 96","T","T",8,6.75,8.5,9.25,32.5,"x",null,"6A",{"$f":"IF(C100>COUNT('TongHop (goc)'!$V$2:$V$200),\"\",VLOOKUP(LARGE('TongHop (goc)'!$V$2:$V$200,C100),'TongHop (goc)'!$V$2:$AA$200,4,0))","v":"HỌC SINH GIỎI"},{"$f":"IF(C100>COUNT('TongHop (goc)'!$V$2:$V$200),\"\",VLOOKUP(LARGE('TongHop (goc)'!$V$2:$V$200,C100),'TongHop (goc)'!$V$2:$AA$200,5,0))","v":"8C"},null,96]
[null,null,{"$f":"IF(ROW(97:97)>COUNT('TongHop (goc)'!$V$2:$V$200),\"\",ROW(97:97))","v":97},{"$f":"IF(U101=\"\",\"\",COUNTIF($U$5:U101,U101))","v":21},{"$f":"IF(C101>COUNT('TongHop (goc)'!$V$2:$V$200),\"\",VLOOKUP(LARGE('TongHop (goc)'!$V$2:$V$200,C101),'TongHop (goc)'!$V$2:$AA$200,2,0))","v":"Trần Trung "},{"$f":"IF(C101>COUNT('TongHop (goc)'!$V$2:$V$200),\"\",VLOOKUP(LARGE('TongHop (goc)'!$V$2:$V$200,C101),'TongHop (goc)'!$V$2:$AA$200,3,0))","v":"Hiếu"},"26/10/2109","Nguyễn Thành Trung","Xóm 97","T","T",8,6.75,8.5,9.25,32.5,"x",null,"6A",{"$f":"IF(C101>COUNT('TongHop (goc)'!$V$2:$V$200),\"\",VLOOKUP(LARGE('TongHop (goc)'!$V$2:$V$200,C101),'TongHop (goc)'!$V$2:$AA$200,4,0))","v":"HỌC SINH GIỎI"},{"$f":"IF(C101>COUNT('TongHop (goc)'!$V$2:$V$200),\"\",VLOOKUP(LARGE('TongHop (goc)'!$V$2:$V$200,C101),'TongHop (goc)'!$V$2:$AA$200,5,0))","v":"8C"},null,97]
[null,null,{"$f":"IF(ROW(98:98)>COUNT('TongHop (goc)'!$V$2:$V$200),\"\",ROW(98:98))","v":98},{"$f":"IF(U102=\"\",\"\",COUNTIF($U$5:U102,U102))","v":22},{"$f":"IF(C102>COUNT('TongHop (goc)'!$V$2:$V$200),\"\",VLOOKUP(LARGE('TongHop (goc)'!$V$2:$V$200,C102),'TongHop (goc)'!$V$2:$AA$200,2,0))","v":"Nguyễn Thị Phương "},{"$f":"IF(C102>COUNT('TongHop (goc)'!$V$2:$V$200),\"\",VLOOKUP(LARGE('TongHop (goc)'!$V$2:$V$200,C102),'TongHop (goc)'!$V$2:$AA$200,3,0))","v":"Thảo"},"26/10/2110","Nguyễn Thành Trung","Xóm 98","T","T",8,6.75,8.5,9.25,32.5,"x",null,"6A",{"$f":"IF(C102>COUNT('TongHop (goc)'!$V$2:$V$200),\"\",VLOOKUP(LARGE('TongHop (goc)'!$V$2:$V$200,C102),'TongHop (goc)'!$V$2:$AA$200,4,0))","v":"HỌC SINH GIỎI"},{"$f":"IF(C102>COUNT('TongHop (goc)'!$V$2:$V$200),\"\",VLOOKUP(LARGE('TongHop (goc)'!$V$2:$V$200,C102),'TongHop (goc)'!$V$2:$AA$200,5,0))","v":"8C"},null,98]
[null,null,{"$f":"IF(ROW(99:99)>COUNT('TongHop (goc)'!$V$2:$V$200),\"\",ROW(99:99))","v":99},{"$f":"IF(U103=\"\",\"\",COUNTIF($U$5:U103,U103))","v":23},{"$f":"IF(C103>COUNT('TongHop (goc)'!$V$2:$V$200),\"\",VLOOKUP(LARGE('TongHop (goc)'!$V$2:$V$200,C103),'TongHop (goc)'!$V$2:$AA$200,2,0))","v":"Phạm Khánh "},{"$f":"IF(C103>COUNT('TongHop (goc)'!$V$2:$V$200),\"\",VLOOKUP(LARGE('TongHop (goc)'!$V$2:$V$200,C103),'TongHop (goc)'!$V$2:$AA$200,3,0))","v":"Huyền"},"26/10/2111","Nguyễn Thành Trung","Xóm 99","T","T",8,6.75,8.5,9.25,32.5,"x",null,"6A",{"$f":"IF(C103>COUNT('TongHop (goc)'!$V$2:$V$200),\"\",VLOOKUP(LARGE('TongHop (goc)'!$V$2:$V$200,C103),'TongHop (goc)'!$V$2:$AA$200,4,0))","v":"HỌC SINH GIỎI"},{"$f":"IF(C103>COUNT('TongHop (goc)'!$V$2:$V$200),\"\",VLOOKUP(LARGE('TongHop (goc)'!$V$2:$V$200,C103),'TongHop (goc)'!$V$2:$AA$200,5,0))","v":"8C"},null,99]
[null,null,{"$f":"IF(ROW(100:100)>COUNT('TongHop (goc)'!$V$2:$V$200),\"\",ROW(100:100))","v":100},{"$f":"IF(U104=\"\",\"\",COUNTIF($U$5:U104,U104))","v":24},{"$f":"IF(C104>COUNT('TongHop (goc)'!$V$2:$V$200),\"\",VLOOKUP(LARGE('TongHop (goc)'!$V$2:$V$200,C104),'TongHop (goc)'!$V$2:$AA$200,2,0))","v":"Nịnh Thị Ngân"},{"$f":"IF(C104>COUNT('TongHop (goc)'!$V$2:$V$200),\"\",VLOOKUP(LARGE('TongHop (goc)'!$V$2:$V$200,C104),'TongHop (goc)'!$V$2:$AA$200,3,0))","v":"Khánh"},"26/10/2112","Nguyễn Thành Trung","Xóm 100","T","T",8,6.75,8.5,9.25,32.5,"x",null,"6A",{"$f":"IF(C104>COUNT('TongHop (goc)'!$V$2:$V$200),\"\",VLOOKUP(LARGE('TongHop (goc)'!$V$2:$V$200,C104),'TongHop (goc)'!$V$2:$AA$200,4,0))","v":"HỌC SINH GIỎI"},{"$f":"IF(C104>COUNT('TongHop (goc)'!$V$2:$V$200),\"\",VLOOKUP(LARGE('TongHop (goc)'!$V$2:$V$200,C104),'TongHop (goc)'!$V$2:$AA$200,5,0))","v":"8C"},null,100]
[null,null,{"$f":"IF(ROW(101:101)>COUNT('TongHop (goc)'!$V$2:$V$200),\"\",ROW(101:101))","v":101},{"$f":"IF(U105=\"\",\"\",COUNTIF($U$5:U105,U105))","v":25},{"$f":"IF(C105>COUNT('TongHop (goc)'!$V$2:$V$200),\"\",VLOOKUP(LARGE('TongHop (goc)'!$V$2:$V$200,C105),'TongHop (goc)'!$V$2:$AA$200,2,0))","v":"Tống Khánh"},{"$f":"IF(C105>COUNT('TongHop (goc)'!$V$2:$V$200),\"\",VLOOKUP(LARGE('TongHop (goc)'!$V$2:$V$200,C105),'TongHop (goc)'!$V$2:$AA$200,3,0))","v":"Vy"},"26/10/2113","Nguyễn Thành Trung","Xóm 101","T","T",8,6.75,8.5,9.25,32.5,"x",null,"6A",{"$f":"IF(C105>COUNT('TongHop (goc)'!$V$2:$V$200),\"\",VLOOKUP(LARGE('TongHop (goc)'!$V$2:$V$200,C105),'TongHop (goc)'!$V$2:$AA$200,4,0))","v":"HỌC SINH GIỎI"},{"$f":"IF(C105>COUNT('TongHop (goc)'!$V$2:$V$200),\"\",VLOOKUP(LARGE('TongHop (goc)'!$V$2:$V$200,C105),'TongHop (goc)'!$V$2:$AA$200,5,0))","v":"8C"},null,101]
[null,null,{"$f":"IF(ROW(102:102)>COUNT('TongHop (goc)'!$V$2:$V$200),\"\",ROW(102:102))","v":102},{"$f":"IF(U106=\"\",\"\",COUNTIF($U$5:U106,U106))","v":26},{"$f":"IF(C106>COUNT('TongHop (goc)'!$V$2:$V$200),\"\",VLOOKUP(LARGE('TongHop (goc)'!$V$2:$V$200,C106),'TongHop (goc)'!$V$2:$AA$200,2,0))","v":"Lê Anh"},{"$f":"IF(C106>COUNT('TongHop (goc)'!$V$2:$V$200),\"\",VLOOKUP(LARGE('TongHop (goc)'!$V$2:$V$200,C106),'TongHop (goc)'!$V$2:$AA$200,3,0))","v":"Tú"},"26/10/2114","Nguyễn Thành Trung","Xóm 102","T","T",8,6.75,8.5,9.25,32.5,"x",null,"6A",{"$f":"IF(C106>COUNT('TongHop (goc)'!$V$2:$V$200),\"\",VLOOKUP(LARGE('TongHop (goc)'!$V$2:$V$200,C106),'TongHop (goc)'!$V$2:$AA$200,4,0))","v":"HỌC SINH GIỎI"},{"$f":"IF(C106>COUNT('TongHop (goc)'!$V$2:$V$200),\"\",VLOOKUP(LARGE('TongHop (goc)'!$V$2:$V$200,C106),'TongHop (goc)'!$V$2:$AA$200,5,0))","v":"8C"},null,102]
[null,null,{"$f":"IF(ROW(103:103)>COUNT('TongHop (goc)'!$V$2:$V$200),\"\",ROW(103:103))","v":103},{"$f":"IF(U107=\"\",\"\",COUNTIF($U$5:U107,U107))","v":27},{"$f":"IF(C107>COUNT('TongHop (goc)'!$V$2:$V$200),\"\",VLOOKUP(LARGE('TongHop (goc)'!$V$2:$V$200,C107),'TongHop (goc)'!$V$2:$AA$200,2,0))","v":"Phạm Thảo"},{"$f":"IF(C107>COUNT('TongHop (goc)'!$V$2:$V$200),\"\",VLOOKUP(LARGE('TongHop (goc)'!$V$2:$V$200,C107),'TongHop (goc)'!$V$2:$AA$200,3,0))","v":"Nguyên"},"26/10/2115","Nguyễn Thành Trung","Xóm 103","T","T",8,6.75,8.5,9.25,32.5,"x",null,"6A",{"$f":"IF(C107>COUNT('TongHop (goc)'!$V$2:$V$200),\"\",VLOOKUP(LARGE('TongHop (goc)'!$V$2:$V$200,C107),'TongHop (goc)'!$V$2:$AA$200,4,0))","v":"HỌC SINH GIỎI"},{"$f":"IF(C107>COUNT('TongHop (goc)'!$V$2:$V$200),\"\",VLOOKUP(LARGE('TongHop (goc)'!$V$2:$V$200,C107),'TongHop (goc)'!$V$2:$AA$200,5,0))","v":"8C"},null,103]
[null,null,{"$f":"IF(ROW(104:104)>COUNT('TongHop (goc)'!$V$2:$V$200),\"\",ROW(104:104))","v":104},{"$f":"IF(U108=\"\",\"\",COUNTIF($U$5:U108,U108))","v":28},{"$f":"IF(C108>COUNT('TongHop (goc)'!$V$2:$V$200),\"\",VLOOKUP(LARGE('TongHop (goc)'!$V$2:$V$200,C108),'TongHop (goc)'!$V$2:$AA$200,2,0))","v":"Trần Diệu "},{"$f":"IF(C108>COUNT('TongHop (goc)'!$V$2:$V$200),\"\",VLOOKUP(LARGE('TongHop (goc)'!$V$2:$V$200,C108),'TongHop (goc)'!$V$2:$AA$200,3,0))","v":"Quỳnh"},"26/10/2116","Nguyễn Thành Trung","Xóm 104","T","T",8,6.75,8.5,9.25,32.5,"x",null,"6A",{"$f":"IF(C108>COUNT('TongHop (goc)'!$V$2:$V$200),\"\",VLOOKUP(LARGE('TongHop (goc)'!$V$2:$V$200,C108),'TongHop (goc)'!$V$2:$AA$200,4,0))","v":"HỌC SINH GIỎI"},{"$f":"IF(C108>COUNT('TongHop (goc)'!$V$2:$V$200),\"\",VLOOKUP(LARGE('TongHop (goc)'!$V$2:$V$200,C108),'TongHop (goc)'!$V$2:$AA$200,5,0))","v":"8C"},null,104]
["9A","4 - HSG",{"$f":"IF(ROW(105:105)>COUNT('TongHop (goc)'!$V$2:$V$200),\"\",ROW(105:105))","v":105},{"$f":"IF(U109=\"\",\"\",COUNTIF($U$5:U109,U109))","v":1},{"$f":"IF(C109>COUNT('TongHop (goc)'!$V$2:$V$200),\"\",VLOOKUP(LARGE('TongHop (goc)'!$V$2:$V$200,C109),'TongHop (goc)'!$V$2:$AA$200,2,0))","v":"Trần Xuân "},{"$f":"IF(C109>COUNT('TongHop (goc)'!$V$2:$V$200),\"\",VLOOKUP(LARGE('TongHop (goc)'!$V$2:$V$200,C109),'TongHop (goc)'!$V$2:$AA$200,3,0))","v":"Sang"},"26/10/2117","Nguyễn Thành Trung","Xóm 105","T","T",8,6.75,8.5,9.25,32.5,"x",null,"6A",{"$f":"IF(C109>COUNT('TongHop (goc)'!$V$2:$V$200),\"\",VLOOKUP(LARGE('TongHop (goc)'!$V$2:$V$200,C109),'TongHop (goc)'!$V$2:$AA$200,4,0))","v":"HỌC SINH GIỎI"},{"$f":"IF(C109>COUNT('TongHop (goc)'!$V$2:$V$200),\"\",VLOOKUP(LARGE('TongHop (goc)'!$V$2:$V$200,C109),'TongHop (goc)'!$V$2:$AA$200,5,0))","v":"9A"},null,105]
["9A",null,{"$f":"IF(ROW(106:106)>COUNT('TongHop (goc)'!$V$2:$V$200),\"\",ROW(106:106))","v":106},{"$f":"IF(U110=\"\",\"\",COUNTIF($U$5:U110,U110))","v":2},{"$f":"IF(C110>COUNT('TongHop (goc)'!$V$2:$V$200),\"\",VLOOKUP(LARGE('TongHop (goc)'!$V$2:$V$200,C110),'TongHop (goc)'!$V$2:$AA$200,2,0))","v":"Lê Mai Hà "},{"$f":"IF(C110>COUNT('TongHop (goc)'!$V$2:$V$200),\"\",VLOOKUP(LARGE('TongHop (goc)'!$V$2:$V$200,C110),'TongHop (goc)'!$V$2:$AA$200,3,0))","v":"Vy"},"26/10/2118","Nguyễn Thành Trung","Xóm 106","T","T",8,6.75,8.5,9.25,32.5,"x",null,"6A",{"$f":"IF(C110>COUNT('TongHop (goc)'!$V$2:$V$200),\"\",VLOOKUP(LARGE('TongHop (goc)'!$V$2:$V$200,C110),'TongHop (goc)'!$V$2:$AA$200,4,0))","v":"HỌC SINH GIỎI"},{"$f":"IF(C110>COUNT('TongHop (goc)'!$V$2:$V$200),\"\",VLOOKUP(LARGE('TongHop (goc)'!$V$2:$V$200,C110),'TongHop (goc)'!$V$2:$AA$200,5,0))","v":"9A"},null,106]
[null,null,{"$f":"IF(ROW(107:107)>COUNT('TongHop (goc)'!$V$2:$V$200),\"\",ROW(107:107))","v":107},{"$f":"IF(U111=\"\",\"\",COUNTIF($U$5:U111,U111))","v":3},{"$f":"IF(C111>COUNT('TongHop (goc)'!$V$2:$V$200),\"\",VLOOKUP(LARGE('TongHop (goc)'!$V$2:$V$200,C111),'TongHop (goc)'!$V$2:$AA$200,2,0))","v":"Lương Trần Hương"},{"$f":"IF(C111>COUNT('TongHop (goc)'!$V$2:$V$200),\"\",VLOOKUP(LARGE('TongHop (goc)'!$V$2:$V$200,C111),'TongHop (goc)'!$V$2:$AA$200,3,0))","v":"Trà"},"26/10/2119","Nguyễn Thành Trung","Xóm 107","T","T",8,6.75,8.5,9.25,32.5,"x",null,"6A",{"$f":"IF(C111>COUNT('TongHop (goc)'!$V$2:$V$200),\"\",VLOOKUP(LARGE('TongHop (goc)'!$V$2:$V$200,C111),'TongHop (goc)'!$V$2:$AA$200,4,0))","v":"HỌC SINH GIỎI"},{"$f":"IF(C111>COUNT('TongHop (goc)'!$V$2:$V$200),\"\",VLOOKUP(LARGE('TongHop (goc)'!$V$2:$V$200,C111),'TongHop (goc)'!$V$2:$AA$200,5,0))","v":"9A"},null,107]
[null,null,{"$f":"IF(ROW(108:108)>COUNT('TongHop (goc)'!$V$2:$V$200),\"\",ROW(108:108))","v":108},{"$f":"IF(U112=\"\",\"\",COUNTIF($U$5:U112,U112))","v":4},{"$f":"IF(C112>COUNT('TongHop (goc)'!$V$2:$V$200),\"\",VLOOKUP(LARGE('TongHop (goc)'!$V$2:$V$200,C112),'TongHop (goc)'!$V$2:$AA$200,2,0))","v":"Lê Tú "},{"$f":"IF(C112>COUNT('TongHop (goc)'!$V$2:$V$200),\"\",VLOOKUP(LARGE('TongHop (goc)'!$V$2:$V$200,C112),'TongHop (goc)'!$V$2:$AA$200,3,0))","v":"Anh"},"26/10/2120","Nguyễn Thành Trung","Xóm 108","T","T",8,6.75,8.5,9.25,32.5,"x",null,"6A",{"$f":"IF(C112>COUNT('TongHop (goc)'!$V$2:$V$200),\"\",VLOOKUP(LARGE('TongHop (goc)'!$V$2:$V$200,C112),'TongHop (goc)'!$V$2:$AA$200,4,0))","v":"HỌC SINH GIỎI"},{"$f":"IF(C112>COUNT('TongHop (goc)'!$V$2:$V$200),\"\",VLOOKUP(LARGE('TongHop (goc)'!$V$2:$V$200,C112),'TongHop (goc)'!$V$2:$AA$200,5,0))","v":"9A"},null,108]
["9B","5 - HSG",{"$f":"IF(ROW(109:109)>COUNT('TongHop (goc)'!$V$2:$V$200),\"\",ROW(109:109))","v":109},{"$f":"IF(U113=\"\",\"\",COUNTIF($U$5:U113,U113))","v":1},{"$f":"IF(C113>COUNT('TongHop (goc)'!$V$2:$V$200),\"\",VLOOKUP(LARGE('TongHop (goc)'!$V$2:$V$200,C113),'TongHop (goc)'!$V$2:$AA$200,2,0))","v":"Bùi Tấn"},{"$f":"IF(C113>COUNT('TongHop (goc)'!$V$2:$V$200),\"\",VLOOKUP(LARGE('TongHop (goc)'!$V$2:$V$200,C113),'TongHop (goc)'!$V$2:$AA$200,3,0))","v":"Phát"},"26/10/2121","Nguyễn Thành Trung","Xóm 109","T","T",8,6.75,8.5,9.25,32.5,"x",null,"6A",{"$f":"IF(C113>COUNT('TongHop (goc)'!$V$2:$V$200),\"\",VLOOKUP(LARGE('TongHop (goc)'!$V$2:$V$200,C113),'TongHop (goc)'!$V$2:$AA$200,4,0))","v":"HỌC SINH GIỎI"},{"$f":"IF(C113>COUNT('TongHop (goc)'!$V$2:$V$200),\"\",VLOOKUP(LARGE('TongHop (goc)'!$V$2:$V$200,C113),'TongHop (goc)'!$V$2:$AA$200,5,0))","v":"9B"},null,109]
[null,null,{"$f":"IF(ROW(110:110)>COUNT('TongHop (goc)'!$V$2:$V$200),\"\",ROW(110:110))","v":110},{"$f":"IF(U114=\"\",\"\",COUNTIF($U$5:U114,U114))","v":2},{"$f":"IF(C114>COUNT('TongHop (goc)'!$V$2:$V$200),\"\",VLOOKUP(LARGE('TongHop (goc)'!$V$2:$V$200,C114),'TongHop (goc)'!$V$2:$AA$200,2,0))","v":"Tống Nguyễn Thanh"},{"$f":"IF(C114>COUNT('TongHop (goc)'!$V$2:$V$200),\"\",VLOOKUP(LARGE('TongHop (goc)'!$V$2:$V$200,C114),'TongHop (goc)'!$V$2:$AA$200,3,0))","v":"Huyền"},"26/10/2122","Nguyễn Thành Trung","Xóm 110","T","T",8,6.75,8.5,9.25,32.5,"x",null,"6A",{"$f":"IF(C114>COUNT('TongHop (goc)'!$V$2:$V$200),\"\",VLOOKUP(LARGE('TongHop (goc)'!$V$2:$V$200,C114),'TongHop (goc)'!$V$2:$AA$200,4,0))","v":"HỌC SINH GIỎI"},{"$f":"IF(C114>COUNT('TongHop (goc)'!$V$2:$V$200),\"\",VLOOKUP(LARGE('TongHop (goc)'!$V$2:$V$200,C114),'TongHop (goc)'!$V$2:$AA$200,5,0))","v":"9B"},null,110]
[null,null,{"$f":"IF(ROW(111:111)>COUNT('TongHop (goc)'!$V$2:$V$200),\"\",ROW(111:111))","v":111},{"$f":"IF(U115=\"\",\"\",COUNTIF($U$5:U115,U115))","v":3},{"$f":"IF(C115>COUNT('TongHop (goc)'!$V$2:$V$200),\"\",VLOOKUP(LARGE('TongHop (goc)'!$V$2:$V$200,C115),'TongHop (goc)'!$V$2:$AA$200,2,0))","v":"Lê Minh"},{"$f":"IF(C115>COUNT('TongHop (goc)'!$V$2:$V$200),\"\",VLOOKUP(LARGE('TongHop (goc)'!$V$2:$V$200,C115),'TongHop (goc)'!$V$2:$AA$200,3,0))","v":"Thư"},"26/10/2123","Nguyễn Thành Trung","Xóm 111","T","T",8,6.75,8.5,9.25,32.5,"x",null,"6A",{"$f":"IF(C115>COUNT('TongHop (goc)'!$V$2:$V$200),\"\",VLOOKUP(LARGE('TongHop (goc)'!$V$2:$V$200,C115),'TongHop (goc)'!$V$2:$AA$200,4,0))","v":"HỌC SINH GIỎI"},{"$f":"IF(C115>COUNT('TongHop (goc)'!$V$2:$V$200),\"\",VLOOKUP(LARGE('TongHop (goc)'!$V$2:$V$200,C115),'TongHop (goc)'!$V$2:$AA$200,5,0))","v":"9B"},null,111]
[null,null,{"$f":"IF(ROW(112:112)>COUNT('TongHop (goc)'!$V$2:$V$200),\"\",ROW(112:112))","v":112},{"$f":"IF(U116=\"\",\"\",COUNTIF($U$5:U116,U116))","v":4},{"$f":"IF(C116>COUNT('TongHop (goc)'!$V$2:$V$200),\"\",VLOOKUP(LARGE('TongHop (goc)'!$V$2:$V$200,C116),'TongHop (goc)'!$V$2:$AA$200,2,0))","v":"Nguyễn Mai Minh"},{"$f":"IF(C116>COUNT('TongHop (goc)'!$V$2:$V$200),\"\",VLOOKUP(LARGE('TongHop (goc)'!$V$2:$V$200,C116),'TongHop (goc)'!$V$2:$AA$200,3,0))","v":"Ngọc"},"26/10/2124","Nguyễn Thành Trung","Xóm 112","T","T",8,6.75,8.5,9.25,32.5,"x",null,"6A",{"$f":"IF(C116>COUNT('TongHop (goc)'!$V$2:$V$200),\"\",VLOOKUP(LARGE('TongHop (goc)'!$V$2:$V$200,C116),'TongHop (goc)'!$V$2:$AA$200,4,0))","v":"HỌC SINH GIỎI"},{"$f":"IF(C116>COUNT('TongHop (goc)'!$V$2:$V$200),\"\",VLOOKUP(LARGE('TongHop (goc)'!$V$2:$V$200,C116),'TongHop (goc)'!$V$2:$AA$200,5,0))","v":"9B"},null,112]
[null,null,{"$f":"IF(ROW(113:113)>COUNT('TongHop (goc)'!$V$2:$V$200),\"\",ROW(113:113))","v":113},{"$f":"IF(U117=\"\",\"\",COUNTIF($U$5:U117,U117))","v":5},{"$f":"IF(C117>COUNT('TongHop (goc)'!$V$2:$V$200),\"\",VLOOKUP(LARGE('TongHop (goc)'!$V$2:$V$200,C117),'TongHop (goc)'!$V$2:$AA$200,2,0))","v":"Lê Phương "},{"$f":"IF(C117>COUNT('TongHop (goc)'!$V$2:$V$200),\"\",VLOOKUP(LARGE('TongHop (goc)'!$V$2:$V$200,C117),'TongHop (goc)'!$V$2:$AA$200,3,0))","v":"Nga"},"26/10/2125","Nguyễn Thành Trung","Xóm 113","T","T",8,6.75,8.5,9.25,32.5,"x",null,"6A",{"$f":"IF(C117>COUNT('TongHop (goc)'!$V$2:$V$200),\"\",VLOOKUP(LARGE('TongHop (goc)'!$V$2:$V$200,C117),'TongHop (goc)'!$V$2:$AA$200,4,0))","v":"HỌC SINH GIỎI"},{"$f":"IF(C117>COUNT('TongHop (goc)'!$V$2:$V$200),\"\",VLOOKUP(LARGE('TongHop (goc)'!$V$2:$V$200,C117),'TongHop (goc)'!$V$2:$AA$200,5,0))","v":"9B"},null,113]
["9C","29 - HSG",{"$f":"IF(ROW(114:114)>COUNT('TongHop (goc)'!$V$2:$V$200),\"\",ROW(114:114))","v":114},{"$f":"IF(U118=\"\",\"\",COUNTIF($U$5:U118,U118))","v":1},{"$f":"IF(C118>COUNT('TongHop (goc)'!$V$2:$V$200),\"\",VLOOKUP(LARGE('TongHop (goc)'!$V$2:$V$200,C118),'TongHop (goc)'!$V$2:$AA$200,2,0))","v":"Phạm Hoài"},{"$f":"IF(C118>COUNT('TongHop (goc)'!$V$2:$V$200),\"\",VLOOKUP(LARGE('TongHop (goc)'!$V$2:$V$200,C118),'TongHop (goc)'!$V$2:$AA$200,3,0))","v":"An"},"26/10/2126","Nguyễn Thành Trung","Xóm 114","T","T",8,6.75,8.5,9.25,32.5,"x",null,"6A",{"$f":"IF(C118>COUNT('TongHop (goc)'!$V$2:$V$200),\"\",VLOOKUP(LARGE('TongHop (goc)'!$V$2:$V$200,C118),'TongHop (goc)'!$V$2:$AA$200,4,0))","v":"HỌC SINH GIỎI"},{"$f":"IF(C118>COUNT('TongHop (goc)'!$V$2:$V$200),\"\",VLOOKUP(LARGE('TongHop (goc)'!$V$2:$V$200,C118),'TongHop (goc)'!$V$2:$AA$200,5,0))","v":"9C"},null,114]
[null,null,{"$f":"IF(ROW(115:115)>COUNT('TongHop (goc)'!$V$2:$V$200),\"\",ROW(115:115))","v":115},{"$f":"IF(U119=\"\",\"\",COUNTIF($U$5:U119,U119))","v":2},{"$f":"IF(C119>COUNT('TongHop (goc)'!$V$2:$V$200),\"\",VLOOKUP(LARGE('TongHop (goc)'!$V$2:$V$200,C119),'TongHop (goc)'!$V$2:$AA$200,2,0))","v":"Phạm Mạnh"},{"$f":"IF(C119>COUNT('TongHop (goc)'!$V$2:$V$200),\"\",VLOOKUP(LARGE('TongHop (goc)'!$V$2:$V$200,C119),'TongHop (goc)'!$V$2:$AA$200,3,0))","v":"Thắng"},"26/10/2127","Nguyễn Thành Trung","Xóm 115","T","T",8,6.75,8.5,9.25,32.5,"x",null,"6A",{"$f":"IF(C119>COUNT('TongHop (goc)'!$V$2:$V$200),\"\",VLOOKUP(LARGE('TongHop (goc)'!$V$2:$V$200,C119),'TongHop (goc)'!$V$2:$AA$200,4,0))","v":"HỌC SINH GIỎI"},{"$f":"IF(C119>COUNT('TongHop (goc)'!$V$2:$V$200),\"\",VLOOKUP(LARGE('TongHop (goc)'!$V$2:$V$200,C119),'TongHop (goc)'!$V$2:$AA$200,5,0))","v":"9C"},null,115]
[null,null,{"$f":"IF(ROW(116:116)>COUNT('TongHop (goc)'!$V$2:$V$200),\"\",ROW(116:116))","v":116},{"$f":"IF(U120=\"\",\"\",COUNTIF($U$5:U120,U120))","v":3},{"$f":"IF(C120>COUNT('TongHop (goc)'!$V$2:$V$200),\"\",VLOOKUP(LARGE('TongHop (goc)'!$V$2:$V$200,C120),'TongHop (goc)'!$V$2:$AA$200,2,0))","v":"Đỗ Xuân Trung"},{"$f":"IF(C120>COUNT('TongHop (goc)'!$V$2:$V$200),\"\",VLOOKUP(LARGE('TongHop (goc)'!$V$2:$V$200,C120),'TongHop (goc)'!$V$2:$AA$200,3,0))","v":"Kiên"},"26/10/2128","Nguyễn Thành Trung","Xóm 116","T","T",8,6.75,8.5,9.25,32.5,"x",null,"6A",{"$f":"IF(C120>COUNT('TongHop (goc)'!$V$2:$V$200),\"\",VLOOKUP(LARGE('TongHop (goc)'!$V$2:$V$200,C120),'TongHop (goc)'!$V$2:$AA$200,4,0))","v":"HỌC SINH GIỎI"},{"$f":"IF(C120>COUNT('TongHop (goc)'!$V$2:$V$200),\"\",VLOOKUP(LARGE('TongHop (goc)'!$V$2:$V$200,C120),'TongHop (goc)'!$V$2:$AA$200,5,0))","v":"9C"},null,116]
[null,null,{"$f":"IF(ROW(117:117)>COUNT('TongHop (goc)'!$V$2:$V$200),\"\",ROW(117:117))","v":117},{"$f":"IF(U121=\"\",\"\",COUNTIF($U$5:U121,U121))","v":4},{"$f":"IF(C121>COUNT('TongHop (goc)'!$V$2:$V$200),\"\",VLOOKUP(LARGE('TongHop (goc)'!$V$2:$V$200,C121),'TongHop (goc)'!$V$2:$AA$200,2,0))","v":"Phạm Kim"},{"$f":"IF(C121>COUNT('TongHop (goc)'!$V$2:$V$200),\"\",VLOOKUP(LARGE('TongHop (goc)'!$V$2:$V$200,C121),'TongHop (goc)'!$V$2:$AA$200,3,0))","v":"Ngân"},"26/10/2129","Nguyễn Thành Trung","Xóm 117","T","T",8,6.75,8.5,9.25,32.5,"x",null,"6A",{"$f":"IF(C121>COUNT('TongHop (goc)'!$V$2:$V$200),\"\",VLOOKUP(LARGE('TongHop (goc)'!$V$2:$V$200,C121),'TongHop (goc)'!$V$2:$AA$200,4,0))","v":"HỌC SINH GIỎI"},{"$f":"IF(C121>COUNT('TongHop (goc)'!$V$2:$V$200),\"\",VLOOKUP(LARGE('TongHop (goc)'!$V$2:$V$200,C121),'TongHop (goc)'!$V$2:$AA$200,5,0))","v":"9C"},null,117]
[null,null,{"$f":"IF(ROW(118:118)>COUNT('TongHop (goc)'!$V$2:$V$200),\"\",ROW(118:118))","v":118},{"$f":"IF(U122=\"\",\"\",COUNTIF($U$5:U122,U122))","v":5},{"$f":"IF(C122>COUNT('TongHop (goc)'!$V$2:$V$200),\"\",VLOOKUP(LARGE('TongHop (goc)'!$V$2:$V$200,C122),'TongHop (goc)'!$V$2:$AA$200,2,0))","v":"Phạm Huy"},{"$f":"IF(C122>COUNT('TongHop (goc)'!$V$2:$V$200),\"\",VLOOKUP(LARGE('TongHop (goc)'!$V$2:$V$200,C122),'TongHop (goc)'!$V$2:$AA$200,3,0))","v":"Hoàng"},"26/10/2130","Nguyễn Thành Trung","Xóm 118","T","T",8,6.75,8.5,9.25,32.5,"x",null,"6A",{"$f":"IF(C122>COUNT('TongHop (goc)'!$V$2:$V$200),\"\",VLOOKUP(LARGE('TongHop (goc)'!$V$2:$V$200,C122),'TongHop (goc)'!$V$2:$AA$200,4,0))","v":"HỌC SINH GIỎI"},{"$f":"IF(C122>COUNT('TongHop (goc)'!$V$2:$V$200),\"\",VLOOKUP(LARGE('TongHop (goc)'!$V$2:$V$200,C122),'TongHop (goc)'!$V$2:$AA$200,5,0))","v":"9C"},null,118]
[null,null,{"$f":"IF(ROW(119:119)>COUNT('TongHop (goc)'!$V$2:$V$200),\"\",ROW(119:119))","v":119},{"$f":"IF(U123=\"\",\"\",COUNTIF($U$5:U123,U123))","v":6},{"$f":"IF(C123>COUNT('TongHop (goc)'!$V$2:$V$200),\"\",VLOOKUP(LARGE('TongHop (goc)'!$V$2:$V$200,C123),'TongHop (goc)'!$V$2:$AA$200,2,0))","v":"Nguyễn Phương"},{"$f":"IF(C123>COUNT('TongHop (goc)'!$V$2:$V$200),\"\",VLOOKUP(LARGE('TongHop (goc)'!$V$2:$V$200,C123),'TongHop (goc)'!$V$2:$AA$200,3,0))","v":"Thảo"},"26/10/2131","Nguyễn Thành Trung","Xóm 119","T","T",8,6.75,8.5,9.25,32.5,"x",null,"6A",{"$f":"IF(C123>COUNT('TongHop (goc)'!$V$2:$V$200),\"\",VLOOKUP(LARGE('TongHop (goc)'!$V$2:$V$200,C123),'TongHop (goc)'!$V$2:$AA$200,4,0))","v":"HỌC SINH GIỎI"},{"$f":"IF(C123>COUNT('TongHop (goc)'!$V$2:$V$200),\"\",VLOOKUP(LARGE('TongHop (goc)'!$V$2:$V$200,C123),'TongHop (goc)'!$V$2:$AA$200,5,0))","v":"9C"},null,119]
[null,null,{"$f":"IF(ROW(120:120)>COUNT('TongHop (goc)'!$V$2:$V$200),\"\",ROW(120:120))","v":120},{"$f":"IF(U124=\"\",\"\",COUNTIF($U$5:U124,U124))","v":7},{"$f":"IF(C124>COUNT('TongHop (goc)'!$V$2:$V$200),\"\",VLOOKUP(LARGE('TongHop (goc)'!$V$2:$V$200,C124),'TongHop (goc)'!$V$2:$AA$200,2,0))","v":"Đỗ Thu"},{"$f":"IF(C124>COUNT('TongHop (goc)'!$V$2:$V$200),\"\",VLOOKUP(LARGE('TongHop (goc)'!$V$2:$V$200,C124),'TongHop (goc)'!$V$2:$AA$200,3,0))","v":"Trang"},"26/10/2132","Nguyễn Thành Trung","Xóm 120","T","T",8,6.75,8.5,9.25,32.5,"x",null,"6A",{"$f":"IF(C124>COUNT('TongHop (goc)'!$V$2:$V$200),\"\",VLOOKUP(LARGE('TongHop (goc)'!$V$2:$V$200,C124),'TongHop (goc)'!$V$2:$AA$200,4,0))","v":"HỌC SINH GIỎI"},{"$f":"IF(C124>COUNT('TongHop (goc)'!$V$2:$V$200),\"\",VLOOKUP(LARGE('TongHop (goc)'!$V$2:$V$200,C124),'TongHop (goc)'!$V$2:$AA$200,5,0))","v":"9C"},null,120]
[null,null,{"$f":"IF(ROW(121:121)>COUNT('TongHop (goc)'!$V$2:$V$200),\"\",ROW(121:121))","v":121},{"$f":"IF(U125=\"\",\"\",COUNTIF($U$5:U125,U125))","v":8},{"$f":"IF(C125>COUNT('TongHop (goc)'!$V$2:$V$200),\"\",VLOOKUP(LARGE('TongHop (goc)'!$V$2:$V$200,C125),'TongHop (goc)'!$V$2:$AA$200,2,0))","v":"Đinh Khắc"},{"$f":"IF(C125>COUNT('TongHop (goc)'!$V$2:$V$200),\"\",VLOOKUP(LARGE('TongHop (goc)'!$V$2:$V$200,C125),'TongHop (goc)'!$V$2:$AA$200,3,0))","v":"Huynh"},"26/10/2133","Nguyễn Thành Trung","Xóm 121","T","T",8,6.75,8.5,9.25,32.5,"x",null,"6A",{"$f":"IF(C125>COUNT('TongHop (goc)'!$V$2:$V$200),\"\",VLOOKUP(LARGE('TongHop (goc)'!$V$2:$V$200,C125),'TongHop (goc)'!$V$2:$AA$200,4,0))","v":"HỌC SINH GIỎI"},{"$f":"IF(C125>COUNT('TongHop (goc)'!$V$2:$V$200),\"\",VLOOKUP(LARGE('TongHop (goc)'!$V$2:$V$200,C125),'TongHop (goc)'!$V$2:$AA$200,5,0))","v":"9C"},null,121]
[null,null,{"$f":"IF(ROW(122:122)>COUNT('TongHop (goc)'!$V$2:$V$200),\"\",ROW(122:122))","v":122},{"$f":"IF(U126=\"\",\"\",COUNTIF($U$5:U126,U126))","v":9},{"$f":"IF(C126>COUNT('TongHop (goc)'!$V$2:$V$200),\"\",VLOOKUP(LARGE('TongHop (goc)'!$V$2:$V$200,C126),'TongHop (goc)'!$V$2:$AA$200,2,0))","v":"Nguyễn Thùy"},{"$f":"IF(C126>COUNT('TongHop (goc)'!$V$2:$V$200),\"\",VLOOKUP(LARGE('TongHop (goc)'!$V$2:$V$200,C126),'TongHop (goc)'!$V$2:$AA$200,3,0))","v":"Dương"},"26/10/2134","Nguyễn Thành Trung","Xóm 122","T","T",8,6.75,8.5,9.25,32.5,"x",null,"6A",{"$f":"IF(C126>COUNT('TongHop (goc)'!$V$2:$V$200),\"\",VLOOKUP(LARGE('TongHop (goc)'!$V$2:$V$200,C126),'TongHop (goc)'!$V$2:$AA$200,4,0))","v":"HỌC SINH GIỎI"},{"$f":"IF(C126>COUNT('TongHop (goc)'!$V$2:$V$200),\"\",VLOOKUP(LARGE('TongHop (goc)'!$V$2:$V$200,C126),'TongHop (goc)'!$V$2:$AA$200,5,0))","v":"9C"},null,122]
[null,null,{"$f":"IF(ROW(123:123)>COUNT('TongHop (goc)'!$V$2:$V$200),\"\",ROW(123:123))","v":123},{"$f":"IF(U127=\"\",\"\",COUNTIF($U$5:U127,U127))","v":10},{"$f":"IF(C127>COUNT('TongHop (goc)'!$V$2:$V$200),\"\",VLOOKUP(LARGE('TongHop (goc)'!$V$2:$V$200,C127),'TongHop (goc)'!$V$2:$AA$200,2,0))","v":"Phạm Thị Ngọc"},{"$f":"IF(C127>COUNT('TongHop (goc)'!$V$2:$V$200),\"\",VLOOKUP(LARGE('TongHop (goc)'!$V$2:$V$200,C127),'TongHop (goc)'!$V$2:$AA$200,3,0))","v":"Anh"},"26/10/2135","Nguyễn Thành Trung","Xóm 123","T","T",8,6.75,8.5,9.25,32.5,"x",null,"6A",{"$f":"IF(C127>COUNT('TongHop (goc)'!$V$2:$V$200),\"\",VLOOKUP(LARGE('TongHop (goc)'!$V$2:$V$200,C127),'TongHop (goc)'!$V$2:$AA$200,4,0))","v":"HỌC SINH GIỎI"},{"$f":"IF(C127>COUNT('TongHop (goc)'!$V$2:$V$200),\"\",VLOOKUP(LARGE('TongHop (goc)'!$V$2:$V$200,C127),'TongHop (goc)'!$V$2:$AA$200,5,0))","v":"9C"},null,123]
[null,null,{"$f":"IF(ROW(124:124)>COUNT('TongHop (goc)'!$V$2:$V$200),\"\",ROW(124:124))","v":124},{"$f":"IF(U128=\"\",\"\",COUNTIF($U$5:U128,U128))","v":11},{"$f":"IF(C128>COUNT('TongHop (goc)'!$V$2:$V$200),\"\",VLOOKUP(LARGE('TongHop (goc)'!$V$2:$V$200,C128),'TongHop (goc)'!$V$2:$AA$200,2,0))","v":"Mai Hồng"},{"$f":"IF(C128>COUNT('TongHop (goc)'!$V$2:$V$200),\"\",VLOOKUP(LARGE('TongHop (goc)'!$V$2:$V$200,C128),'TongHop (goc)'!$V$2:$AA$200,3,0))","v":"Phúc"},"26/10/2136","Nguyễn Thành Trung","Xóm 124","T","T",8,6.75,8.5,9.25,32.5,"x",null,"6A",{"$f":"IF(C128>COUNT('TongHop (goc)'!$V$2:$V$200),\"\",VLOOKUP(LARGE('TongHop (goc)'!$V$2:$V$200,C128),'TongHop (goc)'!$V$2:$AA$200,4,0))","v":"HỌC SINH GIỎI"},{"$f":"IF(C128>COUNT('TongHop (goc)'!$V$2:$V$200),\"\",VLOOKUP(LARGE('TongHop (goc)'!$V$2:$V$200,C128),'TongHop (goc)'!$V$2:$AA$200,5,0))","v":"9C"},null,124]
[null,null,{"$f":"IF(ROW(125:125)>COUNT('TongHop (goc)'!$V$2:$V$200),\"\",ROW(125:125))","v":125},{"$f":"IF(U129=\"\",\"\",COUNTIF($U$5:U129,U129))","v":12},{"$f":"IF(C129>COUNT('TongHop (goc)'!$V$2:$V$200),\"\",VLOOKUP(LARGE('TongHop (goc)'!$V$2:$V$200,C129),'TongHop (goc)'!$V$2:$AA$200,2,0))","v":"Trần Bảo"},{"$f":"IF(C129>COUNT('TongHop (goc)'!$V$2:$V$200),\"\",VLOOKUP(LARGE('TongHop (goc)'!$V$2:$V$200,C129),'TongHop (goc)'!$V$2:$AA$200,3,0))","v":"Ngọc"},"26/10/2137","Nguyễn Thành Trung","Xóm 125","T","T",8,6.75,8.5,9.25,32.5,"x",null,"6A",{"$f":"IF(C129>COUNT('TongHop (goc)'!$V$2:$V$200),\"\",VLOOKUP(LARGE('TongHop (goc)'!$V$2:$V$200,C129),'TongHop (goc)'!$V$2:$AA$200,4,0))","v":"HỌC SINH GIỎI"},{"$f":"IF(C129>COUNT('TongHop (goc)'!$V$2:$V$200),\"\",VLOOKUP(LARGE('TongHop (goc)'!$V$2:$V$200,C129),'TongHop (goc)'!$V$2:$AA$200,5,0))","v":"9C"},null,125]
[null,null,{"$f":"IF(ROW(126:126)>COUNT('TongHop (goc)'!$V$2:$V$200),\"\",ROW(126:126))","v":126},{"$f":"IF(U130=\"\",\"\",COUNTIF($U$5:U130,U130))","v":13},{"$f":"IF(C130>COUNT('TongHop (goc)'!$V$2:$V$200),\"\",VLOOKUP(LARGE('TongHop (goc)'!$V$2:$V$200,C130),'TongHop (goc)'!$V$2:$AA$200,2,0))","v":"Nguyễn Phương"},{"$f":"IF(C130>COUNT('TongHop (goc)'!$V$2:$V$200),\"\",VLOOKUP(LARGE('TongHop (goc)'!$V$2:$V$200,C130),'TongHop (goc)'!$V$2:$AA$200,3,0))","v":"Linh"},"26/10/2138","Nguyễn Thành Trung","Xóm 126","T","T",8,6.75,8.5,9.25,32.5,"x",null,"6A",{"$f":"IF(C130>COUNT('TongHop (goc)'!$V$2:$V$200),\"\",VLOOKUP(LARGE('TongHop (goc)'!$V$2:$V$200,C130),'TongHop (goc)'!$V$2:$AA$200,4,0))","v":"HỌC SINH GIỎI"},{"$f":"IF(C130>COUNT('TongHop (goc)'!$V$2:$V$200),\"\",VLOOKUP(LARGE('TongHop (goc)'!$V$2:$V$200,C130),'TongHop (goc)'!$V$2:$AA$200,5,0))","v":"9C"},null,126]
[null,null,{"$f":"IF(ROW(127:127)>COUNT('TongHop (goc)'!$V$2:$V$200),\"\",ROW(127:127))","v":127},{"$f":"IF(U131=\"\",\"\",COUNTIF($U$5:U131,U131))","v":14},{"$f":"IF(C131>COUNT('TongHop (goc)'!$V$2:$V$200),\"\",VLOOKUP(LARGE('TongHop (goc)'!$V$2:$V$200,C131),'TongHop (goc)'!$V$2:$AA$200,2,0))","v":"Trần Minh"},{"$f":"IF(C131>COUNT('TongHop (goc)'!$V$2:$V$200),\"\",VLOOKUP(LARGE('TongHop (goc)'!$V$2:$V$200,C131),'TongHop (goc)'!$V$2:$AA$200,3,0))","v":"Oanh"},"26/10/2139","Nguyễn Thành Trung","Xóm 127","T","T",8,6.75,8.5,9.25,32.5,"x",null,"6A",{"$f":"IF(C131>COUNT('TongHop (goc)'!$V$2:$V$200),\"\",VLOOKUP(LARGE('TongHop (goc)'!$V$2:$V$200,C131),'TongHop (goc)'!$V$2:$AA$200,4,0))","v":"HỌC SINH GIỎI"},{"$f":"IF(C131>COUNT('TongHop (goc)'!$V$2:$V$200),\"\",VLOOKUP(LARGE('TongHop (goc)'!$V$2:$V$200,C131),'TongHop (goc)'!$V$2:$AA$200,5,0))","v":"9C"},null,127]
[null,null,{"$f":"IF(ROW(128:128)>COUNT('TongHop (goc)'!$V$2:$V$200),\"\",ROW(128:128))","v":128},{"$f":"IF(U132=\"\",\"\",COUNTIF($U$5:U132,U132))","v":15},{"$f":"IF(C132>COUNT('TongHop (goc)'!$V$2:$V$200),\"\",VLOOKUP(LARGE('TongHop (goc)'!$V$2:$V$200,C132),'TongHop (goc)'!$V$2:$AA$200,2,0))","v":"Đỗ Trung"},{"$f":"IF(C132>COUNT('TongHop (goc)'!$V$2:$V$200),\"\",VLOOKUP(LARGE('TongHop (goc)'!$V$2:$V$200,C132),'TongHop (goc)'!$V$2:$AA$200,3,0))","v":"Hiếu"},"26/10/2140","Nguyễn Thành Trung","Xóm 128","T","T",8,6.75,8.5,9.25,32.5,"x",null,"6A",{"$f":"IF(C132>COUNT('TongHop (goc)'!$V$2:$V$200),\"\",VLOOKUP(LARGE('TongHop (goc)'!$V$2:$V$200,C132),'TongHop (goc)'!$V$2:$AA$200,4,0))","v":"HỌC SINH GIỎI"},{"$f":"IF(C132>COUNT('TongHop (goc)'!$V$2:$V$200),\"\",VLOOKUP(LARGE('TongHop (goc)'!$V$2:$V$200,C132),'TongHop (goc)'!$V$2:$AA$200,5,0))","v":"9C"},null,128]
[null,null,{"$f":"IF(ROW(129:129)>COUNT('TongHop (goc)'!$V$2:$V$200),\"\",ROW(129:129))","v":129},{"$f":"IF(U133=\"\",\"\",COUNTIF($U$5:U133,U133))","v":16},{"$f":"IF(C133>COUNT('TongHop (goc)'!$V$2:$V$200),\"\",VLOOKUP(LARGE('TongHop (goc)'!$V$2:$V$200,C133),'TongHop (goc)'!$V$2:$AA$200,2,0))","v":"Lê Yến"},{"$f":"IF(C133>COUNT('TongHop (goc)'!$V$2:$V$200),\"\",VLOOKUP(LARGE('TongHop (goc)'!$V$2:$V$200,C133),'TongHop (goc)'!$V$2:$AA$200,3,0))","v":"Nhi"},"26/10/2141","Nguyễn Thành Trung","Xóm 129","T","T",8,6.75,8.5,9.25,32.5,"x",null,"6A",{"$f":"IF(C133>COUNT('TongHop (goc)'!$V$2:$V$200),\"\",VLOOKUP(LARGE('TongHop (goc)'!$V$2:$V$200,C133),'TongHop (goc)'!$V$2:$AA$200,4,0))","v":"HỌC SINH GIỎI"},{"$f":"IF(C133>COUNT('TongHop (goc)'!$V$2:$V$200),\"\",VLOOKUP(LARGE('TongHop (goc)'!$V$2:$V$200,C133),'TongHop (goc)'!$V$2:$AA$200,5,0))","v":"9C"},null,129]
[null,null,{"$f":"IF(ROW(130:130)>COUNT('TongHop (goc)'!$V$2:$V$200),\"\",ROW(130:130))","v":130},{"$f":"IF(U134=\"\",\"\",COUNTIF($U$5:U134,U134))","v":17},{"$f":"IF(C134>COUNT('TongHop (goc)'!$V$2:$V$200),\"\",VLOOKUP(LARGE('TongHop (goc)'!$V$2:$V$200,C134),'TongHop (goc)'!$V$2:$AA$200,2,0))","v":"Phạm Huy"},{"$f":"IF(C134>COUNT('TongHop (goc)'!$V$2:$V$200),\"\",VLOOKUP(LARGE('TongHop (goc)'!$V$2:$V$200,C134),'TongHop (goc)'!$V$2:$AA$200,3,0))","v":"Hoàng"},"26/10/2142","Nguyễn Thành Trung","Xóm 130","T","T",8,6.75,8.5,9.25,32.5,"x",null,"6A",{"$f":"IF(C134>COUNT('TongHop (goc)'!$V$2:$V$200),\"\",VLOOKUP(LARGE('TongHop (goc)'!$V$2:$V$200,C134),'TongHop (goc)'!$V$2:$AA$200,4,0))","v":"HỌC SINH GIỎI"},{"$f":"IF(C134>COUNT('TongHop (goc)'!$V$2:$V$200),\"\",VLOOKUP(LARGE('TongHop (goc)'!$V$2:$V$200,C134),'TongHop (goc)'!$V$2:$AA$200,5,0))","v":"9C"},null,{"$f":"C134","v":130}]
[null,null,{"$f":"IF(ROW(131:131)>COUNT('TongHop (goc)'!$V$2:$V$200),\"\",ROW(131:131))","v":131},{"$f":"IF(U135=\"\",\"\",COUNTIF($U$5:U135,U135))","v":18},{"$f":"IF(C135>COUNT('TongHop (goc)'!$V$2:$V$200),\"\",VLOOKUP(LARGE('TongHop (goc)'!$V$2:$V$200,C135),'TongHop (goc)'!$V$2:$AA$200,2,0))","v":"Trần Minh"},{"$f":"IF(C135>COUNT('TongHop (goc)'!$V$2:$V$200),\"\",VLOOKUP(LARGE('TongHop (goc)'!$V$2:$V$200,C135),'TongHop (goc)'!$V$2:$AA$200,3,0))","v":"Đức"},"26/10/2143","Nguyễn Thành Trung","Xóm 131","T","T",8,6.75,8.5,9.25,32.5,"x",null,"6A",{"$f":"IF(C135>COUNT('TongHop (goc)'!$V$2:$V$200),\"\",VLOOKUP(LARGE('TongHop (goc)'!$V$2:$V$200,C135),'TongHop (goc)'!$V$2:$AA$200,4,0))","v":"HỌC SINH GIỎI"},{"$f":"IF(C135>COUNT('TongHop (goc)'!$V$2:$V$200),\"\",VLOOKUP(LARGE('TongHop (goc)'!$V$2:$V$200,C135),'TongHop (goc)'!$V$2:$AA$200,5,0))","v":"9C"},null,131]
[null,null,{"$f":"IF(ROW(132:132)>COUNT('TongHop (goc)'!$V$2:$V$200),\"\",ROW(132:132))","v":132},{"$f":"IF(U136=\"\",\"\",COUNTIF($U$5:U136,U136))","v":19},{"$f":"IF(C136>COUNT('TongHop (goc)'!$V$2:$V$200),\"\",VLOOKUP(LARGE('TongHop (goc)'!$V$2:$V$200,C136),'TongHop (goc)'!$V$2:$AA$200,2,0))","v":"Trần Thanh"},{"$f":"IF(C136>COUNT('TongHop (goc)'!$V$2:$V$200),\"\",VLOOKUP(LARGE('TongHop (goc)'!$V$2:$V$200,C136),'TongHop (goc)'!$V$2:$AA$200,3,0))","v":"Trúc"},"26/10/2144","Nguyễn Thành Trung","Xóm 132","T","T",8,6.75,8.5,9.25,32.5,"x",null,"6A",{"$f":"IF(C136>COUNT('TongHop (goc)'!$V$2:$V$200),\"\",VLOOKUP(LARGE('TongHop (goc)'!$V$2:$V$200,C136),'TongHop (goc)'!$V$2:$AA$200,4,0))","v":"HỌC SINH GIỎI"},{"$f":"IF(C136>COUNT('TongHop (goc)'!$V$2:$V$200),\"\",VLOOKUP(LARGE('TongHop (goc)'!$V$2:$V$200,C136),'TongHop (goc)'!$V$2:$AA$200,5,0))","v":"9C"},null,132]
[null,null,{"$f":"IF(ROW(133:133)>COUNT('TongHop (goc)'!$V$2:$V$200),\"\",ROW(133:133))","v":133},{"$f":"IF(U137=\"\",\"\",COUNTIF($U$5:U137,U137))","v":20},{"$f":"IF(C137>COUNT('TongHop (goc)'!$V$2:$V$200),\"\",VLOOKUP(LARGE('TongHop (goc)'!$V$2:$V$200,C137),'TongHop (goc)'!$V$2:$AA$200,2,0))","v":"Phạm Thị"},{"$f":"IF(C137>COUNT('TongHop (goc)'!$V$2:$V$200),\"\",VLOOKUP(LARGE('TongHop (goc)'!$V$2:$V$200,C137),'TongHop (goc)'!$V$2:$AA$200,3,0))","v":"Hoa"},"26/10/2145","Nguyễn Thành Trung","Xóm 133","T","T",8,6.75,8.5,9.25,32.5,"x",null,"6A",{"$f":"IF(C137>COUNT('TongHop (goc)'!$V$2:$V$200),\"\",VLOOKUP(LARGE('TongHop (goc)'!$V$2:$V$200,C137),'TongHop (goc)'!$V$2:$AA$200,4,0))","v":"HỌC SINH GIỎI"},{"$f":"IF(C137>COUNT('TongHop (goc)'!$V$2:$V$200),\"\",VLOOKUP(LARGE('TongHop (goc)'!$V$2:$V$200,C137),'TongHop (goc)'!$V$2:$AA$200,5,0))","v":"9C"},null,133]
[null,null,{"$f":"IF(ROW(134:134)>COUNT('TongHop (goc)'!$V$2:$V$200),\"\",ROW(134:134))","v":134},{"$f":"IF(U138=\"\",\"\",COUNTIF($U$5:U138,U138))","v":21},{"$f":"IF(C138>COUNT('TongHop (goc)'!$V$2:$V$200),\"\",VLOOKUP(LARGE('TongHop (goc)'!$V$2:$V$200,C138),'TongHop (goc)'!$V$2:$AA$200,2,0))","v":"Hoàng Văn"},{"$f":"IF(C138>COUNT('TongHop (goc)'!$V$2:$V$200),\"\",VLOOKUP(LARGE('TongHop (goc)'!$V$2:$V$200,C138),'TongHop (goc)'!$V$2:$AA$200,3,0))","v":"An"},"26/10/2146","Nguyễn Thành Trung","Xóm 134","T","T",8,6.75,8.5,9.25,32.5,"x",null,"6A",{"$f":"IF(C138>COUNT('TongHop (goc)'!$V$2:$V$200),\"\",VLOOKUP(LARGE('TongHop (goc)'!$V$2:$V$200,C138),'TongHop (goc)'!$V$2:$AA$200,4,0))","v":"HỌC SINH GIỎI"},{"$f":"IF(C138>COUNT('TongHop (goc)'!$V$2:$V$200),\"\",VLOOKUP(LARGE('TongHop (goc)'!$V$2:$V$200,C138),'TongHop (goc)'!$V$2:$AA$200,5,0))","v":"9C"},null,134]
[null,null,{"$f":"IF(ROW(135:135)>COUNT('TongHop (goc)'!$V$2:$V$200),\"\",ROW(135:135))","v":135},{"$f":"IF(U139=\"\",\"\",COUNTIF($U$5:U139,U139))","v":22},{"$f":"IF(C139>COUNT('TongHop (goc)'!$V$2:$V$200),\"\",VLOOKUP(LARGE('TongHop (goc)'!$V$2:$V$200,C139),'TongHop (goc)'!$V$2:$AA$200,2,0))","v":"Lê Nhật"},{"$f":"IF(C139>COUNT('TongHop (goc)'!$V$2:$V$200),\"\",VLOOKUP(LARGE('TongHop (goc)'!$V$2:$V$200,C139),'TongHop (goc)'!$V$2:$AA$200,3,0))","v":"Khánh"},"26/10/2147","Nguyễn Thành Trung","Xóm 135","T","T",8,6.75,8.5,9.25,32.5,"x",null,"6A",{"$f":"IF(C139>COUNT('TongHop (goc)'!$V$2:$V$200),\"\",VLOOKUP(LARGE('TongHop (goc)'!$V$2:$V$200,C139),'TongHop (goc)'!$V$2:$AA$200,4,0))","v":"HỌC SINH GIỎI"},{"$f":"IF(C139>COUNT('TongHop (goc)'!$V$2:$V$200),\"\",VLOOKUP(LARGE('TongHop (goc)'!$V$2:$V$200,C139),'TongHop (goc)'!$V$2:$AA$200,5,0))","v":"9C"},null,135]
[null,null,{"$f":"IF(ROW(136:136)>COUNT('TongHop (goc)'!$V$2:$V$200),\"\",ROW(136:136))","v":136},{"$f":"IF(U140=\"\",\"\",COUNTIF($U$5:U140,U140))","v":23},{"$f":"IF(C140>COUNT('TongHop (goc)'!$V$2:$V$200),\"\",VLOOKUP(LARGE('TongHop (goc)'!$V$2:$V$200,C140),'TongHop (goc)'!$V$2:$AA$200,2,0))","v":"Trần Bảo"},{"$f":"IF(C140>COUNT('TongHop (goc)'!$V$2:$V$200),\"\",VLOOKUP(LARGE('TongHop (goc)'!$V$2:$V$200,C140),'TongHop (goc)'!$V$2:$AA$200,3,0))","v":"An"},"26/10/2148","Nguyễn Thành Trung","Xóm 136","T","T",8,6.75,8.5,9.25,32.5,"x",null,"6A",{"$f":"IF(C140>COUNT('TongHop (goc)'!$V$2:$V$200),\"\",VLOOKUP(LARGE('TongHop (goc)'!$V$2:$V$200,C140),'TongHop (goc)'!$V$2:$AA$200,4,0))","v":"HỌC SINH GIỎI"},{"$f":"IF(C140>COUNT('TongHop (goc)'!$V$2:$V$200),\"\",VLOOKUP(LARGE('TongHop (goc)'!$V$2:$V$200,C140),'TongHop (goc)'!$V$2:$AA$200,5,0))","v":"9C"},null,136]
[null,null,{"$f":"IF(ROW(137:137)>COUNT('TongHop (goc)'!$V$2:$V$200),\"\",ROW(137:137))","v":137},{"$f":"IF(U141=\"\",\"\",COUNTIF($U$5:U141,U141))","v":24},{"$f":"IF(C141>COUNT('TongHop (goc)'!$V$2:$V$200),\"\",VLOOKUP(LARGE('TongHop (goc)'!$V$2:$V$200,C141),'TongHop (goc)'!$V$2:$AA$200,2,0))","v":"Lê Quang"},{"$f":"IF(C141>COUNT('TongHop (goc)'!$V$2:$V$200),\"\",VLOOKUP(LARGE('TongHop (goc)'!$V$2:$V$200,C141),'TongHop (goc)'!$V$2:$AA$200,3,0))","v":"Khải"},"26/10/2149","Nguyễn Thành Trung","Xóm 137","T","T",8,6.75,8.5,9.25,32.5,"x",null,"6A",{"$f":"IF(C141>COUNT('TongHop (goc)'!$V$2:$V$200),\"\",VLOOKUP(LARGE('TongHop (goc)'!$V$2:$V$200,C141),'TongHop (goc)'!$V$2:$AA$200,4,0))","v":"HỌC SINH GIỎI"},{"$f":"IF(C141>COUNT('TongHop (goc)'!$V$2:$V$200),\"\",VLOOKUP(LARGE('TongHop (goc)'!$V$2:$V$200,C141),'TongHop (goc)'!$V$2:$AA$200,5,0))","v":"9C"},null,137]
[null,null,{"$f":"IF(ROW(138:138)>COUNT('TongHop (goc)'!$V$2:$V$200),\"\",ROW(138:138))","v":138},{"$f":"IF(U142=\"\",\"\",COUNTIF($U$5:U142,U142))","v":25},{"$f":"IF(C142>COUNT('TongHop (goc)'!$V$2:$V$200),\"\",VLOOKUP(LARGE('TongHop (goc)'!$V$2:$V$200,C142),'TongHop (goc)'!$V$2:$AA$200,2,0))","v":"Trần Đình"},{"$f":"IF(C142>COUNT('TongHop (goc)'!$V$2:$V$200),\"\",VLOOKUP(LARGE('TongHop (goc)'!$V$2:$V$200,C142),'TongHop (goc)'!$V$2:$AA$200,3,0))","v":"Phong"},"26/10/2150","Nguyễn Thành Trung","Xóm 138","T","T",8,6.75,8.5,9.25,32.5,"x",null,"6A",{"$f":"IF(C142>COUNT('TongHop (goc)'!$V$2:$V$200),\"\",VLOOKUP(LARGE('TongHop (goc)'!$V$2:$V$200,C142),'TongHop (goc)'!$V$2:$AA$200,4,0))","v":"HỌC SINH GIỎI"},{"$f":"IF(C142>COUNT('TongHop (goc)'!$V$2:$V$200),\"\",VLOOKUP(LARGE('TongHop (goc)'!$V$2:$V$200,C142),'TongHop (goc)'!$V$2:$AA$200,5,0))","v":"9C"},null,138]
[null,null,{"$f":"IF(ROW(139:139)>COUNT('TongHop (goc)'!$V$2:$V$200),\"\",ROW(139:139))","v":139},{"$f":"IF(U143=\"\",\"\",COUNTIF($U$5:U143,U143))","v":26},{"$f":"IF(C143>COUNT('TongHop (goc)'!$V$2:$V$200),\"\",VLOOKUP(LARGE('TongHop (goc)'!$V$2:$V$200,C143),'TongHop (goc)'!$V$2:$AA$200,2,0))","v":"Lê Phương"},{"$f":"IF(C143>COUNT('TongHop (goc)'!$V$2:$V$200),\"\",VLOOKUP(LARGE('TongHop (goc)'!$V$2:$V$200,C143),'TongHop (goc)'!$V$2:$AA$200,3,0))","v":"Anh"},"26/10/2151","Nguyễn Thành Trung","Xóm 139","T","T",8,6.75,8.5,9.25,32.5,"x",null,"6A",{"$f":"IF(C143>COUNT('TongHop (goc)'!$V$2:$V$200),\"\",VLOOKUP(LARGE('TongHop (goc)'!$V$2:$V$200,C143),'TongHop (goc)'!$V$2:$AA$200,4,0))","v":"HỌC SINH GIỎI"},{"$f":"IF(C143>COUNT('TongHop (goc)'!$V$2:$V$200),\"\",VLOOKUP(LARGE('TongHop (goc)'!$V$2:$V$200,C143),'TongHop (goc)'!$V$2:$AA$200,5,0))","v":"9C"},null,139]
[null,null,{"$f":"IF(ROW(140:140)>COUNT('TongHop (goc)'!$V$2:$V$200),\"\",ROW(140:140))","v":140},{"$f":"IF(U144=\"\",\"\",COUNTIF($U$5:U144,U144))","v":27},{"$f":"IF(C144>COUNT('TongHop (goc)'!$V$2:$V$200),\"\",VLOOKUP(LARGE('TongHop (goc)'!$V$2:$V$200,C144),'TongHop (goc)'!$V$2:$AA$200,2,0))","v":"Nguyễn Tiến"},{"$f":"IF(C144>COUNT('TongHop (goc)'!$V$2:$V$200),\"\",VLOOKUP(LARGE('TongHop (goc)'!$V$2:$V$200,C144),'TongHop (goc)'!$V$2:$AA$200,3,0))","v":"Đạt"},"26/10/2152","Nguyễn Thành Trung","Xóm 140","T","T",8,6.75,8.5,9.25,32.5,"x",null,"6A",{"$f":"IF(C144>COUNT('TongHop (goc)'!$V$2:$V$200),\"\",VLOOKUP(LARGE('TongHop (goc)'!$V$2:$V$200,C144),'TongHop (goc)'!$V$2:$AA$200,4,0))","v":"HỌC SINH GIỎI"},{"$f":"IF(C144>COUNT('TongHop (goc)'!$V$2:$V$200),\"\",VLOOKUP(LARGE('TongHop (goc)'!$V$2:$V$200,C144),'TongHop (goc)'!$V$2:$AA$200,5,0))","v":"9C"},null,140]
[null,null,{"$f":"IF(ROW(141:141)>COUNT('TongHop (goc)'!$V$2:$V$200),\"\",ROW(141:141))","v":141},{"$f":"IF(U145=\"\",\"\",COUNTIF($U$5:U145,U145))","v":28},{"$f":"IF(C145>COUNT('TongHop (goc)'!$V$2:$V$200),\"\",VLOOKUP(LARGE('TongHop (goc)'!$V$2:$V$200,C145),'TongHop (goc)'!$V$2:$AA$200,2,0))","v":"Lê Tú"},{"$f":"IF(C145>COUNT('TongHop (goc)'!$V$2:$V$200),\"\",VLOOKUP(LARGE('TongHop (goc)'!$V$2:$V$200,C145),'TongHop (goc)'!$V$2:$AA$200,3,0))","v":"Uyên"},"26/10/2153","Nguyễn Thành Trung","Xóm 141","T","T",8,6.75,8.5,9.25,32.5,"x",null,"6A",{"$f":"IF(C145>COUNT('TongHop (goc)'!$V$2:$V$200),\"\",VLOOKUP(LARGE('TongHop (goc)'!$V$2:$V$200,C145),'TongHop (goc)'!$V$2:$AA$200,4,0))","v":"HỌC SINH GIỎI"},{"$f":"IF(C145>COUNT('TongHop (goc)'!$V$2:$V$200),\"\",VLOOKUP(LARGE('TongHop (goc)'!$V$2:$V$200,C145),'TongHop (goc)'!$V$2:$AA$200,5,0))","v":"9C"},null,141]
[null,null,{"$f":"IF(ROW(142:142)>COUNT('TongHop (goc)'!$V$2:$V$200),\"\",ROW(142:142))","v":142},{"$f":"IF(U146=\"\",\"\",COUNTIF($U$5:U146,U146))","v":29},{"$f":"IF(C146>COUNT('TongHop (goc)'!$V$2:$V$200),\"\",VLOOKUP(LARGE('TongHop (goc)'!$V$2:$V$200,C146),'TongHop (goc)'!$V$2:$AA$200,2,0))","v":"Lê Thành"},{"$f":"IF(C146>COUNT('TongHop (goc)'!$V$2:$V$200),\"\",VLOOKUP(LARGE('TongHop (goc)'!$V$2:$V$200,C146),'TongHop (goc)'!$V$2:$AA$200,3,0))","v":"Đạt"},"26/10/2154","Nguyễn Thành Trung","Xóm 142","T","T",8,6.75,8.5,9.25,32.5,"x",null,"6A",{"$f":"IF(C146>COUNT('TongHop (goc)'!$V$2:$V$200),\"\",VLOOKUP(LARGE('TongHop (goc)'!$V$2:$V$200,C146),'TongHop (goc)'!$V$2:$AA$200,4,0))","v":"HỌC SINH GIỎI"},{"$f":"IF(C146>COUNT('TongHop (goc)'!$V$2:$V$200),\"\",VLOOKUP(LARGE('TongHop (goc)'!$V$2:$V$200,C146),'TongHop (goc)'!$V$2:$AA$200,5,0))","v":"9C"},null,142]
[null,null,{"$f":"IF(ROW(143:143)>COUNT('TongHop (goc)'!$V$2:$V$200),\"\",ROW(143:143))","v":""},{"$f":"IF(U147=\"\",\"\",COUNTIF($U$5:U147,U147))","v":""},{"$f":"IF(C147>COUNT('TongHop (goc)'!$V$2:$V$200),\"\",VLOOKUP(LARGE('TongHop (goc)'!$V$2:$V$200,C147),'TongHop (goc)'!$V$2:$AA$200,2,0))","v":""},{"$f":"IF(C147>COUNT('TongHop (goc)'!$V$2:$V$200),\"\",VLOOKUP(LARGE('TongHop (goc)'!$V$2:$V$200,C147),'TongHop (goc)'!$V$2:$AA$200,3,0))","v":""},"26/10/2155","Nguyễn Thành Trung","Xóm 143","T","T",8,6.75,8.5,9.25,32.5,"x",null,"6A",{"$f":"IF(C147>COUNT('TongHop (goc)'!$V$2:$V$200),\"\",VLOOKUP(LARGE('TongHop (goc)'!$V$2:$V$200,C147),'TongHop (goc)'!$V$2:$AA$200,4,0))","v":""},{"$f":"IF(C147>COUNT('TongHop (goc)'!$V$2:$V$200),\"\",VLOOKUP(LARGE('TongHop (goc)'!$V$2:$V$200,C147),'TongHop (goc)'!$V$2:$AA$200,5,0))","v":""},null,""]
[null,null,{"$f":"IF(ROW(144:144)>COUNT('TongHop (goc)'!$V$2:$V$200),\"\",ROW(144:144))","v":""},{"$f":"IF(U148=\"\",\"\",COUNTIF($U$5:U148,U148))","v":""},{"$f":"IF(C148>COUNT('TongHop (goc)'!$V$2:$V$200),\"\",VLOOKUP(LARGE('TongHop (goc)'!$V$2:$V$200,C148),'TongHop (goc)'!$V$2:$AA$200,2,0))","v":""},{"$f":"IF(C148>COUNT('TongHop (goc)'!$V$2:$V$200),\"\",VLOOKUP(LARGE('TongHop (goc)'!$V$2:$V$200,C148),'TongHop (goc)'!$V$2:$AA$200,3,0))","v":""},"26/10/2156","Nguyễn Thành Trung","Xóm 144","T","T",8,6.75,8.5,9.25,32.5,"x",null,"6A",{"$f":"IF(C148>COUNT('TongHop (goc)'!$V$2:$V$200),\"\",VLOOKUP(LARGE('TongHop (goc)'!$V$2:$V$200,C148),'TongHop (goc)'!$V$2:$AA$200,4,0))","v":""},{"$f":"IF(C148>COUNT('TongHop (goc)'!$V$2:$V$200),\"\",VLOOKUP(LARGE('TongHop (goc)'!$V$2:$V$200,C148),'TongHop (goc)'!$V$2:$AA$200,5,0))","v":""},null,""]
[null,null,{"$f":"IF(ROW(145:145)>COUNT('TongHop (goc)'!$V$2:$V$200),\"\",ROW(145:145))","v":""},{"$f":"IF(U149=\"\",\"\",COUNTIF($U$5:U149,U149))","v":""},{"$f":"IF(C149>COUNT('TongHop (goc)'!$V$2:$V$200),\"\",VLOOKUP(LARGE('TongHop (goc)'!$V$2:$V$200,C149),'TongHop (goc)'!$V$2:$AA$200,2,0))","v":""},{"$f":"IF(C149>COUNT('TongHop (goc)'!$V$2:$V$200),\"\",VLOOKUP(LARGE('TongHop (goc)'!$V$2:$V$200,C149),'TongHop (goc)'!$V$2:$AA$200,3,0))","v":""},"26/10/2157","Nguyễn Thành Trung","Xóm 145","T","T",8,6.75,8.5,9.25,32.5,"x",null,"6A",{"$f":"IF(C149>COUNT('TongHop (goc)'!$V$2:$V$200),\"\",VLOOKUP(LARGE('TongHop (goc)'!$V$2:$V$200,C149),'TongHop (goc)'!$V$2:$AA$200,4,0))","v":""},{"$f":"IF(C149>COUNT('TongHop (goc)'!$V$2:$V$200),\"\",VLOOKUP(LARGE('TongHop (goc)'!$V$2:$V$200,C149),'TongHop (goc)'!$V$2:$AA$200,5,0))","v":""},null,""]
[null,null,{"$f":"IF(ROW(146:146)>COUNT('TongHop (goc)'!$V$2:$V$200),\"\",ROW(146:146))","v":""},{"$f":"IF(U150=\"\",\"\",COUNTIF($U$5:U150,U150))","v":""},{"$f":"IF(C150>COUNT('TongHop (goc)'!$V$2:$V$200),\"\",VLOOKUP(LARGE('TongHop (goc)'!$V$2:$V$200,C150),'TongHop (goc)'!$V$2:$AA$200,2,0))","v":""},{"$f":"IF(C150>COUNT('TongHop (goc)'!$V$2:$V$200),\"\",VLOOKUP(LARGE('TongHop (goc)'!$V$2:$V$200,C150),'TongHop (goc)'!$V$2:$AA$200,3,0))","v":""},"26/10/2158","Nguyễn Thành Trung","Xóm 146","T","T",8,6.75,8.5,9.25,32.5,"x",null,"6A",{"$f":"IF(C150>COUNT('TongHop (goc)'!$V$2:$V$200),\"\",VLOOKUP(LARGE('TongHop (goc)'!$V$2:$V$200,C150),'TongHop (goc)'!$V$2:$AA$200,4,0))","v":""},{"$f":"IF(C150>COUNT('TongHop (goc)'!$V$2:$V$200),\"\",VLOOKUP(LARGE('TongHop (goc)'!$V$2:$V$200,C150),'TongHop (goc)'!$V$2:$AA$200,5,0))","v":""},null,""]
[null,null,{"$f":"IF(ROW(147:147)>COUNT('TongHop (goc)'!$V$2:$V$200),\"\",ROW(147:147))","v":""},{"$f":"IF(U151=\"\",\"\",COUNTIF($U$5:U151,U151))","v":""},{"$f":"IF(C151>COUNT('TongHop (goc)'!$V$2:$V$200),\"\",VLOOKUP(LARGE('TongHop (goc)'!$V$2:$V$200,C151),'TongHop (goc)'!$V$2:$AA$200,2,0))","v":""},{"$f":"IF(C151>COUNT('TongHop (goc)'!$V$2:$V$200),\"\",VLOOKUP(LARGE('TongHop (goc)'!$V$2:$V$200,C151),'TongHop (goc)'!$V$2:$AA$200,3,0))","v":""},"26/10/2159","Nguyễn Thành Trung","Xóm 147","T","T",8,6.75,8.5,9.25,32.5,"x",null,"6A",{"$f":"IF(C151>COUNT('TongHop (goc)'!$V$2:$V$200),\"\",VLOOKUP(LARGE('TongHop (goc)'!$V$2:$V$200,C151),'TongHop (goc)'!$V$2:$AA$200,4,0))","v":""},{"$f":"IF(C151>COUNT('TongHop (goc)'!$V$2:$V$200),\"\",VLOOKUP(LARGE('TongHop (goc)'!$V$2:$V$200,C151),'TongHop (goc)'!$V$2:$AA$200,5,0))","v":""},null,""]
[null,null,{"$f":"IF(ROW(148:148)>COUNT('TongHop (goc)'!$V$2:$V$200),\"\",ROW(148:148))","v":""},{"$f":"IF(U152=\"\",\"\",COUNTIF($U$5:U152,U152))","v":""},{"$f":"IF(C152>COUNT('TongHop (goc)'!$V$2:$V$200),\"\",VLOOKUP(LARGE('TongHop (goc)'!$V$2:$V$200,C152),'TongHop (goc)'!$V$2:$AA$200,2,0))","v":""},{"$f":"IF(C152>COUNT('TongHop (goc)'!$V$2:$V$200),\"\",VLOOKUP(LARGE('TongHop (goc)'!$V$2:$V$200,C152),'TongHop (goc)'!$V$2:$AA$200,3,0))","v":""},"26/10/2160","Nguyễn Thành Trung","Xóm 148","T","T",8,6.75,8.5,9.25,32.5,"x",null,"6A",{"$f":"IF(C152>COUNT('TongHop (goc)'!$V$2:$V$200),\"\",VLOOKUP(LARGE('TongHop (goc)'!$V$2:$V$200,C152),'TongHop (goc)'!$V$2:$AA$200,4,0))","v":""},{"$f":"IF(C152>COUNT('TongHop (goc)'!$V$2:$V$200),\"\",VLOOKUP(LARGE('TongHop (goc)'!$V$2:$V$200,C152),'TongHop (goc)'!$V$2:$AA$200,5,0))","v":""},null,""]
[null,null,{"$f":"IF(ROW(149:149)>COUNT('TongHop (goc)'!$V$2:$V$200),\"\",ROW(149:149))","v":""},{"$f":"IF(U153=\"\",\"\",COUNTIF($U$5:U153,U153))","v":""},{"$f":"IF(C153>COUNT('TongHop (goc)'!$V$2:$V$200),\"\",VLOOKUP(LARGE('TongHop (goc)'!$V$2:$V$200,C153),'TongHop (goc)'!$V$2:$AA$200,2,0))","v":""},{"$f":"IF(C153>COUNT('TongHop (goc)'!$V$2:$V$200),\"\",VLOOKUP(LARGE('TongHop (goc)'!$V$2:$V$200,C153),'TongHop (goc)'!$V$2:$AA$200,3,0))","v":""},"26/10/2161","Nguyễn Thành Trung","Xóm 149","T","T",8,6.75,8.5,9.25,32.5,"x",null,"6A",{"$f":"IF(C153>COUNT('TongHop (goc)'!$V$2:$V$200),\"\",VLOOKUP(LARGE('TongHop (goc)'!$V$2:$V$200,C153),'TongHop (goc)'!$V$2:$AA$200,4,0))","v":""},{"$f":"IF(C153>COUNT('TongHop (goc)'!$V$2:$V$200),\"\",VLOOKUP(LARGE('TongHop (goc)'!$V$2:$V$200,C153),'TongHop (goc)'!$V$2:$AA$200,5,0))","v":""},null,""]
[null,null,{"$f":"IF(ROW(150:150)>COUNT('TongHop (goc)'!$V$2:$V$200),\"\",ROW(150:150))","v":""},{"$f":"IF(U154=\"\",\"\",COUNTIF($U$5:U154,U154))","v":""},{"$f":"IF(C154>COUNT('TongHop (goc)'!$V$2:$V$200),\"\",VLOOKUP(LARGE('TongHop (goc)'!$V$2:$V$200,C154),'TongHop (goc)'!$V$2:$AA$200,2,0))","v":""},{"$f":"IF(C154>COUNT('TongHop (goc)'!$V$2:$V$200),\"\",VLOOKUP(LARGE('TongHop (goc)'!$V$2:$V$200,C154),'TongHop (goc)'!$V$2:$AA$200,3,0))","v":""},"26/10/2162","Nguyễn Thành Trung","Xóm 150","T","T",8,6.75,8.5,9.25,32.5,"x",null,"6A",{"$f":"IF(C154>COUNT('TongHop (goc)'!$V$2:$V$200),\"\",VLOOKUP(LARGE('TongHop (goc)'!$V$2:$V$200,C154),'TongHop (goc)'!$V$2:$AA$200,4,0))","v":""},{"$f":"IF(C154>COUNT('TongHop (goc)'!$V$2:$V$200),\"\",VLOOKUP(LARGE('TongHop (goc)'!$V$2:$V$200,C154),'TongHop (goc)'!$V$2:$AA$200,5,0))","v":""},null,""]
[null,null,null,null,null,null,null,null,null,null,null,null,"Hải Hưng, ngày 18 tháng 5 năm 2026",null,null,null,null,null,null,null,null,null,0]
[null,null,null,null,null,null,null,null,null,null,null,null,"(Ký, ghi rõ họ tên)",null,null,null,null,null,null,null,null,null,0]

{"sheet":"DS-(InGK)","index":6,"n_rows":181,"n_cols":25,"rows_kept":181,"cut":false,"hidden":false,"merged":[[4,30,4,31],[3,22,3,23]]}
["STT","HoVaTenDem","TEN","LOP",null,null,null,null,null,null,"Xếp loại \nHọc lực \n(học tập","Điểm khảo sát cuối năm ",null,null,null,null,"Danh Hiệu\n thi đua \nđề nghị","Đạt \ndanh hiệu","Ghi chú","TT"]
[{"$f":"IF(ROW(1:1)>COUNT('TongHop (goc)'!$T$2:$T$250),\"\",ROW(1:1))","v":1},{"$f":"IF(A2>COUNT('TongHop (goc)'!$T$2:$T$250),\"\",VLOOKUP(LARGE('TongHop (goc)'!$T$2:$T$250,A2),'TongHop (goc)'!$T$2:$AA$250,4,0))","v":"Tống Thùy"},{"$f":"IF(A2>COUNT('TongHop (goc)'!$T$2:$T$250),\"\",VLOOKUP(LARGE('TongHop (goc)'!$T$2:$T$250,A2),'TongHop (goc)'!$T$2:$AA$250,5,0))","v":"Dương"},{"$f":"IF(A2>COUNT('TongHop (goc)'!$T$2:$T$250),\"\",VLOOKUP(LARGE('TongHop (goc)'!$T$2:$T$250,A2),'TongHop (goc)'!$T$2:$AA$250,7,0))","v":"6C"},null,null,null,null,null,null,null,null,null,null,null,null,null,{"$f":"IF(A2>COUNT('TongHop (goc)'!$T$2:$T$250),\"\",VLOOKUP(LARGE('TongHop (goc)'!$T$2:$T$250,A2),'TongHop (goc)'!$T$2:$AA$250,6,0))","v":"HỌC SINH XUẤT SẮC"},null,{"$f":"A2","v":1}]
[{"$f":"IF(ROW(2:2)>COUNT('TongHop (goc)'!$T$2:$T$250),\"\",ROW(2:2))","v":2},{"$f":"IF(A3>COUNT('TongHop (goc)'!$T$2:$T$250),\"\",VLOOKUP(LARGE('TongHop (goc)'!$T$2:$T$250,A3),'TongHop (goc)'!$T$2:$AA$250,4,0))","v":"Nguyễn Tùng"},{"$f":"IF(A3>COUNT('TongHop (goc)'!$T$2:$T$250),\"\",VLOOKUP(LARGE('TongHop (goc)'!$T$2:$T$250,A3),'TongHop (goc)'!$T$2:$AA$250,5,0))","v":"Lâm"},{"$f":"IF(A3>COUNT('TongHop (goc)'!$T$2:$T$250),\"\",VLOOKUP(LARGE('TongHop (goc)'!$T$2:$T$250,A3),'TongHop (goc)'!$T$2:$AA$250,7,0))","v":"6C"},null,null,null,null,null,null,null,null,null,null,null,null,null,{"$f":"IF(A3>COUNT('TongHop (goc)'!$T$2:$T$250),\"\",VLOOKUP(LARGE('TongHop (goc)'!$T$2:$T$250,A3),'TongHop (goc)'!$T$2:$AA$250,6,0))","v":"HỌC SINH XUẤT SẮC"},null,{"$f":"A3","v":2}]
[{"$f":"IF(ROW(3:3)>COUNT('TongHop (goc)'!$T$2:$T$250),\"\",ROW(3:3))","v":3},{"$f":"IF(A4>COUNT('TongHop (goc)'!$T$2:$T$250),\"\",VLOOKUP(LARGE('TongHop (goc)'!$T$2:$T$250,A4),'TongHop (goc)'!$T$2:$AA$250,4,0))","v":"Trần Khôi"},{"$f":"IF(A4>COUNT('TongHop (goc)'!$T$2:$T$250),\"\",VLOOKUP(LARGE('TongHop (goc)'!$T$2:$T$250,A4),'TongHop (goc)'!$T$2:$AA$250,5,0))","v":"Nguyên"},{"$f":"IF(A4>COUNT('TongHop (goc)'!$T$2:$T$250),\"\",VLOOKUP(LARGE('TongHop (goc)'!$T$2:$T$250,A4),'TongHop (goc)'!$T$2:$AA$250,7,0))","v":"6C"},null,null,null,null,null,null,null,null,null,null,null,null,null,{"$f":"IF(A4>COUNT('TongHop (goc)'!$T$2:$T$250),\"\",VLOOKUP(LARGE('TongHop (goc)'!$T$2:$T$250,A4),'TongHop (goc)'!$T$2:$AA$250,6,0))","v":"HỌC SINH XUẤT SẮC"},null,3,null,null,"Số HSG\n142",null,"Số HSXS\n31"]
[{"$f":"IF(ROW(4:4)>COUNT('TongHop (goc)'!$T$2:$T$250),\"\",ROW(4:4))","v":4},{"$f":"IF(A5>COUNT('TongHop (goc)'!$T$2:$T$250),\"\",VLOOKUP(LARGE('TongHop (goc)'!$T$2:$T$250,A5),'TongHop (goc)'!$T$2:$AA$250,4,0))","v":"Phạm Ngọc"},{"$f":"IF(A5>COUNT('TongHop (goc)'!$T$2:$T$250),\"\",VLOOKUP(LARGE('TongHop (goc)'!$T$2:$T$250,A5),'TongHop (goc)'!$T$2:$AA$250,5,0))","v":"Khánh"},{"$f":"IF(A5>COUNT('TongHop (goc)'!$T$2:$T$250),\"\",VLOOKUP(LARGE('TongHop (goc)'!$T$2:$T$250,A5),'TongHop (goc)'!$T$2:$AA$250,7,0))","v":"6C"},null,null,null,null,null,null,null,null,null,null,null,null,null,{"$f":"IF(A5>COUNT('TongHop (goc)'!$T$2:$T$250),\"\",VLOOKUP(LARGE('TongHop (goc)'!$T$2:$T$250,A5),'TongHop (goc)'!$T$2:$AA$250,6,0))","v":"HỌC SINH XUẤT SẮC"},null,4,{"$f":"A5","v":4},null,"6A",{"$f":"COUNTIF($S$5:$S$284,W5)&\" - HSG\"","v":"0 - HSG"}]
[{"$f":"IF(ROW(5:5)>COUNT('TongHop (goc)'!$T$2:$T$250),\"\",ROW(5:5))","v":5},{"$f":"IF(A6>COUNT('TongHop (goc)'!$T$2:$T$250),\"\",VLOOKUP(LARGE('TongHop (goc)'!$T$2:$T$250,A6),'TongHop (goc)'!$T$2:$AA$250,4,0))","v":"Lê Quỳnh"},{"$f":"IF(A6>COUNT('TongHop (goc)'!$T$2:$T$250),\"\",VLOOKUP(LARGE('TongHop (goc)'!$T$2:$T$250,A6),'TongHop (goc)'!$T$2:$AA$250,5,0))","v":"Chi"},{"$f":"IF(A6>COUNT('TongHop (goc)'!$T$2:$T$250),\"\",VLOOKUP(LARGE('TongHop (goc)'!$T$2:$T$250,A6),'TongHop (goc)'!$T$2:$AA$250,7,0))","v":"6C"},null,null,null,null,null,null,null,null,null,null,null,null,null,{"$f":"IF(A6>COUNT('TongHop (goc)'!$T$2:$T$250),\"\",VLOOKUP(LARGE('TongHop (goc)'!$T$2:$T$250,A6),'TongHop (goc)'!$T$2:$AA$250,6,0))","v":"HỌC SINH XUẤT SẮC"},null,{"$f":"A6","v":5},{"$f":"A6","v":5},null,"6B","0 - HSG"]
[{"$f":"IF(ROW(6:6)>COUNT('TongHop (goc)'!$T$2:$T$250),\"\",ROW(6:6))","v":6},{"$f":"IF(A7>COUNT('TongHop (goc)'!$T$2:$T$250),\"\",VLOOKUP(LARGE('TongHop (goc)'!$T$2:$T$250,A7),'TongHop (goc)'!$T$2:$AA$250,4,0))","v":"Lê Nguyên"},{"$f":"IF(A7>COUNT('TongHop (goc)'!$T$2:$T$250),\"\",VLOOKUP(LARGE('TongHop (goc)'!$T$2:$T$250,A7),'TongHop (goc)'!$T$2:$AA$250,5,0))","v":"Khánh"},{"$f":"IF(A7>COUNT('TongHop (goc)'!$T$2:$T$250),\"\",VLOOKUP(LARGE('TongHop (goc)'!$T$2:$T$250,A7),'TongHop (goc)'!$T$2:$AA$250,7,0))","v":"6C"},null,null,null,null,null,null,null,null,null,null,null,null,null,{"$f":"IF(A7>COUNT('TongHop (goc)'!$T$2:$T$250),\"\",VLOOKUP(LARGE('TongHop (goc)'!$T$2:$T$250,A7),'TongHop (goc)'!$T$2:$AA$250,6,0))","v":"HỌC SINH XUẤT SẮC"},null,6,6,null,"6C","0 - HSG","9 - HSXS"]
[{"$f":"IF(ROW(7:7)>COUNT('TongHop (goc)'!$T$2:$T$250),\"\",ROW(7:7))","v":7},{"$f":"IF(A8>COUNT('TongHop (goc)'!$T$2:$T$250),\"\",VLOOKUP(LARGE('TongHop (goc)'!$T$2:$T$250,A8),'TongHop (goc)'!$T$2:$AA$250,4,0))","v":"Đặng Quỳnh"},{"$f":"IF(A8>COUNT('TongHop (goc)'!$T$2:$T$250),\"\",VLOOKUP(LARGE('TongHop (goc)'!$T$2:$T$250,A8),'TongHop (goc)'!$T$2:$AA$250,5,0))","v":"Như"},{"$f":"IF(A8>COUNT('TongHop (goc)'!$T$2:$T$250),\"\",VLOOKUP(LARGE('TongHop (goc)'!$T$2:$T$250,A8),'TongHop (goc)'!$T$2:$AA$250,7,0))","v":"6C"},null,null,null,null,null,null,null,null,null,null,null,null,null,{"$f":"IF(A8>COUNT('TongHop (goc)'!$T$2:$T$250),\"\",VLOOKUP(LARGE('TongHop (goc)'!$T$2:$T$250,A8),'TongHop (goc)'!$T$2:$AA$250,6,0))","v":"HỌC SINH XUẤT SẮC"},null,7,7,null,"7A","0 - HSG"]
[{"$f":"IF(ROW(8:8)>COUNT('TongHop (goc)'!$T$2:$T$250),\"\",ROW(8:8))","v":8},{"$f":"IF(A9>COUNT('TongHop (goc)'!$T$2:$T$250),\"\",VLOOKUP(LARGE('TongHop (goc)'!$T$2:$T$250,A9),'TongHop (goc)'!$T$2:$AA$250,4,0))","v":"Trần Thị"},{"$f":"IF(A9>COUNT('TongHop (goc)'!$T$2:$T$250),\"\",VLOOKUP(LARGE('TongHop (goc)'!$T$2:$T$250,A9),'TongHop (goc)'!$T$2:$AA$250,5,0))","v":"Dung"},{"$f":"IF(A9>COUNT('TongHop (goc)'!$T$2:$T$250),\"\",VLOOKUP(LARGE('TongHop (goc)'!$T$2:$T$250,A9),'TongHop (goc)'!$T$2:$AA$250,7,0))","v":"6C"},null,null,null,null,null,null,null,null,null,null,null,null,null,{"$f":"IF(A9>COUNT('TongHop (goc)'!$T$2:$T$250),\"\",VLOOKUP(LARGE('TongHop (goc)'!$T$2:$T$250,A9),'TongHop (goc)'!$T$2:$AA$250,6,0))","v":"HỌC SINH XUẤT SẮC"},null,8,8,null,"7B","0 - HSG"]
[{"$f":"IF(ROW(9:9)>COUNT('TongHop (goc)'!$T$2:$T$250),\"\",ROW(9:9))","v":9},{"$f":"IF(A10>COUNT('TongHop (goc)'!$T$2:$T$250),\"\",VLOOKUP(LARGE('TongHop (goc)'!$T$2:$T$250,A10),'TongHop (goc)'!$T$2:$AA$250,4,0))","v":"Phạm Gia"},{"$f":"IF(A10>COUNT('TongHop (goc)'!$T$2:$T$250),\"\",VLOOKUP(LARGE('TongHop (goc)'!$T$2:$T$250,A10),'TongHop (goc)'!$T$2:$AA$250,5,0))","v":"Long"},{"$f":"IF(A10>COUNT('TongHop (goc)'!$T$2:$T$250),\"\",VLOOKUP(LARGE('TongHop (goc)'!$T$2:$T$250,A10),'TongHop (goc)'!$T$2:$AA$250,7,0))","v":"6C"},null,null,null,null,null,null,null,null,null,null,null,null,null,{"$f":"IF(A10>COUNT('TongHop (goc)'!$T$2:$T$250),\"\",VLOOKUP(LARGE('TongHop (goc)'!$T$2:$T$250,A10),'TongHop (goc)'!$T$2:$AA$250,6,0))","v":"HỌC SINH XUẤT SẮC"},null,9,9,null,"7C","0 - HSG","8 - HSXS"]
[{"$f":"IF(ROW(10:10)>COUNT('TongHop (goc)'!$T$2:$T$250),\"\",ROW(10:10))","v":10},{"$f":"IF(A11>COUNT('TongHop (goc)'!$T$2:$T$250),\"\",VLOOKUP(LARGE('TongHop (goc)'!$T$2:$T$250,A11),'TongHop (goc)'!$T$2:$AA$250,4,0))","v":"Vũ Quang"},{"$f":"IF(A11>COUNT('TongHop (goc)'!$T$2:$T$250),\"\",VLOOKUP(LARGE('TongHop (goc)'!$T$2:$T$250,A11),'TongHop (goc)'!$T$2:$AA$250,5,0))","v":"Hưng"},{"$f":"IF(A11>COUNT('TongHop (goc)'!$T$2:$T$250),\"\",VLOOKUP(LARGE('TongHop (goc)'!$T$2:$T$250,A11),'TongHop (goc)'!$T$2:$AA$250,7,0))","v":"7C"},null,null,null,null,null,null,null,null,null,null,null,null,null,{"$f":"IF(A11>COUNT('TongHop (goc)'!$T$2:$T$250),\"\",VLOOKUP(LARGE('TongHop (goc)'!$T$2:$T$250,A11),'TongHop (goc)'!$T$2:$AA$250,6,0))","v":"HỌC SINH XUẤT SẮC"},null,10,10,null,"8A","0 - HSG"]
[{"$f":"IF(ROW(11:11)>COUNT('TongHop (goc)'!$T$2:$T$250),\"\",ROW(11:11))","v":11},{"$f":"IF(A12>COUNT('TongHop (goc)'!$T$2:$T$250),\"\",VLOOKUP(LARGE('TongHop (goc)'!$T$2:$T$250,A12),'TongHop (goc)'!$T$2:$AA$250,4,0))","v":"Nguyễn Minh"},{"$f":"IF(A12>COUNT('TongHop (goc)'!$T$2:$T$250),\"\",VLOOKUP(LARGE('TongHop (goc)'!$T$2:$T$250,A12),'TongHop (goc)'!$T$2:$AA$250,5,0))","v":"Tâm"},{"$f":"IF(A12>COUNT('TongHop (goc)'!$T$2:$T$250),\"\",VLOOKUP(LARGE('TongHop (goc)'!$T$2:$T$250,A12),'TongHop (goc)'!$T$2:$AA$250,7,0))","v":"7C"},null,null,null,null,null,null,null,null,null,null,null,null,null,{"$f":"IF(A12>COUNT('TongHop (goc)'!$T$2:$T$250),\"\",VLOOKUP(LARGE('TongHop (goc)'!$T$2:$T$250,A12),'TongHop (goc)'!$T$2:$AA$250,6,0))","v":"HỌC SINH XUẤT SẮC"},null,11,11,null,"8B","0 - HSG"]
[{"$f":"IF(ROW(12:12)>COUNT('TongHop (goc)'!$T$2:$T$250),\"\",ROW(12:12))","v":12},{"$f":"IF(A13>COUNT('TongHop (goc)'!$T$2:$T$250),\"\",VLOOKUP(LARGE('TongHop (goc)'!$T$2:$T$250,A13),'TongHop (goc)'!$T$2:$AA$250,4,0))","v":"Vũ Đức"},{"$f":"IF(A13>COUNT('TongHop (goc)'!$T$2:$T$250),\"\",VLOOKUP(LARGE('TongHop (goc)'!$T$2:$T$250,A13),'TongHop (goc)'!$T$2:$AA$250,5,0))","v":"Trí"},{"$f":"IF(A13>COUNT('TongHop (goc)'!$T$2:$T$250),\"\",VLOOKUP(LARGE('TongHop (goc)'!$T$2:$T$250,A13),'TongHop (goc)'!$T$2:$AA$250,7,0))","v":"7C"},null,null,null,null,null,null,null,null,null,null,null,null,null,{"$f":"IF(A13>COUNT('TongHop (goc)'!$T$2:$T$250),\"\",VLOOKUP(LARGE('TongHop (goc)'!$T$2:$T$250,A13),'TongHop (goc)'!$T$2:$AA$250,6,0))","v":"HỌC SINH XUẤT SẮC"},null,12,12,null,"8C","0 - HSG","8 - HSXS"]
[{"$f":"IF(ROW(13:13)>COUNT('TongHop (goc)'!$T$2:$T$250),\"\",ROW(13:13))","v":13},{"$f":"IF(A14>COUNT('TongHop (goc)'!$T$2:$T$250),\"\",VLOOKUP(LARGE('TongHop (goc)'!$T$2:$T$250,A14),'TongHop (goc)'!$T$2:$AA$250,4,0))","v":"Trần Huyền"},{"$f":"IF(A14>COUNT('TongHop (goc)'!$T$2:$T$250),\"\",VLOOKUP(LARGE('TongHop (goc)'!$T$2:$T$250,A14),'TongHop (goc)'!$T$2:$AA$250,5,0))","v":"My"},{"$f":"IF(A14>COUNT('TongHop (goc)'!$T$2:$T$250),\"\",VLOOKUP(LARGE('TongHop (goc)'!$T$2:$T$250,A14),'TongHop (goc)'!$T$2:$AA$250,7,0))","v":"7C"},null,null,null,null,null,null,null,null,null,null,null,null,null,{"$f":"IF(A14>COUNT('TongHop (goc)'!$T$2:$T$250),\"\",VLOOKUP(LARGE('TongHop (goc)'!$T$2:$T$250,A14),'TongHop (goc)'!$T$2:$AA$250,6,0))","v":"HỌC SINH XUẤT SẮC"},null,13,13,null,"9A","0 - HSG"]
[{"$f":"IF(ROW(14:14)>COUNT('TongHop (goc)'!$T$2:$T$250),\"\",ROW(14:14))","v":14},{"$f":"IF(A15>COUNT('TongHop (goc)'!$T$2:$T$250),\"\",VLOOKUP(LARGE('TongHop (goc)'!$T$2:$T$250,A15),'TongHop (goc)'!$T$2:$AA$250,4,0))","v":"Nguyễn Thị Khánh"},{"$f":"IF(A15>COUNT('TongHop (goc)'!$T$2:$T$250),\"\",VLOOKUP(LARGE('TongHop (goc)'!$T$2:$T$250,A15),'TongHop (goc)'!$T$2:$AA$250,5,0))","v":"Ly"},{"$f":"IF(A15>COUNT('TongHop (goc)'!$T$2:$T$250),\"\",VLOOKUP(LARGE('TongHop (goc)'!$T$2:$T$250,A15),'TongHop (goc)'!$T$2:$AA$250,7,0))","v":"7C"},null,null,null,null,null,null,null,null,null,null,null,null,null,{"$f":"IF(A15>COUNT('TongHop (goc)'!$T$2:$T$250),\"\",VLOOKUP(LARGE('TongHop (goc)'!$T$2:$T$250,A15),'TongHop (goc)'!$T$2:$AA$250,6,0))","v":"HỌC SINH XUẤT SẮC"},null,14,14,null,"9B","0 - HSG"]
[{"$f":"IF(ROW(15:15)>COUNT('TongHop (goc)'!$T$2:$T$250),\"\",ROW(15:15))","v":15},{"$f":"IF(A16>COUNT('TongHop (goc)'!$T$2:$T$250),\"\",VLOOKUP(LARGE('TongHop (goc)'!$T$2:$T$250,A16),'TongHop (goc)'!$T$2:$AA$250,4,0))","v":"Bùi Thành"},{"$f":"IF(A16>COUNT('TongHop (goc)'!$T$2:$T$250),\"\",VLOOKUP(LARGE('TongHop (goc)'!$T$2:$T$250,A16),'TongHop (goc)'!$T$2:$AA$250,5,0))","v":"Nam"},{"$f":"IF(A16>COUNT('TongHop (goc)'!$T$2:$T$250),\"\",VLOOKUP(LARGE('TongHop (goc)'!$T$2:$T$250,A16),'TongHop (goc)'!$T$2:$AA$250,7,0))","v":"7C"},null,null,null,null,null,null,null,null,null,null,null,null,null,{"$f":"IF(A16>COUNT('TongHop (goc)'!$T$2:$T$250),\"\",VLOOKUP(LARGE('TongHop (goc)'!$T$2:$T$250,A16),'TongHop (goc)'!$T$2:$AA$250,6,0))","v":"HỌC SINH XUẤT SẮC"},null,15,15,null,"9C","0 - HSG","6 - HSXS"]
[{"$f":"IF(ROW(16:16)>COUNT('TongHop (goc)'!$T$2:$T$250),\"\",ROW(16:16))","v":16},{"$f":"IF(A17>COUNT('TongHop (goc)'!$T$2:$T$250),\"\",VLOOKUP(LARGE('TongHop (goc)'!$T$2:$T$250,A17),'TongHop (goc)'!$T$2:$AA$250,4,0))","v":"Hoàng Thanh"},{"$f":"IF(A17>COUNT('TongHop (goc)'!$T$2:$T$250),\"\",VLOOKUP(LARGE('TongHop (goc)'!$T$2:$T$250,A17),'TongHop (goc)'!$T$2:$AA$250,5,0))","v":"Hiền"},{"$f":"IF(A17>COUNT('TongHop (goc)'!$T$2:$T$250),\"\",VLOOKUP(LARGE('TongHop (goc)'!$T$2:$T$250,A17),'TongHop (goc)'!$T$2:$AA$250,7,0))","v":"7C"},null,null,null,null,null,null,null,null,null,null,null,null,null,{"$f":"IF(A17>COUNT('TongHop (goc)'!$T$2:$T$250),\"\",VLOOKUP(LARGE('TongHop (goc)'!$T$2:$T$250,A17),'TongHop (goc)'!$T$2:$AA$250,6,0))","v":"HỌC SINH XUẤT SẮC"},null,16,16]
[{"$f":"IF(ROW(17:17)>COUNT('TongHop (goc)'!$T$2:$T$250),\"\",ROW(17:17))","v":17},{"$f":"IF(A18>COUNT('TongHop (goc)'!$T$2:$T$250),\"\",VLOOKUP(LARGE('TongHop (goc)'!$T$2:$T$250,A18),'TongHop (goc)'!$T$2:$AA$250,4,0))","v":"Lê Thùy"},{"$f":"IF(A18>COUNT('TongHop (goc)'!$T$2:$T$250),\"\",VLOOKUP(LARGE('TongHop (goc)'!$T$2:$T$250,A18),'TongHop (goc)'!$T$2:$AA$250,5,0))","v":"Dương"},{"$f":"IF(A18>COUNT('TongHop (goc)'!$T$2:$T$250),\"\",VLOOKUP(LARGE('TongHop (goc)'!$T$2:$T$250,A18),'TongHop (goc)'!$T$2:$AA$250,7,0))","v":"7C"},null,null,null,null,null,null,null,null,null,null,null,null,null,{"$f":"IF(A18>COUNT('TongHop (goc)'!$T$2:$T$250),\"\",VLOOKUP(LARGE('TongHop (goc)'!$T$2:$T$250,A18),'TongHop (goc)'!$T$2:$AA$250,6,0))","v":"HỌC SINH XUẤT SẮC"},null,17,17]
[{"$f":"IF(ROW(18:18)>COUNT('TongHop (goc)'!$T$2:$T$250),\"\",ROW(18:18))","v":18},{"$f":"IF(A19>COUNT('TongHop (goc)'!$T$2:$T$250),\"\",VLOOKUP(LARGE('TongHop (goc)'!$T$2:$T$250,A19),'TongHop (goc)'!$T$2:$AA$250,4,0))","v":"Vũ Thị Thanh"},{"$f":"IF(A19>COUNT('TongHop (goc)'!$T$2:$T$250),\"\",VLOOKUP(LARGE('TongHop (goc)'!$T$2:$T$250,A19),'TongHop (goc)'!$T$2:$AA$250,5,0))","v":"Bình"},{"$f":"IF(A19>COUNT('TongHop (goc)'!$T$2:$T$250),\"\",VLOOKUP(LARGE('TongHop (goc)'!$T$2:$T$250,A19),'TongHop (goc)'!$T$2:$AA$250,7,0))","v":"8C"},null,null,null,null,null,null,null,null,null,null,null,null,null,{"$f":"IF(A19>COUNT('TongHop (goc)'!$T$2:$T$250),\"\",VLOOKUP(LARGE('TongHop (goc)'!$T$2:$T$250,A19),'TongHop (goc)'!$T$2:$AA$250,6,0))","v":"HỌC SINH XUẤT SẮC"},null,18,18]
[{"$f":"IF(ROW(19:19)>COUNT('TongHop (goc)'!$T$2:$T$250),\"\",ROW(19:19))","v":19},{"$f":"IF(A20>COUNT('TongHop (goc)'!$T$2:$T$250),\"\",VLOOKUP(LARGE('TongHop (goc)'!$T$2:$T$250,A20),'TongHop (goc)'!$T$2:$AA$250,4,0))","v":"Hoàng Thiên  "},{"$f":"IF(A20>COUNT('TongHop (goc)'!$T$2:$T$250),\"\",VLOOKUP(LARGE('TongHop (goc)'!$T$2:$T$250,A20),'TongHop (goc)'!$T$2:$AA$250,5,0))","v":"Bảo"},{"$f":"IF(A20>COUNT('TongHop (goc)'!$T$2:$T$250),\"\",VLOOKUP(LARGE('TongHop (goc)'!$T$2:$T$250,A20),'TongHop (goc)'!$T$2:$AA$250,7,0))","v":"8C"},null,null,null,null,null,null,null,null,null,null,null,null,null,{"$f":"IF(A20>COUNT('TongHop (goc)'!$T$2:$T$250),\"\",VLOOKUP(LARGE('TongHop (goc)'!$T$2:$T$250,A20),'TongHop (goc)'!$T$2:$AA$250,6,0))","v":"HỌC SINH XUẤT SẮC"},null,19,19]
[{"$f":"IF(ROW(20:20)>COUNT('TongHop (goc)'!$T$2:$T$250),\"\",ROW(20:20))","v":20},{"$f":"IF(A21>COUNT('TongHop (goc)'!$T$2:$T$250),\"\",VLOOKUP(LARGE('TongHop (goc)'!$T$2:$T$250,A21),'TongHop (goc)'!$T$2:$AA$250,4,0))","v":"Trần Thanh"},{"$f":"IF(A21>COUNT('TongHop (goc)'!$T$2:$T$250),\"\",VLOOKUP(LARGE('TongHop (goc)'!$T$2:$T$250,A21),'TongHop (goc)'!$T$2:$AA$250,5,0))","v":"Bình"},{"$f":"IF(A21>COUNT('TongHop (goc)'!$T$2:$T$250),\"\",VLOOKUP(LARGE('TongHop (goc)'!$T$2:$T$250,A21),'TongHop (goc)'!$T$2:$AA$250,7,0))","v":"8C"},null,null,null,null,null,null,null,null,null,null,null,null,null,{"$f":"IF(A21>COUNT('TongHop (goc)'!$T$2:$T$250),\"\",VLOOKUP(LARGE('TongHop (goc)'!$T$2:$T$250,A21),'TongHop (goc)'!$T$2:$AA$250,6,0))","v":"HỌC SINH XUẤT SẮC"},null,20,20]
[{"$f":"IF(ROW(21:21)>COUNT('TongHop (goc)'!$T$2:$T$250),\"\",ROW(21:21))","v":21},{"$f":"IF(A22>COUNT('TongHop (goc)'!$T$2:$T$250),\"\",VLOOKUP(LARGE('TongHop (goc)'!$T$2:$T$250,A22),'TongHop (goc)'!$T$2:$AA$250,4,0))","v":"Phạm Gia  "},{"$f":"IF(A22>COUNT('TongHop (goc)'!$T$2:$T$250),\"\",VLOOKUP(LARGE('TongHop (goc)'!$T$2:$T$250,A22),'TongHop (goc)'!$T$2:$AA$250,5,0))","v":"Bảo"},{"$f":"IF(A22>COUNT('TongHop (goc)'!$T$2:$T$250),\"\",VLOOKUP(LARGE('TongHop (goc)'!$T$2:$T$250,A22),'TongHop (goc)'!$T$2:$AA$250,7,0))","v":"8C"},null,null,null,null,null,null,null,null,null,null,null,null,null,{"$f":"IF(A22>COUNT('TongHop (goc)'!$T$2:$T$250),\"\",VLOOKUP(LARGE('TongHop (goc)'!$T$2:$T$250,A22),'TongHop (goc)'!$T$2:$AA$250,6,0))","v":"HỌC SINH XUẤT SẮC"},null,21,21]
[{"$f":"IF(ROW(22:22)>COUNT('TongHop (goc)'!$T$2:$T$250),\"\",ROW(22:22))","v":22},{"$f":"IF(A23>COUNT('TongHop (goc)'!$T$2:$T$250),\"\",VLOOKUP(LARGE('TongHop (goc)'!$T$2:$T$250,A23),'TongHop (goc)'!$T$2:$AA$250,4,0))","v":"Lê Phương"},{"$f":"IF(A23>COUNT('TongHop (goc)'!$T$2:$T$250),\"\",VLOOKUP(LARGE('TongHop (goc)'!$T$2:$T$250,A23),'TongHop (goc)'!$T$2:$AA$250,5,0))","v":"Tuyến"},{"$f":"IF(A23>COUNT('TongHop (goc)'!$T$2:$T$250),\"\",VLOOKUP(LARGE('TongHop (goc)'!$T$2:$T$250,A23),'TongHop (goc)'!$T$2:$AA$250,7,0))","v":"8C"},null,null,null,null,null,null,null,null,null,null,null,null,null,{"$f":"IF(A23>COUNT('TongHop (goc)'!$T$2:$T$250),\"\",VLOOKUP(LARGE('TongHop (goc)'!$T$2:$T$250,A23),'TongHop (goc)'!$T$2:$AA$250,6,0))","v":"HỌC SINH XUẤT SẮC"},null,22,22]
[{"$f":"IF(ROW(23:23)>COUNT('TongHop (goc)'!$T$2:$T$250),\"\",ROW(23:23))","v":23},{"$f":"IF(A24>COUNT('TongHop (goc)'!$T$2:$T$250),\"\",VLOOKUP(LARGE('TongHop (goc)'!$T$2:$T$250,A24),'TongHop (goc)'!$T$2:$AA$250,4,0))","v":"Lã Diệu"},{"$f":"IF(A24>COUNT('TongHop (goc)'!$T$2:$T$250),\"\",VLOOKUP(LARGE('TongHop (goc)'!$T$2:$T$250,A24),'TongHop (goc)'!$T$2:$AA$250,5,0))","v":"Linh"},{"$f":"IF(A24>COUNT('TongHop (goc)'!$T$2:$T$250),\"\",VLOOKUP(LARGE('TongHop (goc)'!$T$2:$T$250,A24),'TongHop (goc)'!$T$2:$AA$250,7,0))","v":"8C"},null,null,null,null,null,null,null,null,null,null,null,null,null,{"$f":"IF(A24>COUNT('TongHop (goc)'!$T$2:$T$250),\"\",VLOOKUP(LARGE('TongHop (goc)'!$T$2:$T$250,A24),'TongHop (goc)'!$T$2:$AA$250,6,0))","v":"HỌC SINH XUẤT SẮC"},null,23,23]
[{"$f":"IF(ROW(24:24)>COUNT('TongHop (goc)'!$T$2:$T$250),\"\",ROW(24:24))","v":24},{"$f":"IF(A25>COUNT('TongHop (goc)'!$T$2:$T$250),\"\",VLOOKUP(LARGE('TongHop (goc)'!$T$2:$T$250,A25),'TongHop (goc)'!$T$2:$AA$250,4,0))","v":"Trần Tiến "},{"$f":"IF(A25>COUNT('TongHop (goc)'!$T$2:$T$250),\"\",VLOOKUP(LARGE('TongHop (goc)'!$T$2:$T$250,A25),'TongHop (goc)'!$T$2:$AA$250,5,0))","v":"Đạt"},{"$f":"IF(A25>COUNT('TongHop (goc)'!$T$2:$T$250),\"\",VLOOKUP(LARGE('TongHop (goc)'!$T$2:$T$250,A25),'TongHop (goc)'!$T$2:$AA$250,7,0))","v":"8C"},null,null,null,null,null,null,null,null,null,null,null,null,null,{"$f":"IF(A25>COUNT('TongHop (goc)'!$T$2:$T$250),\"\",VLOOKUP(LARGE('TongHop (goc)'!$T$2:$T$250,A25),'TongHop (goc)'!$T$2:$AA$250,6,0))","v":"HỌC SINH XUẤT SẮC"},null,24,24]
[{"$f":"IF(ROW(25:25)>COUNT('TongHop (goc)'!$T$2:$T$250),\"\",ROW(25:25))","v":25},{"$f":"IF(A26>COUNT('TongHop (goc)'!$T$2:$T$250),\"\",VLOOKUP(LARGE('TongHop (goc)'!$T$2:$T$250,A26),'TongHop (goc)'!$T$2:$AA$250,4,0))","v":"Vũ Ánh Thùy "},{"$f":"IF(A26>COUNT('TongHop (goc)'!$T$2:$T$250),\"\",VLOOKUP(LARGE('TongHop (goc)'!$T$2:$T$250,A26),'TongHop (goc)'!$T$2:$AA$250,5,0))","v":"Dương"},{"$f":"IF(A26>COUNT('TongHop (goc)'!$T$2:$T$250),\"\",VLOOKUP(LARGE('TongHop (goc)'!$T$2:$T$250,A26),'TongHop (goc)'!$T$2:$AA$250,7,0))","v":"8C"},null,null,null,null,null,null,null,null,null,null,null,null,null,{"$f":"IF(A26>COUNT('TongHop (goc)'!$T$2:$T$250),\"\",VLOOKUP(LARGE('TongHop (goc)'!$T$2:$T$250,A26),'TongHop (goc)'!$T$2:$AA$250,6,0))","v":"HỌC SINH XUẤT SẮC"},null,25,25]
[{"$f":"IF(ROW(26:26)>COUNT('TongHop (goc)'!$T$2:$T$250),\"\",ROW(26:26))","v":26},{"$f":"IF(A27>COUNT('TongHop (goc)'!$T$2:$T$250),\"\",VLOOKUP(LARGE('TongHop (goc)'!$T$2:$T$250,A27),'TongHop (goc)'!$T$2:$AA$250,4,0))","v":"Lê Việt"},{"$f":"IF(A27>COUNT('TongHop (goc)'!$T$2:$T$250),\"\",VLOOKUP(LARGE('TongHop (goc)'!$T$2:$T$250,A27),'TongHop (goc)'!$T$2:$AA$250,5,0))","v":"Dũng"},{"$f":"IF(A27>COUNT('TongHop (goc)'!$T$2:$T$250),\"\",VLOOKUP(LARGE('TongHop (goc)'!$T$2:$T$250,A27),'TongHop (goc)'!$T$2:$AA$250,7,0))","v":"9C"},null,null,null,null,null,null,null,null,null,null,null,null,null,{"$f":"IF(A27>COUNT('TongHop (goc)'!$T$2:$T$250),\"\",VLOOKUP(LARGE('TongHop (goc)'!$T$2:$T$250,A27),'TongHop (goc)'!$T$2:$AA$250,6,0))","v":"HỌC SINH XUẤT SẮC"},null,26,26]
[{"$f":"IF(ROW(27:27)>COUNT('TongHop (goc)'!$T$2:$T$250),\"\",ROW(27:27))","v":27},{"$f":"IF(A28>COUNT('TongHop (goc)'!$T$2:$T$250),\"\",VLOOKUP(LARGE('TongHop (goc)'!$T$2:$T$250,A28),'TongHop (goc)'!$T$2:$AA$250,4,0))","v":"Bùi Quang"},{"$f":"IF(A28>COUNT('TongHop (goc)'!$T$2:$T$250),\"\",VLOOKUP(LARGE('TongHop (goc)'!$T$2:$T$250,A28),'TongHop (goc)'!$T$2:$AA$250,5,0))","v":"Phát"},{"$f":"IF(A28>COUNT('TongHop (goc)'!$T$2:$T$250),\"\",VLOOKUP(LARGE('TongHop (goc)'!$T$2:$T$250,A28),'TongHop (goc)'!$T$2:$AA$250,7,0))","v":"9C"},null,null,null,null,null,null,null,null,null,null,null,null,null,{"$f":"IF(A28>COUNT('TongHop (goc)'!$T$2:$T$250),\"\",VLOOKUP(LARGE('TongHop (goc)'!$T$2:$T$250,A28),'TongHop (goc)'!$T$2:$AA$250,6,0))","v":"HỌC SINH XUẤT SẮC"},null,27,27]
[{"$f":"IF(ROW(28:28)>COUNT('TongHop (goc)'!$T$2:$T$250),\"\",ROW(28:28))","v":28},{"$f":"IF(A29>COUNT('TongHop (goc)'!$T$2:$T$250),\"\",VLOOKUP(LARGE('TongHop (goc)'!$T$2:$T$250,A29),'TongHop (goc)'!$T$2:$AA$250,4,0))","v":"Trần Bảo"},{"$f":"IF(A29>COUNT('TongHop (goc)'!$T$2:$T$250),\"\",VLOOKUP(LARGE('TongHop (goc)'!$T$2:$T$250,A29),'TongHop (goc)'!$T$2:$AA$250,5,0))","v":"Nam"},{"$f":"IF(A29>COUNT('TongHop (goc)'!$T$2:$T$250),\"\",VLOOKUP(LARGE('TongHop (goc)'!$T$2:$T$250,A29),'TongHop (goc)'!$T$2:$AA$250,7,0))","v":"9C"},null,null,null,null,null,null,null,null,null,null,null,null,null,{"$f":"IF(A29>COUNT('TongHop (goc)'!$T$2:$T$250),\"\",VLOOKUP(LARGE('TongHop (goc)'!$T$2:$T$250,A29),'TongHop (goc)'!$T$2:$AA$250,6,0))","v":"HỌC SINH XUẤT SẮC"},null,28,28]
[{"$f":"IF(ROW(29:29)>COUNT('TongHop (goc)'!$T$2:$T$250),\"\",ROW(29:29))","v":29},{"$f":"IF(A30>COUNT('TongHop (goc)'!$T$2:$T$250),\"\",VLOOKUP(LARGE('TongHop (goc)'!$T$2:$T$250,A30),'TongHop (goc)'!$T$2:$AA$250,4,0))","v":"Phạm Thị Thảo"},{"$f":"IF(A30>COUNT('TongHop (goc)'!$T$2:$T$250),\"\",VLOOKUP(LARGE('TongHop (goc)'!$T$2:$T$250,A30),'TongHop (goc)'!$T$2:$AA$250,5,0))","v":"Ly"},{"$f":"IF(A30>COUNT('TongHop (goc)'!$T$2:$T$250),\"\",VLOOKUP(LARGE('TongHop (goc)'!$T$2:$T$250,A30),'TongHop (goc)'!$T$2:$AA$250,7,0))","v":"9C"},null,null,null,null,null,null,null,null,null,null,null,null,null,{"$f":"IF(A30>COUNT('TongHop (goc)'!$T$2:$T$250),\"\",VLOOKUP(LARGE('TongHop (goc)'!$T$2:$T$250,A30),'TongHop (goc)'!$T$2:$AA$250,6,0))","v":"HỌC SINH XUẤT SẮC"},null,29,29]
[{"$f":"IF(ROW(30:30)>COUNT('TongHop (goc)'!$T$2:$T$250),\"\",ROW(30:30))","v":30},{"$f":"IF(A31>COUNT('TongHop (goc)'!$T$2:$T$250),\"\",VLOOKUP(LARGE('TongHop (goc)'!$T$2:$T$250,A31),'TongHop (goc)'!$T$2:$AA$250,4,0))","v":"Lê Khánh"},{"$f":"IF(A31>COUNT('TongHop (goc)'!$T$2:$T$250),\"\",VLOOKUP(LARGE('TongHop (goc)'!$T$2:$T$250,A31),'TongHop (goc)'!$T$2:$AA$250,5,0))","v":"Huyền"},{"$f":"IF(A31>COUNT('TongHop (goc)'!$T$2:$T$250),\"\",VLOOKUP(LARGE('TongHop (goc)'!$T$2:$T$250,A31),'TongHop (goc)'!$T$2:$AA$250,7,0))","v":"9C"},null,null,null,null,null,null,null,null,null,null,null,null,null,{"$f":"IF(A31>COUNT('TongHop (goc)'!$T$2:$T$250),\"\",VLOOKUP(LARGE('TongHop (goc)'!$T$2:$T$250,A31),'TongHop (goc)'!$T$2:$AA$250,6,0))","v":"HỌC SINH XUẤT SẮC"},null,30,30]
[{"$f":"IF(ROW(31:31)>COUNT('TongHop (goc)'!$T$2:$T$250),\"\",ROW(31:31))","v":31},{"$f":"IF(A32>COUNT('TongHop (goc)'!$T$2:$T$250),\"\",VLOOKUP(LARGE('TongHop (goc)'!$T$2:$T$250,A32),'TongHop (goc)'!$T$2:$AA$250,4,0))","v":"Nguyễn Thiện"},{"$f":"IF(A32>COUNT('TongHop (goc)'!$T$2:$T$250),\"\",VLOOKUP(LARGE('TongHop (goc)'!$T$2:$T$250,A32),'TongHop (goc)'!$T$2:$AA$250,5,0))","v":"Chí"},{"$f":"IF(A32>COUNT('TongHop (goc)'!$T$2:$T$250),\"\",VLOOKUP(LARGE('TongHop (goc)'!$T$2:$T$250,A32),'TongHop (goc)'!$T$2:$AA$250,7,0))","v":"9C"},null,null,null,null,null,null,null,null,null,null,null,null,null,{"$f":"IF(A32>COUNT('TongHop (goc)'!$T$2:$T$250),\"\",VLOOKUP(LARGE('TongHop (goc)'!$T$2:$T$250,A32),'TongHop (goc)'!$T$2:$AA$250,6,0))","v":"HỌC SINH XUẤT SẮC"},null,31,31]
[{"$f":"IF(ROW(32:32)>COUNT('TongHop (goc)'!$T$2:$T$250),\"\",ROW(32:32))","v":32},{"$f":"IF(A33>COUNT('TongHop (goc)'!$T$2:$T$250),\"\",VLOOKUP(LARGE('TongHop (goc)'!$T$2:$T$250,A33),'TongHop (goc)'!$T$2:$AA$250,4,0))","v":"Lê Ngọc Bình"},{"$f":"IF(A33>COUNT('TongHop (goc)'!$T$2:$T$250),\"\",VLOOKUP(LARGE('TongHop (goc)'!$T$2:$T$250,A33),'TongHop (goc)'!$T$2:$AA$250,5,0))","v":"An"},{"$f":"IF(A33>COUNT('TongHop (goc)'!$T$2:$T$250),\"\",VLOOKUP(LARGE('TongHop (goc)'!$T$2:$T$250,A33),'TongHop (goc)'!$T$2:$AA$250,7,0))","v":"6A"},null,null,null,null,null,null,null,null,null,null,null,null,null,{"$f":"IF(A33>COUNT('TongHop (goc)'!$T$2:$T$250),\"\",VLOOKUP(LARGE('TongHop (goc)'!$T$2:$T$250,A33),'TongHop (goc)'!$T$2:$AA$250,6,0))","v":"HỌC SINH GIỎI"},null,32,32]
[{"$f":"IF(ROW(33:33)>COUNT('TongHop (goc)'!$T$2:$T$250),\"\",ROW(33:33))","v":33},{"$f":"IF(A34>COUNT('TongHop (goc)'!$T$2:$T$250),\"\",VLOOKUP(LARGE('TongHop (goc)'!$T$2:$T$250,A34),'TongHop (goc)'!$T$2:$AA$250,4,0))","v":"Tống Bảo"},{"$f":"IF(A34>COUNT('TongHop (goc)'!$T$2:$T$250),\"\",VLOOKUP(LARGE('TongHop (goc)'!$T$2:$T$250,A34),'TongHop (goc)'!$T$2:$AA$250,5,0))","v":"Trâm"},{"$f":"IF(A34>COUNT('TongHop (goc)'!$T$2:$T$250),\"\",VLOOKUP(LARGE('TongHop (goc)'!$T$2:$T$250,A34),'TongHop (goc)'!$T$2:$AA$250,7,0))","v":"6A"},null,null,null,null,null,null,null,null,null,null,null,null,null,{"$f":"IF(A34>COUNT('TongHop (goc)'!$T$2:$T$250),\"\",VLOOKUP(LARGE('TongHop (goc)'!$T$2:$T$250,A34),'TongHop (goc)'!$T$2:$AA$250,6,0))","v":"HỌC SINH GIỎI"},null,33,33]
[{"$f":"IF(ROW(34:34)>COUNT('TongHop (goc)'!$T$2:$T$250),\"\",ROW(34:34))","v":34},{"$f":"IF(A35>COUNT('TongHop (goc)'!$T$2:$T$250),\"\",VLOOKUP(LARGE('TongHop (goc)'!$T$2:$T$250,A35),'TongHop (goc)'!$T$2:$AA$250,4,0))","v":"Tạ Trần Hương"},{"$f":"IF(A35>COUNT('TongHop (goc)'!$T$2:$T$250),\"\",VLOOKUP(LARGE('TongHop (goc)'!$T$2:$T$250,A35),'TongHop (goc)'!$T$2:$AA$250,5,0))","v":"Giang"},{"$f":"IF(A35>COUNT('TongHop (goc)'!$T$2:$T$250),\"\",VLOOKUP(LARGE('TongHop (goc)'!$T$2:$T$250,A35),'TongHop (goc)'!$T$2:$AA$250,7,0))","v":"6A"},null,null,null,null,null,null,null,null,null,null,null,null,null,{"$f":"IF(A35>COUNT('TongHop (goc)'!$T$2:$T$250),\"\",VLOOKUP(LARGE('TongHop (goc)'!$T$2:$T$250,A35),'TongHop (goc)'!$T$2:$AA$250,6,0))","v":"HỌC SINH GIỎI"},null,34,34]
[{"$f":"IF(ROW(35:35)>COUNT('TongHop (goc)'!$T$2:$T$250),\"\",ROW(35:35))","v":35},{"$f":"IF(A36>COUNT('TongHop (goc)'!$T$2:$T$250),\"\",VLOOKUP(LARGE('TongHop (goc)'!$T$2:$T$250,A36),'TongHop (goc)'!$T$2:$AA$250,4,0))","v":"Lê Quang"},{"$f":"IF(A36>COUNT('TongHop (goc)'!$T$2:$T$250),\"\",VLOOKUP(LARGE('TongHop (goc)'!$T$2:$T$250,A36),'TongHop (goc)'!$T$2:$AA$250,5,0))","v":"Đại"},{"$f":"IF(A36>COUNT('TongHop (goc)'!$T$2:$T$250),\"\",VLOOKUP(LARGE('TongHop (goc)'!$T$2:$T$250,A36),'TongHop (goc)'!$T$2:$AA$250,7,0))","v":"6A"},null,null,null,null,null,null,null,null,null,null,null,null,null,{"$f":"IF(A36>COUNT('TongHop (goc)'!$T$2:$T$250),\"\",VLOOKUP(LARGE('TongHop (goc)'!$T$2:$T$250,A36),'TongHop (goc)'!$T$2:$AA$250,6,0))","v":"HỌC SINH GIỎI"},null,35,35]
[{"$f":"IF(ROW(36:36)>COUNT('TongHop (goc)'!$T$2:$T$250),\"\",ROW(36:36))","v":36},{"$f":"IF(A37>COUNT('TongHop (goc)'!$T$2:$T$250),\"\",VLOOKUP(LARGE('TongHop (goc)'!$T$2:$T$250,A37),'TongHop (goc)'!$T$2:$AA$250,4,0))","v":"Đặng Huyền"},{"$f":"IF(A37>COUNT('TongHop (goc)'!$T$2:$T$250),\"\",VLOOKUP(LARGE('TongHop (goc)'!$T$2:$T$250,A37),'TongHop (goc)'!$T$2:$AA$250,5,0))","v":"Trang"},{"$f":"IF(A37>COUNT('TongHop (goc)'!$T$2:$T$250),\"\",VLOOKUP(LARGE('TongHop (goc)'!$T$2:$T$250,A37),'TongHop (goc)'!$T$2:$AA$250,7,0))","v":"6A"},null,null,null,null,null,null,null,null,null,null,null,null,null,{"$f":"IF(A37>COUNT('TongHop (goc)'!$T$2:$T$250),\"\",VLOOKUP(LARGE('TongHop (goc)'!$T$2:$T$250,A37),'TongHop (goc)'!$T$2:$AA$250,6,0))","v":"HỌC SINH GIỎI"},null,36,36]
[{"$f":"IF(ROW(37:37)>COUNT('TongHop (goc)'!$T$2:$T$250),\"\",ROW(37:37))","v":37},{"$f":"IF(A38>COUNT('TongHop (goc)'!$T$2:$T$250),\"\",VLOOKUP(LARGE('TongHop (goc)'!$T$2:$T$250,A38),'TongHop (goc)'!$T$2:$AA$250,4,0))","v":"Trần Thị Phương"},{"$f":"IF(A38>COUNT('TongHop (goc)'!$T$2:$T$250),\"\",VLOOKUP(LARGE('TongHop (goc)'!$T$2:$T$250,A38),'TongHop (goc)'!$T$2:$AA$250,5,0))","v":"Thúy"},{"$f":"IF(A38>COUNT('TongHop (goc)'!$T$2:$T$250),\"\",VLOOKUP(LARGE('TongHop (goc)'!$T$2:$T$250,A38),'TongHop (goc)'!$T$2:$AA$250,7,0))","v":"6B"},null,null,null,null,null,null,null,null,null,null,null,null,null,{"$f":"IF(A38>COUNT('TongHop (goc)'!$T$2:$T$250),\"\",VLOOKUP(LARGE('TongHop (goc)'!$T$2:$T$250,A38),'TongHop (goc)'!$T$2:$AA$250,6,0))","v":"HỌC SINH GIỎI"},null,37,37]
[{"$f":"IF(ROW(38:38)>COUNT('TongHop (goc)'!$T$2:$T$250),\"\",ROW(38:38))","v":38},{"$f":"IF(A39>COUNT('TongHop (goc)'!$T$2:$T$250),\"\",VLOOKUP(LARGE('TongHop (goc)'!$T$2:$T$250,A39),'TongHop (goc)'!$T$2:$AA$250,4,0))","v":"Phạm Nhật Mỹ"},{"$f":"IF(A39>COUNT('TongHop (goc)'!$T$2:$T$250),\"\",VLOOKUP(LARGE('TongHop (goc)'!$T$2:$T$250,A39),'TongHop (goc)'!$T$2:$AA$250,5,0))","v":"Anh"},{"$f":"IF(A39>COUNT('TongHop (goc)'!$T$2:$T$250),\"\",VLOOKUP(LARGE('TongHop (goc)'!$T$2:$T$250,A39),'TongHop (goc)'!$T$2:$AA$250,7,0))","v":"6B"},null,null,null,null,null,null,null,null,null,null,null,null,null,{"$f":"IF(A39>COUNT('TongHop (goc)'!$T$2:$T$250),\"\",VLOOKUP(LARGE('TongHop (goc)'!$T$2:$T$250,A39),'TongHop (goc)'!$T$2:$AA$250,6,0))","v":"HỌC SINH GIỎI"},null,38,38]
[{"$f":"IF(ROW(39:39)>COUNT('TongHop (goc)'!$T$2:$T$250),\"\",ROW(39:39))","v":39},{"$f":"IF(A40>COUNT('TongHop (goc)'!$T$2:$T$250),\"\",VLOOKUP(LARGE('TongHop (goc)'!$T$2:$T$250,A40),'TongHop (goc)'!$T$2:$AA$250,4,0))","v":"Trần Cẩm"},{"$f":"IF(A40>COUNT('TongHop (goc)'!$T$2:$T$250),\"\",VLOOKUP(LARGE('TongHop (goc)'!$T$2:$T$250,A40),'TongHop (goc)'!$T$2:$AA$250,5,0))","v":"Tú"},{"$f":"IF(A40>COUNT('TongHop (goc)'!$T$2:$T$250),\"\",VLOOKUP(LARGE('TongHop (goc)'!$T$2:$T$250,A40),'TongHop (goc)'!$T$2:$AA$250,7,0))","v":"6B"},null,null,null,null,null,null,null,null,null,null,null,null,null,{"$f":"IF(A40>COUNT('TongHop (goc)'!$T$2:$T$250),\"\",VLOOKUP(LARGE('TongHop (goc)'!$T$2:$T$250,A40),'TongHop (goc)'!$T$2:$AA$250,6,0))","v":"HỌC SINH GIỎI"},null,39,39]
[{"$f":"IF(ROW(40:40)>COUNT('TongHop (goc)'!$T$2:$T$250),\"\",ROW(40:40))","v":40},{"$f":"IF(A41>COUNT('TongHop (goc)'!$T$2:$T$250),\"\",VLOOKUP(LARGE('TongHop (goc)'!$T$2:$T$250,A41),'TongHop (goc)'!$T$2:$AA$250,4,0))","v":"Lê Thùy"},{"$f":"IF(A41>COUNT('TongHop (goc)'!$T$2:$T$250),\"\",VLOOKUP(LARGE('TongHop (goc)'!$T$2:$T$250,A41),'TongHop (goc)'!$T$2:$AA$250,5,0))","v":"Anh"},{"$f":"IF(A41>COUNT('TongHop (goc)'!$T$2:$T$250),\"\",VLOOKUP(LARGE('TongHop (goc)'!$T$2:$T$250,A41),'TongHop (goc)'!$T$2:$AA$250,7,0))","v":"6B"},null,null,null,null,null,null,null,null,null,null,null,null,null,{"$f":"IF(A41>COUNT('TongHop (goc)'!$T$2:$T$250),\"\",VLOOKUP(LARGE('TongHop (goc)'!$T$2:$T$250,A41),'TongHop (goc)'!$T$2:$AA$250,6,0))","v":"HỌC SINH GIỎI"},null,40,40]
[{"$f":"IF(ROW(41:41)>COUNT('TongHop (goc)'!$T$2:$T$250),\"\",ROW(41:41))","v":41},{"$f":"IF(A42>COUNT('TongHop (goc)'!$T$2:$T$250),\"\",VLOOKUP(LARGE('TongHop (goc)'!$T$2:$T$250,A42),'TongHop (goc)'!$T$2:$AA$250,4,0))","v":"Lê Việt"},{"$f":"IF(A42>COUNT('TongHop (goc)'!$T$2:$T$250),\"\",VLOOKUP(LARGE('TongHop (goc)'!$T$2:$T$250,A42),'TongHop (goc)'!$T$2:$AA$250,5,0))","v":"Anh"},{"$f":"IF(A42>COUNT('TongHop (goc)'!$T$2:$T$250),\"\",VLOOKUP(LARGE('TongHop (goc)'!$T$2:$T$250,A42),'TongHop (goc)'!$T$2:$AA$250,7,0))","v":"6B"},null,null,null,null,null,null,null,null,null,null,null,null,null,{"$f":"IF(A42>COUNT('TongHop (goc)'!$T$2:$T$250),\"\",VLOOKUP(LARGE('TongHop (goc)'!$T$2:$T$250,A42),'TongHop (goc)'!$T$2:$AA$250,6,0))","v":"HỌC SINH GIỎI"},null,41,41]
[{"$f":"IF(ROW(42:42)>COUNT('TongHop (goc)'!$T$2:$T$250),\"\",ROW(42:42))","v":42},{"$f":"IF(A43>COUNT('TongHop (goc)'!$T$2:$T$250),\"\",VLOOKUP(LARGE('TongHop (goc)'!$T$2:$T$250,A43),'TongHop (goc)'!$T$2:$AA$250,4,0))","v":"Trần Hương"},{"$f":"IF(A43>COUNT('TongHop (goc)'!$T$2:$T$250),\"\",VLOOKUP(LARGE('TongHop (goc)'!$T$2:$T$250,A43),'TongHop (goc)'!$T$2:$AA$250,5,0))","v":"Giang"},{"$f":"IF(A43>COUNT('TongHop (goc)'!$T$2:$T$250),\"\",VLOOKUP(LARGE('TongHop (goc)'!$T$2:$T$250,A43),'TongHop (goc)'!$T$2:$AA$250,7,0))","v":"6C"},null,null,null,null,null,null,null,null,null,null,null,null,null,{"$f":"IF(A43>COUNT('TongHop (goc)'!$T$2:$T$250),\"\",VLOOKUP(LARGE('TongHop (goc)'!$T$2:$T$250,A43),'TongHop (goc)'!$T$2:$AA$250,6,0))","v":"HỌC SINH GIỎI"},null,42,42]
[{"$f":"IF(ROW(43:43)>COUNT('TongHop (goc)'!$T$2:$T$250),\"\",ROW(43:43))","v":43},{"$f":"IF(A44>COUNT('TongHop (goc)'!$T$2:$T$250),\"\",VLOOKUP(LARGE('TongHop (goc)'!$T$2:$T$250,A44),'TongHop (goc)'!$T$2:$AA$250,4,0))","v":"Lê Thu"},{"$f":"IF(A44>COUNT('TongHop (goc)'!$T$2:$T$250),\"\",VLOOKUP(LARGE('TongHop (goc)'!$T$2:$T$250,A44),'TongHop (goc)'!$T$2:$AA$250,5,0))","v":"Diệu"},{"$f":"IF(A44>COUNT('TongHop (goc)'!$T$2:$T$250),\"\",VLOOKUP(LARGE('TongHop (goc)'!$T$2:$T$250,A44),'TongHop (goc)'!$T$2:$AA$250,7,0))","v":"6C"},null,null,null,null,null,null,null,null,null,null,null,null,null,{"$f":"IF(A44>COUNT('TongHop (goc)'!$T$2:$T$250),\"\",VLOOKUP(LARGE('TongHop (goc)'!$T$2:$T$250,A44),'TongHop (goc)'!$T$2:$AA$250,6,0))","v":"HỌC SINH GIỎI"},null,43,43]
[{"$f":"IF(ROW(44:44)>COUNT('TongHop (goc)'!$T$2:$T$250),\"\",ROW(44:44))","v":44},{"$f":"IF(A45>COUNT('TongHop (goc)'!$T$2:$T$250),\"\",VLOOKUP(LARGE('TongHop (goc)'!$T$2:$T$250,A45),'TongHop (goc)'!$T$2:$AA$250,4,0))","v":"Lê Đại Chiến"},{"$f":"IF(A45>COUNT('TongHop (goc)'!$T$2:$T$250),\"\",VLOOKUP(LARGE('TongHop (goc)'!$T$2:$T$250,A45),'TongHop (goc)'!$T$2:$AA$250,5,0))","v":"Thắng"},{"$f":"IF(A45>COUNT('TongHop (goc)'!$T$2:$T$250),\"\",VLOOKUP(LARGE('TongHop (goc)'!$T$2:$T$250,A45),'TongHop (goc)'!$T$2:$AA$250,7,0))","v":"6C"},null,null,null,null,null,null,null,null,null,null,null,null,null,{"$f":"IF(A45>COUNT('TongHop (goc)'!$T$2:$T$250),\"\",VLOOKUP(LARGE('TongHop (goc)'!$T$2:$T$250,A45),'TongHop (goc)'!$T$2:$AA$250,6,0))","v":"HỌC SINH GIỎI"},null,44,44]
[{"$f":"IF(ROW(45:45)>COUNT('TongHop (goc)'!$T$2:$T$250),\"\",ROW(45:45))","v":45},{"$f":"IF(A46>COUNT('TongHop (goc)'!$T$2:$T$250),\"\",VLOOKUP(LARGE('TongHop (goc)'!$T$2:$T$250,A46),'TongHop (goc)'!$T$2:$AA$250,4,0))","v":"Trần Bảo"},{"$f":"IF(A46>COUNT('TongHop (goc)'!$T$2:$T$250),\"\",VLOOKUP(LARGE('TongHop (goc)'!$T$2:$T$250,A46),'TongHop (goc)'!$T$2:$AA$250,5,0))","v":"Ngọc"},{"$f":"IF(A46>COUNT('TongHop (goc)'!$T$2:$T$250),\"\",VLOOKUP(LARGE('TongHop (goc)'!$T$2:$T$250,A46),'TongHop (goc)'!$T$2:$AA$250,7,0))","v":"6C"},null,null,null,null,null,null,null,null,null,null,null,null,null,{"$f":"IF(A46>COUNT('TongHop (goc)'!$T$2:$T$250),\"\",VLOOKUP(LARGE('TongHop (goc)'!$T$2:$T$250,A46),'TongHop (goc)'!$T$2:$AA$250,6,0))","v":"HỌC SINH GIỎI"},null,45,45]
[{"$f":"IF(ROW(46:46)>COUNT('TongHop (goc)'!$T$2:$T$250),\"\",ROW(46:46))","v":46},{"$f":"IF(A47>COUNT('TongHop (goc)'!$T$2:$T$250),\"\",VLOOKUP(LARGE('TongHop (goc)'!$T$2:$T$250,A47),'TongHop (goc)'!$T$2:$AA$250,4,0))","v":"Mai Khánh"},{"$f":"IF(A47>COUNT('TongHop (goc)'!$T$2:$T$250),\"\",VLOOKUP(LARGE('TongHop (goc)'!$T$2:$T$250,A47),'TongHop (goc)'!$T$2:$AA$250,5,0))","v":"Lệ"},{"$f":"IF(A47>COUNT('TongHop (goc)'!$T$2:$T$250),\"\",VLOOKUP(LARGE('TongHop (goc)'!$T$2:$T$250,A47),'TongHop (goc)'!$T$2:$AA$250,7,0))","v":"6C"},null,null,null,null,null,null,null,null,null,null,null,null,null,{"$f":"IF(A47>COUNT('TongHop (goc)'!$T$2:$T$250),\"\",VLOOKUP(LARGE('TongHop (goc)'!$T$2:$T$250,A47),'TongHop (goc)'!$T$2:$AA$250,6,0))","v":"HỌC SINH GIỎI"},null,46,46]
[{"$f":"IF(ROW(47:47)>COUNT('TongHop (goc)'!$T$2:$T$250),\"\",ROW(47:47))","v":47},{"$f":"IF(A48>COUNT('TongHop (goc)'!$T$2:$T$250),\"\",VLOOKUP(LARGE('TongHop (goc)'!$T$2:$T$250,A48),'TongHop (goc)'!$T$2:$AA$250,4,0))","v":"Trần Đức"},{"$f":"IF(A48>COUNT('TongHop (goc)'!$T$2:$T$250),\"\",VLOOKUP(LARGE('TongHop (goc)'!$T$2:$T$250,A48),'TongHop (goc)'!$T$2:$AA$250,5,0))","v":"Khoa"},{"$f":"IF(A48>COUNT('TongHop (goc)'!$T$2:$T$250),\"\",VLOOKUP(LARGE('TongHop (goc)'!$T$2:$T$250,A48),'TongHop (goc)'!$T$2:$AA$250,7,0))","v":"6C"},null,null,null,null,null,null,null,null,null,null,null,null,null,{"$f":"IF(A48>COUNT('TongHop (goc)'!$T$2:$T$250),\"\",VLOOKUP(LARGE('TongHop (goc)'!$T$2:$T$250,A48),'TongHop (goc)'!$T$2:$AA$250,6,0))","v":"HỌC SINH GIỎI"},null,47,47]
[{"$f":"IF(ROW(48:48)>COUNT('TongHop (goc)'!$T$2:$T$250),\"\",ROW(48:48))","v":48},{"$f":"IF(A49>COUNT('TongHop (goc)'!$T$2:$T$250),\"\",VLOOKUP(LARGE('TongHop (goc)'!$T$2:$T$250,A49),'TongHop (goc)'!$T$2:$AA$250,4,0))","v":"Lê Thục"},{"$f":"IF(A49>COUNT('TongHop (goc)'!$T$2:$T$250),\"\",VLOOKUP(LARGE('TongHop (goc)'!$T$2:$T$250,A49),'TongHop (goc)'!$T$2:$AA$250,5,0))","v":"Quyên"},{"$f":"IF(A49>COUNT('TongHop (goc)'!$T$2:$T$250),\"\",VLOOKUP(LARGE('TongHop (goc)'!$T$2:$T$250,A49),'TongHop (goc)'!$T$2:$AA$250,7,0))","v":"6C"},null,null,null,null,null,null,null,null,null,null,null,null,null,{"$f":"IF(A49>COUNT('TongHop (goc)'!$T$2:$T$250),\"\",VLOOKUP(LARGE('TongHop (goc)'!$T$2:$T$250,A49),'TongHop (goc)'!$T$2:$AA$250,6,0))","v":"HỌC SINH GIỎI"},null,48,48]
[{"$f":"IF(ROW(49:49)>COUNT('TongHop (goc)'!$T$2:$T$250),\"\",ROW(49:49))","v":49},{"$f":"IF(A50>COUNT('TongHop (goc)'!$T$2:$T$250),\"\",VLOOKUP(LARGE('TongHop (goc)'!$T$2:$T$250,A50),'TongHop (goc)'!$T$2:$AA$250,4,0))","v":"Trần Gia"},{"$f":"IF(A50>COUNT('TongHop (goc)'!$T$2:$T$250),\"\",VLOOKUP(LARGE('TongHop (goc)'!$T$2:$T$250,A50),'TongHop (goc)'!$T$2:$AA$250,5,0))","v":"Phát"},{"$f":"IF(A50>COUNT('TongHop (goc)'!$T$2:$T$250),\"\",VLOOKUP(LARGE('TongHop (goc)'!$T$2:$T$250,A50),'TongHop (goc)'!$T$2:$AA$250,7,0))","v":"6C"},null,null,null,null,null,null,null,null,null,null,null,null,null,{"$f":"IF(A50>COUNT('TongHop (goc)'!$T$2:$T$250),\"\",VLOOKUP(LARGE('TongHop (goc)'!$T$2:$T$250,A50),'TongHop (goc)'!$T$2:$AA$250,6,0))","v":"HỌC SINH GIỎI"},null,49,49]
[{"$f":"IF(ROW(50:50)>COUNT('TongHop (goc)'!$T$2:$T$250),\"\",ROW(50:50))","v":50},{"$f":"IF(A51>COUNT('TongHop (goc)'!$T$2:$T$250),\"\",VLOOKUP(LARGE('TongHop (goc)'!$T$2:$T$250,A51),'TongHop (goc)'!$T$2:$AA$250,4,0))","v":"Nguyễn Bảo"},{"$f":"IF(A51>COUNT('TongHop (goc)'!$T$2:$T$250),\"\",VLOOKUP(LARGE('TongHop (goc)'!$T$2:$T$250,A51),'TongHop (goc)'!$T$2:$AA$250,5,0))","v":"Ngọc"},{"$f":"IF(A51>COUNT('TongHop (goc)'!$T$2:$T$250),\"\",VLOOKUP(LARGE('TongHop (goc)'!$T$2:$T$250,A51),'TongHop (goc)'!$T$2:$AA$250,7,0))","v":"6C"},null,null,null,null,null,null,null,null,null,null,null,null,null,{"$f":"IF(A51>COUNT('TongHop (goc)'!$T$2:$T$250),\"\",VLOOKUP(LARGE('TongHop (goc)'!$T$2:$T$250,A51),'TongHop (goc)'!$T$2:$AA$250,6,0))","v":"HỌC SINH GIỎI"},null,50,50]
[{"$f":"IF(ROW(51:51)>COUNT('TongHop (goc)'!$T$2:$T$250),\"\",ROW(51:51))","v":51},{"$f":"IF(A52>COUNT('TongHop (goc)'!$T$2:$T$250),\"\",VLOOKUP(LARGE('TongHop (goc)'!$T$2:$T$250,A52),'TongHop (goc)'!$T$2:$AA$250,4,0))","v":"Phạm Ngân"},{"$f":"IF(A52>COUNT('TongHop (goc)'!$T$2:$T$250),\"\",VLOOKUP(LARGE('TongHop (goc)'!$T$2:$T$250,A52),'TongHop (goc)'!$T$2:$AA$250,5,0))","v":"Hà"},{"$f":"IF(A52>COUNT('TongHop (goc)'!$T$2:$T$250),\"\",VLOOKUP(LARGE('TongHop (goc)'!$T$2:$T$250,A52),'TongHop (goc)'!$T$2:$AA$250,7,0))","v":"6C"},null,null,null,null,null,null,null,null,null,null,null,null,null,{"$f":"IF(A52>COUNT('TongHop (goc)'!$T$2:$T$250),\"\",VLOOKUP(LARGE('TongHop (goc)'!$T$2:$T$250,A52),'TongHop (goc)'!$T$2:$AA$250,6,0))","v":"HỌC SINH GIỎI"},null,51,51]
[{"$f":"IF(ROW(52:52)>COUNT('TongHop (goc)'!$T$2:$T$250),\"\",ROW(52:52))","v":52},{"$f":"IF(A53>COUNT('TongHop (goc)'!$T$2:$T$250),\"\",VLOOKUP(LARGE('TongHop (goc)'!$T$2:$T$250,A53),'TongHop (goc)'!$T$2:$AA$250,4,0))","v":"Phạm Minh"},{"$f":"IF(A53>COUNT('TongHop (goc)'!$T$2:$T$250),\"\",VLOOKUP(LARGE('TongHop (goc)'!$T$2:$T$250,A53),'TongHop (goc)'!$T$2:$AA$250,5,0))","v":"Đăng"},{"$f":"IF(A53>COUNT('TongHop (goc)'!$T$2:$T$250),\"\",VLOOKUP(LARGE('TongHop (goc)'!$T$2:$T$250,A53),'TongHop (goc)'!$T$2:$AA$250,7,0))","v":"6C"},null,null,null,null,null,null,null,null,null,null,null,null,null,{"$f":"IF(A53>COUNT('TongHop (goc)'!$T$2:$T$250),\"\",VLOOKUP(LARGE('TongHop (goc)'!$T$2:$T$250,A53),'TongHop (goc)'!$T$2:$AA$250,6,0))","v":"HỌC SINH GIỎI"},null,52,52]
[{"$f":"IF(ROW(53:53)>COUNT('TongHop (goc)'!$T$2:$T$250),\"\",ROW(53:53))","v":53},{"$f":"IF(A54>COUNT('TongHop (goc)'!$T$2:$T$250),\"\",VLOOKUP(LARGE('TongHop (goc)'!$T$2:$T$250,A54),'TongHop (goc)'!$T$2:$AA$250,4,0))","v":"Trần Ngọc"},{"$f":"IF(A54>COUNT('TongHop (goc)'!$T$2:$T$250),\"\",VLOOKUP(LARGE('TongHop (goc)'!$T$2:$T$250,A54),'TongHop (goc)'!$T$2:$AA$250,5,0))","v":"Diệp"},{"$f":"IF(A54>COUNT('TongHop (goc)'!$T$2:$T$250),\"\",VLOOKUP(LARGE('TongHop (goc)'!$T$2:$T$250,A54),'TongHop (goc)'!$T$2:$AA$250,7,0))","v":"6C"},null,null,null,null,null,null,null,null,null,null,null,null,null,{"$f":"IF(A54>COUNT('TongHop (goc)'!$T$2:$T$250),\"\",VLOOKUP(LARGE('TongHop (goc)'!$T$2:$T$250,A54),'TongHop (goc)'!$T$2:$AA$250,6,0))","v":"HỌC SINH GIỎI"},null,53,53]
[{"$f":"IF(ROW(54:54)>COUNT('TongHop (goc)'!$T$2:$T$250),\"\",ROW(54:54))","v":54},{"$f":"IF(A55>COUNT('TongHop (goc)'!$T$2:$T$250),\"\",VLOOKUP(LARGE('TongHop (goc)'!$T$2:$T$250,A55),'TongHop (goc)'!$T$2:$AA$250,4,0))","v":"Bùi Thanh"},{"$f":"IF(A55>COUNT('TongHop (goc)'!$T$2:$T$250),\"\",VLOOKUP(LARGE('TongHop (goc)'!$T$2:$T$250,A55),'TongHop (goc)'!$T$2:$AA$250,5,0))","v":"Vân"},{"$f":"IF(A55>COUNT('TongHop (goc)'!$T$2:$T$250),\"\",VLOOKUP(LARGE('TongHop (goc)'!$T$2:$T$250,A55),'TongHop (goc)'!$T$2:$AA$250,7,0))","v":"6C"},null,null,null,null,null,null,null,null,null,null,null,null,null,{"$f":"IF(A55>COUNT('TongHop (goc)'!$T$2:$T$250),\"\",VLOOKUP(LARGE('TongHop (goc)'!$T$2:$T$250,A55),'TongHop (goc)'!$T$2:$AA$250,6,0))","v":"HỌC SINH GIỎI"},null,54,54]
[{"$f":"IF(ROW(55:55)>COUNT('TongHop (goc)'!$T$2:$T$250),\"\",ROW(55:55))","v":55},{"$f":"IF(A56>COUNT('TongHop (goc)'!$T$2:$T$250),\"\",VLOOKUP(LARGE('TongHop (goc)'!$T$2:$T$250,A56),'TongHop (goc)'!$T$2:$AA$250,4,0))","v":"Đặng Quang"},{"$f":"IF(A56>COUNT('TongHop (goc)'!$T$2:$T$250),\"\",VLOOKUP(LARGE('TongHop (goc)'!$T$2:$T$250,A56),'TongHop (goc)'!$T$2:$AA$250,5,0))","v":"Dũng"},{"$f":"IF(A56>COUNT('TongHop (goc)'!$T$2:$T$250),\"\",VLOOKUP(LARGE('TongHop (goc)'!$T$2:$T$250,A56),'TongHop (goc)'!$T$2:$AA$250,7,0))","v":"6C"},null,null,null,null,null,null,null,null,null,null,null,null,null,{"$f":"IF(A56>COUNT('TongHop (goc)'!$T$2:$T$250),\"\",VLOOKUP(LARGE('TongHop (goc)'!$T$2:$T$250,A56),'TongHop (goc)'!$T$2:$AA$250,6,0))","v":"HỌC SINH GIỎI"},null,55,55]
[{"$f":"IF(ROW(56:56)>COUNT('TongHop (goc)'!$T$2:$T$250),\"\",ROW(56:56))","v":56},{"$f":"IF(A57>COUNT('TongHop (goc)'!$T$2:$T$250),\"\",VLOOKUP(LARGE('TongHop (goc)'!$T$2:$T$250,A57),'TongHop (goc)'!$T$2:$AA$250,4,0))","v":"Đỗ Thảo"},{"$f":"IF(A57>COUNT('TongHop (goc)'!$T$2:$T$250),\"\",VLOOKUP(LARGE('TongHop (goc)'!$T$2:$T$250,A57),'TongHop (goc)'!$T$2:$AA$250,5,0))","v":"Linh"},{"$f":"IF(A57>COUNT('TongHop (goc)'!$T$2:$T$250),\"\",VLOOKUP(LARGE('TongHop (goc)'!$T$2:$T$250,A57),'TongHop (goc)'!$T$2:$AA$250,7,0))","v":"6C"},null,null,null,null,null,null,null,null,null,null,null,null,null,{"$f":"IF(A57>COUNT('TongHop (goc)'!$T$2:$T$250),\"\",VLOOKUP(LARGE('TongHop (goc)'!$T$2:$T$250,A57),'TongHop (goc)'!$T$2:$AA$250,6,0))","v":"HỌC SINH GIỎI"},null,56,56]
[{"$f":"IF(ROW(57:57)>COUNT('TongHop (goc)'!$T$2:$T$250),\"\",ROW(57:57))","v":57},{"$f":"IF(A58>COUNT('TongHop (goc)'!$T$2:$T$250),\"\",VLOOKUP(LARGE('TongHop (goc)'!$T$2:$T$250,A58),'TongHop (goc)'!$T$2:$AA$250,4,0))","v":"Nguyễn Bích"},{"$f":"IF(A58>COUNT('TongHop (goc)'!$T$2:$T$250),\"\",VLOOKUP(LARGE('TongHop (goc)'!$T$2:$T$250,A58),'TongHop (goc)'!$T$2:$AA$250,5,0))","v":"Diệp"},{"$f":"IF(A58>COUNT('TongHop (goc)'!$T$2:$T$250),\"\",VLOOKUP(LARGE('TongHop (goc)'!$T$2:$T$250,A58),'TongHop (goc)'!$T$2:$AA$250,7,0))","v":"6C"},null,null,null,null,null,null,null,null,null,null,null,null,null,{"$f":"IF(A58>COUNT('TongHop (goc)'!$T$2:$T$250),\"\",VLOOKUP(LARGE('TongHop (goc)'!$T$2:$T$250,A58),'TongHop (goc)'!$T$2:$AA$250,6,0))","v":"HỌC SINH GIỎI"},null,57,57]
[{"$f":"IF(ROW(58:58)>COUNT('TongHop (goc)'!$T$2:$T$250),\"\",ROW(58:58))","v":58},{"$f":"IF(A59>COUNT('TongHop (goc)'!$T$2:$T$250),\"\",VLOOKUP(LARGE('TongHop (goc)'!$T$2:$T$250,A59),'TongHop (goc)'!$T$2:$AA$250,4,0))","v":"Trần Ngọc"},{"$f":"IF(A59>COUNT('TongHop (goc)'!$T$2:$T$250),\"\",VLOOKUP(LARGE('TongHop (goc)'!$T$2:$T$250,A59),'TongHop (goc)'!$T$2:$AA$250,5,0))","v":"Ánh"},{"$f":"IF(A59>COUNT('TongHop (goc)'!$T$2:$T$250),\"\",VLOOKUP(LARGE('TongHop (goc)'!$T$2:$T$250,A59),'TongHop (goc)'!$T$2:$AA$250,7,0))","v":"6C"},null,null,null,null,null,null,null,null,null,null,null,null,null,{"$f":"IF(A59>COUNT('TongHop (goc)'!$T$2:$T$250),\"\",VLOOKUP(LARGE('TongHop (goc)'!$T$2:$T$250,A59),'TongHop (goc)'!$T$2:$AA$250,6,0))","v":"HỌC SINH GIỎI"},null,58,58]
[{"$f":"IF(ROW(59:59)>COUNT('TongHop (goc)'!$T$2:$T$250),\"\",ROW(59:59))","v":59},{"$f":"IF(A60>COUNT('TongHop (goc)'!$T$2:$T$250),\"\",VLOOKUP(LARGE('TongHop (goc)'!$T$2:$T$250,A60),'TongHop (goc)'!$T$2:$AA$250,4,0))","v":"Phạm Hạnh"},{"$f":"IF(A60>COUNT('TongHop (goc)'!$T$2:$T$250),\"\",VLOOKUP(LARGE('TongHop (goc)'!$T$2:$T$250,A60),'TongHop (goc)'!$T$2:$AA$250,5,0))","v":"Nguyên"},{"$f":"IF(A60>COUNT('TongHop (goc)'!$T$2:$T$250),\"\",VLOOKUP(LARGE('TongHop (goc)'!$T$2:$T$250,A60),'TongHop (goc)'!$T$2:$AA$250,7,0))","v":"6C"},null,null,null,null,null,null,null,null,null,null,null,null,null,{"$f":"IF(A60>COUNT('TongHop (goc)'!$T$2:$T$250),\"\",VLOOKUP(LARGE('TongHop (goc)'!$T$2:$T$250,A60),'TongHop (goc)'!$T$2:$AA$250,6,0))","v":"HỌC SINH GIỎI"},null,59,59]
[{"$f":"IF(ROW(60:60)>COUNT('TongHop (goc)'!$T$2:$T$250),\"\",ROW(60:60))","v":60},{"$f":"IF(A61>COUNT('TongHop (goc)'!$T$2:$T$250),\"\",VLOOKUP(LARGE('TongHop (goc)'!$T$2:$T$250,A61),'TongHop (goc)'!$T$2:$AA$250,4,0))","v":"Trần Thị Huyền"},{"$f":"IF(A61>COUNT('TongHop (goc)'!$T$2:$T$250),\"\",VLOOKUP(LARGE('TongHop (goc)'!$T$2:$T$250,A61),'TongHop (goc)'!$T$2:$AA$250,5,0))","v":"Châu"},{"$f":"IF(A61>COUNT('TongHop (goc)'!$T$2:$T$250),\"\",VLOOKUP(LARGE('TongHop (goc)'!$T$2:$T$250,A61),'TongHop (goc)'!$T$2:$AA$250,7,0))","v":"6C"},null,null,null,null,null,null,null,null,null,null,null,null,null,{"$f":"IF(A61>COUNT('TongHop (goc)'!$T$2:$T$250),\"\",VLOOKUP(LARGE('TongHop (goc)'!$T$2:$T$250,A61),'TongHop (goc)'!$T$2:$AA$250,6,0))","v":"HỌC SINH GIỎI"},null,60,60]
[{"$f":"IF(ROW(61:61)>COUNT('TongHop (goc)'!$T$2:$T$250),\"\",ROW(61:61))","v":61},{"$f":"IF(A62>COUNT('TongHop (goc)'!$T$2:$T$250),\"\",VLOOKUP(LARGE('TongHop (goc)'!$T$2:$T$250,A62),'TongHop (goc)'!$T$2:$AA$250,4,0))","v":"Nguyễn Bảo"},{"$f":"IF(A62>COUNT('TongHop (goc)'!$T$2:$T$250),\"\",VLOOKUP(LARGE('TongHop (goc)'!$T$2:$T$250,A62),'TongHop (goc)'!$T$2:$AA$250,5,0))","v":"Ngọc"},{"$f":"IF(A62>COUNT('TongHop (goc)'!$T$2:$T$250),\"\",VLOOKUP(LARGE('TongHop (goc)'!$T$2:$T$250,A62),'TongHop (goc)'!$T$2:$AA$250,7,0))","v":"6C"},null,null,null,null,null,null,null,null,null,null,null,null,null,{"$f":"IF(A62>COUNT('TongHop (goc)'!$T$2:$T$250),\"\",VLOOKUP(LARGE('TongHop (goc)'!$T$2:$T$250,A62),'TongHop (goc)'!$T$2:$AA$250,6,0))","v":"HỌC SINH GIỎI"},null,61,61]
[{"$f":"IF(ROW(62:62)>COUNT('TongHop (goc)'!$T$2:$T$250),\"\",ROW(62:62))","v":62},{"$f":"IF(A63>COUNT('TongHop (goc)'!$T$2:$T$250),\"\",VLOOKUP(LARGE('TongHop (goc)'!$T$2:$T$250,A63),'TongHop (goc)'!$T$2:$AA$250,4,0))","v":"Trần Phương"},{"$f":"IF(A63>COUNT('TongHop (goc)'!$T$2:$T$250),\"\",VLOOKUP(LARGE('TongHop (goc)'!$T$2:$T$250,A63),'TongHop (goc)'!$T$2:$AA$250,5,0))","v":"Linh"},{"$f":"IF(A63>COUNT('TongHop (goc)'!$T$2:$T$250),\"\",VLOOKUP(LARGE('TongHop (goc)'!$T$2:$T$250,A63),'TongHop (goc)'!$T$2:$AA$250,7,0))","v":"6C"},null,null,null,null,null,null,null,null,null,null,null,null,null,{"$f":"IF(A63>COUNT('TongHop (goc)'!$T$2:$T$250),\"\",VLOOKUP(LARGE('TongHop (goc)'!$T$2:$T$250,A63),'TongHop (goc)'!$T$2:$AA$250,6,0))","v":"HỌC SINH GIỎI"},null,62,62]
[{"$f":"IF(ROW(63:63)>COUNT('TongHop (goc)'!$T$2:$T$250),\"\",ROW(63:63))","v":63},{"$f":"IF(A64>COUNT('TongHop (goc)'!$T$2:$T$250),\"\",VLOOKUP(LARGE('TongHop (goc)'!$T$2:$T$250,A64),'TongHop (goc)'!$T$2:$AA$250,4,0))","v":"Hoàng Khánh"},{"$f":"IF(A64>COUNT('TongHop (goc)'!$T$2:$T$250),\"\",VLOOKUP(LARGE('TongHop (goc)'!$T$2:$T$250,A64),'TongHop (goc)'!$T$2:$AA$250,5,0))","v":"Huyền"},{"$f":"IF(A64>COUNT('TongHop (goc)'!$T$2:$T$250),\"\",VLOOKUP(LARGE('TongHop (goc)'!$T$2:$T$250,A64),'TongHop (goc)'!$T$2:$AA$250,7,0))","v":"6C"},null,null,null,null,null,null,null,null,null,null,null,null,null,{"$f":"IF(A64>COUNT('TongHop (goc)'!$T$2:$T$250),\"\",VLOOKUP(LARGE('TongHop (goc)'!$T$2:$T$250,A64),'TongHop (goc)'!$T$2:$AA$250,6,0))","v":"HỌC SINH GIỎI"},null,63,63]
[{"$f":"IF(ROW(64:64)>COUNT('TongHop (goc)'!$T$2:$T$250),\"\",ROW(64:64))","v":64},{"$f":"IF(A65>COUNT('TongHop (goc)'!$T$2:$T$250),\"\",VLOOKUP(LARGE('TongHop (goc)'!$T$2:$T$250,A65),'TongHop (goc)'!$T$2:$AA$250,4,0))","v":"Phạm Huy"},{"$f":"IF(A65>COUNT('TongHop (goc)'!$T$2:$T$250),\"\",VLOOKUP(LARGE('TongHop (goc)'!$T$2:$T$250,A65),'TongHop (goc)'!$T$2:$AA$250,5,0))","v":"Hiệu"},{"$f":"IF(A65>COUNT('TongHop (goc)'!$T$2:$T$250),\"\",VLOOKUP(LARGE('TongHop (goc)'!$T$2:$T$250,A65),'TongHop (goc)'!$T$2:$AA$250,7,0))","v":"6C"},null,null,null,null,null,null,null,null,null,null,null,null,null,{"$f":"IF(A65>COUNT('TongHop (goc)'!$T$2:$T$250),\"\",VLOOKUP(LARGE('TongHop (goc)'!$T$2:$T$250,A65),'TongHop (goc)'!$T$2:$AA$250,6,0))","v":"HỌC SINH GIỎI"},null,64,64]
[{"$f":"IF(ROW(65:65)>COUNT('TongHop (goc)'!$T$2:$T$250),\"\",ROW(65:65))","v":65},{"$f":"IF(A66>COUNT('TongHop (goc)'!$T$2:$T$250),\"\",VLOOKUP(LARGE('TongHop (goc)'!$T$2:$T$250,A66),'TongHop (goc)'!$T$2:$AA$250,4,0))","v":"Trần Hải"},{"$f":"IF(A66>COUNT('TongHop (goc)'!$T$2:$T$250),\"\",VLOOKUP(LARGE('TongHop (goc)'!$T$2:$T$250,A66),'TongHop (goc)'!$T$2:$AA$250,5,0))","v":"Đăng"},{"$f":"IF(A66>COUNT('TongHop (goc)'!$T$2:$T$250),\"\",VLOOKUP(LARGE('TongHop (goc)'!$T$2:$T$250,A66),'TongHop (goc)'!$T$2:$AA$250,7,0))","v":"6C"},null,null,null,null,null,null,null,null,null,null,null,null,null,{"$f":"IF(A66>COUNT('TongHop (goc)'!$T$2:$T$250),\"\",VLOOKUP(LARGE('TongHop (goc)'!$T$2:$T$250,A66),'TongHop (goc)'!$T$2:$AA$250,6,0))","v":"HỌC SINH GIỎI"},null,65,65]
[{"$f":"IF(ROW(66:66)>COUNT('TongHop (goc)'!$T$2:$T$250),\"\",ROW(66:66))","v":66},{"$f":"IF(A67>COUNT('TongHop (goc)'!$T$2:$T$250),\"\",VLOOKUP(LARGE('TongHop (goc)'!$T$2:$T$250,A67),'TongHop (goc)'!$T$2:$AA$250,4,0))","v":"Nguyễn Kim"},{"$f":"IF(A67>COUNT('TongHop (goc)'!$T$2:$T$250),\"\",VLOOKUP(LARGE('TongHop (goc)'!$T$2:$T$250,A67),'TongHop (goc)'!$T$2:$AA$250,5,0))","v":"Dung"},{"$f":"IF(A67>COUNT('TongHop (goc)'!$T$2:$T$250),\"\",VLOOKUP(LARGE('TongHop (goc)'!$T$2:$T$250,A67),'TongHop (goc)'!$T$2:$AA$250,7,0))","v":"6C"},null,null,null,null,null,null,null,null,null,null,null,null,null,{"$f":"IF(A67>COUNT('TongHop (goc)'!$T$2:$T$250),\"\",VLOOKUP(LARGE('TongHop (goc)'!$T$2:$T$250,A67),'TongHop (goc)'!$T$2:$AA$250,6,0))","v":"HỌC SINH GIỎI"},null,66,66]
[{"$f":"IF(ROW(67:67)>COUNT('TongHop (goc)'!$T$2:$T$250),\"\",ROW(67:67))","v":67},{"$f":"IF(A68>COUNT('TongHop (goc)'!$T$2:$T$250),\"\",VLOOKUP(LARGE('TongHop (goc)'!$T$2:$T$250,A68),'TongHop (goc)'!$T$2:$AA$250,4,0))","v":"Bùi Mai Bảo"},{"$f":"IF(A68>COUNT('TongHop (goc)'!$T$2:$T$250),\"\",VLOOKUP(LARGE('TongHop (goc)'!$T$2:$T$250,A68),'TongHop (goc)'!$T$2:$AA$250,5,0))","v":"An"},{"$f":"IF(A68>COUNT('TongHop (goc)'!$T$2:$T$250),\"\",VLOOKUP(LARGE('TongHop (goc)'!$T$2:$T$250,A68),'TongHop (goc)'!$T$2:$AA$250,7,0))","v":"6C"},null,null,null,null,null,null,null,null,null,null,null,null,null,{"$f":"IF(A68>COUNT('TongHop (goc)'!$T$2:$T$250),\"\",VLOOKUP(LARGE('TongHop (goc)'!$T$2:$T$250,A68),'TongHop (goc)'!$T$2:$AA$250,6,0))","v":"HỌC SINH GIỎI"},null,67,67]
[{"$f":"IF(ROW(68:68)>COUNT('TongHop (goc)'!$T$2:$T$250),\"\",ROW(68:68))","v":68},{"$f":"IF(A69>COUNT('TongHop (goc)'!$T$2:$T$250),\"\",VLOOKUP(LARGE('TongHop (goc)'!$T$2:$T$250,A69),'TongHop (goc)'!$T$2:$AA$250,4,0))","v":"Nguyễn Phương Khánh"},{"$f":"IF(A69>COUNT('TongHop (goc)'!$T$2:$T$250),\"\",VLOOKUP(LARGE('TongHop (goc)'!$T$2:$T$250,A69),'TongHop (goc)'!$T$2:$AA$250,5,0))","v":"Ngọc"},{"$f":"IF(A69>COUNT('TongHop (goc)'!$T$2:$T$250),\"\",VLOOKUP(LARGE('TongHop (goc)'!$T$2:$T$250,A69),'TongHop (goc)'!$T$2:$AA$250,7,0))","v":"6C"},null,null,null,null,null,null,null,null,null,null,null,null,null,{"$f":"IF(A69>COUNT('TongHop (goc)'!$T$2:$T$250),\"\",VLOOKUP(LARGE('TongHop (goc)'!$T$2:$T$250,A69),'TongHop (goc)'!$T$2:$AA$250,6,0))","v":"HỌC SINH GIỎI"},null,68,68]
[{"$f":"IF(ROW(69:69)>COUNT('TongHop (goc)'!$T$2:$T$250),\"\",ROW(69:69))","v":69},{"$f":"IF(A70>COUNT('TongHop (goc)'!$T$2:$T$250),\"\",VLOOKUP(LARGE('TongHop (goc)'!$T$2:$T$250,A70),'TongHop (goc)'!$T$2:$AA$250,4,0))","v":"Trần Quốc"},{"$f":"IF(A70>COUNT('TongHop (goc)'!$T$2:$T$250),\"\",VLOOKUP(LARGE('TongHop (goc)'!$T$2:$T$250,A70),'TongHop (goc)'!$T$2:$AA$250,5,0))","v":"Bảo"},{"$f":"IF(A70>COUNT('TongHop (goc)'!$T$2:$T$250),\"\",VLOOKUP(LARGE('TongHop (goc)'!$T$2:$T$250,A70),'TongHop (goc)'!$T$2:$AA$250,7,0))","v":"6C"},null,null,null,null,null,null,null,null,null,null,null,null,null,{"$f":"IF(A70>COUNT('TongHop (goc)'!$T$2:$T$250),\"\",VLOOKUP(LARGE('TongHop (goc)'!$T$2:$T$250,A70),'TongHop (goc)'!$T$2:$AA$250,6,0))","v":"HỌC SINH GIỎI"},null,{"$f":"A70","v":69},{"$f":"A70","v":69}]
[{"$f":"IF(ROW(70:70)>COUNT('TongHop (goc)'!$T$2:$T$250),\"\",ROW(70:70))","v":70},{"$f":"IF(A71>COUNT('TongHop (goc)'!$T$2:$T$250),\"\",VLOOKUP(LARGE('TongHop (goc)'!$T$2:$T$250,A71),'TongHop (goc)'!$T$2:$AA$250,4,0))","v":"Lê Thị Thùy"},{"$f":"IF(A71>COUNT('TongHop (goc)'!$T$2:$T$250),\"\",VLOOKUP(LARGE('TongHop (goc)'!$T$2:$T$250,A71),'TongHop (goc)'!$T$2:$AA$250,5,0))","v":"Linh"},{"$f":"IF(A71>COUNT('TongHop (goc)'!$T$2:$T$250),\"\",VLOOKUP(LARGE('TongHop (goc)'!$T$2:$T$250,A71),'TongHop (goc)'!$T$2:$AA$250,7,0))","v":"6C"},null,null,null,null,null,null,null,null,null,null,null,null,null,{"$f":"IF(A71>COUNT('TongHop (goc)'!$T$2:$T$250),\"\",VLOOKUP(LARGE('TongHop (goc)'!$T$2:$T$250,A71),'TongHop (goc)'!$T$2:$AA$250,6,0))","v":"HỌC SINH GIỎI"},null,70,70]
[{"$f":"IF(ROW(71:71)>COUNT('TongHop (goc)'!$T$2:$T$250),\"\",ROW(71:71))","v":71},{"$f":"IF(A72>COUNT('TongHop (goc)'!$T$2:$T$250),\"\",VLOOKUP(LARGE('TongHop (goc)'!$T$2:$T$250,A72),'TongHop (goc)'!$T$2:$AA$250,4,0))","v":"Nguyễn Kim"},{"$f":"IF(A72>COUNT('TongHop (goc)'!$T$2:$T$250),\"\",VLOOKUP(LARGE('TongHop (goc)'!$T$2:$T$250,A72),'TongHop (goc)'!$T$2:$AA$250,5,0))","v":"Oanh"},{"$f":"IF(A72>COUNT('TongHop (goc)'!$T$2:$T$250),\"\",VLOOKUP(LARGE('TongHop (goc)'!$T$2:$T$250,A72),'TongHop (goc)'!$T$2:$AA$250,7,0))","v":"7A"},null,null,null,null,null,null,null,null,null,null,null,null,null,{"$f":"IF(A72>COUNT('TongHop (goc)'!$T$2:$T$250),\"\",VLOOKUP(LARGE('TongHop (goc)'!$T$2:$T$250,A72),'TongHop (goc)'!$T$2:$AA$250,6,0))","v":"HỌC SINH GIỎI"},null,71,71]
[{"$f":"IF(ROW(72:72)>COUNT('TongHop (goc)'!$T$2:$T$250),\"\",ROW(72:72))","v":72},{"$f":"IF(A73>COUNT('TongHop (goc)'!$T$2:$T$250),\"\",VLOOKUP(LARGE('TongHop (goc)'!$T$2:$T$250,A73),'TongHop (goc)'!$T$2:$AA$250,4,0))","v":"Hoàng Thùy"},{"$f":"IF(A73>COUNT('TongHop (goc)'!$T$2:$T$250),\"\",VLOOKUP(LARGE('TongHop (goc)'!$T$2:$T$250,A73),'TongHop (goc)'!$T$2:$AA$250,5,0))","v":"Linh"},{"$f":"IF(A73>COUNT('TongHop (goc)'!$T$2:$T$250),\"\",VLOOKUP(LARGE('TongHop (goc)'!$T$2:$T$250,A73),'TongHop (goc)'!$T$2:$AA$250,7,0))","v":"7A"},null,null,null,null,null,null,null,null,null,null,null,null,null,{"$f":"IF(A73>COUNT('TongHop (goc)'!$T$2:$T$250),\"\",VLOOKUP(LARGE('TongHop (goc)'!$T$2:$T$250,A73),'TongHop (goc)'!$T$2:$AA$250,6,0))","v":"HỌC SINH GIỎI"},null,72,72]
[{"$f":"IF(ROW(73:73)>COUNT('TongHop (goc)'!$T$2:$T$250),\"\",ROW(73:73))","v":73},{"$f":"IF(A74>COUNT('TongHop (goc)'!$T$2:$T$250),\"\",VLOOKUP(LARGE('TongHop (goc)'!$T$2:$T$250,A74),'TongHop (goc)'!$T$2:$AA$250,4,0))","v":"Đặng Thị Minh"},{"$f":"IF(A74>COUNT('TongHop (goc)'!$T$2:$T$250),\"\",VLOOKUP(LARGE('TongHop (goc)'!$T$2:$T$250,A74),'TongHop (goc)'!$T$2:$AA$250,5,0))","v":"Hà"},{"$f":"IF(A74>COUNT('TongHop (goc)'!$T$2:$T$250),\"\",VLOOKUP(LARGE('TongHop (goc)'!$T$2:$T$250,A74),'TongHop (goc)'!$T$2:$AA$250,7,0))","v":"7A"},null,null,null,null,null,null,null,null,null,null,null,null,null,{"$f":"IF(A74>COUNT('TongHop (goc)'!$T$2:$T$250),\"\",VLOOKUP(LARGE('TongHop (goc)'!$T$2:$T$250,A74),'TongHop (goc)'!$T$2:$AA$250,6,0))","v":"HỌC SINH GIỎI"},null,73,73]
[{"$f":"IF(ROW(74:74)>COUNT('TongHop (goc)'!$T$2:$T$250),\"\",ROW(74:74))","v":74},{"$f":"IF(A75>COUNT('TongHop (goc)'!$T$2:$T$250),\"\",VLOOKUP(LARGE('TongHop (goc)'!$T$2:$T$250,A75),'TongHop (goc)'!$T$2:$AA$250,4,0))","v":"Trần Thị Yến"},{"$f":"IF(A75>COUNT('TongHop (goc)'!$T$2:$T$250),\"\",VLOOKUP(LARGE('TongHop (goc)'!$T$2:$T$250,A75),'TongHop (goc)'!$T$2:$AA$250,5,0))","v":"Nhi"},{"$f":"IF(A75>COUNT('TongHop (goc)'!$T$2:$T$250),\"\",VLOOKUP(LARGE('TongHop (goc)'!$T$2:$T$250,A75),'TongHop (goc)'!$T$2:$AA$250,7,0))","v":"7A"},null,null,null,null,null,null,null,null,null,null,null,null,null,{"$f":"IF(A75>COUNT('TongHop (goc)'!$T$2:$T$250),\"\",VLOOKUP(LARGE('TongHop (goc)'!$T$2:$T$250,A75),'TongHop (goc)'!$T$2:$AA$250,6,0))","v":"HỌC SINH GIỎI"},null,74,74]
[{"$f":"IF(ROW(75:75)>COUNT('TongHop (goc)'!$T$2:$T$250),\"\",ROW(75:75))","v":75},{"$f":"IF(A76>COUNT('TongHop (goc)'!$T$2:$T$250),\"\",VLOOKUP(LARGE('TongHop (goc)'!$T$2:$T$250,A76),'TongHop (goc)'!$T$2:$AA$250,4,0))","v":"Nguyễn Linh"},{"$f":"IF(A76>COUNT('TongHop (goc)'!$T$2:$T$250),\"\",VLOOKUP(LARGE('TongHop (goc)'!$T$2:$T$250,A76),'TongHop (goc)'!$T$2:$AA$250,5,0))","v":"An"},{"$f":"IF(A76>COUNT('TongHop (goc)'!$T$2:$T$250),\"\",VLOOKUP(LARGE('TongHop (goc)'!$T$2:$T$250,A76),'TongHop (goc)'!$T$2:$AA$250,7,0))","v":"7B"},null,null,null,null,null,null,null,null,null,null,null,null,null,{"$f":"IF(A76>COUNT('TongHop (goc)'!$T$2:$T$250),\"\",VLOOKUP(LARGE('TongHop (goc)'!$T$2:$T$250,A76),'TongHop (goc)'!$T$2:$AA$250,6,0))","v":"HỌC SINH GIỎI"},null,75,75]
[{"$f":"IF(ROW(76:76)>COUNT('TongHop (goc)'!$T$2:$T$250),\"\",ROW(76:76))","v":76},{"$f":"IF(A77>COUNT('TongHop (goc)'!$T$2:$T$250),\"\",VLOOKUP(LARGE('TongHop (goc)'!$T$2:$T$250,A77),'TongHop (goc)'!$T$2:$AA$250,4,0))","v":"Vũ Thành"},{"$f":"IF(A77>COUNT('TongHop (goc)'!$T$2:$T$250),\"\",VLOOKUP(LARGE('TongHop (goc)'!$T$2:$T$250,A77),'TongHop (goc)'!$T$2:$AA$250,5,0))","v":"Danh"},{"$f":"IF(A77>COUNT('TongHop (goc)'!$T$2:$T$250),\"\",VLOOKUP(LARGE('TongHop (goc)'!$T$2:$T$250,A77),'TongHop (goc)'!$T$2:$AA$250,7,0))","v":"7B"},null,null,null,null,null,null,null,null,null,null,null,null,null,{"$f":"IF(A77>COUNT('TongHop (goc)'!$T$2:$T$250),\"\",VLOOKUP(LARGE('TongHop (goc)'!$T$2:$T$250,A77),'TongHop (goc)'!$T$2:$AA$250,6,0))","v":"HỌC SINH GIỎI"},null,76,76]
[{"$f":"IF(ROW(77:77)>COUNT('TongHop (goc)'!$T$2:$T$250),\"\",ROW(77:77))","v":77},{"$f":"IF(A78>COUNT('TongHop (goc)'!$T$2:$T$250),\"\",VLOOKUP(LARGE('TongHop (goc)'!$T$2:$T$250,A78),'TongHop (goc)'!$T$2:$AA$250,4,0))","v":"Mai Huyền"},{"$f":"IF(A78>COUNT('TongHop (goc)'!$T$2:$T$250),\"\",VLOOKUP(LARGE('TongHop (goc)'!$T$2:$T$250,A78),'TongHop (goc)'!$T$2:$AA$250,5,0))","v":"Diệu"},{"$f":"IF(A78>COUNT('TongHop (goc)'!$T$2:$T$250),\"\",VLOOKUP(LARGE('TongHop (goc)'!$T$2:$T$250,A78),'TongHop (goc)'!$T$2:$AA$250,7,0))","v":"7B"},null,null,null,null,null,null,null,null,null,null,null,null,null,{"$f":"IF(A78>COUNT('TongHop (goc)'!$T$2:$T$250),\"\",VLOOKUP(LARGE('TongHop (goc)'!$T$2:$T$250,A78),'TongHop (goc)'!$T$2:$AA$250,6,0))","v":"HỌC SINH GIỎI"},null,77,77]
[{"$f":"IF(ROW(78:78)>COUNT('TongHop (goc)'!$T$2:$T$250),\"\",ROW(78:78))","v":78},{"$f":"IF(A79>COUNT('TongHop (goc)'!$T$2:$T$250),\"\",VLOOKUP(LARGE('TongHop (goc)'!$T$2:$T$250,A79),'TongHop (goc)'!$T$2:$AA$250,4,0))","v":"Trần Thu"},{"$f":"IF(A79>COUNT('TongHop (goc)'!$T$2:$T$250),\"\",VLOOKUP(LARGE('TongHop (goc)'!$T$2:$T$250,A79),'TongHop (goc)'!$T$2:$AA$250,5,0))","v":"Minh"},{"$f":"IF(A79>COUNT('TongHop (goc)'!$T$2:$T$250),\"\",VLOOKUP(LARGE('TongHop (goc)'!$T$2:$T$250,A79),'TongHop (goc)'!$T$2:$AA$250,7,0))","v":"7C"},null,null,null,null,null,null,null,null,null,null,null,null,null,{"$f":"IF(A79>COUNT('TongHop (goc)'!$T$2:$T$250),\"\",VLOOKUP(LARGE('TongHop (goc)'!$T$2:$T$250,A79),'TongHop (goc)'!$T$2:$AA$250,6,0))","v":"HỌC SINH GIỎI"},null,78,78]
[{"$f":"IF(ROW(79:79)>COUNT('TongHop (goc)'!$T$2:$T$250),\"\",ROW(79:79))","v":79},{"$f":"IF(A80>COUNT('TongHop (goc)'!$T$2:$T$250),\"\",VLOOKUP(LARGE('TongHop (goc)'!$T$2:$T$250,A80),'TongHop (goc)'!$T$2:$AA$250,4,0))","v":"Phạm Bảo"},{"$f":"IF(A80>COUNT('TongHop (goc)'!$T$2:$T$250),\"\",VLOOKUP(LARGE('TongHop (goc)'!$T$2:$T$250,A80),'TongHop (goc)'!$T$2:$AA$250,5,0))","v":"Anh"},{"$f":"IF(A80>COUNT('TongHop (goc)'!$T$2:$T$250),\"\",VLOOKUP(LARGE('TongHop (goc)'!$T$2:$T$250,A80),'TongHop (goc)'!$T$2:$AA$250,7,0))","v":"7C"},null,null,null,null,null,null,null,null,null,null,null,null,null,{"$f":"IF(A80>COUNT('TongHop (goc)'!$T$2:$T$250),\"\",VLOOKUP(LARGE('TongHop (goc)'!$T$2:$T$250,A80),'TongHop (goc)'!$T$2:$AA$250,6,0))","v":"HỌC SINH GIỎI"},null,79,79]
[{"$f":"IF(ROW(80:80)>COUNT('TongHop (goc)'!$T$2:$T$250),\"\",ROW(80:80))","v":80},{"$f":"IF(A81>COUNT('TongHop (goc)'!$T$2:$T$250),\"\",VLOOKUP(LARGE('TongHop (goc)'!$T$2:$T$250,A81),'TongHop (goc)'!$T$2:$AA$250,4,0))","v":"Cao Trần Khánh"},{"$f":"IF(A81>COUNT('TongHop (goc)'!$T$2:$T$250),\"\",VLOOKUP(LARGE('TongHop (goc)'!$T$2:$T$250,A81),'TongHop (goc)'!$T$2:$AA$250,5,0))","v":"My"},{"$f":"IF(A81>COUNT('TongHop (goc)'!$T$2:$T$250),\"\",VLOOKUP(LARGE('TongHop (goc)'!$T$2:$T$250,A81),'TongHop (goc)'!$T$2:$AA$250,7,0))","v":"7C"},null,null,null,null,null,null,null,null,null,null,null,null,null,{"$f":"IF(A81>COUNT('TongHop (goc)'!$T$2:$T$250),\"\",VLOOKUP(LARGE('TongHop (goc)'!$T$2:$T$250,A81),'TongHop (goc)'!$T$2:$AA$250,6,0))","v":"HỌC SINH GIỎI"},null,80,80]
[{"$f":"IF(ROW(81:81)>COUNT('TongHop (goc)'!$T$2:$T$250),\"\",ROW(81:81))","v":81},{"$f":"IF(A82>COUNT('TongHop (goc)'!$T$2:$T$250),\"\",VLOOKUP(LARGE('TongHop (goc)'!$T$2:$T$250,A82),'TongHop (goc)'!$T$2:$AA$250,4,0))","v":"Lương Minh"},{"$f":"IF(A82>COUNT('TongHop (goc)'!$T$2:$T$250),\"\",VLOOKUP(LARGE('TongHop (goc)'!$T$2:$T$250,A82),'TongHop (goc)'!$T$2:$AA$250,5,0))","v":"Hằng"},{"$f":"IF(A82>COUNT('TongHop (goc)'!$T$2:$T$250),\"\",VLOOKUP(LARGE('TongHop (goc)'!$T$2:$T$250,A82),'TongHop (goc)'!$T$2:$AA$250,7,0))","v":"7C"},null,null,null,null,null,null,null,null,null,null,null,null,null,{"$f":"IF(A82>COUNT('TongHop (goc)'!$T$2:$T$250),\"\",VLOOKUP(LARGE('TongHop (goc)'!$T$2:$T$250,A82),'TongHop (goc)'!$T$2:$AA$250,6,0))","v":"HỌC SINH GIỎI"},null,81,81]
[{"$f":"IF(ROW(82:82)>COUNT('TongHop (goc)'!$T$2:$T$250),\"\",ROW(82:82))","v":82},{"$f":"IF(A83>COUNT('TongHop (goc)'!$T$2:$T$250),\"\",VLOOKUP(LARGE('TongHop (goc)'!$T$2:$T$250,A83),'TongHop (goc)'!$T$2:$AA$250,4,0))","v":"Lê Phước"},{"$f":"IF(A83>COUNT('TongHop (goc)'!$T$2:$T$250),\"\",VLOOKUP(LARGE('TongHop (goc)'!$T$2:$T$250,A83),'TongHop (goc)'!$T$2:$AA$250,5,0))","v":"Sang"},{"$f":"IF(A83>COUNT('TongHop (goc)'!$T$2:$T$250),\"\",VLOOKUP(LARGE('TongHop (goc)'!$T$2:$T$250,A83),'TongHop (goc)'!$T$2:$AA$250,7,0))","v":"7C"},null,null,null,null,null,null,null,null,null,null,null,null,null,{"$f":"IF(A83>COUNT('TongHop (goc)'!$T$2:$T$250),\"\",VLOOKUP(LARGE('TongHop (goc)'!$T$2:$T$250,A83),'TongHop (goc)'!$T$2:$AA$250,6,0))","v":"HỌC SINH GIỎI"},null,82,82]
[{"$f":"IF(ROW(83:83)>COUNT('TongHop (goc)'!$T$2:$T$250),\"\",ROW(83:83))","v":83},{"$f":"IF(A84>COUNT('TongHop (goc)'!$T$2:$T$250),\"\",VLOOKUP(LARGE('TongHop (goc)'!$T$2:$T$250,A84),'TongHop (goc)'!$T$2:$AA$250,4,0))","v":"Trần Linh"},{"$f":"IF(A84>COUNT('TongHop (goc)'!$T$2:$T$250),\"\",VLOOKUP(LARGE('TongHop (goc)'!$T$2:$T$250,A84),'TongHop (goc)'!$T$2:$AA$250,5,0))","v":"Nhi"},{"$f":"IF(A84>COUNT('TongHop (goc)'!$T$2:$T$250),\"\",VLOOKUP(LARGE('TongHop (goc)'!$T$2:$T$250,A84),'TongHop (goc)'!$T$2:$AA$250,7,0))","v":"7C"},null,null,null,null,null,null,null,null,null,null,null,null,null,{"$f":"IF(A84>COUNT('TongHop (goc)'!$T$2:$T$250),\"\",VLOOKUP(LARGE('TongHop (goc)'!$T$2:$T$250,A84),'TongHop (goc)'!$T$2:$AA$250,6,0))","v":"HỌC SINH GIỎI"},null,83,83]
[{"$f":"IF(ROW(84:84)>COUNT('TongHop (goc)'!$T$2:$T$250),\"\",ROW(84:84))","v":84},{"$f":"IF(A85>COUNT('TongHop (goc)'!$T$2:$T$250),\"\",VLOOKUP(LARGE('TongHop (goc)'!$T$2:$T$250,A85),'TongHop (goc)'!$T$2:$AA$250,4,0))","v":"Lê Bảo "},{"$f":"IF(A85>COUNT('TongHop (goc)'!$T$2:$T$250),\"\",VLOOKUP(LARGE('TongHop (goc)'!$T$2:$T$250,A85),'TongHop (goc)'!$T$2:$AA$250,5,0))","v":"Khanh"},{"$f":"IF(A85>COUNT('TongHop (goc)'!$T$2:$T$250),\"\",VLOOKUP(LARGE('TongHop (goc)'!$T$2:$T$250,A85),'TongHop (goc)'!$T$2:$AA$250,7,0))","v":"7C"},null,null,null,null,null,null,null,null,null,null,null,null,null,{"$f":"IF(A85>COUNT('TongHop (goc)'!$T$2:$T$250),\"\",VLOOKUP(LARGE('TongHop (goc)'!$T$2:$T$250,A85),'TongHop (goc)'!$T$2:$AA$250,6,0))","v":"HỌC SINH GIỎI"},null,84,84]
[{"$f":"IF(ROW(85:85)>COUNT('TongHop (goc)'!$T$2:$T$250),\"\",ROW(85:85))","v":85},{"$f":"IF(A86>COUNT('TongHop (goc)'!$T$2:$T$250),\"\",VLOOKUP(LARGE('TongHop (goc)'!$T$2:$T$250,A86),'TongHop (goc)'!$T$2:$AA$250,4,0))","v":"Nguyễn Phạm Bảo"},{"$f":"IF(A86>COUNT('TongHop (goc)'!$T$2:$T$250),\"\",VLOOKUP(LARGE('TongHop (goc)'!$T$2:$T$250,A86),'TongHop (goc)'!$T$2:$AA$250,5,0))","v":"Hân"},{"$f":"IF(A86>COUNT('TongHop (goc)'!$T$2:$T$250),\"\",VLOOKUP(LARGE('TongHop (goc)'!$T$2:$T$250,A86),'TongHop (goc)'!$T$2:$AA$250,7,0))","v":"7C"},null,null,null,null,null,null,null,null,null,null,null,null,null,{"$f":"IF(A86>COUNT('TongHop (goc)'!$T$2:$T$250),\"\",VLOOKUP(LARGE('TongHop (goc)'!$T$2:$T$250,A86),'TongHop (goc)'!$T$2:$AA$250,6,0))","v":"HỌC SINH GIỎI"},null,85,85]
[{"$f":"IF(ROW(86:86)>COUNT('TongHop (goc)'!$T$2:$T$250),\"\",ROW(86:86))","v":86},{"$f":"IF(A87>COUNT('TongHop (goc)'!$T$2:$T$250),\"\",VLOOKUP(LARGE('TongHop (goc)'!$T$2:$T$250,A87),'TongHop (goc)'!$T$2:$AA$250,4,0))","v":"Mai Bích"},{"$f":"IF(A87>COUNT('TongHop (goc)'!$T$2:$T$250),\"\",VLOOKUP(LARGE('TongHop (goc)'!$T$2:$T$250,A87),'TongHop (goc)'!$T$2:$AA$250,5,0))","v":"Diệp"},{"$f":"IF(A87>COUNT('TongHop (goc)'!$T$2:$T$250),\"\",VLOOKUP(LARGE('TongHop (goc)'!$T$2:$T$250,A87),'TongHop (goc)'!$T$2:$AA$250,7,0))","v":"7C"},null,null,null,null,null,null,null,null,null,null,null,null,null,{"$f":"IF(A87>COUNT('TongHop (goc)'!$T$2:$T$250),\"\",VLOOKUP(LARGE('TongHop (goc)'!$T$2:$T$250,A87),'TongHop (goc)'!$T$2:$AA$250,6,0))","v":"HỌC SINH GIỎI"},null,86,86]
[{"$f":"IF(ROW(87:87)>COUNT('TongHop (goc)'!$T$2:$T$250),\"\",ROW(87:87))","v":87},{"$f":"IF(A88>COUNT('TongHop (goc)'!$T$2:$T$250),\"\",VLOOKUP(LARGE('TongHop (goc)'!$T$2:$T$250,A88),'TongHop (goc)'!$T$2:$AA$250,4,0))","v":"Trần Thị Yến"},{"$f":"IF(A88>COUNT('TongHop (goc)'!$T$2:$T$250),\"\",VLOOKUP(LARGE('TongHop (goc)'!$T$2:$T$250,A88),'TongHop (goc)'!$T$2:$AA$250,5,0))","v":"Nhi"},{"$f":"IF(A88>COUNT('TongHop (goc)'!$T$2:$T$250),\"\",VLOOKUP(LARGE('TongHop (goc)'!$T$2:$T$250,A88),'TongHop (goc)'!$T$2:$AA$250,7,0))","v":"7C"},null,null,null,null,null,null,null,null,null,null,null,null,null,{"$f":"IF(A88>COUNT('TongHop (goc)'!$T$2:$T$250),\"\",VLOOKUP(LARGE('TongHop (goc)'!$T$2:$T$250,A88),'TongHop (goc)'!$T$2:$AA$250,6,0))","v":"HỌC SINH GIỎI"},null,87,87]
[{"$f":"IF(ROW(88:88)>COUNT('TongHop (goc)'!$T$2:$T$250),\"\",ROW(88:88))","v":88},{"$f":"IF(A89>COUNT('TongHop (goc)'!$T$2:$T$250),\"\",VLOOKUP(LARGE('TongHop (goc)'!$T$2:$T$250,A89),'TongHop (goc)'!$T$2:$AA$250,4,0))","v":"Nguyễn Phúc"},{"$f":"IF(A89>COUNT('TongHop (goc)'!$T$2:$T$250),\"\",VLOOKUP(LARGE('TongHop (goc)'!$T$2:$T$250,A89),'TongHop (goc)'!$T$2:$AA$250,5,0))","v":"Tài"},{"$f":"IF(A89>COUNT('TongHop (goc)'!$T$2:$T$250),\"\",VLOOKUP(LARGE('TongHop (goc)'!$T$2:$T$250,A89),'TongHop (goc)'!$T$2:$AA$250,7,0))","v":"7C"},null,null,null,null,null,null,null,null,null,null,null,null,null,{"$f":"IF(A89>COUNT('TongHop (goc)'!$T$2:$T$250),\"\",VLOOKUP(LARGE('TongHop (goc)'!$T$2:$T$250,A89),'TongHop (goc)'!$T$2:$AA$250,6,0))","v":"HỌC SINH GIỎI"},null,88,88]
[{"$f":"IF(ROW(89:89)>COUNT('TongHop (goc)'!$T$2:$T$250),\"\",ROW(89:89))","v":89},{"$f":"IF(A90>COUNT('TongHop (goc)'!$T$2:$T$250),\"\",VLOOKUP(LARGE('TongHop (goc)'!$T$2:$T$250,A90),'TongHop (goc)'!$T$2:$AA$250,4,0))","v":"Trần Anh"},{"$f":"IF(A90>COUNT('TongHop (goc)'!$T$2:$T$250),\"\",VLOOKUP(LARGE('TongHop (goc)'!$T$2:$T$250,A90),'TongHop (goc)'!$T$2:$AA$250,5,0))","v":"Đức"},{"$f":"IF(A90>COUNT('TongHop (goc)'!$T$2:$T$250),\"\",VLOOKUP(LARGE('TongHop (goc)'!$T$2:$T$250,A90),'TongHop (goc)'!$T$2:$AA$250,7,0))","v":"7C"},null,null,null,null,null,null,null,null,null,null,null,null,null,{"$f":"IF(A90>COUNT('TongHop (goc)'!$T$2:$T$250),\"\",VLOOKUP(LARGE('TongHop (goc)'!$T$2:$T$250,A90),'TongHop (goc)'!$T$2:$AA$250,6,0))","v":"HỌC SINH GIỎI"},null,89,89]
[{"$f":"IF(ROW(90:90)>COUNT('TongHop (goc)'!$T$2:$T$250),\"\",ROW(90:90))","v":90},{"$f":"IF(A91>COUNT('TongHop (goc)'!$T$2:$T$250),\"\",VLOOKUP(LARGE('TongHop (goc)'!$T$2:$T$250,A91),'TongHop (goc)'!$T$2:$AA$250,4,0))","v":"Trần Nguyễn Tường"},{"$f":"IF(A91>COUNT('TongHop (goc)'!$T$2:$T$250),\"\",VLOOKUP(LARGE('TongHop (goc)'!$T$2:$T$250,A91),'TongHop (goc)'!$T$2:$AA$250,5,0))","v":"Vy"},{"$f":"IF(A91>COUNT('TongHop (goc)'!$T$2:$T$250),\"\",VLOOKUP(LARGE('TongHop (goc)'!$T$2:$T$250,A91),'TongHop (goc)'!$T$2:$AA$250,7,0))","v":"7C"},null,null,null,null,null,null,null,null,null,null,null,null,null,{"$f":"IF(A91>COUNT('TongHop (goc)'!$T$2:$T$250),\"\",VLOOKUP(LARGE('TongHop (goc)'!$T$2:$T$250,A91),'TongHop (goc)'!$T$2:$AA$250,6,0))","v":"HỌC SINH GIỎI"},null,90,90]
[{"$f":"IF(ROW(91:91)>COUNT('TongHop (goc)'!$T$2:$T$250),\"\",ROW(91:91))","v":91},{"$f":"IF(A92>COUNT('TongHop (goc)'!$T$2:$T$250),\"\",VLOOKUP(LARGE('TongHop (goc)'!$T$2:$T$250,A92),'TongHop (goc)'!$T$2:$AA$250,4,0))","v":"Tống Nguyễn Phương"},{"$f":"IF(A92>COUNT('TongHop (goc)'!$T$2:$T$250),\"\",VLOOKUP(LARGE('TongHop (goc)'!$T$2:$T$250,A92),'TongHop (goc)'!$T$2:$AA$250,5,0))","v":"Uyên"},{"$f":"IF(A92>COUNT('TongHop (goc)'!$T$2:$T$250),\"\",VLOOKUP(LARGE('TongHop (goc)'!$T$2:$T$250,A92),'TongHop (goc)'!$T$2:$AA$250,7,0))","v":"7C"},null,null,null,null,null,null,null,null,null,null,null,null,null,{"$f":"IF(A92>COUNT('TongHop (goc)'!$T$2:$T$250),\"\",VLOOKUP(LARGE('TongHop (goc)'!$T$2:$T$250,A92),'TongHop (goc)'!$T$2:$AA$250,6,0))","v":"HỌC SINH GIỎI"},null,91,91]
[{"$f":"IF(ROW(92:92)>COUNT('TongHop (goc)'!$T$2:$T$250),\"\",ROW(92:92))","v":92},{"$f":"IF(A93>COUNT('TongHop (goc)'!$T$2:$T$250),\"\",VLOOKUP(LARGE('TongHop (goc)'!$T$2:$T$250,A93),'TongHop (goc)'!$T$2:$AA$250,4,0))","v":"Mai Hải"},{"$f":"IF(A93>COUNT('TongHop (goc)'!$T$2:$T$250),\"\",VLOOKUP(LARGE('TongHop (goc)'!$T$2:$T$250,A93),'TongHop (goc)'!$T$2:$AA$250,5,0))","v":"Nam"},{"$f":"IF(A93>COUNT('TongHop (goc)'!$T$2:$T$250),\"\",VLOOKUP(LARGE('TongHop (goc)'!$T$2:$T$250,A93),'TongHop (goc)'!$T$2:$AA$250,7,0))","v":"7C"},null,null,null,null,null,null,null,null,null,null,null,null,null,{"$f":"IF(A93>COUNT('TongHop (goc)'!$T$2:$T$250),\"\",VLOOKUP(LARGE('TongHop (goc)'!$T$2:$T$250,A93),'TongHop (goc)'!$T$2:$AA$250,6,0))","v":"HỌC SINH GIỎI"},null,92,92]
[{"$f":"IF(ROW(93:93)>COUNT('TongHop (goc)'!$T$2:$T$250),\"\",ROW(93:93))","v":93},{"$f":"IF(A94>COUNT('TongHop (goc)'!$T$2:$T$250),\"\",VLOOKUP(LARGE('TongHop (goc)'!$T$2:$T$250,A94),'TongHop (goc)'!$T$2:$AA$250,4,0))","v":"Phạm Anh"},{"$f":"IF(A94>COUNT('TongHop (goc)'!$T$2:$T$250),\"\",VLOOKUP(LARGE('TongHop (goc)'!$T$2:$T$250,A94),'TongHop (goc)'!$T$2:$AA$250,5,0))","v":"Thư"},{"$f":"IF(A94>COUNT('TongHop (goc)'!$T$2:$T$250),\"\",VLOOKUP(LARGE('TongHop (goc)'!$T$2:$T$250,A94),'TongHop (goc)'!$T$2:$AA$250,7,0))","v":"7C"},null,null,null,null,null,null,null,null,null,null,null,null,null,{"$f":"IF(A94>COUNT('TongHop (goc)'!$T$2:$T$250),\"\",VLOOKUP(LARGE('TongHop (goc)'!$T$2:$T$250,A94),'TongHop (goc)'!$T$2:$AA$250,6,0))","v":"HỌC SINH GIỎI"},null,93,93]
[{"$f":"IF(ROW(94:94)>COUNT('TongHop (goc)'!$T$2:$T$250),\"\",ROW(94:94))","v":94},{"$f":"IF(A95>COUNT('TongHop (goc)'!$T$2:$T$250),\"\",VLOOKUP(LARGE('TongHop (goc)'!$T$2:$T$250,A95),'TongHop (goc)'!$T$2:$AA$250,4,0))","v":"Trần Ngọc "},{"$f":"IF(A95>COUNT('TongHop (goc)'!$T$2:$T$250),\"\",VLOOKUP(LARGE('TongHop (goc)'!$T$2:$T$250,A95),'TongHop (goc)'!$T$2:$AA$250,5,0))","v":"Diệp"},{"$f":"IF(A95>COUNT('TongHop (goc)'!$T$2:$T$250),\"\",VLOOKUP(LARGE('TongHop (goc)'!$T$2:$T$250,A95),'TongHop (goc)'!$T$2:$AA$250,7,0))","v":"7C"},null,null,null,null,null,null,null,null,null,null,null,null,null,{"$f":"IF(A95>COUNT('TongHop (goc)'!$T$2:$T$250),\"\",VLOOKUP(LARGE('TongHop (goc)'!$T$2:$T$250,A95),'TongHop (goc)'!$T$2:$AA$250,6,0))","v":"HỌC SINH GIỎI"},null,94,94]
[{"$f":"IF(ROW(95:95)>COUNT('TongHop (goc)'!$T$2:$T$250),\"\",ROW(95:95))","v":95},{"$f":"IF(A96>COUNT('TongHop (goc)'!$T$2:$T$250),\"\",VLOOKUP(LARGE('TongHop (goc)'!$T$2:$T$250,A96),'TongHop (goc)'!$T$2:$AA$250,4,0))","v":"Lê Quốc "},{"$f":"IF(A96>COUNT('TongHop (goc)'!$T$2:$T$250),\"\",VLOOKUP(LARGE('TongHop (goc)'!$T$2:$T$250,A96),'TongHop (goc)'!$T$2:$AA$250,5,0))","v":"Hội"},{"$f":"IF(A96>COUNT('TongHop (goc)'!$T$2:$T$250),\"\",VLOOKUP(LARGE('TongHop (goc)'!$T$2:$T$250,A96),'TongHop (goc)'!$T$2:$AA$250,7,0))","v":"7C"},null,null,null,null,null,null,null,null,null,null,null,null,null,{"$f":"IF(A96>COUNT('TongHop (goc)'!$T$2:$T$250),\"\",VLOOKUP(LARGE('TongHop (goc)'!$T$2:$T$250,A96),'TongHop (goc)'!$T$2:$AA$250,6,0))","v":"HỌC SINH GIỎI"},null,95,95]
[{"$f":"IF(ROW(96:96)>COUNT('TongHop (goc)'!$T$2:$T$250),\"\",ROW(96:96))","v":96},{"$f":"IF(A97>COUNT('TongHop (goc)'!$T$2:$T$250),\"\",VLOOKUP(LARGE('TongHop (goc)'!$T$2:$T$250,A97),'TongHop (goc)'!$T$2:$AA$250,4,0))","v":"Trần Bảo"},{"$f":"IF(A97>COUNT('TongHop (goc)'!$T$2:$T$250),\"\",VLOOKUP(LARGE('TongHop (goc)'!$T$2:$T$250,A97),'TongHop (goc)'!$T$2:$AA$250,5,0))","v":"Châu"},{"$f":"IF(A97>COUNT('TongHop (goc)'!$T$2:$T$250),\"\",VLOOKUP(LARGE('TongHop (goc)'!$T$2:$T$250,A97),'TongHop (goc)'!$T$2:$AA$250,7,0))","v":"7C"},null,null,null,null,null,null,null,null,null,null,null,null,null,{"$f":"IF(A97>COUNT('TongHop (goc)'!$T$2:$T$250),\"\",VLOOKUP(LARGE('TongHop (goc)'!$T$2:$T$250,A97),'TongHop (goc)'!$T$2:$AA$250,6,0))","v":"HỌC SINH GIỎI"},null,96,96]
[{"$f":"IF(ROW(97:97)>COUNT('TongHop (goc)'!$T$2:$T$250),\"\",ROW(97:97))","v":97},{"$f":"IF(A98>COUNT('TongHop (goc)'!$T$2:$T$250),\"\",VLOOKUP(LARGE('TongHop (goc)'!$T$2:$T$250,A98),'TongHop (goc)'!$T$2:$AA$250,4,0))","v":"Phạm Hoàng "},{"$f":"IF(A98>COUNT('TongHop (goc)'!$T$2:$T$250),\"\",VLOOKUP(LARGE('TongHop (goc)'!$T$2:$T$250,A98),'TongHop (goc)'!$T$2:$AA$250,5,0))","v":"Anh"},{"$f":"IF(A98>COUNT('TongHop (goc)'!$T$2:$T$250),\"\",VLOOKUP(LARGE('TongHop (goc)'!$T$2:$T$250,A98),'TongHop (goc)'!$T$2:$AA$250,7,0))","v":"7C"},null,null,null,null,null,null,null,null,null,null,null,null,null,{"$f":"IF(A98>COUNT('TongHop (goc)'!$T$2:$T$250),\"\",VLOOKUP(LARGE('TongHop (goc)'!$T$2:$T$250,A98),'TongHop (goc)'!$T$2:$AA$250,6,0))","v":"HỌC SINH GIỎI"},null,97,97]
[{"$f":"IF(ROW(98:98)>COUNT('TongHop (goc)'!$T$2:$T$250),\"\",ROW(98:98))","v":98},{"$f":"IF(A99>COUNT('TongHop (goc)'!$T$2:$T$250),\"\",VLOOKUP(LARGE('TongHop (goc)'!$T$2:$T$250,A99),'TongHop (goc)'!$T$2:$AA$250,4,0))","v":"Lê Ngọc"},{"$f":"IF(A99>COUNT('TongHop (goc)'!$T$2:$T$250),\"\",VLOOKUP(LARGE('TongHop (goc)'!$T$2:$T$250,A99),'TongHop (goc)'!$T$2:$AA$250,5,0))","v":"Anh"},{"$f":"IF(A99>COUNT('TongHop (goc)'!$T$2:$T$250),\"\",VLOOKUP(LARGE('TongHop (goc)'!$T$2:$T$250,A99),'TongHop (goc)'!$T$2:$AA$250,7,0))","v":"7C"},null,null,null,null,null,null,null,null,null,null,null,null,null,{"$f":"IF(A99>COUNT('TongHop (goc)'!$T$2:$T$250),\"\",VLOOKUP(LARGE('TongHop (goc)'!$T$2:$T$250,A99),'TongHop (goc)'!$T$2:$AA$250,6,0))","v":"HỌC SINH GIỎI"},null,98,98]
[{"$f":"IF(ROW(99:99)>COUNT('TongHop (goc)'!$T$2:$T$250),\"\",ROW(99:99))","v":99},{"$f":"IF(A100>COUNT('TongHop (goc)'!$T$2:$T$250),\"\",VLOOKUP(LARGE('TongHop (goc)'!$T$2:$T$250,A100),'TongHop (goc)'!$T$2:$AA$250,4,0))","v":"Trần Đức "},{"$f":"IF(A100>COUNT('TongHop (goc)'!$T$2:$T$250),\"\",VLOOKUP(LARGE('TongHop (goc)'!$T$2:$T$250,A100),'TongHop (goc)'!$T$2:$AA$250,5,0))","v":"Long"},{"$f":"IF(A100>COUNT('TongHop (goc)'!$T$2:$T$250),\"\",VLOOKUP(LARGE('TongHop (goc)'!$T$2:$T$250,A100),'TongHop (goc)'!$T$2:$AA$250,7,0))","v":"8A"},null,null,null,null,null,null,null,null,null,null,null,null,null,{"$f":"IF(A100>COUNT('TongHop (goc)'!$T$2:$T$250),\"\",VLOOKUP(LARGE('TongHop (goc)'!$T$2:$T$250,A100),'TongHop (goc)'!$T$2:$AA$250,6,0))","v":"HỌC SINH GIỎI"},null,99,99]
[{"$f":"IF(ROW(100:100)>COUNT('TongHop (goc)'!$T$2:$T$250),\"\",ROW(100:100))","v":100},{"$f":"IF(A101>COUNT('TongHop (goc)'!$T$2:$T$250),\"\",VLOOKUP(LARGE('TongHop (goc)'!$T$2:$T$250,A101),'TongHop (goc)'!$T$2:$AA$250,4,0))","v":"Nguyễn Thảo"},{"$f":"IF(A101>COUNT('TongHop (goc)'!$T$2:$T$250),\"\",VLOOKUP(LARGE('TongHop (goc)'!$T$2:$T$250,A101),'TongHop (goc)'!$T$2:$AA$250,5,0))","v":"Anh"},{"$f":"IF(A101>COUNT('TongHop (goc)'!$T$2:$T$250),\"\",VLOOKUP(LARGE('TongHop (goc)'!$T$2:$T$250,A101),'TongHop (goc)'!$T$2:$AA$250,7,0))","v":"8A"},null,null,null,null,null,null,null,null,null,null,null,null,null,{"$f":"IF(A101>COUNT('TongHop (goc)'!$T$2:$T$250),\"\",VLOOKUP(LARGE('TongHop (goc)'!$T$2:$T$250,A101),'TongHop (goc)'!$T$2:$AA$250,6,0))","v":"HỌC SINH GIỎI"},null,100,100]
[{"$f":"IF(ROW(101:101)>COUNT('TongHop (goc)'!$T$2:$T$250),\"\",ROW(101:101))","v":101},{"$f":"IF(A102>COUNT('TongHop (goc)'!$T$2:$T$250),\"\",VLOOKUP(LARGE('TongHop (goc)'!$T$2:$T$250,A102),'TongHop (goc)'!$T$2:$AA$250,4,0))","v":"Trần Văn "},{"$f":"IF(A102>COUNT('TongHop (goc)'!$T$2:$T$250),\"\",VLOOKUP(LARGE('TongHop (goc)'!$T$2:$T$250,A102),'TongHop (goc)'!$T$2:$AA$250,5,0))","v":"Hiệu"},{"$f":"IF(A102>COUNT('TongHop (goc)'!$T$2:$T$250),\"\",VLOOKUP(LARGE('TongHop (goc)'!$T$2:$T$250,A102),'TongHop (goc)'!$T$2:$AA$250,7,0))","v":"8A"},null,null,null,null,null,null,null,null,null,null,null,null,null,{"$f":"IF(A102>COUNT('TongHop (goc)'!$T$2:$T$250),\"\",VLOOKUP(LARGE('TongHop (goc)'!$T$2:$T$250,A102),'TongHop (goc)'!$T$2:$AA$250,6,0))","v":"HỌC SINH GIỎI"},null,101,101]
[{"$f":"IF(ROW(102:102)>COUNT('TongHop (goc)'!$T$2:$T$250),\"\",ROW(102:102))","v":102},{"$f":"IF(A103>COUNT('TongHop (goc)'!$T$2:$T$250),\"\",VLOOKUP(LARGE('TongHop (goc)'!$T$2:$T$250,A103),'TongHop (goc)'!$T$2:$AA$250,4,0))","v":"Trần Bình "},{"$f":"IF(A103>COUNT('TongHop (goc)'!$T$2:$T$250),\"\",VLOOKUP(LARGE('TongHop (goc)'!$T$2:$T$250,A103),'TongHop (goc)'!$T$2:$AA$250,5,0))","v":"Minh"},{"$f":"IF(A103>COUNT('TongHop (goc)'!$T$2:$T$250),\"\",VLOOKUP(LARGE('TongHop (goc)'!$T$2:$T$250,A103),'TongHop (goc)'!$T$2:$AA$250,7,0))","v":"8B"},null,null,null,null,null,null,null,null,null,null,null,null,null,{"$f":"IF(A103>COUNT('TongHop (goc)'!$T$2:$T$250),\"\",VLOOKUP(LARGE('TongHop (goc)'!$T$2:$T$250,A103),'TongHop (goc)'!$T$2:$AA$250,6,0))","v":"HỌC SINH GIỎI"},null,102,102]
[{"$f":"IF(ROW(103:103)>COUNT('TongHop (goc)'!$T$2:$T$250),\"\",ROW(103:103))","v":103},{"$f":"IF(A104>COUNT('TongHop (goc)'!$T$2:$T$250),\"\",VLOOKUP(LARGE('TongHop (goc)'!$T$2:$T$250,A104),'TongHop (goc)'!$T$2:$AA$250,4,0))","v":"Phạm Phương"},{"$f":"IF(A104>COUNT('TongHop (goc)'!$T$2:$T$250),\"\",VLOOKUP(LARGE('TongHop (goc)'!$T$2:$T$250,A104),'TongHop (goc)'!$T$2:$AA$250,5,0))","v":"Trinh"},{"$f":"IF(A104>COUNT('TongHop (goc)'!$T$2:$T$250),\"\",VLOOKUP(LARGE('TongHop (goc)'!$T$2:$T$250,A104),'TongHop (goc)'!$T$2:$AA$250,7,0))","v":"8B"},null,null,null,null,null,null,null,null,null,null,null,null,null,{"$f":"IF(A104>COUNT('TongHop (goc)'!$T$2:$T$250),\"\",VLOOKUP(LARGE('TongHop (goc)'!$T$2:$T$250,A104),'TongHop (goc)'!$T$2:$AA$250,6,0))","v":"HỌC SINH GIỎI"},null,103,103]
[{"$f":"IF(ROW(104:104)>COUNT('TongHop (goc)'!$T$2:$T$250),\"\",ROW(104:104))","v":104},{"$f":"IF(A105>COUNT('TongHop (goc)'!$T$2:$T$250),\"\",VLOOKUP(LARGE('TongHop (goc)'!$T$2:$T$250,A105),'TongHop (goc)'!$T$2:$AA$250,4,0))","v":"Vũ Quốc"},{"$f":"IF(A105>COUNT('TongHop (goc)'!$T$2:$T$250),\"\",VLOOKUP(LARGE('TongHop (goc)'!$T$2:$T$250,A105),'TongHop (goc)'!$T$2:$AA$250,5,0))","v":"Ân"},{"$f":"IF(A105>COUNT('TongHop (goc)'!$T$2:$T$250),\"\",VLOOKUP(LARGE('TongHop (goc)'!$T$2:$T$250,A105),'TongHop (goc)'!$T$2:$AA$250,7,0))","v":"8B"},null,null,null,null,null,null,null,null,null,null,null,null,null,{"$f":"IF(A105>COUNT('TongHop (goc)'!$T$2:$T$250),\"\",VLOOKUP(LARGE('TongHop (goc)'!$T$2:$T$250,A105),'TongHop (goc)'!$T$2:$AA$250,6,0))","v":"HỌC SINH GIỎI"},null,104,104]
[{"$f":"IF(ROW(105:105)>COUNT('TongHop (goc)'!$T$2:$T$250),\"\",ROW(105:105))","v":105},{"$f":"IF(A106>COUNT('TongHop (goc)'!$T$2:$T$250),\"\",VLOOKUP(LARGE('TongHop (goc)'!$T$2:$T$250,A106),'TongHop (goc)'!$T$2:$AA$250,4,0))","v":"Trần Bảo"},{"$f":"IF(A106>COUNT('TongHop (goc)'!$T$2:$T$250),\"\",VLOOKUP(LARGE('TongHop (goc)'!$T$2:$T$250,A106),'TongHop (goc)'!$T$2:$AA$250,5,0))","v":"Huy"},{"$f":"IF(A106>COUNT('TongHop (goc)'!$T$2:$T$250),\"\",VLOOKUP(LARGE('TongHop (goc)'!$T$2:$T$250,A106),'TongHop (goc)'!$T$2:$AA$250,7,0))","v":"8B"},null,null,null,null,null,null,null,null,null,null,null,null,null,{"$f":"IF(A106>COUNT('TongHop (goc)'!$T$2:$T$250),\"\",VLOOKUP(LARGE('TongHop (goc)'!$T$2:$T$250,A106),'TongHop (goc)'!$T$2:$AA$250,6,0))","v":"HỌC SINH GIỎI"},null,105,105]
[{"$f":"IF(ROW(106:106)>COUNT('TongHop (goc)'!$T$2:$T$250),\"\",ROW(106:106))","v":106},{"$f":"IF(A107>COUNT('TongHop (goc)'!$T$2:$T$250),\"\",VLOOKUP(LARGE('TongHop (goc)'!$T$2:$T$250,A107),'TongHop (goc)'!$T$2:$AA$250,4,0))","v":"Trần Thùy"},{"$f":"IF(A107>COUNT('TongHop (goc)'!$T$2:$T$250),\"\",VLOOKUP(LARGE('TongHop (goc)'!$T$2:$T$250,A107),'TongHop (goc)'!$T$2:$AA$250,5,0))","v":"Dương"},{"$f":"IF(A107>COUNT('TongHop (goc)'!$T$2:$T$250),\"\",VLOOKUP(LARGE('TongHop (goc)'!$T$2:$T$250,A107),'TongHop (goc)'!$T$2:$AA$250,7,0))","v":"8B"},null,null,null,null,null,null,null,null,null,null,null,null,null,{"$f":"IF(A107>COUNT('TongHop (goc)'!$T$2:$T$250),\"\",VLOOKUP(LARGE('TongHop (goc)'!$T$2:$T$250,A107),'TongHop (goc)'!$T$2:$AA$250,6,0))","v":"HỌC SINH GIỎI"},null,106,106]
[{"$f":"IF(ROW(107:107)>COUNT('TongHop (goc)'!$T$2:$T$250),\"\",ROW(107:107))","v":107},{"$f":"IF(A108>COUNT('TongHop (goc)'!$T$2:$T$250),\"\",VLOOKUP(LARGE('TongHop (goc)'!$T$2:$T$250,A108),'TongHop (goc)'!$T$2:$AA$250,4,0))","v":"Lê Anh"},{"$f":"IF(A108>COUNT('TongHop (goc)'!$T$2:$T$250),\"\",VLOOKUP(LARGE('TongHop (goc)'!$T$2:$T$250,A108),'TongHop (goc)'!$T$2:$AA$250,5,0))","v":"Quân"},{"$f":"IF(A108>COUNT('TongHop (goc)'!$T$2:$T$250),\"\",VLOOKUP(LARGE('TongHop (goc)'!$T$2:$T$250,A108),'TongHop (goc)'!$T$2:$AA$250,7,0))","v":"8B"},null,null,null,null,null,null,null,null,null,null,null,null,null,{"$f":"IF(A108>COUNT('TongHop (goc)'!$T$2:$T$250),\"\",VLOOKUP(LARGE('TongHop (goc)'!$T$2:$T$250,A108),'TongHop (goc)'!$T$2:$AA$250,6,0))","v":"HỌC SINH GIỎI"},null,107,107]
[{"$f":"IF(ROW(108:108)>COUNT('TongHop (goc)'!$T$2:$T$250),\"\",ROW(108:108))","v":108},{"$f":"IF(A109>COUNT('TongHop (goc)'!$T$2:$T$250),\"\",VLOOKUP(LARGE('TongHop (goc)'!$T$2:$T$250,A109),'TongHop (goc)'!$T$2:$AA$250,4,0))","v":"Lê Trần Phương"},{"$f":"IF(A109>COUNT('TongHop (goc)'!$T$2:$T$250),\"\",VLOOKUP(LARGE('TongHop (goc)'!$T$2:$T$250,A109),'TongHop (goc)'!$T$2:$AA$250,5,0))","v":"Anh"},{"$f":"IF(A109>COUNT('TongHop (goc)'!$T$2:$T$250),\"\",VLOOKUP(LARGE('TongHop (goc)'!$T$2:$T$250,A109),'TongHop (goc)'!$T$2:$AA$250,7,0))","v":"8C"},null,null,null,null,null,null,null,null,null,null,null,null,null,{"$f":"IF(A109>COUNT('TongHop (goc)'!$T$2:$T$250),\"\",VLOOKUP(LARGE('TongHop (goc)'!$T$2:$T$250,A109),'TongHop (goc)'!$T$2:$AA$250,6,0))","v":"HỌC SINH GIỎI"},null,108,108]
[{"$f":"IF(ROW(109:109)>COUNT('TongHop (goc)'!$T$2:$T$250),\"\",ROW(109:109))","v":109},{"$f":"IF(A110>COUNT('TongHop (goc)'!$T$2:$T$250),\"\",VLOOKUP(LARGE('TongHop (goc)'!$T$2:$T$250,A110),'TongHop (goc)'!$T$2:$AA$250,4,0))","v":"Phạm Thị Lan "},{"$f":"IF(A110>COUNT('TongHop (goc)'!$T$2:$T$250),\"\",VLOOKUP(LARGE('TongHop (goc)'!$T$2:$T$250,A110),'TongHop (goc)'!$T$2:$AA$250,5,0))","v":"Anh"},{"$f":"IF(A110>COUNT('TongHop (goc)'!$T$2:$T$250),\"\",VLOOKUP(LARGE('TongHop (goc)'!$T$2:$T$250,A110),'TongHop (goc)'!$T$2:$AA$250,7,0))","v":"8C"},null,null,null,null,null,null,null,null,null,null,null,null,null,{"$f":"IF(A110>COUNT('TongHop (goc)'!$T$2:$T$250),\"\",VLOOKUP(LARGE('TongHop (goc)'!$T$2:$T$250,A110),'TongHop (goc)'!$T$2:$AA$250,6,0))","v":"HỌC SINH GIỎI"},null,109,109]
[{"$f":"IF(ROW(110:110)>COUNT('TongHop (goc)'!$T$2:$T$250),\"\",ROW(110:110))","v":110},{"$f":"IF(A111>COUNT('TongHop (goc)'!$T$2:$T$250),\"\",VLOOKUP(LARGE('TongHop (goc)'!$T$2:$T$250,A111),'TongHop (goc)'!$T$2:$AA$250,4,0))","v":"Lê Bảo"},{"$f":"IF(A111>COUNT('TongHop (goc)'!$T$2:$T$250),\"\",VLOOKUP(LARGE('TongHop (goc)'!$T$2:$T$250,A111),'TongHop (goc)'!$T$2:$AA$250,5,0))","v":"Trâm"},{"$f":"IF(A111>COUNT('TongHop (goc)'!$T$2:$T$250),\"\",VLOOKUP(LARGE('TongHop (goc)'!$T$2:$T$250,A111),'TongHop (goc)'!$T$2:$AA$250,7,0))","v":"8C"},null,null,null,null,null,null,null,null,null,null,null,null,null,{"$f":"IF(A111>COUNT('TongHop (goc)'!$T$2:$T$250),\"\",VLOOKUP(LARGE('TongHop (goc)'!$T$2:$T$250,A111),'TongHop (goc)'!$T$2:$AA$250,6,0))","v":"HỌC SINH GIỎI"},null,110,110]
[{"$f":"IF(ROW(111:111)>COUNT('TongHop (goc)'!$T$2:$T$250),\"\",ROW(111:111))","v":111},{"$f":"IF(A112>COUNT('TongHop (goc)'!$T$2:$T$250),\"\",VLOOKUP(LARGE('TongHop (goc)'!$T$2:$T$250,A112),'TongHop (goc)'!$T$2:$AA$250,4,0))","v":"Phạm Thị Tố "},{"$f":"IF(A112>COUNT('TongHop (goc)'!$T$2:$T$250),\"\",VLOOKUP(LARGE('TongHop (goc)'!$T$2:$T$250,A112),'TongHop (goc)'!$T$2:$AA$250,5,0))","v":"Uyên"},{"$f":"IF(A112>COUNT('TongHop (goc)'!$T$2:$T$250),\"\",VLOOKUP(LARGE('TongHop (goc)'!$T$2:$T$250,A112),'TongHop (goc)'!$T$2:$AA$250,7,0))","v":"8C"},null,null,null,null,null,null,null,null,null,null,null,null,null,{"$f":"IF(A112>COUNT('TongHop (goc)'!$T$2:$T$250),\"\",VLOOKUP(LARGE('TongHop (goc)'!$T$2:$T$250,A112),'TongHop (goc)'!$T$2:$AA$250,6,0))","v":"HỌC SINH GIỎI"},null,111,111]
[{"$f":"IF(ROW(112:112)>COUNT('TongHop (goc)'!$T$2:$T$250),\"\",ROW(112:112))","v":112},{"$f":"IF(A113>COUNT('TongHop (goc)'!$T$2:$T$250),\"\",VLOOKUP(LARGE('TongHop (goc)'!$T$2:$T$250,A113),'TongHop (goc)'!$T$2:$AA$250,4,0))","v":"Trần Khánh"},{"$f":"IF(A113>COUNT('TongHop (goc)'!$T$2:$T$250),\"\",VLOOKUP(LARGE('TongHop (goc)'!$T$2:$T$250,A113),'TongHop (goc)'!$T$2:$AA$250,5,0))","v":"Huyền"},{"$f":"IF(A113>COUNT('TongHop (goc)'!$T$2:$T$250),\"\",VLOOKUP(LARGE('TongHop (goc)'!$T$2:$T$250,A113),'TongHop (goc)'!$T$2:$AA$250,7,0))","v":"8C"},null,null,null,null,null,null,null,null,null,null,null,null,null,{"$f":"IF(A113>COUNT('TongHop (goc)'!$T$2:$T$250),\"\",VLOOKUP(LARGE('TongHop (goc)'!$T$2:$T$250,A113),'TongHop (goc)'!$T$2:$AA$250,6,0))","v":"HỌC SINH GIỎI"},null,112,112]
[{"$f":"IF(ROW(113:113)>COUNT('TongHop (goc)'!$T$2:$T$250),\"\",ROW(113:113))","v":113},{"$f":"IF(A114>COUNT('TongHop (goc)'!$T$2:$T$250),\"\",VLOOKUP(LARGE('TongHop (goc)'!$T$2:$T$250,A114),'TongHop (goc)'!$T$2:$AA$250,4,0))","v":"Lê Khánh"},{"$f":"IF(A114>COUNT('TongHop (goc)'!$T$2:$T$250),\"\",VLOOKUP(LARGE('TongHop (goc)'!$T$2:$T$250,A114),'TongHop (goc)'!$T$2:$AA$250,5,0))","v":"Huyền"},{"$f":"IF(A114>COUNT('TongHop (goc)'!$T$2:$T$250),\"\",VLOOKUP(LARGE('TongHop (goc)'!$T$2:$T$250,A114),'TongHop (goc)'!$T$2:$AA$250,7,0))","v":"8C"},null,null,null,null,null,null,null,null,null,null,null,null,null,{"$f":"IF(A114>COUNT('TongHop (goc)'!$T$2:$T$250),\"\",VLOOKUP(LARGE('TongHop (goc)'!$T$2:$T$250,A114),'TongHop (goc)'!$T$2:$AA$250,6,0))","v":"HỌC SINH GIỎI"},null,113,113]
[{"$f":"IF(ROW(114:114)>COUNT('TongHop (goc)'!$T$2:$T$250),\"\",ROW(114:114))","v":114},{"$f":"IF(A115>COUNT('TongHop (goc)'!$T$2:$T$250),\"\",VLOOKUP(LARGE('TongHop (goc)'!$T$2:$T$250,A115),'TongHop (goc)'!$T$2:$AA$250,4,0))","v":"Vũ Anh "},{"$f":"IF(A115>COUNT('TongHop (goc)'!$T$2:$T$250),\"\",VLOOKUP(LARGE('TongHop (goc)'!$T$2:$T$250,A115),'TongHop (goc)'!$T$2:$AA$250,5,0))","v":"Thư"},{"$f":"IF(A115>COUNT('TongHop (goc)'!$T$2:$T$250),\"\",VLOOKUP(LARGE('TongHop (goc)'!$T$2:$T$250,A115),'TongHop (goc)'!$T$2:$AA$250,7,0))","v":"8C"},null,null,null,null,null,null,null,null,null,null,null,null,null,{"$f":"IF(A115>COUNT('TongHop (goc)'!$T$2:$T$250),\"\",VLOOKUP(LARGE('TongHop (goc)'!$T$2:$T$250,A115),'TongHop (goc)'!$T$2:$AA$250,6,0))","v":"HỌC SINH GIỎI"},null,114,114]
[{"$f":"IF(ROW(115:115)>COUNT('TongHop (goc)'!$T$2:$T$250),\"\",ROW(115:115))","v":115},{"$f":"IF(A116>COUNT('TongHop (goc)'!$T$2:$T$250),\"\",VLOOKUP(LARGE('TongHop (goc)'!$T$2:$T$250,A116),'TongHop (goc)'!$T$2:$AA$250,4,0))","v":"Lê Kiều "},{"$f":"IF(A116>COUNT('TongHop (goc)'!$T$2:$T$250),\"\",VLOOKUP(LARGE('TongHop (goc)'!$T$2:$T$250,A116),'TongHop (goc)'!$T$2:$AA$250,5,0))","v":"Anh"},{"$f":"IF(A116>COUNT('TongHop (goc)'!$T$2:$T$250),\"\",VLOOKUP(LARGE('TongHop (goc)'!$T$2:$T$250,A116),'TongHop (goc)'!$T$2:$AA$250,7,0))","v":"8C"},null,null,null,null,null,null,null,null,null,null,null,null,null,{"$f":"IF(A116>COUNT('TongHop (goc)'!$T$2:$T$250),\"\",VLOOKUP(LARGE('TongHop (goc)'!$T$2:$T$250,A116),'TongHop (goc)'!$T$2:$AA$250,6,0))","v":"HỌC SINH GIỎI"},null,115,115]
[{"$f":"IF(ROW(116:116)>COUNT('TongHop (goc)'!$T$2:$T$250),\"\",ROW(116:116))","v":116},{"$f":"IF(A117>COUNT('TongHop (goc)'!$T$2:$T$250),\"\",VLOOKUP(LARGE('TongHop (goc)'!$T$2:$T$250,A117),'TongHop (goc)'!$T$2:$AA$250,4,0))","v":"Nguyễn Thị Thanh"},{"$f":"IF(A117>COUNT('TongHop (goc)'!$T$2:$T$250),\"\",VLOOKUP(LARGE('TongHop (goc)'!$T$2:$T$250,A117),'TongHop (goc)'!$T$2:$AA$250,5,0))","v":"Thảo"},{"$f":"IF(A117>COUNT('TongHop (goc)'!$T$2:$T$250),\"\",VLOOKUP(LARGE('TongHop (goc)'!$T$2:$T$250,A117),'TongHop (goc)'!$T$2:$AA$250,7,0))","v":"8C"},null,null,null,null,null,null,null,null,null,null,null,null,null,{"$f":"IF(A117>COUNT('TongHop (goc)'!$T$2:$T$250),\"\",VLOOKUP(LARGE('TongHop (goc)'!$T$2:$T$250,A117),'TongHop (goc)'!$T$2:$AA$250,6,0))","v":"HỌC SINH GIỎI"},null,116,116]
[{"$f":"IF(ROW(117:117)>COUNT('TongHop (goc)'!$T$2:$T$250),\"\",ROW(117:117))","v":117},{"$f":"IF(A118>COUNT('TongHop (goc)'!$T$2:$T$250),\"\",VLOOKUP(LARGE('TongHop (goc)'!$T$2:$T$250,A118),'TongHop (goc)'!$T$2:$AA$250,4,0))","v":"Tống Ngọc"},{"$f":"IF(A118>COUNT('TongHop (goc)'!$T$2:$T$250),\"\",VLOOKUP(LARGE('TongHop (goc)'!$T$2:$T$250,A118),'TongHop (goc)'!$T$2:$AA$250,5,0))","v":"Hân"},{"$f":"IF(A118>COUNT('TongHop (goc)'!$T$2:$T$250),\"\",VLOOKUP(LARGE('TongHop (goc)'!$T$2:$T$250,A118),'TongHop (goc)'!$T$2:$AA$250,7,0))","v":"8C"},null,null,null,null,null,null,null,null,null,null,null,null,null,{"$f":"IF(A118>COUNT('TongHop (goc)'!$T$2:$T$250),\"\",VLOOKUP(LARGE('TongHop (goc)'!$T$2:$T$250,A118),'TongHop (goc)'!$T$2:$AA$250,6,0))","v":"HỌC SINH GIỎI"},null,117,117]
[{"$f":"IF(ROW(118:118)>COUNT('TongHop (goc)'!$T$2:$T$250),\"\",ROW(118:118))","v":118},{"$f":"IF(A119>COUNT('TongHop (goc)'!$T$2:$T$250),\"\",VLOOKUP(LARGE('TongHop (goc)'!$T$2:$T$250,A119),'TongHop (goc)'!$T$2:$AA$250,4,0))","v":"Phạm Trần Khánh"},{"$f":"IF(A119>COUNT('TongHop (goc)'!$T$2:$T$250),\"\",VLOOKUP(LARGE('TongHop (goc)'!$T$2:$T$250,A119),'TongHop (goc)'!$T$2:$AA$250,5,0))","v":"Thư"},{"$f":"IF(A119>COUNT('TongHop (goc)'!$T$2:$T$250),\"\",VLOOKUP(LARGE('TongHop (goc)'!$T$2:$T$250,A119),'TongHop (goc)'!$T$2:$AA$250,7,0))","v":"8C"},null,null,null,null,null,null,null,null,null,null,null,null,null,{"$f":"IF(A119>COUNT('TongHop (goc)'!$T$2:$T$250),\"\",VLOOKUP(LARGE('TongHop (goc)'!$T$2:$T$250,A119),'TongHop (goc)'!$T$2:$AA$250,6,0))","v":"HỌC SINH GIỎI"},null,118,118]
[{"$f":"IF(ROW(119:119)>COUNT('TongHop (goc)'!$T$2:$T$250),\"\",ROW(119:119))","v":119},{"$f":"IF(A120>COUNT('TongHop (goc)'!$T$2:$T$250),\"\",VLOOKUP(LARGE('TongHop (goc)'!$T$2:$T$250,A120),'TongHop (goc)'!$T$2:$AA$250,4,0))","v":"Trần Thu"},{"$f":"IF(A120>COUNT('TongHop (goc)'!$T$2:$T$250),\"\",VLOOKUP(LARGE('TongHop (goc)'!$T$2:$T$250,A120),'TongHop (goc)'!$T$2:$AA$250,5,0))","v":"Huyền"},{"$f":"IF(A120>COUNT('TongHop (goc)'!$T$2:$T$250),\"\",VLOOKUP(LARGE('TongHop (goc)'!$T$2:$T$250,A120),'TongHop (goc)'!$T$2:$AA$250,7,0))","v":"8C"},null,null,null,null,null,null,null,null,null,null,null,null,null,{"$f":"IF(A120>COUNT('TongHop (goc)'!$T$2:$T$250),\"\",VLOOKUP(LARGE('TongHop (goc)'!$T$2:$T$250,A120),'TongHop (goc)'!$T$2:$AA$250,6,0))","v":"HỌC SINH GIỎI"},null,119,119]
[{"$f":"IF(ROW(120:120)>COUNT('TongHop (goc)'!$T$2:$T$250),\"\",ROW(120:120))","v":120},{"$f":"IF(A121>COUNT('TongHop (goc)'!$T$2:$T$250),\"\",VLOOKUP(LARGE('TongHop (goc)'!$T$2:$T$250,A121),'TongHop (goc)'!$T$2:$AA$250,4,0))","v":"Lê Thị Kim"},{"$f":"IF(A121>COUNT('TongHop (goc)'!$T$2:$T$250),\"\",VLOOKUP(LARGE('TongHop (goc)'!$T$2:$T$250,A121),'TongHop (goc)'!$T$2:$AA$250,5,0))","v":"Hoa"},{"$f":"IF(A121>COUNT('TongHop (goc)'!$T$2:$T$250),\"\",VLOOKUP(LARGE('TongHop (goc)'!$T$2:$T$250,A121),'TongHop (goc)'!$T$2:$AA$250,7,0))","v":"8C"},null,null,null,null,null,null,null,null,null,null,null,null,null,{"$f":"IF(A121>COUNT('TongHop (goc)'!$T$2:$T$250),\"\",VLOOKUP(LARGE('TongHop (goc)'!$T$2:$T$250,A121),'TongHop (goc)'!$T$2:$AA$250,6,0))","v":"HỌC SINH GIỎI"},null,120,120]
[{"$f":"IF(ROW(121:121)>COUNT('TongHop (goc)'!$T$2:$T$250),\"\",ROW(121:121))","v":121},{"$f":"IF(A122>COUNT('TongHop (goc)'!$T$2:$T$250),\"\",VLOOKUP(LARGE('TongHop (goc)'!$T$2:$T$250,A122),'TongHop (goc)'!$T$2:$AA$250,4,0))","v":"Trần Đức "},{"$f":"IF(A122>COUNT('TongHop (goc)'!$T$2:$T$250),\"\",VLOOKUP(LARGE('TongHop (goc)'!$T$2:$T$250,A122),'TongHop (goc)'!$T$2:$AA$250,5,0))","v":"Anh"},{"$f":"IF(A122>COUNT('TongHop (goc)'!$T$2:$T$250),\"\",VLOOKUP(LARGE('TongHop (goc)'!$T$2:$T$250,A122),'TongHop (goc)'!$T$2:$AA$250,7,0))","v":"8C"},null,null,null,null,null,null,null,null,null,null,null,null,null,{"$f":"IF(A122>COUNT('TongHop (goc)'!$T$2:$T$250),\"\",VLOOKUP(LARGE('TongHop (goc)'!$T$2:$T$250,A122),'TongHop (goc)'!$T$2:$AA$250,6,0))","v":"HỌC SINH GIỎI"},null,121,121]
[{"$f":"IF(ROW(122:122)>COUNT('TongHop (goc)'!$T$2:$T$250),\"\",ROW(122:122))","v":122},{"$f":"IF(A123>COUNT('TongHop (goc)'!$T$2:$T$250),\"\",VLOOKUP(LARGE('TongHop (goc)'!$T$2:$T$250,A123),'TongHop (goc)'!$T$2:$AA$250,4,0))","v":"Bùi Huy  "},{"$f":"IF(A123>COUNT('TongHop (goc)'!$T$2:$T$250),\"\",VLOOKUP(LARGE('TongHop (goc)'!$T$2:$T$250,A123),'TongHop (goc)'!$T$2:$AA$250,5,0))","v":"Hoàng"},{"$f":"IF(A123>COUNT('TongHop (goc)'!$T$2:$T$250),\"\",VLOOKUP(LARGE('TongHop (goc)'!$T$2:$T$250,A123),'TongHop (goc)'!$T$2:$AA$250,7,0))","v":"8C"},null,null,null,null,null,null,null,null,null,null,null,null,null,{"$f":"IF(A123>COUNT('TongHop (goc)'!$T$2:$T$250),\"\",VLOOKUP(LARGE('TongHop (goc)'!$T$2:$T$250,A123),'TongHop (goc)'!$T$2:$AA$250,6,0))","v":"HỌC SINH GIỎI"},null,122,122]
[{"$f":"IF(ROW(123:123)>COUNT('TongHop (goc)'!$T$2:$T$250),\"\",ROW(123:123))","v":123},{"$f":"IF(A124>COUNT('TongHop (goc)'!$T$2:$T$250),\"\",VLOOKUP(LARGE('TongHop (goc)'!$T$2:$T$250,A124),'TongHop (goc)'!$T$2:$AA$250,4,0))","v":"Lê Thùy  "},{"$f":"IF(A124>COUNT('TongHop (goc)'!$T$2:$T$250),\"\",VLOOKUP(LARGE('TongHop (goc)'!$T$2:$T$250,A124),'TongHop (goc)'!$T$2:$AA$250,5,0))","v":"Dung"},{"$f":"IF(A124>COUNT('TongHop (goc)'!$T$2:$T$250),\"\",VLOOKUP(LARGE('TongHop (goc)'!$T$2:$T$250,A124),'TongHop (goc)'!$T$2:$AA$250,7,0))","v":"8C"},null,null,null,null,null,null,null,null,null,null,null,null,null,{"$f":"IF(A124>COUNT('TongHop (goc)'!$T$2:$T$250),\"\",VLOOKUP(LARGE('TongHop (goc)'!$T$2:$T$250,A124),'TongHop (goc)'!$T$2:$AA$250,6,0))","v":"HỌC SINH GIỎI"},null,123,123]
[{"$f":"IF(ROW(124:124)>COUNT('TongHop (goc)'!$T$2:$T$250),\"\",ROW(124:124))","v":124},{"$f":"IF(A125>COUNT('TongHop (goc)'!$T$2:$T$250),\"\",VLOOKUP(LARGE('TongHop (goc)'!$T$2:$T$250,A125),'TongHop (goc)'!$T$2:$AA$250,4,0))","v":"Mai Thảo"},{"$f":"IF(A125>COUNT('TongHop (goc)'!$T$2:$T$250),\"\",VLOOKUP(LARGE('TongHop (goc)'!$T$2:$T$250,A125),'TongHop (goc)'!$T$2:$AA$250,5,0))","v":"Quyên"},{"$f":"IF(A125>COUNT('TongHop (goc)'!$T$2:$T$250),\"\",VLOOKUP(LARGE('TongHop (goc)'!$T$2:$T$250,A125),'TongHop (goc)'!$T$2:$AA$250,7,0))","v":"8C"},null,null,null,null,null,null,null,null,null,null,null,null,null,{"$f":"IF(A125>COUNT('TongHop (goc)'!$T$2:$T$250),\"\",VLOOKUP(LARGE('TongHop (goc)'!$T$2:$T$250,A125),'TongHop (goc)'!$T$2:$AA$250,6,0))","v":"HỌC SINH GIỎI"},null,124,124]
[{"$f":"IF(ROW(125:125)>COUNT('TongHop (goc)'!$T$2:$T$250),\"\",ROW(125:125))","v":125},{"$f":"IF(A126>COUNT('TongHop (goc)'!$T$2:$T$250),\"\",VLOOKUP(LARGE('TongHop (goc)'!$T$2:$T$250,A126),'TongHop (goc)'!$T$2:$AA$250,4,0))","v":"Trần Thanh "},{"$f":"IF(A126>COUNT('TongHop (goc)'!$T$2:$T$250),\"\",VLOOKUP(LARGE('TongHop (goc)'!$T$2:$T$250,A126),'TongHop (goc)'!$T$2:$AA$250,5,0))","v":"Hoàng"},{"$f":"IF(A126>COUNT('TongHop (goc)'!$T$2:$T$250),\"\",VLOOKUP(LARGE('TongHop (goc)'!$T$2:$T$250,A126),'TongHop (goc)'!$T$2:$AA$250,7,0))","v":"8C"},null,null,null,null,null,null,null,null,null,null,null,null,null,{"$f":"IF(A126>COUNT('TongHop (goc)'!$T$2:$T$250),\"\",VLOOKUP(LARGE('TongHop (goc)'!$T$2:$T$250,A126),'TongHop (goc)'!$T$2:$AA$250,6,0))","v":"HỌC SINH GIỎI"},null,125,125]
[{"$f":"IF(ROW(126:126)>COUNT('TongHop (goc)'!$T$2:$T$250),\"\",ROW(126:126))","v":126},{"$f":"IF(A127>COUNT('TongHop (goc)'!$T$2:$T$250),\"\",VLOOKUP(LARGE('TongHop (goc)'!$T$2:$T$250,A127),'TongHop (goc)'!$T$2:$AA$250,4,0))","v":"Mai Ngọc"},{"$f":"IF(A127>COUNT('TongHop (goc)'!$T$2:$T$250),\"\",VLOOKUP(LARGE('TongHop (goc)'!$T$2:$T$250,A127),'TongHop (goc)'!$T$2:$AA$250,5,0))","v":"Hằng"},{"$f":"IF(A127>COUNT('TongHop (goc)'!$T$2:$T$250),\"\",VLOOKUP(LARGE('TongHop (goc)'!$T$2:$T$250,A127),'TongHop (goc)'!$T$2:$AA$250,7,0))","v":"8C"},null,null,null,null,null,null,null,null,null,null,null,null,null,{"$f":"IF(A127>COUNT('TongHop (goc)'!$T$2:$T$250),\"\",VLOOKUP(LARGE('TongHop (goc)'!$T$2:$T$250,A127),'TongHop (goc)'!$T$2:$AA$250,6,0))","v":"HỌC SINH GIỎI"},null,126,126]
[{"$f":"IF(ROW(127:127)>COUNT('TongHop (goc)'!$T$2:$T$250),\"\",ROW(127:127))","v":127},{"$f":"IF(A128>COUNT('TongHop (goc)'!$T$2:$T$250),\"\",VLOOKUP(LARGE('TongHop (goc)'!$T$2:$T$250,A128),'TongHop (goc)'!$T$2:$AA$250,4,0))","v":"Trần Yến "},{"$f":"IF(A128>COUNT('TongHop (goc)'!$T$2:$T$250),\"\",VLOOKUP(LARGE('TongHop (goc)'!$T$2:$T$250,A128),'TongHop (goc)'!$T$2:$AA$250,5,0))","v":"Nhi"},{"$f":"IF(A128>COUNT('TongHop (goc)'!$T$2:$T$250),\"\",VLOOKUP(LARGE('TongHop (goc)'!$T$2:$T$250,A128),'TongHop (goc)'!$T$2:$AA$250,7,0))","v":"8C"},null,null,null,null,null,null,null,null,null,null,null,null,null,{"$f":"IF(A128>COUNT('TongHop (goc)'!$T$2:$T$250),\"\",VLOOKUP(LARGE('TongHop (goc)'!$T$2:$T$250,A128),'TongHop (goc)'!$T$2:$AA$250,6,0))","v":"HỌC SINH GIỎI"},null,127,127]
[{"$f":"IF(ROW(128:128)>COUNT('TongHop (goc)'!$T$2:$T$250),\"\",ROW(128:128))","v":128},{"$f":"IF(A129>COUNT('TongHop (goc)'!$T$2:$T$250),\"\",VLOOKUP(LARGE('TongHop (goc)'!$T$2:$T$250,A129),'TongHop (goc)'!$T$2:$AA$250,4,0))","v":"Trần Trung "},{"$f":"IF(A129>COUNT('TongHop (goc)'!$T$2:$T$250),\"\",VLOOKUP(LARGE('TongHop (goc)'!$T$2:$T$250,A129),'TongHop (goc)'!$T$2:$AA$250,5,0))","v":"Hiếu"},{"$f":"IF(A129>COUNT('TongHop (goc)'!$T$2:$T$250),\"\",VLOOKUP(LARGE('TongHop (goc)'!$T$2:$T$250,A129),'TongHop (goc)'!$T$2:$AA$250,7,0))","v":"8C"},null,null,null,null,null,null,null,null,null,null,null,null,null,{"$f":"IF(A129>COUNT('TongHop (goc)'!$T$2:$T$250),\"\",VLOOKUP(LARGE('TongHop (goc)'!$T$2:$T$250,A129),'TongHop (goc)'!$T$2:$AA$250,6,0))","v":"HỌC SINH GIỎI"},null,128,128]
[{"$f":"IF(ROW(129:129)>COUNT('TongHop (goc)'!$T$2:$T$250),\"\",ROW(129:129))","v":129},{"$f":"IF(A130>COUNT('TongHop (goc)'!$T$2:$T$250),\"\",VLOOKUP(LARGE('TongHop (goc)'!$T$2:$T$250,A130),'TongHop (goc)'!$T$2:$AA$250,4,0))","v":"Nguyễn Thị Phương "},{"$f":"IF(A130>COUNT('TongHop (goc)'!$T$2:$T$250),\"\",VLOOKUP(LARGE('TongHop (goc)'!$T$2:$T$250,A130),'TongHop (goc)'!$T$2:$AA$250,5,0))","v":"Thảo"},{"$f":"IF(A130>COUNT('TongHop (goc)'!$T$2:$T$250),\"\",VLOOKUP(LARGE('TongHop (goc)'!$T$2:$T$250,A130),'TongHop (goc)'!$T$2:$AA$250,7,0))","v":"8C"},null,null,null,null,null,null,null,null,null,null,null,null,null,{"$f":"IF(A130>COUNT('TongHop (goc)'!$T$2:$T$250),\"\",VLOOKUP(LARGE('TongHop (goc)'!$T$2:$T$250,A130),'TongHop (goc)'!$T$2:$AA$250,6,0))","v":"HỌC SINH GIỎI"},null,129,129]
[{"$f":"IF(ROW(130:130)>COUNT('TongHop (goc)'!$T$2:$T$250),\"\",ROW(130:130))","v":130},{"$f":"IF(A131>COUNT('TongHop (goc)'!$T$2:$T$250),\"\",VLOOKUP(LARGE('TongHop (goc)'!$T$2:$T$250,A131),'TongHop (goc)'!$T$2:$AA$250,4,0))","v":"Phạm Khánh "},{"$f":"IF(A131>COUNT('TongHop (goc)'!$T$2:$T$250),\"\",VLOOKUP(LARGE('TongHop (goc)'!$T$2:$T$250,A131),'TongHop (goc)'!$T$2:$AA$250,5,0))","v":"Huyền"},{"$f":"IF(A131>COUNT('TongHop (goc)'!$T$2:$T$250),\"\",VLOOKUP(LARGE('TongHop (goc)'!$T$2:$T$250,A131),'TongHop (goc)'!$T$2:$AA$250,7,0))","v":"8C"},null,null,null,null,null,null,null,null,null,null,null,null,null,{"$f":"IF(A131>COUNT('TongHop (goc)'!$T$2:$T$250),\"\",VLOOKUP(LARGE('TongHop (goc)'!$T$2:$T$250,A131),'TongHop (goc)'!$T$2:$AA$250,6,0))","v":"HỌC SINH GIỎI"},null,130,130]
[{"$f":"IF(ROW(131:131)>COUNT('TongHop (goc)'!$T$2:$T$250),\"\",ROW(131:131))","v":131},{"$f":"IF(A132>COUNT('TongHop (goc)'!$T$2:$T$250),\"\",VLOOKUP(LARGE('TongHop (goc)'!$T$2:$T$250,A132),'TongHop (goc)'!$T$2:$AA$250,4,0))","v":"Nịnh Thị Ngân"},{"$f":"IF(A132>COUNT('TongHop (goc)'!$T$2:$T$250),\"\",VLOOKUP(LARGE('TongHop (goc)'!$T$2:$T$250,A132),'TongHop (goc)'!$T$2:$AA$250,5,0))","v":"Khánh"},{"$f":"IF(A132>COUNT('TongHop (goc)'!$T$2:$T$250),\"\",VLOOKUP(LARGE('TongHop (goc)'!$T$2:$T$250,A132),'TongHop (goc)'!$T$2:$AA$250,7,0))","v":"8C"},null,null,null,null,null,null,null,null,null,null,null,null,null,{"$f":"IF(A132>COUNT('TongHop (goc)'!$T$2:$T$250),\"\",VLOOKUP(LARGE('TongHop (goc)'!$T$2:$T$250,A132),'TongHop (goc)'!$T$2:$AA$250,6,0))","v":"HỌC SINH GIỎI"},null,131,131]
[{"$f":"IF(ROW(132:132)>COUNT('TongHop (goc)'!$T$2:$T$250),\"\",ROW(132:132))","v":132},{"$f":"IF(A133>COUNT('TongHop (goc)'!$T$2:$T$250),\"\",VLOOKUP(LARGE('TongHop (goc)'!$T$2:$T$250,A133),'TongHop (goc)'!$T$2:$AA$250,4,0))","v":"Tống Khánh"},{"$f":"IF(A133>COUNT('TongHop (goc)'!$T$2:$T$250),\"\",VLOOKUP(LARGE('TongHop (goc)'!$T$2:$T$250,A133),'TongHop (goc)'!$T$2:$AA$250,5,0))","v":"Vy"},{"$f":"IF(A133>COUNT('TongHop (goc)'!$T$2:$T$250),\"\",VLOOKUP(LARGE('TongHop (goc)'!$T$2:$T$250,A133),'TongHop (goc)'!$T$2:$AA$250,7,0))","v":"8C"},null,null,null,null,null,null,null,null,null,null,null,null,null,{"$f":"IF(A133>COUNT('TongHop (goc)'!$T$2:$T$250),\"\",VLOOKUP(LARGE('TongHop (goc)'!$T$2:$T$250,A133),'TongHop (goc)'!$T$2:$AA$250,6,0))","v":"HỌC SINH GIỎI"},null,132,132]
[{"$f":"IF(ROW(133:133)>COUNT('TongHop (goc)'!$T$2:$T$250),\"\",ROW(133:133))","v":133},{"$f":"IF(A134>COUNT('TongHop (goc)'!$T$2:$T$250),\"\",VLOOKUP(LARGE('TongHop (goc)'!$T$2:$T$250,A134),'TongHop (goc)'!$T$2:$AA$250,4,0))","v":"Lê Anh"},{"$f":"IF(A134>COUNT('TongHop (goc)'!$T$2:$T$250),\"\",VLOOKUP(LARGE('TongHop (goc)'!$T$2:$T$250,A134),'TongHop (goc)'!$T$2:$AA$250,5,0))","v":"Tú"},{"$f":"IF(A134>COUNT('TongHop (goc)'!$T$2:$T$250),\"\",VLOOKUP(LARGE('TongHop (goc)'!$T$2:$T$250,A134),'TongHop (goc)'!$T$2:$AA$250,7,0))","v":"8C"},null,null,null,null,null,null,null,null,null,null,null,null,null,{"$f":"IF(A134>COUNT('TongHop (goc)'!$T$2:$T$250),\"\",VLOOKUP(LARGE('TongHop (goc)'!$T$2:$T$250,A134),'TongHop (goc)'!$T$2:$AA$250,6,0))","v":"HỌC SINH GIỎI"},null,{"$f":"A134","v":133},{"$f":"A134","v":133}]
[{"$f":"IF(ROW(134:134)>COUNT('TongHop (goc)'!$T$2:$T$250),\"\",ROW(134:134))","v":134},{"$f":"IF(A135>COUNT('TongHop (goc)'!$T$2:$T$250),\"\",VLOOKUP(LARGE('TongHop (goc)'!$T$2:$T$250,A135),'TongHop (goc)'!$T$2:$AA$250,4,0))","v":"Phạm Thảo"},{"$f":"IF(A135>COUNT('TongHop (goc)'!$T$2:$T$250),\"\",VLOOKUP(LARGE('TongHop (goc)'!$T$2:$T$250,A135),'TongHop (goc)'!$T$2:$AA$250,5,0))","v":"Nguyên"},{"$f":"IF(A135>COUNT('TongHop (goc)'!$T$2:$T$250),\"\",VLOOKUP(LARGE('TongHop (goc)'!$T$2:$T$250,A135),'TongHop (goc)'!$T$2:$AA$250,7,0))","v":"8C"},null,null,null,null,null,null,null,null,null,null,null,null,null,{"$f":"IF(A135>COUNT('TongHop (goc)'!$T$2:$T$250),\"\",VLOOKUP(LARGE('TongHop (goc)'!$T$2:$T$250,A135),'TongHop (goc)'!$T$2:$AA$250,6,0))","v":"HỌC SINH GIỎI"},null,134,134]
[{"$f":"IF(ROW(135:135)>COUNT('TongHop (goc)'!$T$2:$T$250),\"\",ROW(135:135))","v":135},{"$f":"IF(A136>COUNT('TongHop (goc)'!$T$2:$T$250),\"\",VLOOKUP(LARGE('TongHop (goc)'!$T$2:$T$250,A136),'TongHop (goc)'!$T$2:$AA$250,4,0))","v":"Trần Diệu "},{"$f":"IF(A136>COUNT('TongHop (goc)'!$T$2:$T$250),\"\",VLOOKUP(LARGE('TongHop (goc)'!$T$2:$T$250,A136),'TongHop (goc)'!$T$2:$AA$250,5,0))","v":"Quỳnh"},{"$f":"IF(A136>COUNT('TongHop (goc)'!$T$2:$T$250),\"\",VLOOKUP(LARGE('TongHop (goc)'!$T$2:$T$250,A136),'TongHop (goc)'!$T$2:$AA$250,7,0))","v":"8C"},null,null,null,null,null,null,null,null,null,null,null,null,null,{"$f":"IF(A136>COUNT('TongHop (goc)'!$T$2:$T$250),\"\",VLOOKUP(LARGE('TongHop (goc)'!$T$2:$T$250,A136),'TongHop (goc)'!$T$2:$AA$250,6,0))","v":"HỌC SINH GIỎI"},null,135,135]
[{"$f":"IF(ROW(136:136)>COUNT('TongHop (goc)'!$T$2:$T$250),\"\",ROW(136:136))","v":136},{"$f":"IF(A137>COUNT('TongHop (goc)'!$T$2:$T$250),\"\",VLOOKUP(LARGE('TongHop (goc)'!$T$2:$T$250,A137),'TongHop (goc)'!$T$2:$AA$250,4,0))","v":"Trần Xuân "},{"$f":"IF(A137>COUNT('TongHop (goc)'!$T$2:$T$250),\"\",VLOOKUP(LARGE('TongHop (goc)'!$T$2:$T$250,A137),'TongHop (goc)'!$T$2:$AA$250,5,0))","v":"Sang"},{"$f":"IF(A137>COUNT('TongHop (goc)'!$T$2:$T$250),\"\",VLOOKUP(LARGE('TongHop (goc)'!$T$2:$T$250,A137),'TongHop (goc)'!$T$2:$AA$250,7,0))","v":"9A"},null,null,null,null,null,null,null,null,null,null,null,null,null,{"$f":"IF(A137>COUNT('TongHop (goc)'!$T$2:$T$250),\"\",VLOOKUP(LARGE('TongHop (goc)'!$T$2:$T$250,A137),'TongHop (goc)'!$T$2:$AA$250,6,0))","v":"HỌC SINH GIỎI"},null,136,136]
[{"$f":"IF(ROW(137:137)>COUNT('TongHop (goc)'!$T$2:$T$250),\"\",ROW(137:137))","v":137},{"$f":"IF(A138>COUNT('TongHop (goc)'!$T$2:$T$250),\"\",VLOOKUP(LARGE('TongHop (goc)'!$T$2:$T$250,A138),'TongHop (goc)'!$T$2:$AA$250,4,0))","v":"Lê Mai Hà "},{"$f":"IF(A138>COUNT('TongHop (goc)'!$T$2:$T$250),\"\",VLOOKUP(LARGE('TongHop (goc)'!$T$2:$T$250,A138),'TongHop (goc)'!$T$2:$AA$250,5,0))","v":"Vy"},{"$f":"IF(A138>COUNT('TongHop (goc)'!$T$2:$T$250),\"\",VLOOKUP(LARGE('TongHop (goc)'!$T$2:$T$250,A138),'TongHop (goc)'!$T$2:$AA$250,7,0))","v":"9A"},null,null,null,null,null,null,null,null,null,null,null,null,null,{"$f":"IF(A138>COUNT('TongHop (goc)'!$T$2:$T$250),\"\",VLOOKUP(LARGE('TongHop (goc)'!$T$2:$T$250,A138),'TongHop (goc)'!$T$2:$AA$250,6,0))","v":"HỌC SINH GIỎI"},null,137,137]
[{"$f":"IF(ROW(138:138)>COUNT('TongHop (goc)'!$T$2:$T$250),\"\",ROW(138:138))","v":138},{"$f":"IF(A139>COUNT('TongHop (goc)'!$T$2:$T$250),\"\",VLOOKUP(LARGE('TongHop (goc)'!$T$2:$T$250,A139),'TongHop (goc)'!$T$2:$AA$250,4,0))","v":"Lương Trần Hương"},{"$f":"IF(A139>COUNT('TongHop (goc)'!$T$2:$T$250),\"\",VLOOKUP(LARGE('TongHop (goc)'!$T$2:$T$250,A139),'TongHop (goc)'!$T$2:$AA$250,5,0))","v":"Trà"},{"$f":"IF(A139>COUNT('TongHop (goc)'!$T$2:$T$250),\"\",VLOOKUP(LARGE('TongHop (goc)'!$T$2:$T$250,A139),'TongHop (goc)'!$T$2:$AA$250,7,0))","v":"9A"},null,null,null,null,null,null,null,null,null,null,null,null,null,{"$f":"IF(A139>COUNT('TongHop (goc)'!$T$2:$T$250),\"\",VLOOKUP(LARGE('TongHop (goc)'!$T$2:$T$250,A139),'TongHop (goc)'!$T$2:$AA$250,6,0))","v":"HỌC SINH GIỎI"},null,138,138]
[{"$f":"IF(ROW(139:139)>COUNT('TongHop (goc)'!$T$2:$T$250),\"\",ROW(139:139))","v":139},{"$f":"IF(A140>COUNT('TongHop (goc)'!$T$2:$T$250),\"\",VLOOKUP(LARGE('TongHop (goc)'!$T$2:$T$250,A140),'TongHop (goc)'!$T$2:$AA$250,4,0))","v":"Lê Tú "},{"$f":"IF(A140>COUNT('TongHop (goc)'!$T$2:$T$250),\"\",VLOOKUP(LARGE('TongHop (goc)'!$T$2:$T$250,A140),'TongHop (goc)'!$T$2:$AA$250,5,0))","v":"Anh"},{"$f":"IF(A140>COUNT('TongHop (goc)'!$T$2:$T$250),\"\",VLOOKUP(LARGE('TongHop (goc)'!$T$2:$T$250,A140),'TongHop (goc)'!$T$2:$AA$250,7,0))","v":"9A"},null,null,null,null,null,null,null,null,null,null,null,null,null,{"$f":"IF(A140>COUNT('TongHop (goc)'!$T$2:$T$250),\"\",VLOOKUP(LARGE('TongHop (goc)'!$T$2:$T$250,A140),'TongHop (goc)'!$T$2:$AA$250,6,0))","v":"HỌC SINH GIỎI"},null,139,139]
[{"$f":"IF(ROW(140:140)>COUNT('TongHop (goc)'!$T$2:$T$250),\"\",ROW(140:140))","v":140},{"$f":"IF(A141>COUNT('TongHop (goc)'!$T$2:$T$250),\"\",VLOOKUP(LARGE('TongHop (goc)'!$T$2:$T$250,A141),'TongHop (goc)'!$T$2:$AA$250,4,0))","v":"Bùi Tấn"},{"$f":"IF(A141>COUNT('TongHop (goc)'!$T$2:$T$250),\"\",VLOOKUP(LARGE('TongHop (goc)'!$T$2:$T$250,A141),'TongHop (goc)'!$T$2:$AA$250,5,0))","v":"Phát"},{"$f":"IF(A141>COUNT('TongHop (goc)'!$T$2:$T$250),\"\",VLOOKUP(LARGE('TongHop (goc)'!$T$2:$T$250,A141),'TongHop (goc)'!$T$2:$AA$250,7,0))","v":"9B"},null,null,null,null,null,null,null,null,null,null,null,null,null,{"$f":"IF(A141>COUNT('TongHop (goc)'!$T$2:$T$250),\"\",VLOOKUP(LARGE('TongHop (goc)'!$T$2:$T$250,A141),'TongHop (goc)'!$T$2:$AA$250,6,0))","v":"HỌC SINH GIỎI"},null,140,140]
[{"$f":"IF(ROW(141:141)>COUNT('TongHop (goc)'!$T$2:$T$250),\"\",ROW(141:141))","v":141},{"$f":"IF(A142>COUNT('TongHop (goc)'!$T$2:$T$250),\"\",VLOOKUP(LARGE('TongHop (goc)'!$T$2:$T$250,A142),'TongHop (goc)'!$T$2:$AA$250,4,0))","v":"Tống Nguyễn Thanh"},{"$f":"IF(A142>COUNT('TongHop (goc)'!$T$2:$T$250),\"\",VLOOKUP(LARGE('TongHop (goc)'!$T$2:$T$250,A142),'TongHop (goc)'!$T$2:$AA$250,5,0))","v":"Huyền"},{"$f":"IF(A142>COUNT('TongHop (goc)'!$T$2:$T$250),\"\",VLOOKUP(LARGE('TongHop (goc)'!$T$2:$T$250,A142),'TongHop (goc)'!$T$2:$AA$250,7,0))","v":"9B"},null,null,null,null,null,null,null,null,null,null,null,null,null,{"$f":"IF(A142>COUNT('TongHop (goc)'!$T$2:$T$250),\"\",VLOOKUP(LARGE('TongHop (goc)'!$T$2:$T$250,A142),'TongHop (goc)'!$T$2:$AA$250,6,0))","v":"HỌC SINH GIỎI"},null,141,141]
[{"$f":"IF(ROW(142:142)>COUNT('TongHop (goc)'!$T$2:$T$250),\"\",ROW(142:142))","v":142},{"$f":"IF(A143>COUNT('TongHop (goc)'!$T$2:$T$250),\"\",VLOOKUP(LARGE('TongHop (goc)'!$T$2:$T$250,A143),'TongHop (goc)'!$T$2:$AA$250,4,0))","v":"Lê Minh"},{"$f":"IF(A143>COUNT('TongHop (goc)'!$T$2:$T$250),\"\",VLOOKUP(LARGE('TongHop (goc)'!$T$2:$T$250,A143),'TongHop (goc)'!$T$2:$AA$250,5,0))","v":"Thư"},{"$f":"IF(A143>COUNT('TongHop (goc)'!$T$2:$T$250),\"\",VLOOKUP(LARGE('TongHop (goc)'!$T$2:$T$250,A143),'TongHop (goc)'!$T$2:$AA$250,7,0))","v":"9B"},null,null,null,null,null,null,null,null,null,null,null,null,null,{"$f":"IF(A143>COUNT('TongHop (goc)'!$T$2:$T$250),\"\",VLOOKUP(LARGE('TongHop (goc)'!$T$2:$T$250,A143),'TongHop (goc)'!$T$2:$AA$250,6,0))","v":"HỌC SINH GIỎI"},null,142,142]
[{"$f":"IF(ROW(143:143)>COUNT('TongHop (goc)'!$T$2:$T$250),\"\",ROW(143:143))","v":143},{"$f":"IF(A144>COUNT('TongHop (goc)'!$T$2:$T$250),\"\",VLOOKUP(LARGE('TongHop (goc)'!$T$2:$T$250,A144),'TongHop (goc)'!$T$2:$AA$250,4,0))","v":"Nguyễn Mai Minh"},{"$f":"IF(A144>COUNT('TongHop (goc)'!$T$2:$T$250),\"\",VLOOKUP(LARGE('TongHop (goc)'!$T$2:$T$250,A144),'TongHop (goc)'!$T$2:$AA$250,5,0))","v":"Ngọc"},{"$f":"IF(A144>COUNT('TongHop (goc)'!$T$2:$T$250),\"\",VLOOKUP(LARGE('TongHop (goc)'!$T$2:$T$250,A144),'TongHop (goc)'!$T$2:$AA$250,7,0))","v":"9B"},null,null,null,null,null,null,null,null,null,null,null,null,null,{"$f":"IF(A144>COUNT('TongHop (goc)'!$T$2:$T$250),\"\",VLOOKUP(LARGE('TongHop (goc)'!$T$2:$T$250,A144),'TongHop (goc)'!$T$2:$AA$250,6,0))","v":"HỌC SINH GIỎI"},null,143,143]
[{"$f":"IF(ROW(144:144)>COUNT('TongHop (goc)'!$T$2:$T$250),\"\",ROW(144:144))","v":144},{"$f":"IF(A145>COUNT('TongHop (goc)'!$T$2:$T$250),\"\",VLOOKUP(LARGE('TongHop (goc)'!$T$2:$T$250,A145),'TongHop (goc)'!$T$2:$AA$250,4,0))","v":"Lê Phương "},{"$f":"IF(A145>COUNT('TongHop (goc)'!$T$2:$T$250),\"\",VLOOKUP(LARGE('TongHop (goc)'!$T$2:$T$250,A145),'TongHop (goc)'!$T$2:$AA$250,5,0))","v":"Nga"},{"$f":"IF(A145>COUNT('TongHop (goc)'!$T$2:$T$250),\"\",VLOOKUP(LARGE('TongHop (goc)'!$T$2:$T$250,A145),'TongHop (goc)'!$T$2:$AA$250,7,0))","v":"9B"},null,null,null,null,null,null,null,null,null,null,null,null,null,{"$f":"IF(A145>COUNT('TongHop (goc)'!$T$2:$T$250),\"\",VLOOKUP(LARGE('TongHop (goc)'!$T$2:$T$250,A145),'TongHop (goc)'!$T$2:$AA$250,6,0))","v":"HỌC SINH GIỎI"},null,144,144]
[{"$f":"IF(ROW(145:145)>COUNT('TongHop (goc)'!$T$2:$T$250),\"\",ROW(145:145))","v":145},{"$f":"IF(A146>COUNT('TongHop (goc)'!$T$2:$T$250),\"\",VLOOKUP(LARGE('TongHop (goc)'!$T$2:$T$250,A146),'TongHop (goc)'!$T$2:$AA$250,4,0))","v":"Phạm Hoài"},{"$f":"IF(A146>COUNT('TongHop (goc)'!$T$2:$T$250),\"\",VLOOKUP(LARGE('TongHop (goc)'!$T$2:$T$250,A146),'TongHop (goc)'!$T$2:$AA$250,5,0))","v":"An"},{"$f":"IF(A146>COUNT('TongHop (goc)'!$T$2:$T$250),\"\",VLOOKUP(LARGE('TongHop (goc)'!$T$2:$T$250,A146),'TongHop (goc)'!$T$2:$AA$250,7,0))","v":"9C"},null,null,null,null,null,null,null,null,null,null,null,null,null,{"$f":"IF(A146>COUNT('TongHop (goc)'!$T$2:$T$250),\"\",VLOOKUP(LARGE('TongHop (goc)'!$T$2:$T$250,A146),'TongHop (goc)'!$T$2:$AA$250,6,0))","v":"HỌC SINH GIỎI"},null,{"$f":"A146","v":145},{"$f":"A146","v":145}]
[{"$f":"IF(ROW(146:146)>COUNT('TongHop (goc)'!$T$2:$T$250),\"\",ROW(146:146))","v":146},{"$f":"IF(A147>COUNT('TongHop (goc)'!$T$2:$T$250),\"\",VLOOKUP(LARGE('TongHop (goc)'!$T$2:$T$250,A147),'TongHop (goc)'!$T$2:$AA$250,4,0))","v":"Phạm Mạnh"},{"$f":"IF(A147>COUNT('TongHop (goc)'!$T$2:$T$250),\"\",VLOOKUP(LARGE('TongHop (goc)'!$T$2:$T$250,A147),'TongHop (goc)'!$T$2:$AA$250,5,0))","v":"Thắng"},{"$f":"IF(A147>COUNT('TongHop (goc)'!$T$2:$T$250),\"\",VLOOKUP(LARGE('TongHop (goc)'!$T$2:$T$250,A147),'TongHop (goc)'!$T$2:$AA$250,7,0))","v":"9C"},null,null,null,null,null,null,null,null,null,null,null,null,null,{"$f":"IF(A147>COUNT('TongHop (goc)'!$T$2:$T$250),\"\",VLOOKUP(LARGE('TongHop (goc)'!$T$2:$T$250,A147),'TongHop (goc)'!$T$2:$AA$250,6,0))","v":"HỌC SINH GIỎI"},null,146,146]
[{"$f":"IF(ROW(147:147)>COUNT('TongHop (goc)'!$T$2:$T$250),\"\",ROW(147:147))","v":147},{"$f":"IF(A148>COUNT('TongHop (goc)'!$T$2:$T$250),\"\",VLOOKUP(LARGE('TongHop (goc)'!$T$2:$T$250,A148),'TongHop (goc)'!$T$2:$AA$250,4,0))","v":"Đỗ Xuân Trung"},{"$f":"IF(A148>COUNT('TongHop (goc)'!$T$2:$T$250),\"\",VLOOKUP(LARGE('TongHop (goc)'!$T$2:$T$250,A148),'TongHop (goc)'!$T$2:$AA$250,5,0))","v":"Kiên"},{"$f":"IF(A148>COUNT('TongHop (goc)'!$T$2:$T$250),\"\",VLOOKUP(LARGE('TongHop (goc)'!$T$2:$T$250,A148),'TongHop (goc)'!$T$2:$AA$250,7,0))","v":"9C"},null,null,null,null,null,null,null,null,null,null,null,null,null,{"$f":"IF(A148>COUNT('TongHop (goc)'!$T$2:$T$250),\"\",VLOOKUP(LARGE('TongHop (goc)'!$T$2:$T$250,A148),'TongHop (goc)'!$T$2:$AA$250,6,0))","v":"HỌC SINH GIỎI"},null,147,147]
[{"$f":"IF(ROW(148:148)>COUNT('TongHop (goc)'!$T$2:$T$250),\"\",ROW(148:148))","v":148},{"$f":"IF(A149>COUNT('TongHop (goc)'!$T$2:$T$250),\"\",VLOOKUP(LARGE('TongHop (goc)'!$T$2:$T$250,A149),'TongHop (goc)'!$T$2:$AA$250,4,0))","v":"Phạm Kim"},{"$f":"IF(A149>COUNT('TongHop (goc)'!$T$2:$T$250),\"\",VLOOKUP(LARGE('TongHop (goc)'!$T$2:$T$250,A149),'TongHop (goc)'!$T$2:$AA$250,5,0))","v":"Ngân"},{"$f":"IF(A149>COUNT('TongHop (goc)'!$T$2:$T$250),\"\",VLOOKUP(LARGE('TongHop (goc)'!$T$2:$T$250,A149),'TongHop (goc)'!$T$2:$AA$250,7,0))","v":"9C"},null,null,null,null,null,null,null,null,null,null,null,null,null,{"$f":"IF(A149>COUNT('TongHop (goc)'!$T$2:$T$250),\"\",VLOOKUP(LARGE('TongHop (goc)'!$T$2:$T$250,A149),'TongHop (goc)'!$T$2:$AA$250,6,0))","v":"HỌC SINH GIỎI"},null,{"$f":"A149","v":148},148]
[{"$f":"IF(ROW(149:149)>COUNT('TongHop (goc)'!$T$2:$T$250),\"\",ROW(149:149))","v":149},{"$f":"IF(A150>COUNT('TongHop (goc)'!$T$2:$T$250),\"\",VLOOKUP(LARGE('TongHop (goc)'!$T$2:$T$250,A150),'TongHop (goc)'!$T$2:$AA$250,4,0))","v":"Phạm Huy"},{"$f":"IF(A150>COUNT('TongHop (goc)'!$T$2:$T$250),\"\",VLOOKUP(LARGE('TongHop (goc)'!$T$2:$T$250,A150),'TongHop (goc)'!$T$2:$AA$250,5,0))","v":"Hoàng"},{"$f":"IF(A150>COUNT('TongHop (goc)'!$T$2:$T$250),\"\",VLOOKUP(LARGE('TongHop (goc)'!$T$2:$T$250,A150),'TongHop (goc)'!$T$2:$AA$250,7,0))","v":"9C"},null,null,null,null,null,null,null,null,null,null,null,null,null,{"$f":"IF(A150>COUNT('TongHop (goc)'!$T$2:$T$250),\"\",VLOOKUP(LARGE('TongHop (goc)'!$T$2:$T$250,A150),'TongHop (goc)'!$T$2:$AA$250,6,0))","v":"HỌC SINH GIỎI"},null,149,149]
[{"$f":"IF(ROW(150:150)>COUNT('TongHop (goc)'!$T$2:$T$250),\"\",ROW(150:150))","v":150},{"$f":"IF(A151>COUNT('TongHop (goc)'!$T$2:$T$250),\"\",VLOOKUP(LARGE('TongHop (goc)'!$T$2:$T$250,A151),'TongHop (goc)'!$T$2:$AA$250,4,0))","v":"Nguyễn Phương"},{"$f":"IF(A151>COUNT('TongHop (goc)'!$T$2:$T$250),\"\",VLOOKUP(LARGE('TongHop (goc)'!$T$2:$T$250,A151),'TongHop (goc)'!$T$2:$AA$250,5,0))","v":"Thảo"},{"$f":"IF(A151>COUNT('TongHop (goc)'!$T$2:$T$250),\"\",VLOOKUP(LARGE('TongHop (goc)'!$T$2:$T$250,A151),'TongHop (goc)'!$T$2:$AA$250,7,0))","v":"9C"},null,null,null,null,null,null,null,null,null,null,null,null,null,{"$f":"IF(A151>COUNT('TongHop (goc)'!$T$2:$T$250),\"\",VLOOKUP(LARGE('TongHop (goc)'!$T$2:$T$250,A151),'TongHop (goc)'!$T$2:$AA$250,6,0))","v":"HỌC SINH GIỎI"},null,150,150]
[{"$f":"IF(ROW(151:151)>COUNT('TongHop (goc)'!$T$2:$T$250),\"\",ROW(151:151))","v":151},{"$f":"IF(A152>COUNT('TongHop (goc)'!$T$2:$T$250),\"\",VLOOKUP(LARGE('TongHop (goc)'!$T$2:$T$250,A152),'TongHop (goc)'!$T$2:$AA$250,4,0))","v":"Đỗ Thu"},{"$f":"IF(A152>COUNT('TongHop (goc)'!$T$2:$T$250),\"\",VLOOKUP(LARGE('TongHop (goc)'!$T$2:$T$250,A152),'TongHop (goc)'!$T$2:$AA$250,5,0))","v":"Trang"},{"$f":"IF(A152>COUNT('TongHop (goc)'!$T$2:$T$250),\"\",VLOOKUP(LARGE('TongHop (goc)'!$T$2:$T$250,A152),'TongHop (goc)'!$T$2:$AA$250,7,0))","v":"9C"},null,null,null,null,null,null,null,null,null,null,null,null,null,{"$f":"IF(A152>COUNT('TongHop (goc)'!$T$2:$T$250),\"\",VLOOKUP(LARGE('TongHop (goc)'!$T$2:$T$250,A152),'TongHop (goc)'!$T$2:$AA$250,6,0))","v":"HỌC SINH GIỎI"},null,151,151]
[{"$f":"IF(ROW(152:152)>COUNT('TongHop (goc)'!$T$2:$T$250),\"\",ROW(152:152))","v":152},{"$f":"IF(A153>COUNT('TongHop (goc)'!$T$2:$T$250),\"\",VLOOKUP(LARGE('TongHop (goc)'!$T$2:$T$250,A153),'TongHop (goc)'!$T$2:$AA$250,4,0))","v":"Đinh Khắc"},{"$f":"IF(A153>COUNT('TongHop (goc)'!$T$2:$T$250),\"\",VLOOKUP(LARGE('TongHop (goc)'!$T$2:$T$250,A153),'TongHop (goc)'!$T$2:$AA$250,5,0))","v":"Huynh"},{"$f":"IF(A153>COUNT('TongHop (goc)'!$T$2:$T$250),\"\",VLOOKUP(LARGE('TongHop (goc)'!$T$2:$T$250,A153),'TongHop (goc)'!$T$2:$AA$250,7,0))","v":"9C"},null,null,null,null,null,null,null,null,null,null,null,null,null,{"$f":"IF(A153>COUNT('TongHop (goc)'!$T$2:$T$250),\"\",VLOOKUP(LARGE('TongHop (goc)'!$T$2:$T$250,A153),'TongHop (goc)'!$T$2:$AA$250,6,0))","v":"HỌC SINH GIỎI"},null,152,152]
[{"$f":"IF(ROW(153:153)>COUNT('TongHop (goc)'!$T$2:$T$250),\"\",ROW(153:153))","v":153},{"$f":"IF(A154>COUNT('TongHop (goc)'!$T$2:$T$250),\"\",VLOOKUP(LARGE('TongHop (goc)'!$T$2:$T$250,A154),'TongHop (goc)'!$T$2:$AA$250,4,0))","v":"Nguyễn Thùy"},{"$f":"IF(A154>COUNT('TongHop (goc)'!$T$2:$T$250),\"\",VLOOKUP(LARGE('TongHop (goc)'!$T$2:$T$250,A154),'TongHop (goc)'!$T$2:$AA$250,5,0))","v":"Dương"},{"$f":"IF(A154>COUNT('TongHop (goc)'!$T$2:$T$250),\"\",VLOOKUP(LARGE('TongHop (goc)'!$T$2:$T$250,A154),'TongHop (goc)'!$T$2:$AA$250,7,0))","v":"9C"},null,null,null,null,null,null,null,null,null,null,null,null,null,{"$f":"IF(A154>COUNT('TongHop (goc)'!$T$2:$T$250),\"\",VLOOKUP(LARGE('TongHop (goc)'!$T$2:$T$250,A154),'TongHop (goc)'!$T$2:$AA$250,6,0))","v":"HỌC SINH GIỎI"},null,153,153]
[{"$f":"IF(ROW(154:154)>COUNT('TongHop (goc)'!$T$2:$T$250),\"\",ROW(154:154))","v":154},{"$f":"IF(A155>COUNT('TongHop (goc)'!$T$2:$T$250),\"\",VLOOKUP(LARGE('TongHop (goc)'!$T$2:$T$250,A155),'TongHop (goc)'!$T$2:$AA$250,4,0))","v":"Phạm Thị Ngọc"},{"$f":"IF(A155>COUNT('TongHop (goc)'!$T$2:$T$250),\"\",VLOOKUP(LARGE('TongHop (goc)'!$T$2:$T$250,A155),'TongHop (goc)'!$T$2:$AA$250,5,0))","v":"Anh"},{"$f":"IF(A155>COUNT('TongHop (goc)'!$T$2:$T$250),\"\",VLOOKUP(LARGE('TongHop (goc)'!$T$2:$T$250,A155),'TongHop (goc)'!$T$2:$AA$250,7,0))","v":"9C"},null,null,null,null,null,null,null,null,null,null,null,null,null,{"$f":"IF(A155>COUNT('TongHop (goc)'!$T$2:$T$250),\"\",VLOOKUP(LARGE('TongHop (goc)'!$T$2:$T$250,A155),'TongHop (goc)'!$T$2:$AA$250,6,0))","v":"HỌC SINH GIỎI"},null,154]
[{"$f":"IF(ROW(155:155)>COUNT('TongHop (goc)'!$T$2:$T$250),\"\",ROW(155:155))","v":155},{"$f":"IF(A156>COUNT('TongHop (goc)'!$T$2:$T$250),\"\",VLOOKUP(LARGE('TongHop (goc)'!$T$2:$T$250,A156),'TongHop (goc)'!$T$2:$AA$250,4,0))","v":"Mai Hồng"},{"$f":"IF(A156>COUNT('TongHop (goc)'!$T$2:$T$250),\"\",VLOOKUP(LARGE('TongHop (goc)'!$T$2:$T$250,A156),'TongHop (goc)'!$T$2:$AA$250,5,0))","v":"Phúc"},{"$f":"IF(A156>COUNT('TongHop (goc)'!$T$2:$T$250),\"\",VLOOKUP(LARGE('TongHop (goc)'!$T$2:$T$250,A156),'TongHop (goc)'!$T$2:$AA$250,7,0))","v":"9C"},null,null,null,null,null,null,null,null,null,null,null,null,null,{"$f":"IF(A156>COUNT('TongHop (goc)'!$T$2:$T$250),\"\",VLOOKUP(LARGE('TongHop (goc)'!$T$2:$T$250,A156),'TongHop (goc)'!$T$2:$AA$250,6,0))","v":"HỌC SINH GIỎI"},null,155]
[{"$f":"IF(ROW(156:156)>COUNT('TongHop (goc)'!$T$2:$T$250),\"\",ROW(156:156))","v":156},{"$f":"IF(A157>COUNT('TongHop (goc)'!$T$2:$T$250),\"\",VLOOKUP(LARGE('TongHop (goc)'!$T$2:$T$250,A157),'TongHop (goc)'!$T$2:$AA$250,4,0))","v":"Trần Bảo"},{"$f":"IF(A157>COUNT('TongHop (goc)'!$T$2:$T$250),\"\",VLOOKUP(LARGE('TongHop (goc)'!$T$2:$T$250,A157),'TongHop (goc)'!$T$2:$AA$250,5,0))","v":"Ngọc"},{"$f":"IF(A157>COUNT('TongHop (goc)'!$T$2:$T$250),\"\",VLOOKUP(LARGE('TongHop (goc)'!$T$2:$T$250,A157),'TongHop (goc)'!$T$2:$AA$250,7,0))","v":"9C"},null,null,null,null,null,null,null,null,null,null,null,null,null,{"$f":"IF(A157>COUNT('TongHop (goc)'!$T$2:$T$250),\"\",VLOOKUP(LARGE('TongHop (goc)'!$T$2:$T$250,A157),'TongHop (goc)'!$T$2:$AA$250,6,0))","v":"HỌC SINH GIỎI"},null,156]
[{"$f":"IF(ROW(157:157)>COUNT('TongHop (goc)'!$T$2:$T$250),\"\",ROW(157:157))","v":157},{"$f":"IF(A158>COUNT('TongHop (goc)'!$T$2:$T$250),\"\",VLOOKUP(LARGE('TongHop (goc)'!$T$2:$T$250,A158),'TongHop (goc)'!$T$2:$AA$250,4,0))","v":"Nguyễn Phương"},{"$f":"IF(A158>COUNT('TongHop (goc)'!$T$2:$T$250),\"\",VLOOKUP(LARGE('TongHop (goc)'!$T$2:$T$250,A158),'TongHop (goc)'!$T$2:$AA$250,5,0))","v":"Linh"},{"$f":"IF(A158>COUNT('TongHop (goc)'!$T$2:$T$250),\"\",VLOOKUP(LARGE('TongHop (goc)'!$T$2:$T$250,A158),'TongHop (goc)'!$T$2:$AA$250,7,0))","v":"9C"},null,null,null,null,null,null,null,null,null,null,null,null,null,{"$f":"IF(A158>COUNT('TongHop (goc)'!$T$2:$T$250),\"\",VLOOKUP(LARGE('TongHop (goc)'!$T$2:$T$250,A158),'TongHop (goc)'!$T$2:$AA$250,6,0))","v":"HỌC SINH GIỎI"},null,157]
[{"$f":"IF(ROW(158:158)>COUNT('TongHop (goc)'!$T$2:$T$250),\"\",ROW(158:158))","v":158},{"$f":"IF(A159>COUNT('TongHop (goc)'!$T$2:$T$250),\"\",VLOOKUP(LARGE('TongHop (goc)'!$T$2:$T$250,A159),'TongHop (goc)'!$T$2:$AA$250,4,0))","v":"Trần Minh"},{"$f":"IF(A159>COUNT('TongHop (goc)'!$T$2:$T$250),\"\",VLOOKUP(LARGE('TongHop (goc)'!$T$2:$T$250,A159),'TongHop (goc)'!$T$2:$AA$250,5,0))","v":"Oanh"},{"$f":"IF(A159>COUNT('TongHop (goc)'!$T$2:$T$250),\"\",VLOOKUP(LARGE('TongHop (goc)'!$T$2:$T$250,A159),'TongHop (goc)'!$T$2:$AA$250,7,0))","v":"9C"},null,null,null,null,null,null,null,null,null,null,null,null,null,{"$f":"IF(A159>COUNT('TongHop (goc)'!$T$2:$T$250),\"\",VLOOKUP(LARGE('TongHop (goc)'!$T$2:$T$250,A159),'TongHop (goc)'!$T$2:$AA$250,6,0))","v":"HỌC SINH GIỎI"},null,158]
[{"$f":"IF(ROW(159:159)>COUNT('TongHop (goc)'!$T$2:$T$250),\"\",ROW(159:159))","v":159},{"$f":"IF(A160>COUNT('TongHop (goc)'!$T$2:$T$250),\"\",VLOOKUP(LARGE('TongHop (goc)'!$T$2:$T$250,A160),'TongHop (goc)'!$T$2:$AA$250,4,0))","v":"Đỗ Trung"},{"$f":"IF(A160>COUNT('TongHop (goc)'!$T$2:$T$250),\"\",VLOOKUP(LARGE('TongHop (goc)'!$T$2:$T$250,A160),'TongHop (goc)'!$T$2:$AA$250,5,0))","v":"Hiếu"},{"$f":"IF(A160>COUNT('TongHop (goc)'!$T$2:$T$250),\"\",VLOOKUP(LARGE('TongHop (goc)'!$T$2:$T$250,A160),'TongHop (goc)'!$T$2:$AA$250,7,0))","v":"9C"},null,null,null,null,null,null,null,null,null,null,null,null,null,{"$f":"IF(A160>COUNT('TongHop (goc)'!$T$2:$T$250),\"\",VLOOKUP(LARGE('TongHop (goc)'!$T$2:$T$250,A160),'TongHop (goc)'!$T$2:$AA$250,6,0))","v":"HỌC SINH GIỎI"},null,159]
[{"$f":"IF(ROW(160:160)>COUNT('TongHop (goc)'!$T$2:$T$250),\"\",ROW(160:160))","v":160},{"$f":"IF(A161>COUNT('TongHop (goc)'!$T$2:$T$250),\"\",VLOOKUP(LARGE('TongHop (goc)'!$T$2:$T$250,A161),'TongHop (goc)'!$T$2:$AA$250,4,0))","v":"Lê Yến"},{"$f":"IF(A161>COUNT('TongHop (goc)'!$T$2:$T$250),\"\",VLOOKUP(LARGE('TongHop (goc)'!$T$2:$T$250,A161),'TongHop (goc)'!$T$2:$AA$250,5,0))","v":"Nhi"},{"$f":"IF(A161>COUNT('TongHop (goc)'!$T$2:$T$250),\"\",VLOOKUP(LARGE('TongHop (goc)'!$T$2:$T$250,A161),'TongHop (goc)'!$T$2:$AA$250,7,0))","v":"9C"},null,null,null,null,null,null,null,null,null,null,null,null,null,{"$f":"IF(A161>COUNT('TongHop (goc)'!$T$2:$T$250),\"\",VLOOKUP(LARGE('TongHop (goc)'!$T$2:$T$250,A161),'TongHop (goc)'!$T$2:$AA$250,6,0))","v":"HỌC SINH GIỎI"},null,160]
[{"$f":"IF(ROW(161:161)>COUNT('TongHop (goc)'!$T$2:$T$250),\"\",ROW(161:161))","v":161},{"$f":"IF(A162>COUNT('TongHop (goc)'!$T$2:$T$250),\"\",VLOOKUP(LARGE('TongHop (goc)'!$T$2:$T$250,A162),'TongHop (goc)'!$T$2:$AA$250,4,0))","v":"Phạm Huy"},{"$f":"IF(A162>COUNT('TongHop (goc)'!$T$2:$T$250),\"\",VLOOKUP(LARGE('TongHop (goc)'!$T$2:$T$250,A162),'TongHop (goc)'!$T$2:$AA$250,5,0))","v":"Hoàng"},{"$f":"IF(A162>COUNT('TongHop (goc)'!$T$2:$T$250),\"\",VLOOKUP(LARGE('TongHop (goc)'!$T$2:$T$250,A162),'TongHop (goc)'!$T$2:$AA$250,7,0))","v":"9C"},null,null,null,null,null,null,null,null,null,null,null,null,null,{"$f":"IF(A162>COUNT('TongHop (goc)'!$T$2:$T$250),\"\",VLOOKUP(LARGE('TongHop (goc)'!$T$2:$T$250,A162),'TongHop (goc)'!$T$2:$AA$250,6,0))","v":"HỌC SINH GIỎI"},null,161]
[{"$f":"IF(ROW(162:162)>COUNT('TongHop (goc)'!$T$2:$T$250),\"\",ROW(162:162))","v":162},{"$f":"IF(A163>COUNT('TongHop (goc)'!$T$2:$T$250),\"\",VLOOKUP(LARGE('TongHop (goc)'!$T$2:$T$250,A163),'TongHop (goc)'!$T$2:$AA$250,4,0))","v":"Trần Minh"},{"$f":"IF(A163>COUNT('TongHop (goc)'!$T$2:$T$250),\"\",VLOOKUP(LARGE('TongHop (goc)'!$T$2:$T$250,A163),'TongHop (goc)'!$T$2:$AA$250,5,0))","v":"Đức"},{"$f":"IF(A163>COUNT('TongHop (goc)'!$T$2:$T$250),\"\",VLOOKUP(LARGE('TongHop (goc)'!$T$2:$T$250,A163),'TongHop (goc)'!$T$2:$AA$250,7,0))","v":"9C"},null,null,null,null,null,null,null,null,null,null,null,null,null,{"$f":"IF(A163>COUNT('TongHop (goc)'!$T$2:$T$250),\"\",VLOOKUP(LARGE('TongHop (goc)'!$T$2:$T$250,A163),'TongHop (goc)'!$T$2:$AA$250,6,0))","v":"HỌC SINH GIỎI"},null,162]
[{"$f":"IF(ROW(163:163)>COUNT('TongHop (goc)'!$T$2:$T$250),\"\",ROW(163:163))","v":163},{"$f":"IF(A164>COUNT('TongHop (goc)'!$T$2:$T$250),\"\",VLOOKUP(LARGE('TongHop (goc)'!$T$2:$T$250,A164),'TongHop (goc)'!$T$2:$AA$250,4,0))","v":"Trần Thanh"},{"$f":"IF(A164>COUNT('TongHop (goc)'!$T$2:$T$250),\"\",VLOOKUP(LARGE('TongHop (goc)'!$T$2:$T$250,A164),'TongHop (goc)'!$T$2:$AA$250,5,0))","v":"Trúc"},{"$f":"IF(A164>COUNT('TongHop (goc)'!$T$2:$T$250),\"\",VLOOKUP(LARGE('TongHop (goc)'!$T$2:$T$250,A164),'TongHop (goc)'!$T$2:$AA$250,7,0))","v":"9C"},null,null,null,null,null,null,null,null,null,null,null,null,null,{"$f":"IF(A164>COUNT('TongHop (goc)'!$T$2:$T$250),\"\",VLOOKUP(LARGE('TongHop (goc)'!$T$2:$T$250,A164),'TongHop (goc)'!$T$2:$AA$250,6,0))","v":"HỌC SINH GIỎI"},null,163]
[{"$f":"IF(ROW(164:164)>COUNT('TongHop (goc)'!$T$2:$T$250),\"\",ROW(164:164))","v":164},{"$f":"IF(A165>COUNT('TongHop (goc)'!$T$2:$T$250),\"\",VLOOKUP(LARGE('TongHop (goc)'!$T$2:$T$250,A165),'TongHop (goc)'!$T$2:$AA$250,4,0))","v":"Phạm Thị"},{"$f":"IF(A165>COUNT('TongHop (goc)'!$T$2:$T$250),\"\",VLOOKUP(LARGE('TongHop (goc)'!$T$2:$T$250,A165),'TongHop (goc)'!$T$2:$AA$250,5,0))","v":"Hoa"},{"$f":"IF(A165>COUNT('TongHop (goc)'!$T$2:$T$250),\"\",VLOOKUP(LARGE('TongHop (goc)'!$T$2:$T$250,A165),'TongHop (goc)'!$T$2:$AA$250,7,0))","v":"9C"},null,null,null,null,null,null,null,null,null,null,null,null,null,{"$f":"IF(A165>COUNT('TongHop (goc)'!$T$2:$T$250),\"\",VLOOKUP(LARGE('TongHop (goc)'!$T$2:$T$250,A165),'TongHop (goc)'!$T$2:$AA$250,6,0))","v":"HỌC SINH GIỎI"},null,{"$f":"A165","v":164}]
[{"$f":"IF(ROW(165:165)>COUNT('TongHop (goc)'!$T$2:$T$250),\"\",ROW(165:165))","v":165},{"$f":"IF(A166>COUNT('TongHop (goc)'!$T$2:$T$250),\"\",VLOOKUP(LARGE('TongHop (goc)'!$T$2:$T$250,A166),'TongHop (goc)'!$T$2:$AA$250,4,0))","v":"Hoàng Văn"},{"$f":"IF(A166>COUNT('TongHop (goc)'!$T$2:$T$250),\"\",VLOOKUP(LARGE('TongHop (goc)'!$T$2:$T$250,A166),'TongHop (goc)'!$T$2:$AA$250,5,0))","v":"An"},{"$f":"IF(A166>COUNT('TongHop (goc)'!$T$2:$T$250),\"\",VLOOKUP(LARGE('TongHop (goc)'!$T$2:$T$250,A166),'TongHop (goc)'!$T$2:$AA$250,7,0))","v":"9C"},null,null,null,null,null,null,null,null,null,null,null,null,null,{"$f":"IF(A166>COUNT('TongHop (goc)'!$T$2:$T$250),\"\",VLOOKUP(LARGE('TongHop (goc)'!$T$2:$T$250,A166),'TongHop (goc)'!$T$2:$AA$250,6,0))","v":"HỌC SINH GIỎI"},null,165]
[{"$f":"IF(ROW(166:166)>COUNT('TongHop (goc)'!$T$2:$T$250),\"\",ROW(166:166))","v":166},{"$f":"IF(A167>COUNT('TongHop (goc)'!$T$2:$T$250),\"\",VLOOKUP(LARGE('TongHop (goc)'!$T$2:$T$250,A167),'TongHop (goc)'!$T$2:$AA$250,4,0))","v":"Lê Nhật"},{"$f":"IF(A167>COUNT('TongHop (goc)'!$T$2:$T$250),\"\",VLOOKUP(LARGE('TongHop (goc)'!$T$2:$T$250,A167),'TongHop (goc)'!$T$2:$AA$250,5,0))","v":"Khánh"},{"$f":"IF(A167>COUNT('TongHop (goc)'!$T$2:$T$250),\"\",VLOOKUP(LARGE('TongHop (goc)'!$T$2:$T$250,A167),'TongHop (goc)'!$T$2:$AA$250,7,0))","v":"9C"},null,null,null,null,null,null,null,null,null,null,null,null,null,{"$f":"IF(A167>COUNT('TongHop (goc)'!$T$2:$T$250),\"\",VLOOKUP(LARGE('TongHop (goc)'!$T$2:$T$250,A167),'TongHop (goc)'!$T$2:$AA$250,6,0))","v":"HỌC SINH GIỎI"},null,{"$f":"A167","v":166}]
[{"$f":"IF(ROW(167:167)>COUNT('TongHop (goc)'!$T$2:$T$250),\"\",ROW(167:167))","v":167},{"$f":"IF(A168>COUNT('TongHop (goc)'!$T$2:$T$250),\"\",VLOOKUP(LARGE('TongHop (goc)'!$T$2:$T$250,A168),'TongHop (goc)'!$T$2:$AA$250,4,0))","v":"Trần Bảo"},{"$f":"IF(A168>COUNT('TongHop (goc)'!$T$2:$T$250),\"\",VLOOKUP(LARGE('TongHop (goc)'!$T$2:$T$250,A168),'TongHop (goc)'!$T$2:$AA$250,5,0))","v":"An"},{"$f":"IF(A168>COUNT('TongHop (goc)'!$T$2:$T$250),\"\",VLOOKUP(LARGE('TongHop (goc)'!$T$2:$T$250,A168),'TongHop (goc)'!$T$2:$AA$250,7,0))","v":"9C"},null,null,null,null,null,null,null,null,null,null,null,null,null,{"$f":"IF(A168>COUNT('TongHop (goc)'!$T$2:$T$250),\"\",VLOOKUP(LARGE('TongHop (goc)'!$T$2:$T$250,A168),'TongHop (goc)'!$T$2:$AA$250,6,0))","v":"HỌC SINH GIỎI"},null,167]
[{"$f":"IF(ROW(168:168)>COUNT('TongHop (goc)'!$T$2:$T$250),\"\",ROW(168:168))","v":168},{"$f":"IF(A169>COUNT('TongHop (goc)'!$T$2:$T$250),\"\",VLOOKUP(LARGE('TongHop (goc)'!$T$2:$T$250,A169),'TongHop (goc)'!$T$2:$AA$250,4,0))","v":"Lê Quang"},{"$f":"IF(A169>COUNT('TongHop (goc)'!$T$2:$T$250),\"\",VLOOKUP(LARGE('TongHop (goc)'!$T$2:$T$250,A169),'TongHop (goc)'!$T$2:$AA$250,5,0))","v":"Khải"},{"$f":"IF(A169>COUNT('TongHop (goc)'!$T$2:$T$250),\"\",VLOOKUP(LARGE('TongHop (goc)'!$T$2:$T$250,A169),'TongHop (goc)'!$T$2:$AA$250,7,0))","v":"9C"},null,null,null,null,null,null,null,null,null,null,null,null,null,{"$f":"IF(A169>COUNT('TongHop (goc)'!$T$2:$T$250),\"\",VLOOKUP(LARGE('TongHop (goc)'!$T$2:$T$250,A169),'TongHop (goc)'!$T$2:$AA$250,6,0))","v":"HỌC SINH GIỎI"},null,168]
[{"$f":"IF(ROW(169:169)>COUNT('TongHop (goc)'!$T$2:$T$250),\"\",ROW(169:169))","v":169},{"$f":"IF(A170>COUNT('TongHop (goc)'!$T$2:$T$250),\"\",VLOOKUP(LARGE('TongHop (goc)'!$T$2:$T$250,A170),'TongHop (goc)'!$T$2:$AA$250,4,0))","v":"Trần Đình"},{"$f":"IF(A170>COUNT('TongHop (goc)'!$T$2:$T$250),\"\",VLOOKUP(LARGE('TongHop (goc)'!$T$2:$T$250,A170),'TongHop (goc)'!$T$2:$AA$250,5,0))","v":"Phong"},{"$f":"IF(A170>COUNT('TongHop (goc)'!$T$2:$T$250),\"\",VLOOKUP(LARGE('TongHop (goc)'!$T$2:$T$250,A170),'TongHop (goc)'!$T$2:$AA$250,7,0))","v":"9C"},null,null,null,null,null,null,null,null,null,null,null,null,null,{"$f":"IF(A170>COUNT('TongHop (goc)'!$T$2:$T$250),\"\",VLOOKUP(LARGE('TongHop (goc)'!$T$2:$T$250,A170),'TongHop (goc)'!$T$2:$AA$250,6,0))","v":"HỌC SINH GIỎI"},null,169]
[{"$f":"IF(ROW(170:170)>COUNT('TongHop (goc)'!$T$2:$T$250),\"\",ROW(170:170))","v":170},{"$f":"IF(A171>COUNT('TongHop (goc)'!$T$2:$T$250),\"\",VLOOKUP(LARGE('TongHop (goc)'!$T$2:$T$250,A171),'TongHop (goc)'!$T$2:$AA$250,4,0))","v":"Lê Phương"},{"$f":"IF(A171>COUNT('TongHop (goc)'!$T$2:$T$250),\"\",VLOOKUP(LARGE('TongHop (goc)'!$T$2:$T$250,A171),'TongHop (goc)'!$T$2:$AA$250,5,0))","v":"Anh"},{"$f":"IF(A171>COUNT('TongHop (goc)'!$T$2:$T$250),\"\",VLOOKUP(LARGE('TongHop (goc)'!$T$2:$T$250,A171),'TongHop (goc)'!$T$2:$AA$250,7,0))","v":"9C"},null,null,null,null,null,null,null,null,null,null,null,null,null,{"$f":"IF(A171>COUNT('TongHop (goc)'!$T$2:$T$250),\"\",VLOOKUP(LARGE('TongHop (goc)'!$T$2:$T$250,A171),'TongHop (goc)'!$T$2:$AA$250,6,0))","v":"HỌC SINH GIỎI"},null,170]
[{"$f":"IF(ROW(171:171)>COUNT('TongHop (goc)'!$T$2:$T$250),\"\",ROW(171:171))","v":171},{"$f":"IF(A172>COUNT('TongHop (goc)'!$T$2:$T$250),\"\",VLOOKUP(LARGE('TongHop (goc)'!$T$2:$T$250,A172),'TongHop (goc)'!$T$2:$AA$250,4,0))","v":"Nguyễn Tiến"},{"$f":"IF(A172>COUNT('TongHop (goc)'!$T$2:$T$250),\"\",VLOOKUP(LARGE('TongHop (goc)'!$T$2:$T$250,A172),'TongHop (goc)'!$T$2:$AA$250,5,0))","v":"Đạt"},{"$f":"IF(A172>COUNT('TongHop (goc)'!$T$2:$T$250),\"\",VLOOKUP(LARGE('TongHop (goc)'!$T$2:$T$250,A172),'TongHop (goc)'!$T$2:$AA$250,7,0))","v":"9C"},null,null,null,null,null,null,null,null,null,null,null,null,null,{"$f":"IF(A172>COUNT('TongHop (goc)'!$T$2:$T$250),\"\",VLOOKUP(LARGE('TongHop (goc)'!$T$2:$T$250,A172),'TongHop (goc)'!$T$2:$AA$250,6,0))","v":"HỌC SINH GIỎI"},null,171]
[{"$f":"IF(ROW(172:172)>COUNT('TongHop (goc)'!$T$2:$T$250),\"\",ROW(172:172))","v":172},{"$f":"IF(A173>COUNT('TongHop (goc)'!$T$2:$T$250),\"\",VLOOKUP(LARGE('TongHop (goc)'!$T$2:$T$250,A173),'TongHop (goc)'!$T$2:$AA$250,4,0))","v":"Lê Tú"},{"$f":"IF(A173>COUNT('TongHop (goc)'!$T$2:$T$250),\"\",VLOOKUP(LARGE('TongHop (goc)'!$T$2:$T$250,A173),'TongHop (goc)'!$T$2:$AA$250,5,0))","v":"Uyên"},{"$f":"IF(A173>COUNT('TongHop (goc)'!$T$2:$T$250),\"\",VLOOKUP(LARGE('TongHop (goc)'!$T$2:$T$250,A173),'TongHop (goc)'!$T$2:$AA$250,7,0))","v":"9C"},null,null,null,null,null,null,null,null,null,null,null,null,null,{"$f":"IF(A173>COUNT('TongHop (goc)'!$T$2:$T$250),\"\",VLOOKUP(LARGE('TongHop (goc)'!$T$2:$T$250,A173),'TongHop (goc)'!$T$2:$AA$250,6,0))","v":"HỌC SINH GIỎI"},null,172]
[{"$f":"IF(ROW(173:173)>COUNT('TongHop (goc)'!$T$2:$T$250),\"\",ROW(173:173))","v":173},{"$f":"IF(A174>COUNT('TongHop (goc)'!$T$2:$T$250),\"\",VLOOKUP(LARGE('TongHop (goc)'!$T$2:$T$250,A174),'TongHop (goc)'!$T$2:$AA$250,4,0))","v":"Lê Thành"},{"$f":"IF(A174>COUNT('TongHop (goc)'!$T$2:$T$250),\"\",VLOOKUP(LARGE('TongHop (goc)'!$T$2:$T$250,A174),'TongHop (goc)'!$T$2:$AA$250,5,0))","v":"Đạt"},{"$f":"IF(A174>COUNT('TongHop (goc)'!$T$2:$T$250),\"\",VLOOKUP(LARGE('TongHop (goc)'!$T$2:$T$250,A174),'TongHop (goc)'!$T$2:$AA$250,7,0))","v":"9C"},null,null,null,null,null,null,null,null,null,null,null,null,null,{"$f":"IF(A174>COUNT('TongHop (goc)'!$T$2:$T$250),\"\",VLOOKUP(LARGE('TongHop (goc)'!$T$2:$T$250,A174),'TongHop (goc)'!$T$2:$AA$250,6,0))","v":"HỌC SINH GIỎI"},null,173]
[{"$f":"IF(ROW(174:174)>COUNT('TongHop (goc)'!$T$2:$T$250),\"\",ROW(174:174))","v":""},{"$f":"IF(A175>COUNT('TongHop (goc)'!$T$2:$T$250),\"\",VLOOKUP(LARGE('TongHop (goc)'!$T$2:$T$250,A175),'TongHop (goc)'!$T$2:$AA$250,4,0))","v":""},{"$f":"IF(A175>COUNT('TongHop (goc)'!$T$2:$T$250),\"\",VLOOKUP(LARGE('TongHop (goc)'!$T$2:$T$250,A175),'TongHop (goc)'!$T$2:$AA$250,5,0))","v":""},{"$f":"IF(A175>COUNT('TongHop (goc)'!$T$2:$T$250),\"\",VLOOKUP(LARGE('TongHop (goc)'!$T$2:$T$250,A175),'TongHop (goc)'!$T$2:$AA$250,7,0))","v":""},null,null,null,null,null,null,null,null,null,null,null,null,null,{"$f":"IF(A175>COUNT('TongHop (goc)'!$T$2:$T$250),\"\",VLOOKUP(LARGE('TongHop (goc)'!$T$2:$T$250,A175),'TongHop (goc)'!$T$2:$AA$250,6,0))","v":""},null,""]
[{"$f":"IF(ROW(175:175)>COUNT('TongHop (goc)'!$T$2:$T$250),\"\",ROW(175:175))","v":""},{"$f":"IF(A176>COUNT('TongHop (goc)'!$T$2:$T$250),\"\",VLOOKUP(LARGE('TongHop (goc)'!$T$2:$T$250,A176),'TongHop (goc)'!$T$2:$AA$250,4,0))","v":""},{"$f":"IF(A176>COUNT('TongHop (goc)'!$T$2:$T$250),\"\",VLOOKUP(LARGE('TongHop (goc)'!$T$2:$T$250,A176),'TongHop (goc)'!$T$2:$AA$250,5,0))","v":""},{"$f":"IF(A176>COUNT('TongHop (goc)'!$T$2:$T$250),\"\",VLOOKUP(LARGE('TongHop (goc)'!$T$2:$T$250,A176),'TongHop (goc)'!$T$2:$AA$250,7,0))","v":""},null,null,null,null,null,null,null,null,null,null,null,null,null,{"$f":"IF(A176>COUNT('TongHop (goc)'!$T$2:$T$250),\"\",VLOOKUP(LARGE('TongHop (goc)'!$T$2:$T$250,A176),'TongHop (goc)'!$T$2:$AA$250,6,0))","v":""},null,""]
[{"$f":"IF(ROW(176:176)>COUNT('TongHop (goc)'!$T$2:$T$250),\"\",ROW(176:176))","v":""},{"$f":"IF(A177>COUNT('TongHop (goc)'!$T$2:$T$250),\"\",VLOOKUP(LARGE('TongHop (goc)'!$T$2:$T$250,A177),'TongHop (goc)'!$T$2:$AA$250,4,0))","v":""},{"$f":"IF(A177>COUNT('TongHop (goc)'!$T$2:$T$250),\"\",VLOOKUP(LARGE('TongHop (goc)'!$T$2:$T$250,A177),'TongHop (goc)'!$T$2:$AA$250,5,0))","v":""},{"$f":"IF(A177>COUNT('TongHop (goc)'!$T$2:$T$250),\"\",VLOOKUP(LARGE('TongHop (goc)'!$T$2:$T$250,A177),'TongHop (goc)'!$T$2:$AA$250,7,0))","v":""},null,null,null,null,null,null,null,null,null,null,null,null,null,{"$f":"IF(A177>COUNT('TongHop (goc)'!$T$2:$T$250),\"\",VLOOKUP(LARGE('TongHop (goc)'!$T$2:$T$250,A177),'TongHop (goc)'!$T$2:$AA$250,6,0))","v":""},null,{"$f":"A177","v":""}]
[{"$f":"IF(ROW(177:177)>COUNT('TongHop (goc)'!$T$2:$T$250),\"\",ROW(177:177))","v":""},{"$f":"IF(A178>COUNT('TongHop (goc)'!$T$2:$T$250),\"\",VLOOKUP(LARGE('TongHop (goc)'!$T$2:$T$250,A178),'TongHop (goc)'!$T$2:$AA$250,4,0))","v":""},{"$f":"IF(A178>COUNT('TongHop (goc)'!$T$2:$T$250),\"\",VLOOKUP(LARGE('TongHop (goc)'!$T$2:$T$250,A178),'TongHop (goc)'!$T$2:$AA$250,5,0))","v":""},{"$f":"IF(A178>COUNT('TongHop (goc)'!$T$2:$T$250),\"\",VLOOKUP(LARGE('TongHop (goc)'!$T$2:$T$250,A178),'TongHop (goc)'!$T$2:$AA$250,7,0))","v":""},null,null,null,null,null,null,null,null,null,null,null,null,null,{"$f":"IF(A178>COUNT('TongHop (goc)'!$T$2:$T$250),\"\",VLOOKUP(LARGE('TongHop (goc)'!$T$2:$T$250,A178),'TongHop (goc)'!$T$2:$AA$250,6,0))","v":""},null,""]
[{"$f":"IF(ROW(178:178)>COUNT('TongHop (goc)'!$T$2:$T$250),\"\",ROW(178:178))","v":""},{"$f":"IF(A179>COUNT('TongHop (goc)'!$T$2:$T$250),\"\",VLOOKUP(LARGE('TongHop (goc)'!$T$2:$T$250,A179),'TongHop (goc)'!$T$2:$AA$250,4,0))","v":""},{"$f":"IF(A179>COUNT('TongHop (goc)'!$T$2:$T$250),\"\",VLOOKUP(LARGE('TongHop (goc)'!$T$2:$T$250,A179),'TongHop (goc)'!$T$2:$AA$250,5,0))","v":""},{"$f":"IF(A179>COUNT('TongHop (goc)'!$T$2:$T$250),\"\",VLOOKUP(LARGE('TongHop (goc)'!$T$2:$T$250,A179),'TongHop (goc)'!$T$2:$AA$250,7,0))","v":""},null,null,null,null,null,null,null,null,null,null,null,null,null,{"$f":"IF(A179>COUNT('TongHop (goc)'!$T$2:$T$250),\"\",VLOOKUP(LARGE('TongHop (goc)'!$T$2:$T$250,A179),'TongHop (goc)'!$T$2:$AA$250,6,0))","v":""},null,""]
[{"$f":"IF(ROW(179:179)>COUNT('TongHop (goc)'!$T$2:$T$250),\"\",ROW(179:179))","v":""},{"$f":"IF(A180>COUNT('TongHop (goc)'!$T$2:$T$250),\"\",VLOOKUP(LARGE('TongHop (goc)'!$T$2:$T$250,A180),'TongHop (goc)'!$T$2:$AA$250,4,0))","v":""},{"$f":"IF(A180>COUNT('TongHop (goc)'!$T$2:$T$250),\"\",VLOOKUP(LARGE('TongHop (goc)'!$T$2:$T$250,A180),'TongHop (goc)'!$T$2:$AA$250,5,0))","v":""},{"$f":"IF(A180>COUNT('TongHop (goc)'!$T$2:$T$250),\"\",VLOOKUP(LARGE('TongHop (goc)'!$T$2:$T$250,A180),'TongHop (goc)'!$T$2:$AA$250,7,0))","v":""},null,null,null,null,null,null,null,null,null,null,null,null,null,{"$f":"IF(A180>COUNT('TongHop (goc)'!$T$2:$T$250),\"\",VLOOKUP(LARGE('TongHop (goc)'!$T$2:$T$250,A180),'TongHop (goc)'!$T$2:$AA$250,6,0))","v":""},null,""]
[{"$f":"IF(ROW(180:180)>COUNT('TongHop (goc)'!$T$2:$T$250),\"\",ROW(180:180))","v":""},{"$f":"IF(A181>COUNT('TongHop (goc)'!$T$2:$T$250),\"\",VLOOKUP(LARGE('TongHop (goc)'!$T$2:$T$250,A181),'TongHop (goc)'!$T$2:$AA$250,4,0))","v":""},{"$f":"IF(A181>COUNT('TongHop (goc)'!$T$2:$T$250),\"\",VLOOKUP(LARGE('TongHop (goc)'!$T$2:$T$250,A181),'TongHop (goc)'!$T$2:$AA$250,5,0))","v":""},{"$f":"IF(A181>COUNT('TongHop (goc)'!$T$2:$T$250),\"\",VLOOKUP(LARGE('TongHop (goc)'!$T$2:$T$250,A181),'TongHop (goc)'!$T$2:$AA$250,7,0))","v":""},null,null,null,null,null,null,null,null,null,null,null,null,null,{"$f":"IF(A181>COUNT('TongHop (goc)'!$T$2:$T$250),\"\",VLOOKUP(LARGE('TongHop (goc)'!$T$2:$T$250,A181),'TongHop (goc)'!$T$2:$AA$250,6,0))","v":""},null,""]